Report for Net-Statsd-Server-0.17

Back
From: metabase:user:30f4dfbe-2aae-11df-837a-5e0a49663a4f
Subject: PASS Net-Statsd-Server-0.17 v5.20.0 Mac OS X
Date: 2014-06-13T20:48:21Z

This distribution has been tested as part of the CPAN Testers
project, supporting the Perl programming language.  See
http://wiki.cpantesters.org/ for more information or email
questions to cpan-testers-discuss@perl.org


--
Dear Cosimo Streppone,

This is a computer-generated report for Net-Statsd-Server-0.17
on perl 5.20.0, created by CPAN-Reporter-1.2011.

Thank you for uploading your work to CPAN.  Congratulations!
All tests were successful.

Sections of this report:

    * Tester comments
    * Program output
    * Prerequisites
    * Environment and other context

------------------------------
TESTER COMMENTS
------------------------------

Additional comments from tester:

this report is from an automated smoke testing program
and was not reviewed by a human for accuracy

------------------------------
PROGRAM OUTPUT
------------------------------

Output from '/sw/bin/make test':

PERL_DL_NONLAZY=1 /Users/hornenj/perl5/perlbrew/perls/perl-5.20.0/bin/perl "-MExtUtils::Command::MM" "-MTest::Harness" "-e" "undef *Test::Harness::Switches; test_harness(0, 'blib/lib', 'blib/arch')" t/*.t t/integration-tests/*.t
t/000-sanity.t ............................. ok
t/config.t ................................. ok
t/graphite.t ............................... ok
2014-06-13 16:48:11.000000 -0400 note  Net::Statsd::Server: Initializing Net::Statsd::Server::Backend::Console backend
2014-06-13 16:48:11.000000 -0400 note  Net::Statsd::Server: Initializing Net::Statsd::Server::Backend::Graphite backend
2014-06-13 16:48:11.000000 -0400 info  AnyEvent: Autoloaded model 'AnyEvent::Impl::Perl', using it.
Couldn't set SO_RCVBUF: No buffer space available at /Users/hornenj/.cpan/build/Net-Statsd-Server-0.17-LV3e9u/bin/../lib/Net/Statsd/Server.pm line 709.
2014-06-13 16:48:11.955884 -0400 note  Net::Statsd::Server: statsd server started on 0.0.0.0:40001 (v0.17)
2014-06-13 16:48:11.955930 -0400 note  Net::Statsd::Server: manager interface started on 0.0.0.0:40002
2014-06-13 16:48:11.955979 -0400 note  Net::Statsd::Server: metrics flush will happen every 1s
2014-06-13 16:48:12.353483 -0400 warn  Net::Statsd::Server: Bad line: 1 in msg "a_bad_test_value|z"
2014-06-13 16:48:12.965120 -0400 note  Net::Statsd::Server: flushing metrics
Flushing stats at Fri Jun 13 16:48:12 2014
{"counter_rates":{"statsd.bad_lines_seen":1,"statsd.packets_received":1},"timer_data":{},"gauges":{},"sets":null,"timers":{},"counters":{"statsd.bad_lines_seen":1,"statsd.packets_received":1},"pctThreshold":[90]}
t/integration-tests/bad-message.t .......... ok
2014-06-13 16:48:13.000000 -0400 note  Net::Statsd::Server: Initializing Net::Statsd::Server::Backend::Console backend
2014-06-13 16:48:13.000000 -0400 note  Net::Statsd::Server: Initializing Net::Statsd::Server::Backend::Graphite backend
2014-06-13 16:48:13.000000 -0400 info  AnyEvent: Autoloaded model 'AnyEvent::Impl::Perl', using it.
Couldn't set SO_RCVBUF: No buffer space available at /Users/hornenj/.cpan/build/Net-Statsd-Server-0.17-LV3e9u/bin/../lib/Net/Statsd/Server.pm line 709.
2014-06-13 16:48:13.150710 -0400 note  Net::Statsd::Server: statsd server started on 0.0.0.0:40001 (v0.17)
2014-06-13 16:48:13.150753 -0400 note  Net::Statsd::Server: manager interface started on 0.0.0.0:40002
2014-06-13 16:48:13.150795 -0400 note  Net::Statsd::Server: metrics flush will happen every 1s
2014-06-13 16:48:14.151830 -0400 note  Net::Statsd::Server: flushing metrics
Flushing stats at Fri Jun 13 16:48:14 2014
{"timers":{},"gauges":{},"timer_data":{},"counter_rates":{"statsd.packets_received":1,"statsd.bad_lines_seen":0,"a_test_value":100},"sets":null,"pctThreshold":[90],"counters":{"statsd.packets_received":1,"a_test_value":100,"statsd.bad_lines_seen":0}}
# stats.counters.statsd.packets_received.rate 1.000000 1402692494
# stats.counters.statsd.packets_received.count 1 1402692494
# stats.counters.a_test_value.rate 100.000000 1402692494
# stats.counters.a_test_value.count 100 1402692494
# stats.counters.statsd.bad_lines_seen.rate 0.000000 1402692494
# stats.counters.statsd.bad_lines_seen.count 0 1402692494
# stats.statsd.numStats 3 1402692494
# stats.statsd.graphiteStats.calculationtime 0.045000 1402692494
# stats.statsd.processing_time 0.02 1402692494
# stats.statsd.graphiteStats.last_exception 140394713146192 1402692494
# stats.statsd.graphiteStats.last_flush 140394713146192 1402692494
t/integration-tests/counts-are-valid.t ..... ok
2014-06-13 16:48:14.000000 -0400 note  Net::Statsd::Server: Initializing Net::Statsd::Server::Backend::Graphite backend
2014-06-13 16:48:14.000000 -0400 info  AnyEvent: Autoloaded model 'AnyEvent::Impl::Perl', using it.
Couldn't set SO_RCVBUF: No buffer space available at /Users/hornenj/.cpan/build/Net-Statsd-Server-0.17-LV3e9u/bin/../lib/Net/Statsd/Server.pm line 709.
2014-06-13 16:48:14.338191 -0400 note  Net::Statsd::Server: statsd server started on 0.0.0.0:40001 (v0.17)
2014-06-13 16:48:14.338227 -0400 note  Net::Statsd::Server: manager interface started on 0.0.0.0:40002
2014-06-13 16:48:14.338269 -0400 note  Net::Statsd::Server: metrics flush will happen every 1s
2014-06-13 16:48:15.348133 -0400 note  Net::Statsd::Server: flushing metrics
# First flush. Test gauge should be there.
2014-06-13 16:48:16.350490 -0400 note  Net::Statsd::Server: flushing metrics
# Second flush. deleteGauges=false should keep the test gauge.
t/integration-tests/delete-gauges-false.t .. ok
2014-06-13 16:48:16.000000 -0400 note  Net::Statsd::Server: Initializing Net::Statsd::Server::Backend::Graphite backend
2014-06-13 16:48:16.000000 -0400 info  AnyEvent: Autoloaded model 'AnyEvent::Impl::Perl', using it.
Couldn't set SO_RCVBUF: No buffer space available at /Users/hornenj/.cpan/build/Net-Statsd-Server-0.17-LV3e9u/bin/../lib/Net/Statsd/Server.pm line 709.
2014-06-13 16:48:16.529635 -0400 note  Net::Statsd::Server: statsd server started on 0.0.0.0:40001 (v0.17)
2014-06-13 16:48:16.529679 -0400 note  Net::Statsd::Server: manager interface started on 0.0.0.0:40002
2014-06-13 16:48:16.529721 -0400 note  Net::Statsd::Server: metrics flush will happen every 1s
2014-06-13 16:48:17.532435 -0400 note  Net::Statsd::Server: flushing metrics
# First flush. Test gauge should be there.
2014-06-13 16:48:18.535020 -0400 note  Net::Statsd::Server: flushing metrics
# Second flush. deleteIdleStats should have cleared the test gauge.
t/integration-tests/delete-idle-stats.t .... ok
2014-06-13 16:48:18.000000 -0400 note  Net::Statsd::Server: Initializing Net::Statsd::Server::Backend::Graphite backend
2014-06-13 16:48:18.000000 -0400 info  AnyEvent: Autoloaded model 'AnyEvent::Impl::Perl', using it.
Couldn't set SO_RCVBUF: No buffer space available at /Users/hornenj/.cpan/build/Net-Statsd-Server-0.17-LV3e9u/bin/../lib/Net/Statsd/Server.pm line 709.
2014-06-13 16:48:18.715955 -0400 note  Net::Statsd::Server: statsd server started on 0.0.0.0:40001 (v0.17)
2014-06-13 16:48:18.715992 -0400 note  Net::Statsd::Server: manager interface started on 0.0.0.0:40002
2014-06-13 16:48:18.716034 -0400 note  Net::Statsd::Server: metrics flush will happen every 1s
# Expected mean value is 1916.95
2014-06-13 16:48:19.726144 -0400 note  Net::Statsd::Server: flushing metrics
# stats.counters.statsd.bad_lines_seen.rate 0.000000 1402692499
# stats.counters.statsd.bad_lines_seen.count 0 1402692499
# stats.counters.statsd.packets_received.rate 100.000000 1402692499
# stats.counters.statsd.packets_received.count 100 1402692499
# stats.timers.read_latency.upper 2997.000000 1402692499
# stats.timers.read_latency.median 1899.500000 1402692499
# stats.timers.read_latency.sum 191695.000000 1402692499
# stats.timers.read_latency.sum_98 185731.000000 1402692499
# stats.timers.read_latency.upper_99 2967.000000 1402692499
# stats.timers.read_latency.sum_squares 400465277.000000 1402692499
# stats.timers.read_latency.mean_95 1862.473684 1402692499
# stats.timers.read_latency.sum_99 188698.000000 1402692499
# stats.timers.read_latency.sum_squares_99 391483268.000000 1402692499
# stats.timers.read_latency.mean_98 1895.214286 1402692499
# stats.timers.read_latency.upper_98 2961.000000 1402692499
# stats.timers.read_latency.sum_squares_95 356889041.000000 1402692499
# stats.timers.read_latency.count_98 98.000000 1402692499
# stats.timers.read_latency.mean_99 1906.040404 1402692499
# stats.timers.read_latency.std 574.417503 1402692499
# stats.timers.read_latency.mean 1916.950000 1402692499
# stats.timers.read_latency.count_95 95.000000 1402692499
# stats.timers.read_latency.upper_95 2829.000000 1402692499
# stats.timers.read_latency.count 100.000000 1402692499
# stats.timers.read_latency.count_99 99.000000 1402692499
# stats.timers.read_latency.sum_95 176935.000000 1402692499
# stats.timers.read_latency.sum_squares_98 382680179.000000 1402692499
# stats.timers.read_latency.count_ps 100.000000 1402692499
# stats.timers.read_latency.lower 1012.000000 1402692499
# stats.statsd.numStats 3 1402692499
# stats.statsd.graphiteStats.calculationtime 0.098000 1402692499
# stats.statsd.processing_time 0.236 1402692499
# stats.statsd.graphiteStats.last_exception 140229130412880 1402692499
# stats.statsd.graphiteStats.last_flush 140229130412880 1402692499
t/integration-tests/percent-threshold.t .... ok
2014-06-13 16:48:19.000000 -0400 note  Net::Statsd::Server: Initializing Net::Statsd::Server::Backend::Console backend
2014-06-13 16:48:19.000000 -0400 note  Net::Statsd::Server: Initializing Net::Statsd::Server::Backend::Graphite backend
2014-06-13 16:48:19.000000 -0400 info  AnyEvent: Autoloaded model 'AnyEvent::Impl::Perl', using it.
Couldn't set SO_RCVBUF: No buffer space available at /Users/hornenj/.cpan/build/Net-Statsd-Server-0.17-LV3e9u/bin/../lib/Net/Statsd/Server.pm line 709.
2014-06-13 16:48:19.912329 -0400 note  Net::Statsd::Server: statsd server started on 0.0.0.0:40001 (v0.17)
2014-06-13 16:48:19.912367 -0400 note  Net::Statsd::Server: manager interface started on 0.0.0.0:40002
2014-06-13 16:48:19.912409 -0400 note  Net::Statsd::Server: metrics flush will happen every 1s
2014-06-13 16:48:20.911993 -0400 note  Net::Statsd::Server: flushing metrics
Flushing stats at Fri Jun 13 16:48:20 2014
{"pctThreshold":["90"],"sets":null,"gauges":{},"timers":{"a_test_value":["100"]},"counter_rates":{"statsd.bad_lines_seen":0,"statsd.packets_received":1},"counters":{"statsd.packets_received":1,"statsd.bad_lines_seen":0},"timer_data":{"a_test_value":{"mean":100,"sum_90":"100","mean_90":"100","std":0,"upper_90":"100","sum_squares_90":10000,"sum":"100","upper":"100","count_ps":1,"count_90":1,"sum_squares":10000,"median":"100","lower":"100","count":1}}}
# stats.counters.statsd.packets_received.rate 1.000000 1402692500
# stats.counters.statsd.packets_received.count 1 1402692500
# stats.counters.statsd.bad_lines_seen.rate 0.000000 1402692500
# stats.counters.statsd.bad_lines_seen.count 0 1402692500
# stats.timers.a_test_value.mean 100.000000 1402692500
# stats.timers.a_test_value.sum_90 100.000000 1402692500
# stats.timers.a_test_value.mean_90 100.000000 1402692500
# stats.timers.a_test_value.std 0.000000 1402692500
# stats.timers.a_test_value.upper_90 100.000000 1402692500
# stats.timers.a_test_value.sum_squares_90 10000.000000 1402692500
# stats.timers.a_test_value.sum 100.000000 1402692500
# stats.timers.a_test_value.upper 100.000000 1402692500
# stats.timers.a_test_value.count_ps 1.000000 1402692500
# stats.timers.a_test_value.count_90 1.000000 1402692500
# stats.timers.a_test_value.sum_squares 10000.000000 1402692500
# stats.timers.a_test_value.median 100.000000 1402692500
# stats.timers.a_test_value.lower 100.000000 1402692500
# stats.timers.a_test_value.count 1.000000 1402692500
# stats.statsd.numStats 3 1402692500
# stats.statsd.graphiteStats.calculationtime 0.099000 1402692500
# stats.statsd.processing_time 0.049 1402692500
# stats.statsd.graphiteStats.last_exception 140411406476112 1402692500
# stats.statsd.graphiteStats.last_flush 140411406476112 1402692500
t/integration-tests/timers-are-valid.t ..... ok
t/process-metrics.t ........................ ok
t/trim.t ................................... ok
All tests successful.
Files=11, Tests=90, 10 wallclock secs ( 0.05 usr  0.02 sys +  1.15 cusr  0.15 csys =  1.37 CPU)
Result: PASS

------------------------------
PREREQUISITES
------------------------------

Prerequisite modules loaded:

requires:

    Module                Need Have    
    --------------------- ---- --------
    AnyEvent::Handle::UDP 0    0.043   
    IO::Socket::INET      0    1.35    
    JSON::XS              0    3.01    

build_requires:

    Module                Need Have    
    --------------------- ---- --------
    Test::More            0    1.001003

configure_requires:

    Module                Need Have    
    --------------------- ---- --------
    ExtUtils::MakeMaker   6.30 6.98    


------------------------------
ENVIRONMENT AND OTHER CONTEXT
------------------------------

Environment variables:

    AUTOMATED_TESTING = 1
    LC_ALL = POSIX
    LD_LIBRARY_PATH = :/net/traces01.be-md.ncbi.nlm.nih.gov/trace_software/vdb/mac/release/x86_64/lib
    PATH = /Users/hornenj/perl5/perlbrew/bin:/Users/hornenj/perl5/perlbrew/perls/perl-5.20.0/bin:/Users/hornenj/perl5/perlbrew/bin:/Users/hornenj/perl5/perlbrew/perls/perl-5.20.0/bin:/sw/lib/perl5/ExtUtils:/sw/bin:/sw/sbin:/am/ncbiapdata/bin:/usr/bin:/bin:/usr/X11R6/bin:/Users/hornenj/bin:/netopt/ncbi_tools/bin:/usr/local/ncbi/blast/bin:/net/traces01.be-md.ncbi.nlm.nih.gov/trace_software/vdb/mac/release/x86_64/bin
    PERL5LIB = /Users/hornenj/.cpan/build/AnyEvent-Handle-UDP-0.043-RpgHAm/blib/arch:/Users/hornenj/.cpan/build/AnyEvent-Handle-UDP-0.043-RpgHAm/blib/lib:/Users/hornenj/.cpan/build/AnyEvent-7.07-QQej9X/blib/arch:/Users/hornenj/.cpan/build/AnyEvent-7.07-QQej9X/blib/lib
    PERL5OPT = 
    PERL5_CPANPLUS_IS_RUNNING = 56799
    PERL5_CPAN_IS_RUNNING = 56799
    PERL5_MINISMOKEBOX = 0.58
    PERLBREW_BASHRC_VERSION = 0.69
    PERLBREW_HOME = /Users/hornenj/.perlbrew
    PERLBREW_MANPATH = /Users/hornenj/perl5/perlbrew/perls/perl-5.20.0/man
    PERLBREW_PATH = /Users/hornenj/perl5/perlbrew/bin:/Users/hornenj/perl5/perlbrew/perls/perl-5.20.0/bin
    PERLBREW_PERL = perl-5.20.0
    PERLBREW_ROOT = /Users/hornenj/perl5/perlbrew
    PERLBREW_VERSION = 0.69
    PERL_EXTUTILS_AUTOINSTALL = --defaultdeps
    PERL_MM_USE_DEFAULT = 1
    SHELL = /bin/bash
    TERM = xterm
    TMPDIR = /var/folders/pz/pd7y1qjs6s3cbk170cw50fjc000c61/T/
    VERSIONER_PERL_PREFER_32_BIT = no
    VERSIONER_PERL_VERSION = 5.12
    ac_cv_path_INTLTOOL_PERL = /usr/bin/perl

Perl special variables (and OS-specific diagnostics, for MSWin32):

    $^X = /Users/hornenj/perl5/perlbrew/perls/perl-5.20.0/bin/perl
    $UID/$EUID = 12481 / 12481
    $GID = 14 14 5344 527 241 206 402 12 62 204
    $EGID = 14 14 5344 527 241 206 402 12 62 204

Perl module toolchain versions installed:

    Module              Have    
    ------------------- --------
    CPAN                2.05    
    CPAN::Meta          2.141520
    Cwd                 3.47    
    ExtUtils::CBuilder  0.280216
    ExtUtils::Command   1.18    
    ExtUtils::Install   1.68    
    ExtUtils::MakeMaker 6.98    
    ExtUtils::Manifest  1.63    
    ExtUtils::ParseXS   3.24    
    File::Spec          3.47    
    JSON                2.90    
    JSON::PP            2.27203 
    Module::Build       0.4205  
    Module::Signature   n/a     
    Parse::CPAN::Meta   1.4414  
    Test::Harness       3.32    
    Test::More          1.001003
    YAML                0.92    
    YAML::Syck          1.27    
    version             0.9908  


--

Summary of my perl5 (revision 5 version 20 subversion 0) configuration:
   
  Platform:
    osname=darwin, osvers=12.5.0, archname=darwin-thread-multi-2level
    uname='darwin ncbimac2008.ncbi.nlm.nih.gov 12.5.0 darwin kernel version 12.5.0: sun sep 29 13:33:47 pdt 2013; root:xnu-2050.48.12~1release_x86_64 x86_64 '
    config_args='-de -Dprefix=/Users/hornenj/perl5/perlbrew/perls/perl-5.20.0 -Duseithreads -Dusemultiplicity -Accflags=-O2 -W -Wformat=2 -Wswitch -Wshadow -Wwrite-strings -Wuninitialized -Wall -pipe -mtune=native -march=native -fomit-frame-pointer -msse2 -msse -mmmx -pedantic -D_FORTIFY_SOURCE=2 -Wpointer-arith -Wstrict-prototypes -fstack-protector -Wstack-protector -Wextra -Wbad-function-cast -Wcast-align -Wcast-qual -Wdisabled-optimization -Wendif-labels -Wfloat-equal -Wformat-nonliteral -Winline -Wmissing-declarations -Wmissing-prototypes -Wnested-externs -Wpointer-arith -Wundef -Wformat-security -fassociative-math -Acc=cc -Aeval:scriptdir=/Users/hornenj/perl5/perlbrew/perls/perl-5.20.0/bin'
    hint=recommended, useposix=true, d_sigaction=define
    useithreads=define, usemultiplicity=define
    use64bitint=define, use64bitall=define, uselongdouble=undef
    usemymalloc=n, bincompat5005=undef
  Compiler:
    cc=' cc', ccflags ='-fno-common -DPERL_DARWIN -O2 -W -Wformat=2 -Wswitch -Wshadow -Wwrite-strings -Wuninitialized -Wall -pipe -mtune=native -march=native -fomit-frame-pointer -msse2 -msse -mmmx -pedantic -D_FORTIFY_SOURCE=2 -Wpointer-arith -Wstrict-prototypes -fstack-protector -Wstack-protector -Wextra -Wbad-function-cast -Wcast-align -Wcast-qual -Wdisabled-optimization -Wendif-labels -Wfloat-equal -Wformat-nonliteral -Winline -Wmissing-declarations -Wmissing-prototypes -Wnested-externs -Wpointer-arith -Wundef -Wformat-security -fassociative-math -fno-strict-aliasing -I/usr/local/include',
    optimize='-O3',
    cppflags='-fno-common -DPERL_DARWIN -O2 -W -Wformat=2 -Wswitch -Wshadow -Wwrite-strings -Wuninitialized -Wall -pipe -mtune=native -march=native -fomit-frame-pointer -msse2 -msse -mmmx -pedantic -D_FORTIFY_SOURCE=2 -Wpointer-arith -Wstrict-prototypes -fstack-protector -Wstack-protector -Wextra -Wbad-function-cast -Wcast-align -Wcast-qual -Wdisabled-optimization -Wendif-labels -Wfloat-equal -Wformat-nonliteral -Winline -Wmissing-declarations -Wmissing-prototypes -Wnested-externs -Wpointer-arith -Wundef -Wformat-security -fassociative-math -fno-strict-aliasing -I/usr/local/include'
    ccversion='', gccversion='4.2.1 Compatible Apple LLVM 4.2 (clang-425.0.24)', gccosandvers=''
    intsize=4, longsize=8, ptrsize=8, doublesize=8, byteorder=12345678
    d_longlong=define, longlongsize=8, d_longdbl=define, longdblsize=16
    ivtype='long', ivsize=8, nvtype='double', nvsize=8, Off_t='off_t', lseeksize=8
    alignbytes=8, prototype=define
  Linker and Libraries:
    ld='env MACOSX_DEPLOYMENT_TARGET=10.3 cc', ldflags =' -fstack-protector -L/usr/local/lib'
    libpth=/usr/local/lib /usr/bin/../lib/clang/4.2/lib /usr/lib
    libs=-ldbm -ldl -lm -lutil -lc
    perllibs=-ldl -lm -lutil -lc
    libc=, so=dylib, useshrplib=false, libperl=libperl.a
    gnulibc_version=''
  Dynamic Linking:
    dlsrc=dl_dlopen.xs, dlext=bundle, d_dlsymun=undef, ccdlflags=' '
    cccdlflags=' ', lddlflags=' -bundle -undefined dynamic_lookup -L/usr/local/lib -fstack-protector'


Characteristics of this binary (from libperl): 
  Compile-time options: HAS_TIMES MULTIPLICITY PERLIO_LAYERS
                        PERL_DONT_CREATE_GVSV
                        PERL_HASH_FUNC_ONE_AT_A_TIME_HARD
                        PERL_IMPLICIT_CONTEXT PERL_MALLOC_WRAP
                        PERL_NEW_COPY_ON_WRITE PERL_PRESERVE_IVUV
                        USE_64_BIT_ALL USE_64_BIT_INT USE_ITHREADS
                        USE_LARGE_FILES USE_LOCALE USE_LOCALE_COLLATE
                        USE_LOCALE_CTYPE USE_LOCALE_NUMERIC USE_PERLIO
                        USE_PERL_ATOF USE_REENTRANT_API
  Built under darwin
  Compiled at May 28 2014 08:29:41
  %ENV:
    PERL5LIB="/Users/hornenj/.cpan/build/AnyEvent-Handle-UDP-0.043-RpgHAm/blib/arch:/Users/hornenj/.cpan/build/AnyEvent-Handle-UDP-0.043-RpgHAm/blib/lib:/Users/hornenj/.cpan/build/AnyEvent-7.07-QQej9X/blib/arch:/Users/hornenj/.cpan/build/AnyEvent-7.07-QQej9X/blib/lib"
    PERL5OPT=""
    PERL5_CPANPLUS_IS_RUNNING="56799"
    PERL5_CPAN_IS_RUNNING="56799"
    PERL5_MINISMOKEBOX="0.58"
    PERLBREW_BASHRC_VERSION="0.69"
    PERLBREW_HOME="/Users/hornenj/.perlbrew"
    PERLBREW_MANPATH="/Users/hornenj/perl5/perlbrew/perls/perl-5.20.0/man"
    PERLBREW_PATH="/Users/hornenj/perl5/perlbrew/bin:/Users/hornenj/perl5/perlbrew/perls/perl-5.20.0/bin"
    PERLBREW_PERL="perl-5.20.0"
    PERLBREW_ROOT="/Users/hornenj/perl5/perlbrew"
    PERLBREW_VERSION="0.69"
    PERL_EXTUTILS_AUTOINSTALL="--defaultdeps"
    PERL_MM_USE_DEFAULT="1"
  @INC:
    /Users/hornenj/.cpan/build/AnyEvent-Handle-UDP-0.043-RpgHAm/blib/arch
    /Users/hornenj/.cpan/build/AnyEvent-Handle-UDP-0.043-RpgHAm/blib/lib
    /Users/hornenj/.cpan/build/AnyEvent-7.07-QQej9X/blib/arch
    /Users/hornenj/.cpan/build/AnyEvent-7.07-QQej9X/blib/lib
    /Users/hornenj/perl5/perlbrew/perls/perl-5.20.0/lib/site_perl/5.20.0/darwin-thread-multi-2level
    /Users/hornenj/perl5/perlbrew/perls/perl-5.20.0/lib/site_perl/5.20.0
    /Users/hornenj/perl5/perlbrew/perls/perl-5.20.0/lib/5.20.0/darwin-thread-multi-2level
    /Users/hornenj/perl5/perlbrew/perls/perl-5.20.0/lib/5.20.0
    .