Report for Web-Scraper-0.37

Back
From: metabase:user:30f4dfbe-2aae-11df-837a-5e0a49663a4f
Subject: PASS Web-Scraper-0.37 v5.12.1 GNU/Linux
Date: 2012-12-13T08:42:41Z

This distribution has been tested as part of the CPAN Testers
project, supporting the Perl programming language.  See
http://wiki.cpantesters.org/ for more information or email
questions to cpan-testers-discuss@perl.org


--
Dear Tatsuhiko Miyagawa,

This is a computer-generated report for Web-Scraper-0.37
on perl 5.12.1, created by CPAN-Reporter-1.2007.

Thank you for uploading your work to CPAN.  Congratulations!
All tests were successful.

Sections of this report:

    * Tester comments
    * Program output
    * Prerequisites
    * Environment and other context

------------------------------
TESTER COMMENTS
------------------------------

Additional comments from tester:

this report is from an automated smoke testing program
and was not reviewed by a human for accuracy

------------------------------
PROGRAM OUTPUT
------------------------------

Output from '/usr/bin/make test':

PERL_DL_NONLAZY=1 /home/njh/perl5/perlbrew/perls/perl-5.12.1/bin/perl "-MExtUtils::Command::MM" "-e" "test_harness(0, 'inc', 'blib/lib', 'blib/arch')" t/*.t
t/00_compile.t .......... ok
t/01_process.t .......... ok
t/02_process_multi.t .... ok
t/03_scraper_nest.t ..... ok
t/04_callback.t ......... ok
t/05_process_first.t .... ok
t/06_define.t ........... ok
t/07-live.t ............. skipped: LIVE_TEST not enabled
t/08-leak.t ............. skipped: LEAK_TEST is not defined
t/09-process_hash.t ..... ok
t/11_absolute.t ......... ok
t/12_html.t ............. ok
t/13_textnode.t ......... ok
t/14_absolute_nested.t .. ok
t/15_absolute_hash.t .... ok
t/16_filter.t ........... ok
t/17_filter_loop.t ...... ok
t/18_http_response.t .... skipped: LIVE_TEST not enabled
t/19_decode_content.t ... skipped: LIVE_TEST not enabled
t/20_comment_nodes.t .... skipped: Please upgrade HTML::TreeBuilder::XPath and HTML::TreeBuilder::LibXML modules for comment nodes supporting
t/21_html5.t ............ ok
t/redefine.t ............ ok
t/xml-simple.t .......... skipped: Test requires module 'HTML::TreeBuilder::LibXML' but it's not found
All tests successful.
Files=23, Tests=38,  1 wallclock secs ( 0.06 usr  0.01 sys +  1.26 cusr  0.12 csys =  1.45 CPU)
Result: PASS

------------------------------
PREREQUISITES
------------------------------

Prerequisite modules loaded:

requires:

    Module                   Need     Have    
    ------------------------ -------- --------
    HTML::Entities           0        3.69    
    HTML::Selector::XPath    0.03     0.15    
    HTML::Tagset             0        3.20    
    HTML::TreeBuilder        3.23     5.03    
    HTML::TreeBuilder::XPath 0.08     0.14    
    LWP                      5.827    6.04    
    perl                     5.008001 5.012001
    Scalar::Util             0        1.25    
    UNIVERSAL::require       0        0.13    
    URI                      0        1.60    
    XML::XPathEngine         0.08     0.13    
    YAML                     0        0.84    

build_requires:

    Module                   Need     Have    
    ------------------------ -------- --------
    ExtUtils::MakeMaker      6.59     6.62    
    Test::Base               0        0.60    
    Test::More               0        0.98    
    Test::Requires           0        0.06    

configure_requires:

    Module                   Need     Have    
    ------------------------ -------- --------
    ExtUtils::MakeMaker      6.59     6.62    


------------------------------
ENVIRONMENT AND OTHER CONTEXT
------------------------------

Environment variables:

    AUTOMATED_TESTING = 1
    LANG = en_GB.UTF-8
    LANGUAGE = en_GB:en
    LD_LIBRARY_PATH = :/usr/local/lib:/usr/lib/qt-3.3/lib:/usr/X11R6/lib
    MANPATH_WITHOUT_PERLBREW = /usr/local/man:/usr/local/share/man:/usr/share/man:/usr/local/man:/home/njh/man:/usr/share/inn/man:/usr/share/perl5/man:/usr/share/tcl-8.0/man:/usr/share/tclX-8.0.4/man:/usr/share/tix-4.1/man:/usr/share/tk-8.0/man:/usr/server/doc:/usr/share/man:/opt/intel/cc/9.1.038/man
    PATH = /home/njh/perl5/perlbrew/bin:/home/njh/perl5/perlbrew/perls/perl-5.12.1/bin:/home/njh/perl5/perlbrew/bin:/usr/local/bin:/usr/bin:/bin:/usr/local/games:/usr/games:/home/njh/bin
    PATH_WITHOUT_PERLBREW = /usr/local/bin:/usr/bin:/bin:/usr/local/games:/usr/games:/home/njh/bin
    PERL5LIB = /home/njh/.cpan/build/HTML-Selector-XPath-0.15-sD81CG/blib/arch:/home/njh/.cpan/build/HTML-Selector-XPath-0.15-sD81CG/blib/lib:/home/njh/.cpan/build/LWP-Online-1.08-NjuRft/blib/arch:/home/njh/.cpan/build/LWP-Online-1.08-NjuRft/blib/lib:/home/njh/.cpan/build/Test-Base-0.60-GJkzXz/blib/arch:/home/njh/.cpan/build/Test-Base-0.60-GJkzXz/blib/lib:/home/njh/.cpan/build/Spiffy-0.31-bo5r3l/blib/arch:/home/njh/.cpan/build/Spiffy-0.31-bo5r3l/blib/lib
    PERL5OPT = 
    PERL5_CPANPLUS_IS_RUNNING = 7304
    PERL5_CPAN_IS_RUNNING = 7304
    PERL5_MINISMOKEBOX = 0.54
    PERLBREW_BASHRC_VERSION = 0.49
    PERLBREW_HOME = /home/njh/.perlbrew
    PERLBREW_LIB = 
    PERLBREW_MANPATH = /home/njh/perl5/perlbrew/perls/perl-5.12.1/man
    PERLBREW_PATH = /home/njh/perl5/perlbrew/bin:/home/njh/perl5/perlbrew/perls/perl-5.12.1/bin
    PERLBREW_PERL = perl-5.12.1
    PERLBREW_ROOT = /home/njh/perl5/perlbrew
    PERLBREW_VERSION = 0.49
    PERL_EXTUTILS_AUTOINSTALL = --defaultdeps
    PERL_LOCAL_LIB_ROOT = 
    PERL_MB_OPT = 
    PERL_MM_OPT = 
    PERL_MM_USE_DEFAULT = 1
    SHELL = /bin/bash
    TERM = linux

Perl special variables (and OS-specific diagnostics, for MSWin32):

    $^X = /home/njh/perl5/perlbrew/perls/perl-5.12.1/bin/perl
    $UID/$EUID = 1000 / 1000
    $GID = 1000 24 25 29 30 44 46 108 112 1000
    $EGID = 1000 24 25 29 30 44 46 108 112 1000

Perl module toolchain versions installed:

    Module              Have    
    ------------------- --------
    CPAN                1.9800  
    CPAN::Meta          2.120921
    Cwd                 3.33    
    ExtUtils::CBuilder  0.280205
    ExtUtils::Command   1.17    
    ExtUtils::Install   1.55    
    ExtUtils::MakeMaker 6.62    
    ExtUtils::Manifest  1.61    
    ExtUtils::ParseXS   3.15    
    File::Spec          3.33    
    JSON                2.53    
    JSON::PP            2.27200 
    Module::Build       0.4003  
    Module::Signature   0.68    
    Parse::CPAN::Meta   1.4404  
    Test::Harness       3.25    
    Test::More          0.98    
    YAML                0.84    
    YAML::Syck          1.22    
    version             0.9901  


--

Summary of my perl5 (revision 5 version 12 subversion 1) configuration:
   
  Platform:
    osname=linux, osvers=3.1.0-1-amd64, archname=x86_64-linux
    uname='linux gateway 3.1.0-1-amd64 #1 smp tue jan 10 05:01:58 utc 2012 x86_64 gnulinux '
    config_args='-de -Dprefix=/home/njh/perl5/perlbrew/perls/perl-5.12.1 -D_FORTIFY_SOURCE=2 -Accflags=-O2'
    hint=recommended, useposix=true, d_sigaction=define
    useithreads=undef, usemultiplicity=undef
    useperlio=define, d_sfio=undef, uselargefiles=define, usesocks=undef
    use64bitint=define, use64bitall=define, uselongdouble=undef
    usemymalloc=n, bincompat5005=undef
  Compiler:
    cc='cc', ccflags ='-O2 -fno-strict-aliasing -pipe -fstack-protector -I/usr/local/include -D_LARGEFILE_SOURCE -D_FILE_OFFSET_BITS=64',
    optimize='-O2',
    cppflags='-O2 -fno-strict-aliasing -pipe -fstack-protector -I/usr/local/include'
    ccversion='', gccversion='4.6.2', gccosandvers=''
    intsize=4, longsize=8, ptrsize=8, doublesize=8, byteorder=12345678
    d_longlong=define, longlongsize=8, d_longdbl=define, longdblsize=16
    ivtype='long', ivsize=8, nvtype='double', nvsize=8, Off_t='off_t', lseeksize=8
    alignbytes=8, prototype=define
  Linker and Libraries:
    ld='cc', ldflags =' -fstack-protector -L/usr/local/lib'
    libpth=/usr/local/lib /lib/x86_64-linux-gnu /lib/../lib /usr/lib/x86_64-linux-gnu /usr/lib/../lib /lib /usr/lib
    libs=-lnsl -ldb -ldl -lm -lcrypt -lutil -lc
    perllibs=-lnsl -ldl -lm -lcrypt -lutil -lc
    libc=, so=so, useshrplib=false, libperl=libperl.a
    gnulibc_version='2.13'
  Dynamic Linking:
    dlsrc=dl_dlopen.xs, dlext=so, d_dlsymun=undef, ccdlflags='-Wl,-E'
    cccdlflags='-fPIC', lddlflags='-shared -O2 -L/usr/local/lib -fstack-protector'


Characteristics of this binary (from libperl): 
  Compile-time options: PERL_DONT_CREATE_GVSV PERL_MALLOC_WRAP USE_64_BIT_ALL
                        USE_64_BIT_INT USE_LARGE_FILES USE_PERLIO
                        USE_PERL_ATOF
  Built under linux
  Compiled at Jan 16 2012 11:59:16
  %ENV:
    PERL5LIB="/home/njh/.cpan/build/HTML-Selector-XPath-0.15-sD81CG/blib/arch:/home/njh/.cpan/build/HTML-Selector-XPath-0.15-sD81CG/blib/lib:/home/njh/.cpan/build/LWP-Online-1.08-NjuRft/blib/arch:/home/njh/.cpan/build/LWP-Online-1.08-NjuRft/blib/lib:/home/njh/.cpan/build/Test-Base-0.60-GJkzXz/blib/arch:/home/njh/.cpan/build/Test-Base-0.60-GJkzXz/blib/lib:/home/njh/.cpan/build/Spiffy-0.31-bo5r3l/blib/arch:/home/njh/.cpan/build/Spiffy-0.31-bo5r3l/blib/lib"
    PERL5OPT=""
    PERL5_CPANPLUS_IS_RUNNING="7304"
    PERL5_CPAN_IS_RUNNING="7304"
    PERL5_MINISMOKEBOX="0.54"
    PERLBREW_BASHRC_VERSION="0.49"
    PERLBREW_HOME="/home/njh/.perlbrew"
    PERLBREW_LIB=""
    PERLBREW_MANPATH="/home/njh/perl5/perlbrew/perls/perl-5.12.1/man"
    PERLBREW_PATH="/home/njh/perl5/perlbrew/bin:/home/njh/perl5/perlbrew/perls/perl-5.12.1/bin"
    PERLBREW_PERL="perl-5.12.1"
    PERLBREW_ROOT="/home/njh/perl5/perlbrew"
    PERLBREW_VERSION="0.49"
    PERL_EXTUTILS_AUTOINSTALL="--defaultdeps"
    PERL_LOCAL_LIB_ROOT=""
    PERL_MB_OPT=""
    PERL_MM_OPT=""
    PERL_MM_USE_DEFAULT="1"
  @INC:
    /home/njh/.cpan/build/HTML-Selector-XPath-0.15-sD81CG/blib/arch
    /home/njh/.cpan/build/HTML-Selector-XPath-0.15-sD81CG/blib/lib
    /home/njh/.cpan/build/LWP-Online-1.08-NjuRft/blib/arch
    /home/njh/.cpan/build/LWP-Online-1.08-NjuRft/blib/lib
    /home/njh/.cpan/build/Test-Base-0.60-GJkzXz/blib/arch
    /home/njh/.cpan/build/Test-Base-0.60-GJkzXz/blib/lib
    /home/njh/.cpan/build/Spiffy-0.31-bo5r3l/blib/arch
    /home/njh/.cpan/build/Spiffy-0.31-bo5r3l/blib/lib
    /home/njh/perl5/perlbrew/perls/perl-5.12.1/lib/site_perl/5.12.1/x86_64-linux
    /home/njh/perl5/perlbrew/perls/perl-5.12.1/lib/site_perl/5.12.1
    /home/njh/perl5/perlbrew/perls/perl-5.12.1/lib/5.12.1/x86_64-linux
    /home/njh/perl5/perlbrew/perls/perl-5.12.1/lib/5.12.1
    .