File-Stat-OO v0.03 Perl 5 v5.18.4 amd64-freebsd

Status
Pass
From
Slaven Rezić (SREZIC)
Dist
File-Stat-OO v0.03
Platform
Perl 5 v5.18.4 amd64-freebsd
Date
2018-02-28 23:49:47
ID
0ee2056c-1ce2-11e8-8c32-98f74d99b7ab
This distribution has been tested as part of the CPAN Testers
project, supporting the Perl programming language.  See
http://wiki.cpantesters.org/ for more information or email
questions to cpan-testers-discuss@perl.org


--
Dear Dan Horne,

This is a computer-generated report for File-Stat-OO-0.03
on perl 5.18.4, created by CPAN-Reporter-1.2018.

Thank you for uploading your work to CPAN.  Congratulations!
All tests were successful.

Sections of this report:

    * Tester comments
    * Program output
    * Prerequisites
    * Environment and other context

------------------------------
TESTER COMMENTS
------------------------------

Additional comments from tester:

none provided

------------------------------
PROGRAM OUTPUT
------------------------------

Output from '/usr/bin/make test':

PERL_DL_NONLAZY=1 "/usr/perl5.18.4p/bin/perl" "-MExtUtils::Command::MM" "-MTest::Harness" "-e" "undef *Test::Harness::Switches; test_harness(0, 'blib/lib', 'blib/arch')" t/*.t
# Testing File::Stat::OO 0.03, Perl 5.018004, /usr/perl5.18.4p/bin/perl
t/00-load.t ....... ok
t/01-methods.t .... ok
t/pod-coverage.t .. ok
t/pod.t ........... ok
All tests successful.
Files=4, Tests=39,  1 wallclock secs ( 0.03 usr  0.02 sys +  0.76 cusr  0.23 csys =  1.04 CPU)
Result: PASS

------------------------------
PREREQUISITES
------------------------------

Prerequisite modules loaded:

requires:

    Module              Need Have    
    ------------------- ---- --------
    Class::Accessor     0    0.51    
    DateTime            0    1.46    
    Test::More          0    1.302103

build_requires:

    Module              Need Have    
    ------------------- ---- --------
    ExtUtils::MakeMaker 0    7.30    

configure_requires:

    Module              Need Have    
    ------------------- ---- --------
    ExtUtils::MakeMaker 0    7.30    


------------------------------
ENVIRONMENT AND OTHER CONTEXT
------------------------------

Environment variables:

    PATH = /usr/local/bin:/usr/bin:/bin:/usr/local/sbin:/usr/sbin:/sbin:/home/cpansand/bin/freebsd11.0:/home/cpansand/bin/sh:/home/cpansand/bin:/usr/games:/home/cpansand/devel:/home/eserte/src/srezic-misc/scripts
    PERL5LIB = /home/cpansand/.cpan/build/2018030106/DateTime-1.46-jtNbsL/blib/arch:/home/cpansand/.cpan/build/2018030106/DateTime-1.46-jtNbsL/blib/lib:/home/cpansand/.cpan/build/2018030106/DateTime-Locale-1.17-asN_8U/blib/arch:/home/cpansand/.cpan/build/2018030106/DateTime-Locale-1.17-asN_8U/blib/lib:/home/cpansand/.cpan/build/2018030106/Test-File-ShareDir-1.001002-w5roQG/blib/arch:/home/cpansand/.cpan/build/2018030106/Test-File-ShareDir-1.001002-w5roQG/blib/lib:/home/cpansand/.cpan/build/2018030106/Params-ValidationCompiler-0.27-qMvckD/blib/arch:/home/cpansand/.cpan/build/2018030106/Params-ValidationCompiler-0.27-qMvckD/blib/lib:/home/cpansand/.cpan/build/2018030106/DateTime-TimeZone-2.17-bXOM2D/blib/arch:/home/cpansand/.cpan/build/2018030106/DateTime-TimeZone-2.17-bXOM2D/blib/lib:/home/cpansand/.cpan/build/2018030106/Class-Singleton-1.5-17dcTP/blib/arch:/home/cpansand/.cpan/build/2018030106/Class-Singleton-1.5-17dcTP/blib/lib
    PERL5OPT = 
    PERL5_CPANPLUS_IS_RUNNING = 19668
    PERL5_CPAN_IS_RUNNING = 19668
    PERL5_CPAN_IS_RUNNING_IN_RECURSION = 19655,19668
    PERLDOC = -MPod::Perldoc::ToTextOverstrike
    PERL_BATCH = yes
    PERL_CANARY_STABILITY_NOPROMPT = 1
    PERL_CPAN_REPORTER_CONFIG = /var/tmp/cpansmoker-1023/2018030106/cpanreporter_000_config.ini
    PERL_EXTUTILS_AUTOINSTALL = --defaultdeps
    SHELL = /usr/local/bin/zsh
    TERM = screen
    TMPDIR = /var/tmp/cpansmoker-1023/2018030106

Perl special variables (and OS-specific diagnostics, for MSWin32):

    $^X = /usr/perl5.18.4p/bin/perl
    $UID/$EUID = 1023 / 1023
    $GID = 1023 1023
    $EGID = 1023 1023

Perl module toolchain versions installed:

    Module              Have    
    ------------------- --------
    CPAN                2.00    
    CPAN::Meta          2.150010
    Cwd                 3.40    
    ExtUtils::CBuilder  0.280210
    ExtUtils::Command   7.30    
    ExtUtils::Install   2.06    
    ExtUtils::MakeMaker 7.30    
    ExtUtils::Manifest  1.70    
    ExtUtils::ParseXS   3.35    
    File::Spec          3.40    
    JSON                2.94    
    JSON::PP            2.94    
    Module::Build       0.4224  
    Module::Signature   n/a     
    Parse::CPAN::Meta   2.150010
    Test::Harness       3.39    
    Test::More          1.302103
    YAML                1.23    
    YAML::Syck          1.30    
    version             0.9918  


--

Summary of my perl5 (revision 5 version 18 subversion 4) configuration:
   
  Platform:
    osname=freebsd, osvers=11.1-stable, archname=amd64-freebsd
    uname='freebsd ali3.bbbike.org 11.1-stable freebsd 11.1-stable #0 b7ba9aef7e5(stable11): wed oct 11 00:23:27 utc 2017 root@ali3.bbbike.org:usrobjhomeprojectsfreebsdsysgeneric amd64 '
    config_args='-ds -e -Dprefix=/usr/perl5.18.4p -Dcf_email=srezic@cpan.org -Doptimize=-O2 -pipe'
    hint=recommended, useposix=true, d_sigaction=define
    useithreads=undef, usemultiplicity=undef
    useperlio=define, d_sfio=undef, uselargefiles=define, usesocks=undef
    use64bitint=define, use64bitall=define, uselongdouble=undef
    usemymalloc=n, bincompat5005=undef
  Compiler:
    cc='cc', ccflags ='-DHAS_FPSETMASK -DHAS_FLOATINGPOINT_H -fno-strict-aliasing -pipe -fstack-protector -I/usr/local/include',
    optimize='-O2 -pipe',
    cppflags='-DHAS_FPSETMASK -DHAS_FLOATINGPOINT_H -fno-strict-aliasing -pipe -fstack-protector -I/usr/local/include'
    ccversion='', gccversion='4.2.1 Compatible FreeBSD Clang 5.0.0 (tags/RELEASE_500/final 312559)', gccosandvers=''
    intsize=4, longsize=8, ptrsize=8, doublesize=8, byteorder=12345678
    d_longlong=define, longlongsize=8, d_longdbl=define, longdblsize=16
    ivtype='long', ivsize=8, nvtype='double', nvsize=8, Off_t='off_t', lseeksize=8
    alignbytes=8, prototype=define
  Linker and Libraries:
    ld='cc', ldflags ='-pthread -Wl,-E  -fstack-protector -L/usr/local/lib'
    libpth=/usr/lib /usr/local/lib
    libs=-lgdbm -lm -lcrypt -lutil -lc
    perllibs=-lm -lcrypt -lutil -lc
    libc=, so=so, useshrplib=false, libperl=libperl.a
    gnulibc_version=''
  Dynamic Linking:
    dlsrc=dl_dlopen.xs, dlext=so, d_dlsymun=undef, ccdlflags=' '
    cccdlflags='-DPIC -fPIC', lddlflags='-shared  -L/usr/local/lib -fstack-protector'


Characteristics of this binary (from libperl): 
  Compile-time options: HAS_TIMES PERLIO_LAYERS PERL_DONT_CREATE_GVSV
                        PERL_HASH_FUNC_ONE_AT_A_TIME_HARD PERL_MALLOC_WRAP
                        PERL_PRESERVE_IVUV PERL_SAWAMPERSAND USE_64_BIT_ALL
                        USE_64_BIT_INT USE_LARGE_FILES USE_LOCALE
                        USE_LOCALE_COLLATE USE_LOCALE_CTYPE
                        USE_LOCALE_NUMERIC USE_PERLIO USE_PERL_ATOF
  Built under freebsd
  Compiled at Oct 19 2017 14:17:00
  %ENV:
    PERL5LIB="/home/cpansand/.cpan/build/2018030106/DateTime-1.46-jtNbsL/blib/arch:/home/cpansand/.cpan/build/2018030106/DateTime-1.46-jtNbsL/blib/lib:/home/cpansand/.cpan/build/2018030106/DateTime-Locale-1.17-asN_8U/blib/arch:/home/cpansand/.cpan/build/2018030106/DateTime-Locale-1.17-asN_8U/blib/lib:/home/cpansand/.cpan/build/2018030106/Test-File-ShareDir-1.001002-w5roQG/blib/arch:/home/cpansand/.cpan/build/2018030106/Test-File-ShareDir-1.001002-w5roQG/blib/lib:/home/cpansand/.cpan/build/2018030106/Params-ValidationCompiler-0.27-qMvckD/blib/arch:/home/cpansand/.cpan/build/2018030106/Params-ValidationCompiler-0.27-qMvckD/blib/lib:/home/cpansand/.cpan/build/2018030106/DateTime-TimeZone-2.17-bXOM2D/blib/arch:/home/cpansand/.cpan/build/2018030106/DateTime-TimeZone-2.17-bXOM2D/blib/lib:/home/cpansand/.cpan/build/2018030106/Class-Singleton-1.5-17dcTP/blib/arch:/home/cpansand/.cpan/build/2018030106/Class-Singleton-1.5-17dcTP/blib/lib"
    PERL5OPT=""
    PERL5_CPANPLUS_IS_RUNNING="19668"
    PERL5_CPAN_IS_RUNNING="19668"
    PERL5_CPAN_IS_RUNNING_IN_RECURSION="19655,19668"
    PERLDOC="-MPod::Perldoc::ToTextOverstrike"
    PERL_BATCH="yes"
    PERL_CANARY_STABILITY_NOPROMPT="1"
    PERL_CPAN_REPORTER_CONFIG="/var/tmp/cpansmoker-1023/2018030106/cpanreporter_000_config.ini"
    PERL_EXTUTILS_AUTOINSTALL="--defaultdeps"
  @INC:
    /home/cpansand/.cpan/build/2018030106/DateTime-1.46-jtNbsL/blib/arch
    /home/cpansand/.cpan/build/2018030106/DateTime-1.46-jtNbsL/blib/lib
    /home/cpansand/.cpan/build/2018030106/DateTime-Locale-1.17-asN_8U/blib/arch
    /home/cpansand/.cpan/build/2018030106/DateTime-Locale-1.17-asN_8U/blib/lib
    /home/cpansand/.cpan/build/2018030106/Test-File-ShareDir-1.001002-w5roQG/blib/arch
    /home/cpansand/.cpan/build/2018030106/Test-File-ShareDir-1.001002-w5roQG/blib/lib
    /home/cpansand/.cpan/build/2018030106/Params-ValidationCompiler-0.27-qMvckD/blib/arch
    /home/cpansand/.cpan/build/2018030106/Params-ValidationCompiler-0.27-qMvckD/blib/lib
    /home/cpansand/.cpan/build/2018030106/DateTime-TimeZone-2.17-bXOM2D/blib/arch
    /home/cpansand/.cpan/build/2018030106/DateTime-TimeZone-2.17-bXOM2D/blib/lib
    /home/cpansand/.cpan/build/2018030106/Class-Singleton-1.5-17dcTP/blib/arch
    /home/cpansand/.cpan/build/2018030106/Class-Singleton-1.5-17dcTP/blib/lib
    /usr/perl5.18.4p/lib/site_perl/5.18.4/amd64-freebsd
    /usr/perl5.18.4p/lib/site_perl/5.18.4
    /usr/perl5.18.4p/lib/5.18.4/amd64-freebsd
    /usr/perl5.18.4p/lib/5.18.4
    .