Back
From: metabase:user:31d414ea-2aae-11df-837a-5e0a49663a4f
Subject: PASS XML-CompileX-Schema-Loader-0.006 v5.14.4 GNU/Linux
Date: 2015-02-06T02:08:36Z
This distribution has been tested as part of the CPAN Testers
project, supporting the Perl programming language. See
http://wiki.cpantesters.org/ for more information or email
questions to cpan-testers-discuss@perl.org
--
Dear Mark Gardner,
This is a computer-generated report for XML-CompileX-Schema-Loader-0.006
on perl 5.14.4, created by CPAN-Reporter-1.2009.
Thank you for uploading your work to CPAN. Congratulations!
All tests were successful.
Sections of this report:
* Tester comments
* Program output
* Prerequisites
* Environment and other context
------------------------------
TESTER COMMENTS
------------------------------
Additional comments from tester:
this report is from an automated smoke testing program
and was not reviewed by a human for accuracy
------------------------------
PROGRAM OUTPUT
------------------------------
Output from '/usr/bin/make test':
PERL_DL_NONLAZY=1 "/home/david/cpantesting/perl-5.14.4/bin/perl" "-MExtUtils::Command::MM" "-MTest::Harness" "-e" "undef *Test::Harness::Switches; test_harness(0, 'blib/lib', 'blib/arch')" t/*.t
t/00-compile.t ............... ok
# Testing with Perl 5.014004, /home/david/cpantesting/perl-5.14.4/bin/perl
# Carp version is 1.3301
# Const::Fast version is 0.014
# ExtUtils::MakeMaker version is 7.04
# File::Spec version is 3.47
# HTTP::Exception version is 0.04006
# HTTP::Response version is 6.04
# HTTP::Status version is 6.03
# IO::Handle version is 1.31
# IPC::Open3 version is 1.0901
# LWP::UserAgent version is 6.06
# List::MoreUtils version is 0.404
# Modern::Perl version is 1.20150127
# Moo version is 1.007
# MooX::Types::MooseLike::Base version is 0.27
# Path::Tiny version is 0.061
# Scalar::Util version is 1.41
# Test::LWP::UserAgent version is 0.026
# Test::More version is 1.001014
# Test::Most version is 0.34
# URI version is 1.65
# URI::file version is 4.21
# XML::Compile::SOAP11 version is 3.07
# XML::Compile::SOAP::Util version is 3.07
# XML::Compile::Transport::SOAPHTTP version is 3.07
# XML::Compile::Util version is 1.48
# XML::Compile::WSDL11 version is 3.03
# XML::LibXML version is 2.0118
# strict version is 1.04
# utf8 version is 1.09
# warnings version is 1.12
t/000-report-versions.t ...... ok
t/author-critic.t ............ skipped: these tests are for testing by the author
t/author-eol.t ............... skipped: these tests are for testing by the author
t/author-no-tabs.t ........... skipped: these tests are for testing by the author
t/release-cpan-changes.t ..... skipped: these tests are for release candidate testing
t/release-dist-manifest.t .... skipped: these tests are for release candidate testing
t/release-distmeta.t ......... skipped: these tests are for release candidate testing
t/release-kwalitee.t ......... skipped: these tests are for release candidate testing
t/release-meta-json.t ........ skipped: these tests are for release candidate testing
t/release-minimum-version.t .. skipped: these tests are for release candidate testing
t/release-mojibake.t ......... skipped: these tests are for release candidate testing
t/release-pod-coverage.t ..... skipped: these tests are for release candidate testing
t/release-pod-linkcheck.t .... skipped: these tests are for release candidate testing
t/release-pod-syntax.t ....... skipped: these tests are for release candidate testing
t/release-portability.t ...... skipped: these tests are for release candidate testing
t/release-synopsis.t ......... skipped: these tests are for release candidate testing
t/release-test-version.t ..... skipped: these tests are for release candidate testing
t/release-unused-vars.t ...... skipped: these tests are for release candidate testing
t/stockquote.t ............... ok
All tests successful.
Files=20, Tests=36, 3 wallclock secs ( 0.05 usr 0.08 sys + 0.97 cusr 0.21 csys = 1.31 CPU)
Result: PASS
------------------------------
PREREQUISITES
------------------------------
Prerequisite modules loaded:
requires:
Module Need Have
--------------------------------- ----- ----------
HTTP::Exception 0 0.04006
List::MoreUtils 0 0.404
LWP::UserAgent 0 6.06
Modern::Perl 0 1.20150127
Moo 0 1.007000
MooX::Types::MooseLike::Base 0 0.27
perl 5.010 5.014004
URI 0 1.65
utf8 0 1.09
XML::Compile::SOAP::Util 0 3.07
XML::Compile::Util 0 1.48
XML::Compile::WSDL11 0 3.03
XML::LibXML 0 2.0118
build_requires:
Module Need Have
--------------------------------- ----- ----------
Carp 0 1.3301
Const::Fast 0 0.014
ExtUtils::MakeMaker 0 7.04
File::Spec 0 3.47
HTTP::Response 0 6.04
HTTP::Status 0 6.03
IO::Handle 0 1.31
IPC::Open3 0 1.0901
Path::Tiny 0 0.061
Scalar::Util 0 1.41
strict 0 1.04
Test::LWP::UserAgent 0 0.026
Test::More 0.94 1.001014
Test::Most 0 0.34
URI::file 0 4.21
warnings 0 1.12
XML::Compile::SOAP11 0 3.07
XML::Compile::Transport::SOAPHTTP 0 3.07
configure_requires:
Module Need Have
--------------------------------- ----- ----------
ExtUtils::MakeMaker 0 7.04
------------------------------
ENVIRONMENT AND OTHER CONTEXT
------------------------------
Environment variables:
AUTOMATED_TESTING = 1
PATH = /usr/local/bin:/usr/bin:/bin:/usr/games
PERL = 5.14.4
PERL5LIB =
PERL5OPT =
PERL5_CPANPLUS_IS_RUNNING = 14067
PERL5_CPAN_IS_RUNNING = 14067
PERLVER = 5.14.4
PERL_INLINE_DIRECTORY = /home/david/.Inline-5.14.4
PERL_MM_USE_DEFAULT = 1
SHELL = /bin/bash
TERM = screen
Perl special variables (and OS-specific diagnostics, for MSWin32):
$^X = /home/david/cpantesting/perl-5.14.4/bin/perl
$UID/$EUID = 1000 / 1000
$GID = 1000 1000
$EGID = 1000 1000
Perl module toolchain versions installed:
Module Have
------------------- ---------
CPAN 1.9600_01
CPAN::Meta 2.143240
Cwd 3.47
ExtUtils::CBuilder 0.280203
ExtUtils::Command 1.17
ExtUtils::Install 1.56
ExtUtils::MakeMaker 7.04
ExtUtils::Manifest 1.70
ExtUtils::ParseXS 2.2210
File::Spec 3.47
JSON 2.53
JSON::PP 2.27203
Module::Build 0.4211
Module::Signature n/a
Parse::CPAN::Meta 1.4414
Test::Harness 3.35
Test::More 1.001014
YAML n/a
YAML::Syck n/a
version 0.88
--
Summary of my perl5 (revision 5 version 14 subversion 4) configuration:
Platform:
osname=linux, osvers=3.2.0-4-amd64, archname=x86_64-linux-thread-multi
uname='linux pigsty.barnyard.co.uk 3.2.0-4-amd64 #1 smp debian 3.2.35-2 x86_64 gnulinux '
config_args='-de -Dprefix=/home/david/cpantesting/perl-5.14.4 -Dusethreads -Duse64bitall'
hint=recommended, useposix=true, d_sigaction=define
useithreads=define, usemultiplicity=define
useperlio=define, d_sfio=undef, uselargefiles=define, usesocks=undef
use64bitint=define, use64bitall=define, uselongdouble=undef
usemymalloc=n, bincompat5005=undef
Compiler:
cc='cc', ccflags ='-D_REENTRANT -D_GNU_SOURCE -fno-strict-aliasing -pipe -fstack-protector -I/usr/local/include -D_LARGEFILE_SOURCE -D_FILE_OFFSET_BITS=64',
optimize='-O2',
cppflags='-D_REENTRANT -D_GNU_SOURCE -fno-strict-aliasing -pipe -fstack-protector -I/usr/local/include'
ccversion='', gccversion='4.1.2 20061115 (prerelease) (Debian 4.1.1-21)', gccosandvers=''
intsize=4, longsize=8, ptrsize=8, doublesize=8, byteorder=12345678
d_longlong=define, longlongsize=8, d_longdbl=define, longdblsize=16
ivtype='long', ivsize=8, nvtype='double', nvsize=8, Off_t='off_t', lseeksize=8
alignbytes=8, prototype=define
Linker and Libraries:
ld='cc', ldflags =' -fstack-protector -L/usr/local/lib'
libpth=/usr/local/lib /lib /usr/lib /lib64 /usr/lib64
libs=-lnsl -lgdbm -ldb -ldl -lm -lcrypt -lutil -lpthread -lc -lgdbm_compat
perllibs=-lnsl -ldl -lm -lcrypt -lutil -lpthread -lc
libc=/lib/libc-2.3.6.so, so=so, useshrplib=false, libperl=libperl.a
gnulibc_version='2.3.6'
Dynamic Linking:
dlsrc=dl_dlopen.xs, dlext=so, d_dlsymun=undef, ccdlflags='-Wl,-E'
cccdlflags='-fPIC', lddlflags='-shared -O2 -L/usr/local/lib -fstack-protector'
Characteristics of this binary (from libperl):
Compile-time options: MULTIPLICITY PERL_DONT_CREATE_GVSV
PERL_IMPLICIT_CONTEXT PERL_MALLOC_WRAP
PERL_PRESERVE_IVUV USE_64_BIT_ALL USE_64_BIT_INT
USE_ITHREADS USE_LARGE_FILES USE_PERLIO USE_PERL_ATOF
USE_REENTRANT_API
Built under linux
Compiled at Mar 22 2013 21:25:13
%ENV:
PERL="5.14.4"
PERL5LIB=""
PERL5OPT=""
PERL5_CPANPLUS_IS_RUNNING="14067"
PERL5_CPAN_IS_RUNNING="14067"
PERLVER="5.14.4"
PERL_INLINE_DIRECTORY="/home/david/.Inline-5.14.4"
PERL_MM_USE_DEFAULT="1"
@INC:
/home/david/cpantesting/perl-5.14.4/lib/site_perl/5.14.4/x86_64-linux-thread-multi
/home/david/cpantesting/perl-5.14.4/lib/site_perl/5.14.4
/home/david/cpantesting/perl-5.14.4/lib/5.14.4/x86_64-linux-thread-multi
/home/david/cpantesting/perl-5.14.4/lib/5.14.4
.