Module-CPANTS-Analyse v1.02 Perl 5 v5.40.0 x86_64-linux

Status
Pass
From
Dan Book
Dist
Module-CPANTS-Analyse v1.02
Platform
Perl 5 v5.40.0 x86_64-linux
Date
2024-06-11 05:47:16
ID
0f15fb52-27b6-11ef-a57e-e76f254ff524
This distribution has been tested as part of the CPAN Testers
project, supporting the Perl programming language.  See
http://wiki.cpantesters.org/ for more information or email
questions to cpan-testers-discuss@perl.org


--
Dear ISHIGAKI,

This is a computer-generated report for Module-CPANTS-Analyse-1.02
on perl 5.40.0, created by App::cpanminus::reporter 0.21 (1.7047).

Thank you for uploading your work to CPAN.  Congratulations!
All tests were successful.

Sections of this report:

    * Tester comments
    * Program output
    * Prerequisites
    * Environment and other context

------------------------------
TESTER COMMENTS
------------------------------

Additional comments from tester:

none provided

------------------------------
PROGRAM OUTPUT
------------------------------

Output from '':

Building and testing Module-CPANTS-Analyse-1.02
cp lib/Module/CPANTS/Kwalitee/Prereq.pm blib/lib/Module/CPANTS/Kwalitee/Prereq.pm
cp lib/Module/CPANTS/Kwalitee/Uses.pm blib/lib/Module/CPANTS/Kwalitee/Uses.pm
cp lib/Module/CPANTS/Kwalitee/CpantsErrors.pm blib/lib/Module/CPANTS/Kwalitee/CpantsErrors.pm
cp lib/Module/CPANTS/Kwalitee/Signature.pm blib/lib/Module/CPANTS/Kwalitee/Signature.pm
cp lib/Module/CPANTS/Kwalitee/Pod.pm blib/lib/Module/CPANTS/Kwalitee/Pod.pm
cp lib/Module/CPANTS/Kwalitee/Version.pm blib/lib/Module/CPANTS/Kwalitee/Version.pm
cp lib/Module/CPANTS/Kwalitee/Manifest.pm blib/lib/Module/CPANTS/Kwalitee/Manifest.pm
cp lib/Module/CPANTS/Kwalitee/Files.pm blib/lib/Module/CPANTS/Kwalitee/Files.pm
cp lib/Module/CPANTS/Kwalitee/MetaYML.pm blib/lib/Module/CPANTS/Kwalitee/MetaYML.pm
cp lib/Module/CPANTS/Kwalitee/BrokenInstaller.pm blib/lib/Module/CPANTS/Kwalitee/BrokenInstaller.pm
cp lib/Module/CPANTS/Analyse.pm blib/lib/Module/CPANTS/Analyse.pm
cp lib/Module/CPANTS/Kwalitee/FindModules.pm blib/lib/Module/CPANTS/Kwalitee/FindModules.pm
cp lib/Module/CPANTS/Kwalitee/Distros.pm blib/lib/Module/CPANTS/Kwalitee/Distros.pm
cp lib/Module/CPANTS/Kwalitee/License.pm blib/lib/Module/CPANTS/Kwalitee/License.pm
cp lib/Module/CPANTS/Kwalitee/NeedsCompiler.pm blib/lib/Module/CPANTS/Kwalitee/NeedsCompiler.pm
cp lib/Module/CPANTS/Kwalitee/Distname.pm blib/lib/Module/CPANTS/Kwalitee/Distname.pm
cp lib/Module/CPANTS/Kwalitee/Repackageable.pm blib/lib/Module/CPANTS/Kwalitee/Repackageable.pm
cp lib/Module/CPANTS/Kwalitee.pm blib/lib/Module/CPANTS/Kwalitee.pm
Manifying 18 pod documents
PERL_DL_NONLAZY=1 "/opt/perl-5.40.0/bin/perl" "-MExtUtils::Command::MM" "-MTest::Harness" "-e" "undef *Test::Harness::Switches; test_harness(0, 'blib/lib', 'blib/arch')" t/*.t t/*/*.t
t/00_load.t .............. ok
t/05_testdir.t ........... ok
t/05_testfile.t .......... ok
t/analyse/manifest.t ..... ok
t/analyse/pod.t .......... ok
t/analyse/uses.t ......... ok
t/older_test_kwalitee.t .. ok
t/x_cpants.t ............. ok
All tests successful.
Files=8, Tests=54,  3 wallclock secs ( 0.04 usr  0.02 sys +  2.29 cusr  0.41 csys =  2.76 CPU)
Result: PASS

------------------------------
PREREQUISITES
------------------------------

Prerequisite modules loaded:

runtime:

    Module                            Need     Have    
    --------------------------------- -------- --------
    Archive::Any::Lite                0.06     0.11    
    Archive::Tar                      1.76     3.02_001
    Array::Diff                       0.04     0.09    
    Class::Accessor                   0.19     0.51    
    CPAN::Meta::Validator             2.133380 2.150010
    CPAN::Meta::YAML                  0.008    0.018   
    Data::Binary                      0        0.01    
    File::Find::Object                v0.2.1   0.3.8   
    JSON::PP                          0        4.16    
    List::Util                        1.33     1.63    
    Module::Find                      0        0.16    
    Parse::Distname                   0        0.05    
    perl                              5.008001 5.040000
    Perl::PrereqScanner::NotQuiteLite 0.9901   0.9917  
    Software::License                 0.103012 0.104006
    Text::Balanced                    0        2.06    
    version                           0.73     0.9930  

build:

    Module                            Need     Have    
    --------------------------------- -------- --------
    ExtUtils::MakeMaker               0        7.70    

configure:

    Module                            Need     Have    
    --------------------------------- -------- --------
    ExtUtils::MakeMaker::CPANfile     0.09     0.09    
    perl                              5.008001 5.040000


------------------------------
ENVIRONMENT AND OTHER CONTEXT
------------------------------

Environment variables:

    LANG = en_US.UTF-8
    PATH = /opt/perl/bin:/usr/pgsql-9.6/bin:/opt/perl/bin:/usr/pgsql-9.6/bin:/usr/local/bin:/usr/bin
    SHELL = /usr/bin/fish
    TERM = screen

Perl special variables (and OS-specific diagnostics, for MSWin32):

    EGID = 1001 10 1001
    EUID = 1001
    EXECUTABLE_NAME = /opt/perl-5.40.0/bin/perl
    GID = 1001 10 1001
    UID = 1001

Perl module toolchain versions installed:

    Module              Have    
    ------------------- --------
    CPAN                2.36    
    CPAN::Meta          2.150010
    Cwd                 3.90    
    ExtUtils::CBuilder  0.280240
    ExtUtils::Command   7.70    
    ExtUtils::Install   2.22    
    ExtUtils::MakeMaker 7.70    
    ExtUtils::Manifest  1.75    
    ExtUtils::ParseXS   3.51    
    File::Spec          3.90    
    JSON                4.10    
    JSON::PP            4.16    
    Module::Build       0.4234  
    Module::Signature   n/a     
    Parse::CPAN::Meta   2.150010
    Test::Harness       3.48    
    Test::More          1.302199
    YAML                1.31    
    YAML::Syck          n/a     
    version             0.9930  


--

Summary of my perl5 (revision 5 version 40 subversion 0) configuration:
   
  Platform:
    osname=linux
    osvers=3.10.0-1160.119.1.el7.x86_64
    archname=x86_64-linux
    uname='linux grinnz.com 3.10.0-1160.119.1.el7.x86_64 #1 smp tue jun 4 14:43:51 utc 2024 x86_64 x86_64 x86_64 gnulinux '
    config_args='-Dprefix=/opt/perl-5.40.0 -de -A'eval:scriptdir=/opt/perl-5.40.0/bin''
    hint=recommended
    useposix=true
    d_sigaction=define
    useithreads=undef
    usemultiplicity=undef
    use64bitint=define
    use64bitall=define
    uselongdouble=undef
    usemymalloc=n
    default_inc_excludes_dot=define
  Compiler:
    cc='cc'
    ccflags ='-std=gnu99 -fwrapv -fno-strict-aliasing -pipe -fstack-protector-strong -I/usr/local/include -D_LARGEFILE_SOURCE -D_FILE_OFFSET_BITS=64 -D_FORTIFY_SOURCE=2'
    optimize='-O2'
    cppflags='-std=gnu99 -fwrapv -fno-strict-aliasing -pipe -fstack-protector-strong -I/usr/local/include'
    ccversion=''
    gccversion='4.8.5 20150623 (Red Hat 4.8.5-44)'
    gccosandvers=''
    intsize=4
    longsize=8
    ptrsize=8
    doublesize=8
    byteorder=12345678
    doublekind=3
    d_longlong=define
    longlongsize=8
    d_longdbl=define
    longdblsize=16
    longdblkind=3
    ivtype='long'
    ivsize=8
    nvtype='double'
    nvsize=8
    Off_t='off_t'
    lseeksize=8
    alignbytes=8
    prototype=define
  Linker and Libraries:
    ld='cc'
    ldflags =' -fstack-protector-strong -L/usr/local/lib'
    libpth=/usr/local/lib /usr/lib /usr/lib64 /usr/local/lib64
    libs=-lpthread -lgdbm -ldb -ldl -lm -lcrypt -lutil -lc -lgdbm_compat
    perllibs=-lpthread -ldl -lm -lcrypt -lutil -lc
    libc=libc-2.17.so
    so=so
    useshrplib=false
    libperl=libperl.a
    gnulibc_version='2.17'
  Dynamic Linking:
    dlsrc=dl_dlopen.xs
    dlext=so
    d_dlsymun=undef
    ccdlflags='-Wl,-E'
    cccdlflags='-fPIC'
    lddlflags='-shared -O2 -L/usr/local/lib -fstack-protector-strong'


Characteristics of this binary (from libperl): 
  Compile-time options:
    HAS_LONG_DOUBLE
    HAS_STRTOLD
    HAS_TIMES
    PERLIO_LAYERS
    PERL_COPY_ON_WRITE
    PERL_DONT_CREATE_GVSV
    PERL_HASH_FUNC_SIPHASH13
    PERL_HASH_USE_SBOX32
    PERL_MALLOC_WRAP
    PERL_OP_PARENT
    PERL_PRESERVE_IVUV
    PERL_USE_SAFE_PUTENV
    USE_64_BIT_ALL
    USE_64_BIT_INT
    USE_LARGE_FILES
    USE_LOCALE
    USE_LOCALE_COLLATE
    USE_LOCALE_CTYPE
    USE_LOCALE_NUMERIC
    USE_LOCALE_TIME
    USE_PERLIO
    USE_PERL_ATOF
  Built under linux
  Compiled at Jun 11 2024 00:22:28
  @INC:
    /opt/perl-5.40.0/lib/site_perl/5.40.0/x86_64-linux
    /opt/perl-5.40.0/lib/site_perl/5.40.0
    /opt/perl-5.40.0/lib/5.40.0/x86_64-linux
    /opt/perl-5.40.0/lib/5.40.0