Back
From: metabase:user:314402c4-2aae-11df-837a-5e0a49663a4f
Subject: PASS WWW-Curl-Simple-0.100191 v5.26.0 RC1 GNU/Linux
Date: 2017-05-18T12:18:11Z
This distribution has been tested as part of the CPAN Testers
project, supporting the Perl programming language. See
http://wiki.cpantesters.org/ for more information or email
questions to cpan-testers-discuss@perl.org
--
Dear Andreas Marienborg,
This is a computer-generated report for WWW-Curl-Simple-0.100191
on perl 5.26.0, created by CPAN-Reporter-1.2018.
Thank you for uploading your work to CPAN. Congratulations!
All tests were successful.
Sections of this report:
* Tester comments
* Program output
* Prerequisites
* Environment and other context
------------------------------
TESTER COMMENTS
------------------------------
Additional comments from tester:
none provided
------------------------------
PROGRAM OUTPUT
------------------------------
Output from '/usr/bin/make test':
PERL_DL_NONLAZY=1 "/opt/perl-5.26.0-RC1/bin/perl" "-MExtUtils::Command::MM" "-MTest::Harness" "-e" "undef *Test::Harness::Switches; test_harness(0, 'blib/lib', 'blib/arch')" t/*.t
t/00-compile.t ................... ok
# Testing WWW::Curl::Simple 0.100191, Perl 5.026000, /opt/perl-5.26.0-RC1/bin/perl
t/00.load.t ...................... ok
#
#
# Generated by Dist::Zilla::Plugin::ReportVersions::Tiny v1.10
# perl: 5.026000 (wanted any version) on linux from /opt/perl-5.26.0-RC1/bin/perl
#
# Carp => 1.38 (want any version)
# ExtUtils::MakeMaker => 7.24 (want 6.30)
# File::Spec => 3.62 (want any version)
# HTTP::Request => 6.11 (want any version)
# HTTP::Response => 6.11 (want any version)
# IO::Handle => 1.36 (want any version)
# IPC::Open3 => 1.20 (want any version)
# Moose => 2.2005 (want any version)
# Scalar::Util => 1.47 (want any version)
# Test::Exception => 0.43 (want any version)
# Test::More => 1.302085 (want 0.96)
# Time::HiRes => 1.9742 (want 1.9705)
# WWW::Curl::Easy => 4.17 (want any version)
# WWW::Curl::Multi => <undef> (want any version)
# base => 2.23 (want any version)
# namespace::clean => 0.27 (want any version)
# strict => 1.11 (want any version)
# warnings => 1.37 (want any version)
#
# Thanks for using my code. I hope it works for you.
# If not, please try and include this output in the bug report.
# That will help me reproduce the issue and solve your problem.
#
t/000-report-versions-tiny.t ..... ok
t/10.simple.t .................... ok
t/20.timeout.t ................... ok
t/author-10.usage.multi.t ........ skipped: these tests are for testing by the author
t/author-10.usage.single.t ....... skipped: these tests are for testing by the author
t/author-20.non-fatal.t .......... skipped: these tests are for testing by the author
t/author-20.timeout-old.t ........ skipped: these tests are for testing by the author
t/author-30.max-redirects.t ...... skipped: these tests are for testing by the author
t/author-31.check-ssl-certs.t .... skipped: these tests are for testing by the author
t/author-99.pua-compat.t ......... skipped: these tests are for testing by the author
t/release-changes_has_content.t .. skipped: these tests are for release candidate testing
t/release-cpan-changes.t ......... skipped: these tests are for release candidate testing
t/release-pod-coverage.t ......... skipped: these tests are for release candidate testing
t/release-pod-syntax.t ........... skipped: these tests are for release candidate testing
t/release-synopsis.t ............. skipped: these tests are for release candidate testing
All tests successful.
Files=17, Tests=9, 8 wallclock secs ( 0.05 usr 0.03 sys + 3.99 cusr 0.42 csys = 4.49 CPU)
Result: PASS
------------------------------
PREREQUISITES
------------------------------
Prerequisite modules loaded:
requires:
Module Need Have
------------------- ------ --------
Carp 0 1.38
HTTP::Request 0 6.11
HTTP::Response 0 6.11
Moose 0 2.2005
namespace::clean 0 0.27
Scalar::Util 0 1.47
Time::HiRes 1.9705 1.9742
WWW::Curl::Easy 0 4.17
WWW::Curl::Multi 0 0
build_requires:
Module Need Have
------------------- ------ --------
base 0 2.23
File::Spec 0 3.62
IO::Handle 0 1.36
IPC::Open3 0 1.20
strict 0 1.11
Test::Exception 0 0.43
Test::More 0.96 1.302085
warnings 0 1.37
configure_requires:
Module Need Have
------------------- ------ --------
ExtUtils::MakeMaker 6.30 7.24
------------------------------
ENVIRONMENT AND OTHER CONTEXT
------------------------------
Environment variables:
LANG = en_US.UTF-8
PATH = /usr/local/bin:/usr/bin:/bin:/usr/local/sbin:/usr/sbin:/sbin:/home/cpansand/bin/linux-gnu:/home/cpansand/bin/sh:/home/cpansand/bin:/usr/games:/home/cpansand/devel:/home/eserte/src/srezic-misc/scripts
PERL5LIB =
PERL5OPT =
PERL5_CPANPLUS_IS_RUNNING = 20961
PERL5_CPAN_IS_RUNNING = 20961
PERL5_CPAN_IS_RUNNING_IN_RECURSION = 9746,20961
PERLDOC = -MPod::Perldoc::ToTextOverstrike
PERL_BATCH = yes
PERL_CANARY_STABILITY_NOPROMPT = 1
PERL_CPAN_REPORTER_CONFIG = /var/tmp/cpansmoker-1002/2017051806/cpanreporter_001_config.ini
PERL_EXTUTILS_AUTOINSTALL = --defaultdeps
PERL_USE_UNSAFE_INC = 1
SHELL = /bin/zsh
TERM = screen.xterm-256color
TMPDIR = /var/tmp/cpansmoker-1002/2017051806
Perl special variables (and OS-specific diagnostics, for MSWin32):
$^X = /opt/perl-5.26.0-RC1/bin/perl
$UID/$EUID = 1002 / 1002
$GID = 1002 1002
$EGID = 1002 1002
Perl module toolchain versions installed:
Module Have
------------------- --------
CPAN 2.18
CPAN::Meta 2.150010
Cwd 3.62
ExtUtils::CBuilder 0.280224
ExtUtils::Command 7.24
ExtUtils::Install 2.08
ExtUtils::MakeMaker 7.24
ExtUtils::Manifest 1.70
ExtUtils::ParseXS 3.30
File::Spec 3.62
JSON 2.92
JSON::PP 2.27400
Module::Build 0.4222
Module::Signature 0.81
Parse::CPAN::Meta 2.150010
Test::Harness 3.39
Test::More 1.302085
YAML 1.23
YAML::Syck 1.30
version 0.9918
--
Summary of my perl5 (revision 5 version 26 subversion 0) configuration:
Platform:
osname=linux
osvers=4.4.0-77-generic
archname=x86_64-linux
uname='linux prod3 4.4.0-77-generic #98-ubuntu smp wed apr 26 08:34:02 utc 2017 x86_64 x86_64 x86_64 gnulinux '
config_args='-ds -e -Dprefix=/opt/perl-5.26.0-RC1 -Dcf_email=srezic@cpan.org'
hint=recommended
useposix=true
d_sigaction=define
useithreads=undef
usemultiplicity=undef
use64bitint=define
use64bitall=define
uselongdouble=undef
usemymalloc=n
default_inc_excludes_dot=define
bincompat5005=undef
Compiler:
cc='cc'
ccflags ='-fwrapv -fno-strict-aliasing -pipe -fstack-protector-strong -I/usr/local/include -D_LARGEFILE_SOURCE -D_FILE_OFFSET_BITS=64'
optimize='-O2'
cppflags='-fwrapv -fno-strict-aliasing -pipe -fstack-protector-strong -I/usr/local/include'
ccversion=''
gccversion='5.4.0 20160609'
gccosandvers=''
intsize=4
longsize=8
ptrsize=8
doublesize=8
byteorder=12345678
doublekind=3
d_longlong=define
longlongsize=8
d_longdbl=define
longdblsize=16
longdblkind=3
ivtype='long'
ivsize=8
nvtype='double'
nvsize=8
Off_t='off_t'
lseeksize=8
alignbytes=8
prototype=define
Linker and Libraries:
ld='cc'
ldflags =' -fstack-protector-strong -L/usr/local/lib'
libpth=/usr/local/lib /usr/lib/gcc/x86_64-linux-gnu/5/include-fixed /usr/include/x86_64-linux-gnu /usr/lib /lib/x86_64-linux-gnu /lib/../lib /usr/lib/x86_64-linux-gnu /usr/lib/../lib /lib
libs=-lpthread -lnsl -lgdbm -ldb -ldl -lm -lcrypt -lutil -lc -lgdbm_compat
perllibs=-lpthread -lnsl -ldl -lm -lcrypt -lutil -lc
libc=libc-2.23.so
so=so
useshrplib=false
libperl=libperl.a
gnulibc_version='2.23'
Dynamic Linking:
dlsrc=dl_dlopen.xs
dlext=so
d_dlsymun=undef
ccdlflags='-Wl,-E'
cccdlflags='-fPIC'
lddlflags='-shared -O2 -L/usr/local/lib -fstack-protector-strong'
Characteristics of this binary (from libperl):
Compile-time options:
HAS_TIMES
PERLIO_LAYERS
PERL_COPY_ON_WRITE
PERL_DONT_CREATE_GVSV
PERL_MALLOC_WRAP
PERL_OP_PARENT
PERL_PRESERVE_IVUV
USE_64_BIT_ALL
USE_64_BIT_INT
USE_LARGE_FILES
USE_LOCALE
USE_LOCALE_COLLATE
USE_LOCALE_CTYPE
USE_LOCALE_NUMERIC
USE_LOCALE_TIME
USE_PERLIO
USE_PERL_ATOF
Locally applied patches:
RC1
Built under linux
Compiled at May 11 2017 21:08:13
%ENV:
PERL5LIB=""
PERL5OPT=""
PERL5_CPANPLUS_IS_RUNNING="20961"
PERL5_CPAN_IS_RUNNING="20961"
PERL5_CPAN_IS_RUNNING_IN_RECURSION="9746,20961"
PERLDOC="-MPod::Perldoc::ToTextOverstrike"
PERL_BATCH="yes"
PERL_CANARY_STABILITY_NOPROMPT="1"
PERL_CPAN_REPORTER_CONFIG="/var/tmp/cpansmoker-1002/2017051806/cpanreporter_001_config.ini"
PERL_EXTUTILS_AUTOINSTALL="--defaultdeps"
PERL_USE_UNSAFE_INC="1"
@INC:
/opt/perl-5.26.0-RC1/lib/site_perl/5.26.0/x86_64-linux
/opt/perl-5.26.0-RC1/lib/site_perl/5.26.0
/opt/perl-5.26.0-RC1/lib/5.26.0/x86_64-linux
/opt/perl-5.26.0-RC1/lib/5.26.0
.