Music-BachChoralHarmony v0.0412 Perl 5 v5.24.1 amd64-freebsd-thread-multi

Status
Pass
From
Chris Williams (BINGOS)
Dist
Music-BachChoralHarmony v0.0412
Platform
Perl 5 v5.24.1 amd64-freebsd-thread-multi
Date
2022-11-17T20:18:54
ID
0f302676-66b5-11ed-aba6-9a79f339625c
This distribution has been tested as part of the CPAN Testers
project, supporting the Perl programming language.  See
http://wiki.cpantesters.org/ for more information or email
questions to cpan-testers-discuss@perl.org


--

Dear GENE,

This is a computer-generated error report created automatically by
CPANPLUS, version 0.9914. Testers personal comments may appear
at the end of this report.


Thank you for uploading your work to CPAN.  Congratulations!
All tests were successful.

TEST RESULTS:

Below is the error stack from stage 'make test':

Skip blib/lib/auto/share/dist/Music-BachChoralHarmony/jsbach_chorals_harmony.data (unchanged)
Skip blib/lib/auto/share/dist/Music-BachChoralHarmony/jsbach_BWV_keys_titles.txt (unchanged)
PERL_DL_NONLAZY=1 "/usr/home/cpan/pit/thr/perl-5.24.1/bin/perl" "-MExtUtils::Command::MM" "-MTest::Harness" "-e" "undef *Test::Harness::Switches; test_harness(0, 'blib/lib', 'blib/arch')" t/*.t
t/00-compile.t ........... ok
t/01-methods.t ........... ok
t/author-eol.t ........... skipped: these tests are for testing by the author
t/author-no-tabs.t ....... skipped: these tests are for testing by the author
t/author-pod-coverage.t .. skipped: these tests are for testing by the author
t/author-pod-spell.t ..... skipped: these tests are for testing by the author
t/author-pod-syntax.t .... skipped: these tests are for testing by the author
t/author-synopsis.t ...... skipped: these tests are for testing by the author
All tests successful.
Files=8, Tests=101,  3 wallclock secs ( 0.05 usr  0.01 sys +  2.48 cusr  0.16 csys =  2.70 CPU)
Result: PASS


PREREQUISITES:

Here is a list of prerequisites you specified and versions we
managed to load:

	  Module Name                        Have     Want
	  ExtUtils::MakeMaker                7.64        0
	  File::ShareDir                    1.118        0
	  File::Spec                         3.75        0
	  IO::Handle                         1.36        0
	  IPC::Open3                         1.20        0
	  List::Util                      1.42_02     1.33
	  Moo                            2.005004        2
	  Test::Exception                    0.43        0
	  Test::More                     1.302191        0
	  Text::CSV                          2.02        0
	  namespace::clean                   0.27        0
	  strict                             1.11        0
	  strictures                     2.000006        2
	  warnings                           1.36        0

Perl module toolchain versions installed:
	Module Name                        Have
	CPANPLUS                         0.9914
	CPANPLUS::Dist::Build              0.90
	Cwd                                3.75
	ExtUtils::CBuilder             0.280236
	ExtUtils::Command                  7.64
	ExtUtils::Install                  2.20
	ExtUtils::MakeMaker                7.64
	ExtUtils::Manifest                 1.73
	ExtUtils::ParseXS                  3.44
	File::Spec                         3.75
	Module::Build                    0.4231
	Pod::Parser                        1.63
	Pod::Simple                        3.32
	Test2                          1.302191
	Test::Harness                      3.44
	Test::More                     1.302191
	version                          0.9929

******************************** NOTE ********************************
The comments above are created mechanically, possibly without manual
checking by the sender.  As there are many people performing automatic
tests on each upload to CPAN, it is likely that you will receive
identical messages about the same problem.

If you believe that the message is mistaken, please reply to the first
one with correction and/or additional informations, and do not take
it personally.  We appreciate your patience. :)
**********************************************************************

Additional comments:


This report was machine-generated by CPANPLUS::Dist::YACSmoke 1.08.
Powered by minismokebox version 0.68

CPANPLUS is prefering Build.PL

------------------------------
ENVIRONMENT AND OTHER CONTEXT
------------------------------

Environment variables:

    AUTOMATED_TESTING = 1
    LANG = C.UTF-8
    NONINTERACTIVE_TESTING = 1
    PATH = /sbin:/bin:/usr/sbin:/usr/bin:/usr/local/sbin:/usr/local/bin:/home/cpan/bin
    PERL5LIB = /usr/home/cpan/pit/jail/TQ9jwfVs54/lib/perl5:/usr/home/cpan/pit/thr/conf/perl-5.24.1/.cpanplus/5.24.1/build/tnho0iI62x/Music-BachChoralHarmony-0.0412/blib/lib:/usr/home/cpan/pit/thr/conf/perl-5.24.1/.cpanplus/5.24.1/build/tnho0iI62x/Music-BachChoralHarmony-0.0412/blib/arch
    PERL5_CPANPLUS_IS_RUNNING = 40103
    PERL5_CPANPLUS_IS_VERSION = 0.9914
    PERL5_MINISMOKEBOX = 0.68
    PERL5_YACSMOKE_BASE = /usr/home/cpan/pit/thr/conf/perl-5.24.1
    PERL_EXTUTILS_AUTOINSTALL = --defaultdeps
    PERL_LOCAL_LIB_ROOT = /usr/home/cpan/pit/jail/TQ9jwfVs54
    PERL_MB_OPT = --install_base "/usr/home/cpan/pit/jail/TQ9jwfVs54"
    PERL_MM_OPT = INSTALL_BASE=/usr/home/cpan/pit/jail/TQ9jwfVs54
    PERL_MM_USE_DEFAULT = 1
    SHELL = /usr/local/bin/bash
    TERM = screen

Perl special variables (and OS-specific diagnostics, for MSWin32):

    Perl: $^X = /usr/home/cpan/pit/thr/perl-5.24.1/bin/perl
    UID:  $<  = 1002
    EUID: $>  = 1002
    GID:  $(  = 1002 1002
    EGID: $)  = 1002 1002


-------------------------------


--

Summary of my perl5 (revision 5 version 24 subversion 1) configuration:
   
  Platform:
    osname=freebsd, osvers=13.1-release, archname=amd64-freebsd-thread-multi
    uname='freebsd frantic 13.1-release freebsd 13.1-release releng13.1-n250148-fc952ac2212 generic amd64 '
    config_args='-des -Dprefix=/usr/home/cpan/pit/thr/perl-5.24.1 -Dusethreads'
    hint=recommended, useposix=true, d_sigaction=define
    useithreads=define, usemultiplicity=define
    use64bitint=define, use64bitall=define, uselongdouble=undef
    usemymalloc=n, bincompat5005=undef
  Compiler:
    cc='cc', ccflags ='-DHAS_FPSETMASK -DHAS_FLOATINGPOINT_H -fno-strict-aliasing -pipe -fstack-protector-strong -I/usr/local/include',
    optimize='-O2',
    cppflags='-DHAS_FPSETMASK -DHAS_FLOATINGPOINT_H -fno-strict-aliasing -pipe -fstack-protector-strong -I/usr/local/include'
    ccversion='', gccversion='FreeBSD Clang 13.0.0 (git@github.com:llvm/llvm-project.git llvmorg-13.0.0-0-gd7b669b3a303)', gccosandvers=''
    intsize=4, longsize=8, ptrsize=8, doublesize=8, byteorder=12345678, doublekind=3
    d_longlong=define, longlongsize=8, d_longdbl=define, longdblsize=16, longdblkind=3
    ivtype='long', ivsize=8, nvtype='double', nvsize=8, Off_t='off_t', lseeksize=8
    alignbytes=8, prototype=define
  Linker and Libraries:
    ld='cc', ldflags ='-pthread -Wl,-E  -fstack-protector-strong -L/usr/local/lib'
    libpth=/usr/lib /usr/local/lib /usr/lib/clang/13.0.0/lib /usr/lib
    libs=-lpthread -lgdbm -ldl -lm -lcrypt -lutil
    perllibs=-lpthread -ldl -lm -lcrypt -lutil
    libc=, so=so, useshrplib=false, libperl=libperl.a
    gnulibc_version=''
  Dynamic Linking:
    dlsrc=dl_dlopen.xs, dlext=so, d_dlsymun=undef, ccdlflags=' '
    cccdlflags='-DPIC -fPIC', lddlflags='-shared  -L/usr/local/lib -fstack-protector-strong'


Characteristics of this binary (from libperl): 
  Compile-time options: HAS_TIMES MULTIPLICITY PERLIO_LAYERS
                        PERL_COPY_ON_WRITE PERL_DONT_CREATE_GVSV
                        PERL_HASH_FUNC_ONE_AT_A_TIME_HARD
                        PERL_IMPLICIT_CONTEXT PERL_MALLOC_WRAP
                        PERL_PRESERVE_IVUV USE_64_BIT_ALL USE_64_BIT_INT
                        USE_ITHREADS USE_LARGE_FILES USE_LOCALE
                        USE_LOCALE_COLLATE USE_LOCALE_CTYPE
                        USE_LOCALE_NUMERIC USE_LOCALE_TIME USE_PERLIO
                        USE_PERL_ATOF USE_REENTRANT_API
  Locally applied patches:
	Devel::PatchPerl 2.08
  Built under freebsd
  Compiled at Jul 25 2022 09:33:53
  %ENV:
    PERL5LIB="/usr/home/cpan/pit/jail/TQ9jwfVs54/lib/perl5:/usr/home/cpan/pit/thr/conf/perl-5.24.1/.cpanplus/5.24.1/build/tnho0iI62x/Music-BachChoralHarmony-0.0412/blib/lib:/usr/home/cpan/pit/thr/conf/perl-5.24.1/.cpanplus/5.24.1/build/tnho0iI62x/Music-BachChoralHarmony-0.0412/blib/arch"
    PERL5_CPANPLUS_IS_RUNNING="40103"
    PERL5_CPANPLUS_IS_VERSION="0.9914"
    PERL5_MINISMOKEBOX="0.68"
    PERL5_YACSMOKE_BASE="/usr/home/cpan/pit/thr/conf/perl-5.24.1"
    PERL_EXTUTILS_AUTOINSTALL="--defaultdeps"
    PERL_LOCAL_LIB_ROOT="/usr/home/cpan/pit/jail/TQ9jwfVs54"
    PERL_MB_OPT="--install_base "/usr/home/cpan/pit/jail/TQ9jwfVs54""
    PERL_MM_OPT="INSTALL_BASE=/usr/home/cpan/pit/jail/TQ9jwfVs54"
    PERL_MM_USE_DEFAULT="1"
  @INC:
    /usr/home/cpan/pit/jail/TQ9jwfVs54/lib/perl5/5.24.1/amd64-freebsd-thread-multi
    /usr/home/cpan/pit/jail/TQ9jwfVs54/lib/perl5/5.24.1
    /usr/home/cpan/pit/jail/TQ9jwfVs54/lib/perl5/amd64-freebsd-thread-multi
    /usr/home/cpan/pit/jail/TQ9jwfVs54/lib/perl5
    /usr/home/cpan/pit/thr/conf/perl-5.24.1/.cpanplus/5.24.1/build/tnho0iI62x/Music-BachChoralHarmony-0.0412/blib/lib
    /usr/home/cpan/pit/thr/conf/perl-5.24.1/.cpanplus/5.24.1/build/tnho0iI62x/Music-BachChoralHarmony-0.0412/blib/arch
    /usr/home/cpan/pit/thr/perl-5.24.1/lib/site_perl/5.24.1/amd64-freebsd-thread-multi
    /usr/home/cpan/pit/thr/perl-5.24.1/lib/site_perl/5.24.1
    /usr/home/cpan/pit/thr/perl-5.24.1/lib/5.24.1/amd64-freebsd-thread-multi
    /usr/home/cpan/pit/thr/perl-5.24.1/lib/5.24.1
    .