Back
From: metabase:user:7298ebcc-b357-11e4-8d18-8eca7e4756b9
Subject: PASS Data-FormValidator-4.81 v5.10.1 GNU/Linux
Date: 2015-07-11T22:34:57Z
This distribution has been tested as part of the CPAN Testers
project, supporting the Perl programming language. See
http://wiki.cpantesters.org/ for more information or email
questions to cpan-testers-discuss@perl.org
--
Dear MARKSTOS,
This is a computer-generated report for Data-FormValidator-4.81
on perl 5.10.1, created by App::cpanminus::reporter 0.12 (1.7027).
Thank you for uploading your work to CPAN. Congratulations!
All tests were successful.
Sections of this report:
* Tester comments
* Program output
* Prerequisites
* Environment and other context
------------------------------
TESTER COMMENTS
------------------------------
Additional comments from tester:
none provided
------------------------------
PROGRAM OUTPUT
------------------------------
Output from '':
Building and testing Data-FormValidator-4.81
Building Data-FormValidator
t/00_base.t .............................. ok
t/02_code_ref.t .......................... ok
CGI::param called in list context from /home/mojolicious/.cpanm/work/1436653840.410/Data-FormValidator-4.81/blib/lib/Data/FormValidator/Results.pm line 1074, this can lead to vulnerabilities. See the warning in "Fetching the value or values of a single named parameter" at /tmp/nB4HkdPBhH/lib/perl5/CGI.pm line 404.
t/03_dependency.t ........................ ok
t/04_arrayify_undef.t .................... ok
t/05_valid_ip_address.t .................. ok
t/06_regexp_map.t ........................ ok
t/09_require_some.t ...................... ok
t/11_procedural_match.t .................. ok
t/13_validator_packages.t ................ ok
t/15_literal_param_constraints.t ......... ok
CGI::param called in list context from /home/mojolicious/.cpanm/work/1436653840.410/Data-FormValidator-4.81/blib/lib/Data/FormValidator/Results.pm line 1074, this can lead to vulnerabilities. See the warning in "Fetching the value or values of a single named parameter" at /tmp/nB4HkdPBhH/lib/perl5/CGI.pm line 404.
t/16_cgi_object.t ........................ ok
t/17_multi_valued_keys.t ................. ok
t/18_constraint_refs.t ................... ok
t/19_refs_as_values.t .................... ok
t/20_careful_exception_handling.t ........ ok
t/21_multiple_fields.t ................... ok
t/25_results.t ........................... ok
t/26_qr.t ................................ ok
t/27_qualify_ref_happy_death.t ........... ok
t/28_defaults_for_new.t .................. ok
t/30_filter_definedness.t ................ ok
t/FV_length.t ............................ ok
t/any_errors.t ........................... ok
t/check_profile_syntax.t ................. ok
t/closure_msgs.t ......................... ok
t/constraint_method.t .................... ok
t/constraint_method_string.t ............. ok
t/constraint_method_zero.t ............... ok
t/constraint_regexp_map_profile_reuse.t .. ok
t/constraints_builtin.t .................. ok
t/constraints_builtin_closure.t .......... ok
t/constraints_factory.t .................. ok
t/constraints_invalid_once_only.t ........ ok
t/constraints_num_values.t ............... ok
t/constraints_regexp_map_interaction.t ... ok
t/constraints_reuse.t .................... ok
t/credit_card.t .......................... ok
t/dates.t ................................ ok
t/dates_closure.t ........................ ok
t/dependency_coderef.t ................... ok
CGI::param called in list context from /home/mojolicious/.cpanm/work/1436653840.410/Data-FormValidator-4.81/blib/lib/Data/FormValidator/Results.pm line 1074, this can lead to vulnerabilities. See the warning in "Fetching the value or values of a single named parameter" at /tmp/nB4HkdPBhH/lib/perl5/CGI.pm line 404.
CGI::param called in list context from /home/mojolicious/.cpanm/work/1436653840.410/Data-FormValidator-4.81/blib/lib/Data/FormValidator/Results.pm line 1074, this can lead to vulnerabilities. See the warning in "Fetching the value or values of a single named parameter" at /tmp/nB4HkdPBhH/lib/perl5/CGI.pm line 404.
t/dependency_groups.t .................... ok
t/filter_constraints.t ................... ok
t/filters_builtin.t ...................... ok
t/filters_shouldnt_modify.t .............. ok
t/get_filtered_data.t .................... ok
CGI::param called in list context from /home/mojolicious/.cpanm/work/1436653840.410/Data-FormValidator-4.81/blib/lib/Data/FormValidator/Results.pm line 1074, this can lead to vulnerabilities. See the warning in "Fetching the value or values of a single named parameter" at /tmp/nB4HkdPBhH/lib/perl5/CGI.pm line 404.
CGI::param called in list context from /home/mojolicious/.cpanm/work/1436653840.410/Data-FormValidator-4.81/blib/lib/Data/FormValidator/Results.pm line 1074, this can lead to vulnerabilities. See the warning in "Fetching the value or values of a single named parameter" at /tmp/nB4HkdPBhH/lib/perl5/CGI.pm line 404.
t/get_input_data.t ....................... ok
CGI::param called in list context from /home/mojolicious/.cpanm/work/1436653840.410/Data-FormValidator-4.81/blib/lib/Data/FormValidator/Results.pm line 1074, this can lead to vulnerabilities. See the warning in "Fetching the value or values of a single named parameter" at /tmp/nB4HkdPBhH/lib/perl5/CGI.pm line 404.
CGI::param called in list context from /home/mojolicious/.cpanm/work/1436653840.410/Data-FormValidator-4.81/blib/lib/Data/FormValidator/Results.pm line 1074, this can lead to vulnerabilities. See the warning in "Fetching the value or values of a single named parameter" at /tmp/nB4HkdPBhH/lib/perl5/CGI.pm line 404.
CGI::param called in list context from /home/mojolicious/.cpanm/work/1436653840.410/Data-FormValidator-4.81/blib/lib/Data/FormValidator/Results.pm line 1074, this can lead to vulnerabilities. See the warning in "Fetching the value or values of a single named parameter" at /tmp/nB4HkdPBhH/lib/perl5/CGI.pm line 404.
CGI::param called in list context from /home/mojolicious/.cpanm/work/1436653840.410/Data-FormValidator-4.81/blib/lib/Data/FormValidator/Results.pm line 1074, this can lead to vulnerabilities. See the warning in "Fetching the value or values of a single named parameter" at /tmp/nB4HkdPBhH/lib/perl5/CGI.pm line 404.
CGI::param called in list context from /home/mojolicious/.cpanm/work/1436653840.410/Data-FormValidator-4.81/blib/lib/Data/FormValidator/Results.pm line 1074, this can lead to vulnerabilities. See the warning in "Fetching the value or values of a single named parameter" at /tmp/nB4HkdPBhH/lib/perl5/CGI.pm line 404.
CGI::param called in list context from /home/mojolicious/.cpanm/work/1436653840.410/Data-FormValidator-4.81/blib/lib/Data/FormValidator/Results.pm line 1074, this can lead to vulnerabilities. See the warning in "Fetching the value or values of a single named parameter" at /tmp/nB4HkdPBhH/lib/perl5/CGI.pm line 404.
CGI::param called in list context from /home/mojolicious/.cpanm/work/1436653840.410/Data-FormValidator-4.81/blib/lib/Data/FormValidator/Results.pm line 1074, this can lead to vulnerabilities. See the warning in "Fetching the value or values of a single named parameter" at /tmp/nB4HkdPBhH/lib/perl5/CGI.pm line 404.
CGI::param called in list context from /home/mojolicious/.cpanm/work/1436653840.410/Data-FormValidator-4.81/blib/lib/Data/FormValidator/Results.pm line 1074, this can lead to vulnerabilities. See the warning in "Fetching the value or values of a single named parameter" at /tmp/nB4HkdPBhH/lib/perl5/CGI.pm line 404.
CGI::param called in list context from /home/mojolicious/.cpanm/work/1436653840.410/Data-FormValidator-4.81/blib/lib/Data/FormValidator/Results.pm line 1074, this can lead to vulnerabilities. See the warning in "Fetching the value or values of a single named parameter" at /tmp/nB4HkdPBhH/lib/perl5/CGI.pm line 404.
CGI::param called in list context from /home/mojolicious/.cpanm/work/1436653840.410/Data-FormValidator-4.81/blib/lib/Data/FormValidator/Results.pm line 1074, this can lead to vulnerabilities. See the warning in "Fetching the value or values of a single named parameter" at /tmp/nB4HkdPBhH/lib/perl5/CGI.pm line 404.
CGI::param called in list context from /home/mojolicious/.cpanm/work/1436653840.410/Data-FormValidator-4.81/blib/lib/Data/FormValidator/Results.pm line 1074, this can lead to vulnerabilities. See the warning in "Fetching the value or values of a single named parameter" at /tmp/nB4HkdPBhH/lib/perl5/CGI.pm line 404.
CGI::param called in list context from /home/mojolicious/.cpanm/work/1436653840.410/Data-FormValidator-4.81/blib/lib/Data/FormValidator/Results.pm line 1074, this can lead to vulnerabilities. See the warning in "Fetching the value or values of a single named parameter" at /tmp/nB4HkdPBhH/lib/perl5/CGI.pm line 404.
CGI::param called in list context from /home/mojolicious/.cpanm/work/1436653840.410/Data-FormValidator-4.81/blib/lib/Data/FormValidator/Results.pm line 1074, this can lead to vulnerabilities. See the warning in "Fetching the value or values of a single named parameter" at /tmp/nB4HkdPBhH/lib/perl5/CGI.pm line 404.
CGI::param called in list context from /home/mojolicious/.cpanm/work/1436653840.410/Data-FormValidator-4.81/blib/lib/Data/FormValidator/Results.pm line 1074, this can lead to vulnerabilities. See the warning in "Fetching the value or values of a single named parameter" at /tmp/nB4HkdPBhH/lib/perl5/CGI.pm line 404.
CGI::param called in list context from /home/mojolicious/.cpanm/work/1436653840.410/Data-FormValidator-4.81/blib/lib/Data/FormValidator/Results.pm line 1074, this can lead to vulnerabilities. See the warning in "Fetching the value or values of a single named parameter" at /tmp/nB4HkdPBhH/lib/perl5/CGI.pm line 404.
t/missing_optional.t ..................... ok
t/msgs.t ................................. ok
t/multiple_constraints.t ................. ok
CGI::param called in list context from /home/mojolicious/.cpanm/work/1436653840.410/Data-FormValidator-4.81/blib/lib/Data/FormValidator/Results.pm line 1074, this can lead to vulnerabilities. See the warning in "Fetching the value or values of a single named parameter" at /tmp/nB4HkdPBhH/lib/perl5/CGI.pm line 404.
CGI::param called in list context from /home/mojolicious/.cpanm/work/1436653840.410/Data-FormValidator-4.81/blib/lib/Data/FormValidator/Results.pm line 1074, this can lead to vulnerabilities. See the warning in "Fetching the value or values of a single named parameter" at /tmp/nB4HkdPBhH/lib/perl5/CGI.pm line 404.
CGI::param called in list context from /home/mojolicious/.cpanm/work/1436653840.410/Data-FormValidator-4.81/blib/lib/Data/FormValidator/Results.pm line 1074, this can lead to vulnerabilities. See the warning in "Fetching the value or values of a single named parameter" at /tmp/nB4HkdPBhH/lib/perl5/CGI.pm line 404.
CGI::param called in list context from /home/mojolicious/.cpanm/work/1436653840.410/Data-FormValidator-4.81/blib/lib/Data/FormValidator/Results.pm line 1074, this can lead to vulnerabilities. See the warning in "Fetching the value or values of a single named parameter" at /tmp/nB4HkdPBhH/lib/perl5/CGI.pm line 404.
CGI::param called in list context from /home/mojolicious/.cpanm/work/1436653840.410/Data-FormValidator-4.81/blib/lib/Data/FormValidator/Results.pm line 1074, this can lead to vulnerabilities. See the warning in "Fetching the value or values of a single named parameter" at /tmp/nB4HkdPBhH/lib/perl5/CGI.pm line 404.
CGI::param called in list context from /home/mojolicious/.cpanm/work/1436653840.410/Data-FormValidator-4.81/blib/lib/Data/FormValidator/Results.pm line 1074, this can lead to vulnerabilities. See the warning in "Fetching the value or values of a single named parameter" at /tmp/nB4HkdPBhH/lib/perl5/CGI.pm line 404.
t/params_not_mentioned.t ................. ok
t/pod.t .................................. skipped: Test::Pod required for testing POD
t/procedural_valid.t ..................... ok
t/profile_checking.t ..................... ok
t/regexp_common.t ........................ ok
t/regexp_common_closure.t ................ ok
t/rename_builtin_constraints.t ........... ok
t/results_success.t ...................... ok
t/simple.t ............................... ok
t/tt_and_overload.t ...................... skipped: Template Toolkit required
t/undefined_arrayref.t ................... ok
t/unknown.t .............................. ok
t/untaint.t .............................. ok
# Skipping CGI::Simple Tests
# testing with CGI.pm version: 4.21
# Running tests with CGI
CGI::param called in list context from /home/mojolicious/.cpanm/work/1436653840.410/Data-FormValidator-4.81/blib/lib/Data/FormValidator/Results.pm line 1074, this can lead to vulnerabilities. See the warning in "Fetching the value or values of a single named parameter" at /tmp/nB4HkdPBhH/lib/perl5/CGI.pm line 404.
CGI::param called in list context from /home/mojolicious/.cpanm/work/1436653840.410/Data-FormValidator-4.81/blib/lib/Data/FormValidator/Results.pm line 1074, this can lead to vulnerabilities. See the warning in "Fetching the value or values of a single named parameter" at /tmp/nB4HkdPBhH/lib/perl5/CGI.pm line 404.
CGI::param called in list context from /home/mojolicious/.cpanm/work/1436653840.410/Data-FormValidator-4.81/blib/lib/Data/FormValidator/Results.pm line 1074, this can lead to vulnerabilities. See the warning in "Fetching the value or values of a single named parameter" at /tmp/nB4HkdPBhH/lib/perl5/CGI.pm line 404.
CGI::param called in list context from /home/mojolicious/.cpanm/work/1436653840.410/Data-FormValidator-4.81/blib/lib/Data/FormValidator/Results.pm line 1074, this can lead to vulnerabilities. See the warning in "Fetching the value or values of a single named parameter" at /tmp/nB4HkdPBhH/lib/perl5/CGI.pm line 404.
CGI::param called in list context from /home/mojolicious/.cpanm/work/1436653840.410/Data-FormValidator-4.81/blib/lib/Data/FormValidator/Results.pm line 1074, this can lead to vulnerabilities. See the warning in "Fetching the value or values of a single named parameter" at /tmp/nB4HkdPBhH/lib/perl5/CGI.pm line 404.
CGI::param called in list context from /home/mojolicious/.cpanm/work/1436653840.410/Data-FormValidator-4.81/blib/lib/Data/FormValidator/Results.pm line 1074, this can lead to vulnerabilities. See the warning in "Fetching the value or values of a single named parameter" at /tmp/nB4HkdPBhH/lib/perl5/CGI.pm line 404.
CGI::param called in list context from /home/mojolicious/.cpanm/work/1436653840.410/Data-FormValidator-4.81/blib/lib/Data/FormValidator/Results.pm line 1074, this can lead to vulnerabilities. See the warning in "Fetching the value or values of a single named parameter" at /tmp/nB4HkdPBhH/lib/perl5/CGI.pm line 404.
CGI::param called in list context from /home/mojolicious/.cpanm/work/1436653840.410/Data-FormValidator-4.81/blib/lib/Data/FormValidator/Results.pm line 1074, this can lead to vulnerabilities. See the warning in "Fetching the value or values of a single named parameter" at /tmp/nB4HkdPBhH/lib/perl5/CGI.pm line 404.
CGI::param called in list context from /home/mojolicious/.cpanm/work/1436653840.410/Data-FormValidator-4.81/blib/lib/Data/FormValidator/Results.pm line 1074, this can lead to vulnerabilities. See the warning in "Fetching the value or values of a single named parameter" at /tmp/nB4HkdPBhH/lib/perl5/CGI.pm line 404.
CGI::param called in list context from /home/mojolicious/.cpanm/work/1436653840.410/Data-FormValidator-4.81/blib/lib/Data/FormValidator/Results.pm line 1074, this can lead to vulnerabilities. See the warning in "Fetching the value or values of a single named parameter" at /tmp/nB4HkdPBhH/lib/perl5/CGI.pm line 404.
CGI::param called in list context from /home/mojolicious/.cpanm/work/1436653840.410/Data-FormValidator-4.81/blib/lib/Data/FormValidator/Results.pm line 1074, this can lead to vulnerabilities. See the warning in "Fetching the value or values of a single named parameter" at /tmp/nB4HkdPBhH/lib/perl5/CGI.pm line 404.
CGI::param called in list context from /home/mojolicious/.cpanm/work/1436653840.410/Data-FormValidator-4.81/blib/lib/Data/FormValidator/Results.pm line 1074, this can lead to vulnerabilities. See the warning in "Fetching the value or values of a single named parameter" at /tmp/nB4HkdPBhH/lib/perl5/CGI.pm line 404.
CGI::param called in list context from /home/mojolicious/.cpanm/work/1436653840.410/Data-FormValidator-4.81/blib/lib/Data/FormValidator/Results.pm line 1074, this can lead to vulnerabilities. See the warning in "Fetching the value or values of a single named parameter" at /tmp/nB4HkdPBhH/lib/perl5/CGI.pm line 404.
CGI::param called in list context from /home/mojolicious/.cpanm/work/1436653840.410/Data-FormValidator-4.81/blib/lib/Data/FormValidator/Results.pm line 1074, this can lead to vulnerabilities. See the warning in "Fetching the value or values of a single named parameter" at /tmp/nB4HkdPBhH/lib/perl5/CGI.pm line 404.
CGI::param called in list context from /home/mojolicious/.cpanm/work/1436653840.410/Data-FormValidator-4.81/blib/lib/Data/FormValidator/Results.pm line 1074, this can lead to vulnerabilities. See the warning in "Fetching the value or values of a single named parameter" at /tmp/nB4HkdPBhH/lib/perl5/CGI.pm line 404.
CGI::param called in list context from /home/mojolicious/.cpanm/work/1436653840.410/Data-FormValidator-4.81/blib/lib/Data/FormValidator/Results.pm line 1074, this can lead to vulnerabilities. See the warning in "Fetching the value or values of a single named parameter" at /tmp/nB4HkdPBhH/lib/perl5/CGI.pm line 404.
CGI::param called in list context from /home/mojolicious/.cpanm/work/1436653840.410/Data-FormValidator-4.81/blib/lib/Data/FormValidator/Results.pm line 1074, this can lead to vulnerabilities. See the warning in "Fetching the value or values of a single named parameter" at /tmp/nB4HkdPBhH/lib/perl5/CGI.pm line 404.
CGI::param called in list context from /home/mojolicious/.cpanm/work/1436653840.410/Data-FormValidator-4.81/blib/lib/Data/FormValidator/Results.pm line 1074, this can lead to vulnerabilities. See the warning in "Fetching the value or values of a single named parameter" at /tmp/nB4HkdPBhH/lib/perl5/CGI.pm line 404.
CGI::param called in list context from /home/mojolicious/.cpanm/work/1436653840.410/Data-FormValidator-4.81/blib/lib/Data/FormValidator/Results.pm line 1074, this can lead to vulnerabilities. See the warning in "Fetching the value or values of a single named parameter" at /tmp/nB4HkdPBhH/lib/perl5/CGI.pm line 404.
CGI::param called in list context from /home/mojolicious/.cpanm/work/1436653840.410/Data-FormValidator-4.81/blib/lib/Data/FormValidator/Results.pm line 1074, this can lead to vulnerabilities. See the warning in "Fetching the value or values of a single named parameter" at /tmp/nB4HkdPBhH/lib/perl5/CGI.pm line 404.
CGI::param called in list context from /home/mojolicious/.cpanm/work/1436653840.410/Data-FormValidator-4.81/blib/lib/Data/FormValidator/Results.pm line 1074, this can lead to vulnerabilities. See the warning in "Fetching the value or values of a single named parameter" at /tmp/nB4HkdPBhH/lib/perl5/CGI.pm line 404.
CGI::param called in list context from /home/mojolicious/.cpanm/work/1436653840.410/Data-FormValidator-4.81/blib/lib/Data/FormValidator/Results.pm line 1074, this can lead to vulnerabilities. See the warning in "Fetching the value or values of a single named parameter" at /tmp/nB4HkdPBhH/lib/perl5/CGI.pm line 404.
CGI::param called in list context from /home/mojolicious/.cpanm/work/1436653840.410/Data-FormValidator-4.81/blib/lib/Data/FormValidator/Results.pm line 1074, this can lead to vulnerabilities. See the warning in "Fetching the value or values of a single named parameter" at /tmp/nB4HkdPBhH/lib/perl5/CGI.pm line 404.
CGI::param called in list context from /home/mojolicious/.cpanm/work/1436653840.410/Data-FormValidator-4.81/blib/lib/Data/FormValidator/Results.pm line 1074, this can lead to vulnerabilities. See the warning in "Fetching the value or values of a single named parameter" at /tmp/nB4HkdPBhH/lib/perl5/CGI.pm line 404.
CGI::param called in list context from /home/mojolicious/.cpanm/work/1436653840.410/Data-FormValidator-4.81/blib/lib/Data/FormValidator/Results.pm line 1074, this can lead to vulnerabilities. See the warning in "Fetching the value or values of a single named parameter" at /tmp/nB4HkdPBhH/lib/perl5/CGI.pm line 404.
CGI::param called in list context from /home/mojolicious/.cpanm/work/1436653840.410/Data-FormValidator-4.81/blib/lib/Data/FormValidator/Results.pm line 1074, this can lead to vulnerabilities. See the warning in "Fetching the value or values of a single named parameter" at /tmp/nB4HkdPBhH/lib/perl5/CGI.pm line 404.
CGI::param called in list context from /home/mojolicious/.cpanm/work/1436653840.410/Data-FormValidator-4.81/blib/lib/Data/FormValidator/Results.pm line 1074, this can lead to vulnerabilities. See the warning in "Fetching the value or values of a single named parameter" at /tmp/nB4HkdPBhH/lib/perl5/CGI.pm line 404.
CGI::param called in list context from /home/mojolicious/.cpanm/work/1436653840.410/Data-FormValidator-4.81/blib/lib/Data/FormValidator/Results.pm line 1074, this can lead to vulnerabilities. See the warning in "Fetching the value or values of a single named parameter" at /tmp/nB4HkdPBhH/lib/perl5/CGI.pm line 404.
CGI::param called in list context from /home/mojolicious/.cpanm/work/1436653840.410/Data-FormValidator-4.81/blib/lib/Data/FormValidator/Results.pm line 1074, this can lead to vulnerabilities. See the warning in "Fetching the value or values of a single named parameter" at /tmp/nB4HkdPBhH/lib/perl5/CGI.pm line 404.
CGI::param called in list context from /home/mojolicious/.cpanm/work/1436653840.410/Data-FormValidator-4.81/blib/lib/Data/FormValidator/Results.pm line 1074, this can lead to vulnerabilities. See the warning in "Fetching the value or values of a single named parameter" at /tmp/nB4HkdPBhH/lib/perl5/CGI.pm line 404.
CGI::param called in list context from /home/mojolicious/.cpanm/work/1436653840.410/Data-FormValidator-4.81/blib/lib/Data/FormValidator/Results.pm line 1074, this can lead to vulnerabilities. See the warning in "Fetching the value or values of a single named parameter" at /tmp/nB4HkdPBhH/lib/perl5/CGI.pm line 404.
CGI::param called in list context from /home/mojolicious/.cpanm/work/1436653840.410/Data-FormValidator-4.81/blib/lib/Data/FormValidator/Results.pm line 1074, this can lead to vulnerabilities. See the warning in "Fetching the value or values of a single named parameter" at /tmp/nB4HkdPBhH/lib/perl5/CGI.pm line 404.
CGI::param called in list context from /home/mojolicious/.cpanm/work/1436653840.410/Data-FormValidator-4.81/blib/lib/Data/FormValidator/Results.pm line 1074, this can lead to vulnerabilities. See the warning in "Fetching the value or values of a single named parameter" at /tmp/nB4HkdPBhH/lib/perl5/CGI.pm line 404.
CGI::param called in list context from /home/mojolicious/.cpanm/work/1436653840.410/Data-FormValidator-4.81/blib/lib/Data/FormValidator/Results.pm line 1074, this can lead to vulnerabilities. See the warning in "Fetching the value or values of a single named parameter" at /tmp/nB4HkdPBhH/lib/perl5/CGI.pm line 404.
CGI::param called in list context from /home/mojolicious/.cpanm/work/1436653840.410/Data-FormValidator-4.81/blib/lib/Data/FormValidator/Results.pm line 1074, this can lead to vulnerabilities. See the warning in "Fetching the value or values of a single named parameter" at /tmp/nB4HkdPBhH/lib/perl5/CGI.pm line 404.
CGI::param called in list context from /home/mojolicious/.cpanm/work/1436653840.410/Data-FormValidator-4.81/blib/lib/Data/FormValidator/Results.pm line 1074, this can lead to vulnerabilities. See the warning in "Fetching the value or values of a single named parameter" at /tmp/nB4HkdPBhH/lib/perl5/CGI.pm line 404.
CGI::param called in list context from /home/mojolicious/.cpanm/work/1436653840.410/Data-FormValidator-4.81/blib/lib/Data/FormValidator/Results.pm line 1074, this can lead to vulnerabilities. See the warning in "Fetching the value or values of a single named parameter" at /tmp/nB4HkdPBhH/lib/perl5/CGI.pm line 404.
CGI::param called in list context from /home/mojolicious/.cpanm/work/1436653840.410/Data-FormValidator-4.81/blib/lib/Data/FormValidator/Results.pm line 1074, this can lead to vulnerabilities. See the warning in "Fetching the value or values of a single named parameter" at /tmp/nB4HkdPBhH/lib/perl5/CGI.pm line 404.
CGI::param called in list context from /home/mojolicious/.cpanm/work/1436653840.410/Data-FormValidator-4.81/blib/lib/Data/FormValidator/Results.pm line 1074, this can lead to vulnerabilities. See the warning in "Fetching the value or values of a single named parameter" at /tmp/nB4HkdPBhH/lib/perl5/CGI.pm line 404.
CGI::param called in list context from /home/mojolicious/.cpanm/work/1436653840.410/Data-FormValidator-4.81/blib/lib/Data/FormValidator/Results.pm line 1074, this can lead to vulnerabilities. See the warning in "Fetching the value or values of a single named parameter" at /tmp/nB4HkdPBhH/lib/perl5/CGI.pm line 404.
CGI::param called in list context from /home/mojolicious/.cpanm/work/1436653840.410/Data-FormValidator-4.81/blib/lib/Data/FormValidator/Results.pm line 1074, this can lead to vulnerabilities. See the warning in "Fetching the value or values of a single named parameter" at /tmp/nB4HkdPBhH/lib/perl5/CGI.pm line 404.
CGI::param called in list context from /home/mojolicious/.cpanm/work/1436653840.410/Data-FormValidator-4.81/blib/lib/Data/FormValidator/Results.pm line 1074, this can lead to vulnerabilities. See the warning in "Fetching the value or values of a single named parameter" at /tmp/nB4HkdPBhH/lib/perl5/CGI.pm line 404.
CGI::param called in list context from /home/mojolicious/.cpanm/work/1436653840.410/Data-FormValidator-4.81/blib/lib/Data/FormValidator/Results.pm line 1074, this can lead to vulnerabilities. See the warning in "Fetching the value or values of a single named parameter" at /tmp/nB4HkdPBhH/lib/perl5/CGI.pm line 404.
CGI::param called in list context from /home/mojolicious/.cpanm/work/1436653840.410/Data-FormValidator-4.81/blib/lib/Data/FormValidator/Results.pm line 1074, this can lead to vulnerabilities. See the warning in "Fetching the value or values of a single named parameter" at /tmp/nB4HkdPBhH/lib/perl5/CGI.pm line 404.
CGI::param called in list context from /home/mojolicious/.cpanm/work/1436653840.410/Data-FormValidator-4.81/blib/lib/Data/FormValidator/Results.pm line 1074, this can lead to vulnerabilities. See the warning in "Fetching the value or values of a single named parameter" at /tmp/nB4HkdPBhH/lib/perl5/CGI.pm line 404.
CGI::param called in list context from /home/mojolicious/.cpanm/work/1436653840.410/Data-FormValidator-4.81/blib/lib/Data/FormValidator/Results.pm line 1074, this can lead to vulnerabilities. See the warning in "Fetching the value or values of a single named parameter" at /tmp/nB4HkdPBhH/lib/perl5/CGI.pm line 404.
CGI::param called in list context from /home/mojolicious/.cpanm/work/1436653840.410/Data-FormValidator-4.81/blib/lib/Data/FormValidator/Results.pm line 1074, this can lead to vulnerabilities. See the warning in "Fetching the value or values of a single named parameter" at /tmp/nB4HkdPBhH/lib/perl5/CGI.pm line 404.
CGI::param called in list context from /home/mojolicious/.cpanm/work/1436653840.410/Data-FormValidator-4.81/blib/lib/Data/FormValidator/Results.pm line 1074, this can lead to vulnerabilities. See the warning in "Fetching the value or values of a single named parameter" at /tmp/nB4HkdPBhH/lib/perl5/CGI.pm line 404.
CGI::param called in list context from /home/mojolicious/.cpanm/work/1436653840.410/Data-FormValidator-4.81/blib/lib/Data/FormValidator/Results.pm line 1074, this can lead to vulnerabilities. See the warning in "Fetching the value or values of a single named parameter" at /tmp/nB4HkdPBhH/lib/perl5/CGI.pm line 404.
CGI::param called in list context from /home/mojolicious/.cpanm/work/1436653840.410/Data-FormValidator-4.81/blib/lib/Data/FormValidator/Results.pm line 1074, this can lead to vulnerabilities. See the warning in "Fetching the value or values of a single named parameter" at /tmp/nB4HkdPBhH/lib/perl5/CGI.pm line 404.
CGI::param called in list context from /home/mojolicious/.cpanm/work/1436653840.410/Data-FormValidator-4.81/blib/lib/Data/FormValidator/Results.pm line 1074, this can lead to vulnerabilities. See the warning in "Fetching the value or values of a single named parameter" at /tmp/nB4HkdPBhH/lib/perl5/CGI.pm line 404.
CGI::param called in list context from /home/mojolicious/.cpanm/work/1436653840.410/Data-FormValidator-4.81/blib/lib/Data/FormValidator/Results.pm line 1074, this can lead to vulnerabilities. See the warning in "Fetching the value or values of a single named parameter" at /tmp/nB4HkdPBhH/lib/perl5/CGI.pm line 404.
CGI::param called in list context from /home/mojolicious/.cpanm/work/1436653840.410/Data-FormValidator-4.81/blib/lib/Data/FormValidator/Results.pm line 1074, this can lead to vulnerabilities. See the warning in "Fetching the value or values of a single named parameter" at /tmp/nB4HkdPBhH/lib/perl5/CGI.pm line 404.
CGI::param called in list context from /home/mojolicious/.cpanm/work/1436653840.410/Data-FormValidator-4.81/blib/lib/Data/FormValidator/Results.pm line 1074, this can lead to vulnerabilities. See the warning in "Fetching the value or values of a single named parameter" at /tmp/nB4HkdPBhH/lib/perl5/CGI.pm line 404.
CGI::param called in list context from /home/mojolicious/.cpanm/work/1436653840.410/Data-FormValidator-4.81/blib/lib/Data/FormValidator/Results.pm line 1074, this can lead to vulnerabilities. See the warning in "Fetching the value or values of a single named parameter" at /tmp/nB4HkdPBhH/lib/perl5/CGI.pm line 404.
CGI::param called in list context from /home/mojolicious/.cpanm/work/1436653840.410/Data-FormValidator-4.81/blib/lib/Data/FormValidator/Results.pm line 1074, this can lead to vulnerabilities. See the warning in "Fetching the value or values of a single named parameter" at /tmp/nB4HkdPBhH/lib/perl5/CGI.pm line 404.
CGI::param called in list context from /home/mojolicious/.cpanm/work/1436653840.410/Data-FormValidator-4.81/blib/lib/Data/FormValidator/Results.pm line 1074, this can lead to vulnerabilities. See the warning in "Fetching the value or values of a single named parameter" at /tmp/nB4HkdPBhH/lib/perl5/CGI.pm line 404.
CGI::param called in list context from /home/mojolicious/.cpanm/work/1436653840.410/Data-FormValidator-4.81/blib/lib/Data/FormValidator/Results.pm line 1074, this can lead to vulnerabilities. See the warning in "Fetching the value or values of a single named parameter" at /tmp/nB4HkdPBhH/lib/perl5/CGI.pm line 404.
CGI::param called in list context from /home/mojolicious/.cpanm/work/1436653840.410/Data-FormValidator-4.81/blib/lib/Data/FormValidator/Results.pm line 1074, this can lead to vulnerabilities. See the warning in "Fetching the value or values of a single named parameter" at /tmp/nB4HkdPBhH/lib/perl5/CGI.pm line 404.
CGI::param called in list context from /home/mojolicious/.cpanm/work/1436653840.410/Data-FormValidator-4.81/blib/lib/Data/FormValidator/Results.pm line 1074, this can lead to vulnerabilities. See the warning in "Fetching the value or values of a single named parameter" at /tmp/nB4HkdPBhH/lib/perl5/CGI.pm line 404.
CGI::param called in list context from /home/mojolicious/.cpanm/work/1436653840.410/Data-FormValidator-4.81/blib/lib/Data/FormValidator/Results.pm line 1074, this can lead to vulnerabilities. See the warning in "Fetching the value or values of a single named parameter" at /tmp/nB4HkdPBhH/lib/perl5/CGI.pm line 404.
CGI::param called in list context from /home/mojolicious/.cpanm/work/1436653840.410/Data-FormValidator-4.81/blib/lib/Data/FormValidator/Results.pm line 1074, this can lead to vulnerabilities. See the warning in "Fetching the value or values of a single named parameter" at /tmp/nB4HkdPBhH/lib/perl5/CGI.pm line 404.
CGI::param called in list context from /home/mojolicious/.cpanm/work/1436653840.410/Data-FormValidator-4.81/blib/lib/Data/FormValidator/Results.pm line 1074, this can lead to vulnerabilities. See the warning in "Fetching the value or values of a single named parameter" at /tmp/nB4HkdPBhH/lib/perl5/CGI.pm line 404.
CGI::param called in list context from /home/mojolicious/.cpanm/work/1436653840.410/Data-FormValidator-4.81/blib/lib/Data/FormValidator/Results.pm line 1074, this can lead to vulnerabilities. See the warning in "Fetching the value or values of a single named parameter" at /tmp/nB4HkdPBhH/lib/perl5/CGI.pm line 404.
CGI::param called in list context from /home/mojolicious/.cpanm/work/1436653840.410/Data-FormValidator-4.81/blib/lib/Data/FormValidator/Results.pm line 1074, this can lead to vulnerabilities. See the warning in "Fetching the value or values of a single named parameter" at /tmp/nB4HkdPBhH/lib/perl5/CGI.pm line 404.
CGI::param called in list context from /home/mojolicious/.cpanm/work/1436653840.410/Data-FormValidator-4.81/blib/lib/Data/FormValidator/Results.pm line 1074, this can lead to vulnerabilities. See the warning in "Fetching the value or values of a single named parameter" at /tmp/nB4HkdPBhH/lib/perl5/CGI.pm line 404.
CGI::param called in list context from /home/mojolicious/.cpanm/work/1436653840.410/Data-FormValidator-4.81/blib/lib/Data/FormValidator/Results.pm line 1074, this can lead to vulnerabilities. See the warning in "Fetching the value or values of a single named parameter" at /tmp/nB4HkdPBhH/lib/perl5/CGI.pm line 404.
CGI::param called in list context from /home/mojolicious/.cpanm/work/1436653840.410/Data-FormValidator-4.81/blib/lib/Data/FormValidator/Results.pm line 1074, this can lead to vulnerabilities. See the warning in "Fetching the value or values of a single named parameter" at /tmp/nB4HkdPBhH/lib/perl5/CGI.pm line 404.
CGI::param called in list context from /home/mojolicious/.cpanm/work/1436653840.410/Data-FormValidator-4.81/blib/lib/Data/FormValidator/Results.pm line 1074, this can lead to vulnerabilities. See the warning in "Fetching the value or values of a single named parameter" at /tmp/nB4HkdPBhH/lib/perl5/CGI.pm line 404.
CGI::param called in list context from /home/mojolicious/.cpanm/work/1436653840.410/Data-FormValidator-4.81/blib/lib/Data/FormValidator/Results.pm line 1074, this can lead to vulnerabilities. See the warning in "Fetching the value or values of a single named parameter" at /tmp/nB4HkdPBhH/lib/perl5/CGI.pm line 404.
CGI::param called in list context from /home/mojolicious/.cpanm/work/1436653840.410/Data-FormValidator-4.81/blib/lib/Data/FormValidator/Results.pm line 1074, this can lead to vulnerabilities. See the warning in "Fetching the value or values of a single named parameter" at /tmp/nB4HkdPBhH/lib/perl5/CGI.pm line 404.
CGI::param called in list context from /home/mojolicious/.cpanm/work/1436653840.410/Data-FormValidator-4.81/blib/lib/Data/FormValidator/Results.pm line 1074, this can lead to vulnerabilities. See the warning in "Fetching the value or values of a single named parameter" at /tmp/nB4HkdPBhH/lib/perl5/CGI.pm line 404.
CGI::param called in list context from /home/mojolicious/.cpanm/work/1436653840.410/Data-FormValidator-4.81/blib/lib/Data/FormValidator/Results.pm line 1074, this can lead to vulnerabilities. See the warning in "Fetching the value or values of a single named parameter" at /tmp/nB4HkdPBhH/lib/perl5/CGI.pm line 404.
CGI::param called in list context from /home/mojolicious/.cpanm/work/1436653840.410/Data-FormValidator-4.81/blib/lib/Data/FormValidator/Results.pm line 1074, this can lead to vulnerabilities. See the warning in "Fetching the value or values of a single named parameter" at /tmp/nB4HkdPBhH/lib/perl5/CGI.pm line 404.
CGI::param called in list context from /home/mojolicious/.cpanm/work/1436653840.410/Data-FormValidator-4.81/blib/lib/Data/FormValidator/Results.pm line 1074, this can lead to vulnerabilities. See the warning in "Fetching the value or values of a single named parameter" at /tmp/nB4HkdPBhH/lib/perl5/CGI.pm line 404.
CGI::param called in list context from /home/mojolicious/.cpanm/work/1436653840.410/Data-FormValidator-4.81/blib/lib/Data/FormValidator/Results.pm line 1074, this can lead to vulnerabilities. See the warning in "Fetching the value or values of a single named parameter" at /tmp/nB4HkdPBhH/lib/perl5/CGI.pm line 404.
CGI::param called in list context from /home/mojolicious/.cpanm/work/1436653840.410/Data-FormValidator-4.81/blib/lib/Data/FormValidator/Results.pm line 1074, this can lead to vulnerabilities. See the warning in "Fetching the value or values of a single named parameter" at /tmp/nB4HkdPBhH/lib/perl5/CGI.pm line 404.
CGI::param called in list context from /home/mojolicious/.cpanm/work/1436653840.410/Data-FormValidator-4.81/blib/lib/Data/FormValidator/Results.pm line 1074, this can lead to vulnerabilities. See the warning in "Fetching the value or values of a single named parameter" at /tmp/nB4HkdPBhH/lib/perl5/CGI.pm line 404.
CGI::param called in list context from /home/mojolicious/.cpanm/work/1436653840.410/Data-FormValidator-4.81/blib/lib/Data/FormValidator/Results.pm line 1074, this can lead to vulnerabilities. See the warning in "Fetching the value or values of a single named parameter" at /tmp/nB4HkdPBhH/lib/perl5/CGI.pm line 404.
CGI::param called in list context from /home/mojolicious/.cpanm/work/1436653840.410/Data-FormValidator-4.81/blib/lib/Data/FormValidator/Results.pm line 1074, this can lead to vulnerabilities. See the warning in "Fetching the value or values of a single named parameter" at /tmp/nB4HkdPBhH/lib/perl5/CGI.pm line 404.
CGI::param called in list context from /home/mojolicious/.cpanm/work/1436653840.410/Data-FormValidator-4.81/blib/lib/Data/FormValidator/Results.pm line 1074, this can lead to vulnerabilities. See the warning in "Fetching the value or values of a single named parameter" at /tmp/nB4HkdPBhH/lib/perl5/CGI.pm line 404.
CGI::param called in list context from /home/mojolicious/.cpanm/work/1436653840.410/Data-FormValidator-4.81/blib/lib/Data/FormValidator/Results.pm line 1074, this can lead to vulnerabilities. See the warning in "Fetching the value or values of a single named parameter" at /tmp/nB4HkdPBhH/lib/perl5/CGI.pm line 404.
CGI::param called in list context from /home/mojolicious/.cpanm/work/1436653840.410/Data-FormValidator-4.81/blib/lib/Data/FormValidator/Results.pm line 1074, this can lead to vulnerabilities. See the warning in "Fetching the value or values of a single named parameter" at /tmp/nB4HkdPBhH/lib/perl5/CGI.pm line 404.
CGI::param called in list context from /home/mojolicious/.cpanm/work/1436653840.410/Data-FormValidator-4.81/blib/lib/Data/FormValidator/Results.pm line 1074, this can lead to vulnerabilities. See the warning in "Fetching the value or values of a single named parameter" at /tmp/nB4HkdPBhH/lib/perl5/CGI.pm line 404.
CGI::param called in list context from /home/mojolicious/.cpanm/work/1436653840.410/Data-FormValidator-4.81/blib/lib/Data/FormValidator/Results.pm line 1074, this can lead to vulnerabilities. See the warning in "Fetching the value or values of a single named parameter" at /tmp/nB4HkdPBhH/lib/perl5/CGI.pm line 404.
CGI::param called in list context from /home/mojolicious/.cpanm/work/1436653840.410/Data-FormValidator-4.81/blib/lib/Data/FormValidator/Results.pm line 1074, this can lead to vulnerabilities. See the warning in "Fetching the value or values of a single named parameter" at /tmp/nB4HkdPBhH/lib/perl5/CGI.pm line 404.
CGI::param called in list context from /home/mojolicious/.cpanm/work/1436653840.410/Data-FormValidator-4.81/blib/lib/Data/FormValidator/Results.pm line 1074, this can lead to vulnerabilities. See the warning in "Fetching the value or values of a single named parameter" at /tmp/nB4HkdPBhH/lib/perl5/CGI.pm line 404.
CGI::param called in list context from /home/mojolicious/.cpanm/work/1436653840.410/Data-FormValidator-4.81/blib/lib/Data/FormValidator/Results.pm line 1074, this can lead to vulnerabilities. See the warning in "Fetching the value or values of a single named parameter" at /tmp/nB4HkdPBhH/lib/perl5/CGI.pm line 404.
CGI::param called in list context from /home/mojolicious/.cpanm/work/1436653840.410/Data-FormValidator-4.81/blib/lib/Data/FormValidator/Results.pm line 1074, this can lead to vulnerabilities. See the warning in "Fetching the value or values of a single named parameter" at /tmp/nB4HkdPBhH/lib/perl5/CGI.pm line 404.
CGI::param called in list context from /home/mojolicious/.cpanm/work/1436653840.410/Data-FormValidator-4.81/blib/lib/Data/FormValidator/Results.pm line 1074, this can lead to vulnerabilities. See the warning in "Fetching the value or values of a single named parameter" at /tmp/nB4HkdPBhH/lib/perl5/CGI.pm line 404.
CGI::param called in list context from /home/mojolicious/.cpanm/work/1436653840.410/Data-FormValidator-4.81/blib/lib/Data/FormValidator/Results.pm line 1074, this can lead to vulnerabilities. See the warning in "Fetching the value or values of a single named parameter" at /tmp/nB4HkdPBhH/lib/perl5/CGI.pm line 404.
CGI::param called in list context from /home/mojolicious/.cpanm/work/1436653840.410/Data-FormValidator-4.81/blib/lib/Data/FormValidator/Results.pm line 1074, this can lead to vulnerabilities. See the warning in "Fetching the value or values of a single named parameter" at /tmp/nB4HkdPBhH/lib/perl5/CGI.pm line 404.
t/upload.t ............................... ok
# testing with CGI.pm version: 4.21
CGI::param called in list context from /home/mojolicious/.cpanm/work/1436653840.410/Data-FormValidator-4.81/blib/lib/Data/FormValidator/Results.pm line 1074, this can lead to vulnerabilities. See the warning in "Fetching the value or values of a single named parameter" at /tmp/nB4HkdPBhH/lib/perl5/CGI.pm line 404.
CGI::param called in list context from /home/mojolicious/.cpanm/work/1436653840.410/Data-FormValidator-4.81/blib/lib/Data/FormValidator/Results.pm line 1074, this can lead to vulnerabilities. See the warning in "Fetching the value or values of a single named parameter" at /tmp/nB4HkdPBhH/lib/perl5/CGI.pm line 404.
CGI::param called in list context from /home/mojolicious/.cpanm/work/1436653840.410/Data-FormValidator-4.81/blib/lib/Data/FormValidator/Results.pm line 1074, this can lead to vulnerabilities. See the warning in "Fetching the value or values of a single named parameter" at /tmp/nB4HkdPBhH/lib/perl5/CGI.pm line 404.
CGI::param called in list context from /home/mojolicious/.cpanm/work/1436653840.410/Data-FormValidator-4.81/blib/lib/Data/FormValidator/Results.pm line 1074, this can lead to vulnerabilities. See the warning in "Fetching the value or values of a single named parameter" at /tmp/nB4HkdPBhH/lib/perl5/CGI.pm line 404.
CGI::param called in list context from /home/mojolicious/.cpanm/work/1436653840.410/Data-FormValidator-4.81/blib/lib/Data/FormValidator/Results.pm line 1074, this can lead to vulnerabilities. See the warning in "Fetching the value or values of a single named parameter" at /tmp/nB4HkdPBhH/lib/perl5/CGI.pm line 404.
CGI::param called in list context from /home/mojolicious/.cpanm/work/1436653840.410/Data-FormValidator-4.81/blib/lib/Data/FormValidator/Results.pm line 1074, this can lead to vulnerabilities. See the warning in "Fetching the value or values of a single named parameter" at /tmp/nB4HkdPBhH/lib/perl5/CGI.pm line 404.
CGI::param called in list context from /home/mojolicious/.cpanm/work/1436653840.410/Data-FormValidator-4.81/blib/lib/Data/FormValidator/Results.pm line 1074, this can lead to vulnerabilities. See the warning in "Fetching the value or values of a single named parameter" at /tmp/nB4HkdPBhH/lib/perl5/CGI.pm line 404.
CGI::param called in list context from /home/mojolicious/.cpanm/work/1436653840.410/Data-FormValidator-4.81/blib/lib/Data/FormValidator/Results.pm line 1074, this can lead to vulnerabilities. See the warning in "Fetching the value or values of a single named parameter" at /tmp/nB4HkdPBhH/lib/perl5/CGI.pm line 404.
CGI::param called in list context from /home/mojolicious/.cpanm/work/1436653840.410/Data-FormValidator-4.81/blib/lib/Data/FormValidator/Results.pm line 1074, this can lead to vulnerabilities. See the warning in "Fetching the value or values of a single named parameter" at /tmp/nB4HkdPBhH/lib/perl5/CGI.pm line 404.
CGI::param called in list context from /home/mojolicious/.cpanm/work/1436653840.410/Data-FormValidator-4.81/blib/lib/Data/FormValidator/Results.pm line 1074, this can lead to vulnerabilities. See the warning in "Fetching the value or values of a single named parameter" at /tmp/nB4HkdPBhH/lib/perl5/CGI.pm line 404.
CGI::param called in list context from /home/mojolicious/.cpanm/work/1436653840.410/Data-FormValidator-4.81/blib/lib/Data/FormValidator/Results.pm line 1074, this can lead to vulnerabilities. See the warning in "Fetching the value or values of a single named parameter" at /tmp/nB4HkdPBhH/lib/perl5/CGI.pm line 404.
CGI::param called in list context from /home/mojolicious/.cpanm/work/1436653840.410/Data-FormValidator-4.81/blib/lib/Data/FormValidator/Results.pm line 1074, this can lead to vulnerabilities. See the warning in "Fetching the value or values of a single named parameter" at /tmp/nB4HkdPBhH/lib/perl5/CGI.pm line 404.
CGI::param called in list context from /home/mojolicious/.cpanm/work/1436653840.410/Data-FormValidator-4.81/blib/lib/Data/FormValidator/Results.pm line 1074, this can lead to vulnerabilities. See the warning in "Fetching the value or values of a single named parameter" at /tmp/nB4HkdPBhH/lib/perl5/CGI.pm line 404.
CGI::param called in list context from /home/mojolicious/.cpanm/work/1436653840.410/Data-FormValidator-4.81/blib/lib/Data/FormValidator/Results.pm line 1074, this can lead to vulnerabilities. See the warning in "Fetching the value or values of a single named parameter" at /tmp/nB4HkdPBhH/lib/perl5/CGI.pm line 404.
CGI::param called in list context from /home/mojolicious/.cpanm/work/1436653840.410/Data-FormValidator-4.81/blib/lib/Data/FormValidator/Results.pm line 1074, this can lead to vulnerabilities. See the warning in "Fetching the value or values of a single named parameter" at /tmp/nB4HkdPBhH/lib/perl5/CGI.pm line 404.
CGI::param called in list context from /home/mojolicious/.cpanm/work/1436653840.410/Data-FormValidator-4.81/blib/lib/Data/FormValidator/Results.pm line 1074, this can lead to vulnerabilities. See the warning in "Fetching the value or values of a single named parameter" at /tmp/nB4HkdPBhH/lib/perl5/CGI.pm line 404.
CGI::param called in list context from /home/mojolicious/.cpanm/work/1436653840.410/Data-FormValidator-4.81/blib/lib/Data/FormValidator/Results.pm line 1074, this can lead to vulnerabilities. See the warning in "Fetching the value or values of a single named parameter" at /tmp/nB4HkdPBhH/lib/perl5/CGI.pm line 404.
CGI::param called in list context from /home/mojolicious/.cpanm/work/1436653840.410/Data-FormValidator-4.81/blib/lib/Data/FormValidator/Results.pm line 1074, this can lead to vulnerabilities. See the warning in "Fetching the value or values of a single named parameter" at /tmp/nB4HkdPBhH/lib/perl5/CGI.pm line 404.
CGI::param called in list context from /home/mojolicious/.cpanm/work/1436653840.410/Data-FormValidator-4.81/blib/lib/Data/FormValidator/Results.pm line 1074, this can lead to vulnerabilities. See the warning in "Fetching the value or values of a single named parameter" at /tmp/nB4HkdPBhH/lib/perl5/CGI.pm line 404.
CGI::param called in list context from /home/mojolicious/.cpanm/work/1436653840.410/Data-FormValidator-4.81/blib/lib/Data/FormValidator/Results.pm line 1074, this can lead to vulnerabilities. See the warning in "Fetching the value or values of a single named parameter" at /tmp/nB4HkdPBhH/lib/perl5/CGI.pm line 404.
CGI::param called in list context from /home/mojolicious/.cpanm/work/1436653840.410/Data-FormValidator-4.81/blib/lib/Data/FormValidator/Results.pm line 1074, this can lead to vulnerabilities. See the warning in "Fetching the value or values of a single named parameter" at /tmp/nB4HkdPBhH/lib/perl5/CGI.pm line 404.
CGI::param called in list context from /home/mojolicious/.cpanm/work/1436653840.410/Data-FormValidator-4.81/blib/lib/Data/FormValidator/Results.pm line 1074, this can lead to vulnerabilities. See the warning in "Fetching the value or values of a single named parameter" at /tmp/nB4HkdPBhH/lib/perl5/CGI.pm line 404.
CGI::param called in list context from /home/mojolicious/.cpanm/work/1436653840.410/Data-FormValidator-4.81/blib/lib/Data/FormValidator/Results.pm line 1074, this can lead to vulnerabilities. See the warning in "Fetching the value or values of a single named parameter" at /tmp/nB4HkdPBhH/lib/perl5/CGI.pm line 404.
CGI::param called in list context from /home/mojolicious/.cpanm/work/1436653840.410/Data-FormValidator-4.81/blib/lib/Data/FormValidator/Results.pm line 1074, this can lead to vulnerabilities. See the warning in "Fetching the value or values of a single named parameter" at /tmp/nB4HkdPBhH/lib/perl5/CGI.pm line 404.
CGI::param called in list context from /home/mojolicious/.cpanm/work/1436653840.410/Data-FormValidator-4.81/blib/lib/Data/FormValidator/Results.pm line 1074, this can lead to vulnerabilities. See the warning in "Fetching the value or values of a single named parameter" at /tmp/nB4HkdPBhH/lib/perl5/CGI.pm line 404.
CGI::param called in list context from /home/mojolicious/.cpanm/work/1436653840.410/Data-FormValidator-4.81/blib/lib/Data/FormValidator/Results.pm line 1074, this can lead to vulnerabilities. See the warning in "Fetching the value or values of a single named parameter" at /tmp/nB4HkdPBhH/lib/perl5/CGI.pm line 404.
CGI::param called in list context from /home/mojolicious/.cpanm/work/1436653840.410/Data-FormValidator-4.81/blib/lib/Data/FormValidator/Results.pm line 1074, this can lead to vulnerabilities. See the warning in "Fetching the value or values of a single named parameter" at /tmp/nB4HkdPBhH/lib/perl5/CGI.pm line 404.
CGI::param called in list context from /home/mojolicious/.cpanm/work/1436653840.410/Data-FormValidator-4.81/blib/lib/Data/FormValidator/Results.pm line 1074, this can lead to vulnerabilities. See the warning in "Fetching the value or values of a single named parameter" at /tmp/nB4HkdPBhH/lib/perl5/CGI.pm line 404.
CGI::param called in list context from /home/mojolicious/.cpanm/work/1436653840.410/Data-FormValidator-4.81/blib/lib/Data/FormValidator/Results.pm line 1074, this can lead to vulnerabilities. See the warning in "Fetching the value or values of a single named parameter" at /tmp/nB4HkdPBhH/lib/perl5/CGI.pm line 404.
CGI::param called in list context from /home/mojolicious/.cpanm/work/1436653840.410/Data-FormValidator-4.81/blib/lib/Data/FormValidator/Results.pm line 1074, this can lead to vulnerabilities. See the warning in "Fetching the value or values of a single named parameter" at /tmp/nB4HkdPBhH/lib/perl5/CGI.pm line 404.
CGI::param called in list context from /home/mojolicious/.cpanm/work/1436653840.410/Data-FormValidator-4.81/blib/lib/Data/FormValidator/Results.pm line 1074, this can lead to vulnerabilities. See the warning in "Fetching the value or values of a single named parameter" at /tmp/nB4HkdPBhH/lib/perl5/CGI.pm line 404.
CGI::param called in list context from /home/mojolicious/.cpanm/work/1436653840.410/Data-FormValidator-4.81/blib/lib/Data/FormValidator/Results.pm line 1074, this can lead to vulnerabilities. See the warning in "Fetching the value or values of a single named parameter" at /tmp/nB4HkdPBhH/lib/perl5/CGI.pm line 404.
CGI::param called in list context from /home/mojolicious/.cpanm/work/1436653840.410/Data-FormValidator-4.81/blib/lib/Data/FormValidator/Results.pm line 1074, this can lead to vulnerabilities. See the warning in "Fetching the value or values of a single named parameter" at /tmp/nB4HkdPBhH/lib/perl5/CGI.pm line 404.
CGI::param called in list context from /home/mojolicious/.cpanm/work/1436653840.410/Data-FormValidator-4.81/blib/lib/Data/FormValidator/Results.pm line 1074, this can lead to vulnerabilities. See the warning in "Fetching the value or values of a single named parameter" at /tmp/nB4HkdPBhH/lib/perl5/CGI.pm line 404.
CGI::param called in list context from /home/mojolicious/.cpanm/work/1436653840.410/Data-FormValidator-4.81/blib/lib/Data/FormValidator/Results.pm line 1074, this can lead to vulnerabilities. See the warning in "Fetching the value or values of a single named parameter" at /tmp/nB4HkdPBhH/lib/perl5/CGI.pm line 404.
CGI::param called in list context from /home/mojolicious/.cpanm/work/1436653840.410/Data-FormValidator-4.81/blib/lib/Data/FormValidator/Results.pm line 1074, this can lead to vulnerabilities. See the warning in "Fetching the value or values of a single named parameter" at /tmp/nB4HkdPBhH/lib/perl5/CGI.pm line 404.
CGI::param called in list context from /home/mojolicious/.cpanm/work/1436653840.410/Data-FormValidator-4.81/blib/lib/Data/FormValidator/Results.pm line 1074, this can lead to vulnerabilities. See the warning in "Fetching the value or values of a single named parameter" at /tmp/nB4HkdPBhH/lib/perl5/CGI.pm line 404.
CGI::param called in list context from /home/mojolicious/.cpanm/work/1436653840.410/Data-FormValidator-4.81/blib/lib/Data/FormValidator/Results.pm line 1074, this can lead to vulnerabilities. See the warning in "Fetching the value or values of a single named parameter" at /tmp/nB4HkdPBhH/lib/perl5/CGI.pm line 404.
CGI::param called in list context from /home/mojolicious/.cpanm/work/1436653840.410/Data-FormValidator-4.81/blib/lib/Data/FormValidator/Results.pm line 1074, this can lead to vulnerabilities. See the warning in "Fetching the value or values of a single named parameter" at /tmp/nB4HkdPBhH/lib/perl5/CGI.pm line 404.
CGI::param called in list context from /home/mojolicious/.cpanm/work/1436653840.410/Data-FormValidator-4.81/blib/lib/Data/FormValidator/Results.pm line 1074, this can lead to vulnerabilities. See the warning in "Fetching the value or values of a single named parameter" at /tmp/nB4HkdPBhH/lib/perl5/CGI.pm line 404.
CGI::param called in list context from /home/mojolicious/.cpanm/work/1436653840.410/Data-FormValidator-4.81/blib/lib/Data/FormValidator/Results.pm line 1074, this can lead to vulnerabilities. See the warning in "Fetching the value or values of a single named parameter" at /tmp/nB4HkdPBhH/lib/perl5/CGI.pm line 404.
CGI::param called in list context from /home/mojolicious/.cpanm/work/1436653840.410/Data-FormValidator-4.81/blib/lib/Data/FormValidator/Results.pm line 1074, this can lead to vulnerabilities. See the warning in "Fetching the value or values of a single named parameter" at /tmp/nB4HkdPBhH/lib/perl5/CGI.pm line 404.
CGI::param called in list context from /home/mojolicious/.cpanm/work/1436653840.410/Data-FormValidator-4.81/blib/lib/Data/FormValidator/Results.pm line 1074, this can lead to vulnerabilities. See the warning in "Fetching the value or values of a single named parameter" at /tmp/nB4HkdPBhH/lib/perl5/CGI.pm line 404.
CGI::param called in list context from /home/mojolicious/.cpanm/work/1436653840.410/Data-FormValidator-4.81/blib/lib/Data/FormValidator/Results.pm line 1074, this can lead to vulnerabilities. See the warning in "Fetching the value or values of a single named parameter" at /tmp/nB4HkdPBhH/lib/perl5/CGI.pm line 404.
CGI::param called in list context from /home/mojolicious/.cpanm/work/1436653840.410/Data-FormValidator-4.81/blib/lib/Data/FormValidator/Results.pm line 1074, this can lead to vulnerabilities. See the warning in "Fetching the value or values of a single named parameter" at /tmp/nB4HkdPBhH/lib/perl5/CGI.pm line 404.
CGI::param called in list context from /home/mojolicious/.cpanm/work/1436653840.410/Data-FormValidator-4.81/blib/lib/Data/FormValidator/Results.pm line 1074, this can lead to vulnerabilities. See the warning in "Fetching the value or values of a single named parameter" at /tmp/nB4HkdPBhH/lib/perl5/CGI.pm line 404.
CGI::param called in list context from /home/mojolicious/.cpanm/work/1436653840.410/Data-FormValidator-4.81/blib/lib/Data/FormValidator/Results.pm line 1074, this can lead to vulnerabilities. See the warning in "Fetching the value or values of a single named parameter" at /tmp/nB4HkdPBhH/lib/perl5/CGI.pm line 404.
CGI::param called in list context from /home/mojolicious/.cpanm/work/1436653840.410/Data-FormValidator-4.81/blib/lib/Data/FormValidator/Results.pm line 1074, this can lead to vulnerabilities. See the warning in "Fetching the value or values of a single named parameter" at /tmp/nB4HkdPBhH/lib/perl5/CGI.pm line 404.
t/upload_closure.t ....................... ok
t/upload_mime_types.t .................... ok
All tests successful.
Files=65, Tests=591, 8 wallclock secs ( 0.18 usr 0.10 sys + 3.11 cusr 0.38 csys = 3.77 CPU)
Result: PASS
------------------------------
PREREQUISITES
------------------------------
Prerequisite modules loaded:
runtime:
Module Need Have
--------------- ----- --------
! Date::Calc 5 n/a
! Email::Valid 0 n/a
! File::MMagic 1.17 n/a
! Image::Size 0 n/a
! MIME::Types 1.005 n/a
overload 0 1.07
perl 5.008 5.010001
! Perl6::Junction 1.1 n/a
! Regexp::Common 0 n/a
Scalar::Util 0 1.21
Test::More 0 1.001014
build:
Module Need Have
--------------- ----- --------
! CGI 3.48 3.43
configure:
Module Need Have
--------------- ----- --------
Module::Build 0.38 0.4211
------------------------------
ENVIRONMENT AND OTHER CONTEXT
------------------------------
Environment variables:
PATH = /home/mojolicious/perl5/perlbrew/bin:/home/mojolicious/perl5/perlbrew/perls/perl-5.20.1/bin:/usr/local/bin:/usr/bin:/bin:/usr/local/games:/usr/games:/home/mojolicious/mojolib/5.10.1/6.03/bin
PERLBREW_BASHRC_VERSION = 0.73
PERLBREW_HOME = /home/mojolicious/.perlbrew
PERLBREW_MANPATH = /home/mojolicious/perl5/perlbrew/perls/perl-5.20.1/man
PERLBREW_PATH = /home/mojolicious/perl5/perlbrew/bin:/home/mojolicious/perl5/perlbrew/perls/perl-5.20.1/bin
PERLBREW_PERL = perl-5.20.1
PERLBREW_ROOT = /home/mojolicious/perl5/perlbrew
PERLBREW_VERSION = 0.73
SHELL = /bin/bash
TERM = xterm
Perl special variables (and OS-specific diagnostics, for MSWin32):
EGID = 1003 1003
EUID = 1003
EXECUTABLE_NAME = /home/mojolicious/perl5/perlbrew/perls/perl-5.10.1/bin/perl
GID = 1003 1003
UID = 1003
Perl module toolchain versions installed:
Module Have
------------------- --------
CPAN 1.9402
CPAN::Meta 2.143240
Cwd 3.30
ExtUtils::CBuilder 0.280220
ExtUtils::Command 1.16
ExtUtils::Install 1.54
ExtUtils::MakeMaker 7.04
ExtUtils::Manifest 1.65
ExtUtils::ParseXS 3.24
File::Spec 3.30
JSON 2.90
JSON::PP 2.27203
Module::Build 0.4211
Module::Signature n/a
Parse::CPAN::Meta 1.4414
Test::Harness 3.17
Test::More 1.001014
YAML n/a
YAML::Syck n/a
version 0.9912
--
Summary of my perl5 (revision 5 version 10 subversion 1) configuration:
Platform:
osname=linux, osvers=3.13.0-042stab094.8, archname=x86_64-linux
uname='linux lvps92-51-161-142.dedicated.hosteurope.de 3.13.0-042stab094.8 #1 smp tue dec 16 20:36:56 msk 2014 x86_64 x86_64 x86_64 gnulinux '
config_args='-de -Dprefix=/home/mojolicious/perl5/perlbrew/perls/perl-5.10.1 -Aeval:scriptdir=/home/mojolicious/perl5/perlbrew/perls/perl-5.10.1/bin'
hint=recommended, useposix=true, d_sigaction=define
useithreads=undef, usemultiplicity=undef
useperlio=define, d_sfio=undef, uselargefiles=define, usesocks=undef
use64bitint=define, use64bitall=define, uselongdouble=undef
usemymalloc=n, bincompat5005=undef
Compiler:
cc='cc', ccflags ='-fno-strict-aliasing -pipe -fstack-protector -I/usr/local/include -D_LARGEFILE_SOURCE -D_FILE_OFFSET_BITS=64',
optimize='-O2',
cppflags='-fno-strict-aliasing -pipe -fstack-protector -I/usr/local/include'
ccversion='', gccversion='4.8.2', gccosandvers=''
intsize=4, longsize=8, ptrsize=8, doublesize=8, byteorder=12345678
d_longlong=define, longlongsize=8, d_longdbl=define, longdblsize=16
ivtype='long', ivsize=8, nvtype='double', nvsize=8, Off_t='off_t', lseeksize=8
alignbytes=8, prototype=define
Linker and Libraries:
ld='cc', ldflags =' -fstack-protector -L/usr/local/lib'
libpth=/usr/local/lib /lib/x86_64-linux-gnu /lib/../lib /usr/lib/x86_64-linux-gnu /usr/lib/../lib /lib /usr/lib
libs=-lnsl -ldl -lm -lcrypt -lutil -lc
perllibs=-lnsl -ldl -lm -lcrypt -lutil -lc
libc=libc-2.19.so, so=so, useshrplib=false, libperl=libperl.a
gnulibc_version='2.19'
Dynamic Linking:
dlsrc=dl_dlopen.xs, dlext=so, d_dlsymun=undef, ccdlflags='-Wl,-E'
cccdlflags='-fPIC', lddlflags='-shared -O2 -L/usr/local/lib -fstack-protector'
Characteristics of this binary (from libperl):
Compile-time options: PERL_DONT_CREATE_GVSV PERL_MALLOC_WRAP USE_64_BIT_ALL
USE_64_BIT_INT USE_LARGE_FILES USE_PERLIO
Locally applied patches:
Devel::PatchPerl 1.30
Built under linux
Compiled at Mar 5 2015 11:33:38
%ENV:
PERLBREW_BASHRC_VERSION="0.73"
PERLBREW_HOME="/home/mojolicious/.perlbrew"
PERLBREW_MANPATH="/home/mojolicious/perl5/perlbrew/perls/perl-5.20.1/man"
PERLBREW_PATH="/home/mojolicious/perl5/perlbrew/bin:/home/mojolicious/perl5/perlbrew/perls/perl-5.20.1/bin"
PERLBREW_PERL="perl-5.20.1"
PERLBREW_ROOT="/home/mojolicious/perl5/perlbrew"
PERLBREW_VERSION="0.73"
@INC:
/home/mojolicious/perl5/perlbrew/perls/perl-5.10.1/lib/5.10.1/x86_64-linux
/home/mojolicious/perl5/perlbrew/perls/perl-5.10.1/lib/5.10.1
/home/mojolicious/perl5/perlbrew/perls/perl-5.10.1/lib/site_perl/5.10.1/x86_64-linux
/home/mojolicious/perl5/perlbrew/perls/perl-5.10.1/lib/site_perl/5.10.1
.