AnyEvent-Subprocess v1.102912 Perl 5 v5.37.4 x86_64-linux-thread-multi-ld

Status
Pass
From
Andreas J. König (ANDK)
Dist
AnyEvent-Subprocess v1.102912
Platform
Perl 5 v5.37.4 x86_64-linux-thread-multi-ld
Date
2022-10-12 22:13:11
ID
0f52f81e-4a7b-11ed-a19c-7918bd55df6e
This distribution has been tested as part of the CPAN Testers
project, supporting the Perl programming language.  See
http://wiki.cpantesters.org/ for more information or email
questions to cpan-testers-discuss@perl.org


--
Dear Jonathan Rockway,

This is a computer-generated report for AnyEvent-Subprocess-1.102912
on perl 5.37.4, created by CPAN-Reporter-1.2018.

Thank you for uploading your work to CPAN.  Congratulations!
All tests were successful.

Sections of this report:

    * Tester comments
    * Program output
    * Prerequisites
    * Environment and other context

------------------------------
TESTER COMMENTS
------------------------------

Additional comments from tester:

this report is from an automated smoke testing program
and was not reviewed by a human for accuracy

------------------------------
PROGRAM OUTPUT
------------------------------

Output from '/usr/bin/make test':

PERL_DL_NONLAZY=1 "/tmp/basesmoker-reloperl-kHob/bin/perl" "-MExtUtils::Command::MM" "-MTest::Harness" "-e" "undef *Test::Harness::Switches; test_harness(0, 'blib/lib', 'blib/arch')" t/*.t
# Using AnyEvent::Impl::EV
Passing a list of values to enum is deprecated. Enum values should be wrapped in an arrayref. at /tmp/loop_over_bdir-699717-u8pT6m/AnyEvent-Subprocess-1.102912-0/blib/lib/AnyEvent/Subprocess/Types.pm line 42.
	require AnyEvent/Subprocess/Types.pm called at /tmp/loop_over_bdir-699717-u8pT6m/AnyEvent-Subprocess-1.102912-0/blib/lib/AnyEvent/Subprocess/Job/Delegate/Handle.pm line 12
	AnyEvent::Subprocess::Job::Delegate::Handle::BEGIN() called at /tmp/loop_over_bdir-699717-u8pT6m/AnyEvent-Subprocess-1.102912-0/blib/lib/AnyEvent/Subprocess/Job/Delegate/Handle.pm line 12
	eval {...} called at /tmp/loop_over_bdir-699717-u8pT6m/AnyEvent-Subprocess-1.102912-0/blib/lib/AnyEvent/Subprocess/Job/Delegate/Handle.pm line 12
	require AnyEvent/Subprocess/Job/Delegate/Handle.pm called at /tmp/loop_over_bdir-699717-u8pT6m/AnyEvent-Subprocess-1.102912-0/blib/lib/AnyEvent/Subprocess/DefaultDelegates.pm line 16
	AnyEvent::Subprocess::DefaultDelegates::BEGIN() called at /tmp/loop_over_bdir-699717-u8pT6m/AnyEvent-Subprocess-1.102912-0/blib/lib/AnyEvent/Subprocess/DefaultDelegates.pm line 16
	eval {...} called at /tmp/loop_over_bdir-699717-u8pT6m/AnyEvent-Subprocess-1.102912-0/blib/lib/AnyEvent/Subprocess/DefaultDelegates.pm line 16
	require AnyEvent/Subprocess/DefaultDelegates.pm called at /tmp/loop_over_bdir-699717-u8pT6m/AnyEvent-Subprocess-1.102912-0/blib/lib/AnyEvent/Subprocess.pm line 11
	AnyEvent::Subprocess::BEGIN() called at /tmp/loop_over_bdir-699717-u8pT6m/AnyEvent-Subprocess-1.102912-0/blib/lib/AnyEvent/Subprocess.pm line 11
	eval {...} called at /tmp/loop_over_bdir-699717-u8pT6m/AnyEvent-Subprocess-1.102912-0/blib/lib/AnyEvent/Subprocess.pm line 11
	require AnyEvent/Subprocess.pm called at t/00-info.t line 9
	main::BEGIN() called at t/00-info.t line 9
	eval {...} called at t/00-info.t line 9
	eval 'package main;
BEGIN { ${^WARNING_BITS} = $args[-1] if defined $args[-1] }
#line 9 t/00-info.t
use AnyEvent::Subprocess @{$args[0]};
1;
' called at /home/sand/src/perl/repoperls/installed-perls/host/k93focal/v5.37.4/e463/lib/5.37.4/Test/More.pm line 1034
	Test::More::_eval("package main;\x{a}BEGIN { \${^WARNING_BITS} = \$args[-1] if defined"..., ARRAY(0x55ed33a26d58), "UUUUUUUUUUUUUUUUUUUU") called at /home/sand/src/perl/repoperls/installed-perls/host/k93focal/v5.37.4/e463/lib/5.37.4/Test/More.pm line 1009
	Test::More::use_ok("AnyEvent::Subprocess") called at t/00-info.t line 9
	main::BEGIN() called at t/00-info.t line 9
	eval {...} called at t/00-info.t line 9
t/00-info.t ................. ok
Passing a list of values to enum is deprecated. Enum values should be wrapped in an arrayref. at /tmp/loop_over_bdir-699717-u8pT6m/AnyEvent-Subprocess-1.102912-0/blib/lib/AnyEvent/Subprocess/Types.pm line 42.
	require AnyEvent/Subprocess/Types.pm called at /tmp/loop_over_bdir-699717-u8pT6m/AnyEvent-Subprocess-1.102912-0/blib/lib/AnyEvent/Subprocess/Job/Delegate/Handle.pm line 12
	AnyEvent::Subprocess::Job::Delegate::Handle::BEGIN() called at /tmp/loop_over_bdir-699717-u8pT6m/AnyEvent-Subprocess-1.102912-0/blib/lib/AnyEvent/Subprocess/Job/Delegate/Handle.pm line 12
	eval {...} called at /tmp/loop_over_bdir-699717-u8pT6m/AnyEvent-Subprocess-1.102912-0/blib/lib/AnyEvent/Subprocess/Job/Delegate/Handle.pm line 12
	require AnyEvent/Subprocess/Job/Delegate/Handle.pm called at /tmp/loop_over_bdir-699717-u8pT6m/AnyEvent-Subprocess-1.102912-0/blib/lib/AnyEvent/Subprocess/DefaultDelegates.pm line 16
	AnyEvent::Subprocess::DefaultDelegates::BEGIN() called at /tmp/loop_over_bdir-699717-u8pT6m/AnyEvent-Subprocess-1.102912-0/blib/lib/AnyEvent/Subprocess/DefaultDelegates.pm line 16
	eval {...} called at /tmp/loop_over_bdir-699717-u8pT6m/AnyEvent-Subprocess-1.102912-0/blib/lib/AnyEvent/Subprocess/DefaultDelegates.pm line 16
	require AnyEvent/Subprocess/DefaultDelegates.pm called at /tmp/loop_over_bdir-699717-u8pT6m/AnyEvent-Subprocess-1.102912-0/blib/lib/AnyEvent/Subprocess.pm line 11
	AnyEvent::Subprocess::BEGIN() called at /tmp/loop_over_bdir-699717-u8pT6m/AnyEvent-Subprocess-1.102912-0/blib/lib/AnyEvent/Subprocess.pm line 11
	eval {...} called at /tmp/loop_over_bdir-699717-u8pT6m/AnyEvent-Subprocess-1.102912-0/blib/lib/AnyEvent/Subprocess.pm line 11
	require AnyEvent/Subprocess.pm called at t/basic.t line 5
	main::BEGIN() called at t/basic.t line 5
	eval {...} called at t/basic.t line 5
	eval 'package main;
BEGIN { ${^WARNING_BITS} = $args[-1] if defined $args[-1] }
#line 5 t/basic.t
use AnyEvent::Subprocess @{$args[0]};
1;
' called at /home/sand/src/perl/repoperls/installed-perls/host/k93focal/v5.37.4/e463/lib/5.37.4/Test/More.pm line 1034
	Test::More::_eval("package main;\x{a}BEGIN { \${^WARNING_BITS} = \$args[-1] if defined"..., ARRAY(0x5612b686db68), "UUUUUUUUUUUUUUUUUUUU") called at /home/sand/src/perl/repoperls/installed-perls/host/k93focal/v5.37.4/e463/lib/5.37.4/Test/More.pm line 1009
	Test::More::use_ok("ok", "AnyEvent::Subprocess") called at t/basic.t line 5
	main::BEGIN() called at t/basic.t line 5
	eval {...} called at t/basic.t line 5
t/basic.t ................... ok
Passing a list of values to enum is deprecated. Enum values should be wrapped in an arrayref. at /tmp/loop_over_bdir-699717-u8pT6m/AnyEvent-Subprocess-1.102912-0/blib/lib/AnyEvent/Subprocess/Types.pm line 42.
	require AnyEvent/Subprocess/Types.pm called at /tmp/loop_over_bdir-699717-u8pT6m/AnyEvent-Subprocess-1.102912-0/blib/lib/AnyEvent/Subprocess/Job/Delegate/Handle.pm line 12
	AnyEvent::Subprocess::Job::Delegate::Handle::BEGIN() called at /tmp/loop_over_bdir-699717-u8pT6m/AnyEvent-Subprocess-1.102912-0/blib/lib/AnyEvent/Subprocess/Job/Delegate/Handle.pm line 12
	eval {...} called at /tmp/loop_over_bdir-699717-u8pT6m/AnyEvent-Subprocess-1.102912-0/blib/lib/AnyEvent/Subprocess/Job/Delegate/Handle.pm line 12
	require AnyEvent/Subprocess/Job/Delegate/Handle.pm called at /tmp/loop_over_bdir-699717-u8pT6m/AnyEvent-Subprocess-1.102912-0/blib/lib/AnyEvent/Subprocess/DefaultDelegates.pm line 16
	AnyEvent::Subprocess::DefaultDelegates::BEGIN() called at /tmp/loop_over_bdir-699717-u8pT6m/AnyEvent-Subprocess-1.102912-0/blib/lib/AnyEvent/Subprocess/DefaultDelegates.pm line 16
	eval {...} called at /tmp/loop_over_bdir-699717-u8pT6m/AnyEvent-Subprocess-1.102912-0/blib/lib/AnyEvent/Subprocess/DefaultDelegates.pm line 16
	require AnyEvent/Subprocess/DefaultDelegates.pm called at /tmp/loop_over_bdir-699717-u8pT6m/AnyEvent-Subprocess-1.102912-0/blib/lib/AnyEvent/Subprocess.pm line 11
	AnyEvent::Subprocess::BEGIN() called at /tmp/loop_over_bdir-699717-u8pT6m/AnyEvent-Subprocess-1.102912-0/blib/lib/AnyEvent/Subprocess.pm line 11
	eval {...} called at /tmp/loop_over_bdir-699717-u8pT6m/AnyEvent-Subprocess-1.102912-0/blib/lib/AnyEvent/Subprocess.pm line 11
	require AnyEvent/Subprocess.pm called at t/capture-basic.t line 5
	main::BEGIN() called at t/capture-basic.t line 5
	eval {...} called at t/capture-basic.t line 5
t/capture-basic.t ........... ok
Passing a list of values to enum is deprecated. Enum values should be wrapped in an arrayref. at /tmp/loop_over_bdir-699717-u8pT6m/AnyEvent-Subprocess-1.102912-0/blib/lib/AnyEvent/Subprocess/Types.pm line 42.
	require AnyEvent/Subprocess/Types.pm called at /tmp/loop_over_bdir-699717-u8pT6m/AnyEvent-Subprocess-1.102912-0/blib/lib/AnyEvent/Subprocess/Job/Delegate/Handle.pm line 12
	AnyEvent::Subprocess::Job::Delegate::Handle::BEGIN() called at /tmp/loop_over_bdir-699717-u8pT6m/AnyEvent-Subprocess-1.102912-0/blib/lib/AnyEvent/Subprocess/Job/Delegate/Handle.pm line 12
	eval {...} called at /tmp/loop_over_bdir-699717-u8pT6m/AnyEvent-Subprocess-1.102912-0/blib/lib/AnyEvent/Subprocess/Job/Delegate/Handle.pm line 12
	require AnyEvent/Subprocess/Job/Delegate/Handle.pm called at /tmp/loop_over_bdir-699717-u8pT6m/AnyEvent-Subprocess-1.102912-0/blib/lib/AnyEvent/Subprocess/DefaultDelegates.pm line 16
	AnyEvent::Subprocess::DefaultDelegates::BEGIN() called at /tmp/loop_over_bdir-699717-u8pT6m/AnyEvent-Subprocess-1.102912-0/blib/lib/AnyEvent/Subprocess/DefaultDelegates.pm line 16
	eval {...} called at /tmp/loop_over_bdir-699717-u8pT6m/AnyEvent-Subprocess-1.102912-0/blib/lib/AnyEvent/Subprocess/DefaultDelegates.pm line 16
	require AnyEvent/Subprocess/DefaultDelegates.pm called at /tmp/loop_over_bdir-699717-u8pT6m/AnyEvent-Subprocess-1.102912-0/blib/lib/AnyEvent/Subprocess.pm line 11
	AnyEvent::Subprocess::BEGIN() called at /tmp/loop_over_bdir-699717-u8pT6m/AnyEvent-Subprocess-1.102912-0/blib/lib/AnyEvent/Subprocess.pm line 11
	eval {...} called at /tmp/loop_over_bdir-699717-u8pT6m/AnyEvent-Subprocess-1.102912-0/blib/lib/AnyEvent/Subprocess.pm line 11
	require AnyEvent/Subprocess.pm called at t/clone.t line 5
	main::BEGIN() called at t/clone.t line 5
	eval {...} called at t/clone.t line 5
t/clone.t ................... ok
Passing a list of values to enum is deprecated. Enum values should be wrapped in an arrayref. at /tmp/loop_over_bdir-699717-u8pT6m/AnyEvent-Subprocess-1.102912-0/blib/lib/AnyEvent/Subprocess/Types.pm line 42.
	require AnyEvent/Subprocess/Types.pm called at /tmp/loop_over_bdir-699717-u8pT6m/AnyEvent-Subprocess-1.102912-0/blib/lib/AnyEvent/Subprocess/Job/Delegate/Handle.pm line 12
	AnyEvent::Subprocess::Job::Delegate::Handle::BEGIN() called at /tmp/loop_over_bdir-699717-u8pT6m/AnyEvent-Subprocess-1.102912-0/blib/lib/AnyEvent/Subprocess/Job/Delegate/Handle.pm line 12
	eval {...} called at /tmp/loop_over_bdir-699717-u8pT6m/AnyEvent-Subprocess-1.102912-0/blib/lib/AnyEvent/Subprocess/Job/Delegate/Handle.pm line 12
	require AnyEvent/Subprocess/Job/Delegate/Handle.pm called at /tmp/loop_over_bdir-699717-u8pT6m/AnyEvent-Subprocess-1.102912-0/blib/lib/AnyEvent/Subprocess/DefaultDelegates.pm line 16
	AnyEvent::Subprocess::DefaultDelegates::BEGIN() called at /tmp/loop_over_bdir-699717-u8pT6m/AnyEvent-Subprocess-1.102912-0/blib/lib/AnyEvent/Subprocess/DefaultDelegates.pm line 16
	eval {...} called at /tmp/loop_over_bdir-699717-u8pT6m/AnyEvent-Subprocess-1.102912-0/blib/lib/AnyEvent/Subprocess/DefaultDelegates.pm line 16
	require AnyEvent/Subprocess/DefaultDelegates.pm called at /tmp/loop_over_bdir-699717-u8pT6m/AnyEvent-Subprocess-1.102912-0/blib/lib/AnyEvent/Subprocess.pm line 11
	AnyEvent::Subprocess::BEGIN() called at /tmp/loop_over_bdir-699717-u8pT6m/AnyEvent-Subprocess-1.102912-0/blib/lib/AnyEvent/Subprocess.pm line 11
	eval {...} called at /tmp/loop_over_bdir-699717-u8pT6m/AnyEvent-Subprocess-1.102912-0/blib/lib/AnyEvent/Subprocess.pm line 11
	require AnyEvent/Subprocess.pm called at t/death-by-stdin.t line 5
	main::BEGIN() called at t/death-by-stdin.t line 5
	eval {...} called at t/death-by-stdin.t line 5
t/death-by-stdin.t .......... ok
Passing a list of values to enum is deprecated. Enum values should be wrapped in an arrayref. at /tmp/loop_over_bdir-699717-u8pT6m/AnyEvent-Subprocess-1.102912-0/blib/lib/AnyEvent/Subprocess/Types.pm line 42.
	require AnyEvent/Subprocess/Types.pm called at /tmp/loop_over_bdir-699717-u8pT6m/AnyEvent-Subprocess-1.102912-0/blib/lib/AnyEvent/Subprocess/Job/Delegate/Handle.pm line 12
	AnyEvent::Subprocess::Job::Delegate::Handle::BEGIN() called at /tmp/loop_over_bdir-699717-u8pT6m/AnyEvent-Subprocess-1.102912-0/blib/lib/AnyEvent/Subprocess/Job/Delegate/Handle.pm line 12
	eval {...} called at /tmp/loop_over_bdir-699717-u8pT6m/AnyEvent-Subprocess-1.102912-0/blib/lib/AnyEvent/Subprocess/Job/Delegate/Handle.pm line 12
	require AnyEvent/Subprocess/Job/Delegate/Handle.pm called at /tmp/loop_over_bdir-699717-u8pT6m/AnyEvent-Subprocess-1.102912-0/blib/lib/AnyEvent/Subprocess/DefaultDelegates.pm line 16
	AnyEvent::Subprocess::DefaultDelegates::BEGIN() called at /tmp/loop_over_bdir-699717-u8pT6m/AnyEvent-Subprocess-1.102912-0/blib/lib/AnyEvent/Subprocess/DefaultDelegates.pm line 16
	eval {...} called at /tmp/loop_over_bdir-699717-u8pT6m/AnyEvent-Subprocess-1.102912-0/blib/lib/AnyEvent/Subprocess/DefaultDelegates.pm line 16
	require AnyEvent/Subprocess/DefaultDelegates.pm called at /tmp/loop_over_bdir-699717-u8pT6m/AnyEvent-Subprocess-1.102912-0/blib/lib/AnyEvent/Subprocess.pm line 11
	AnyEvent::Subprocess::BEGIN() called at /tmp/loop_over_bdir-699717-u8pT6m/AnyEvent-Subprocess-1.102912-0/blib/lib/AnyEvent/Subprocess.pm line 11
	eval {...} called at /tmp/loop_over_bdir-699717-u8pT6m/AnyEvent-Subprocess-1.102912-0/blib/lib/AnyEvent/Subprocess.pm line 11
	require AnyEvent/Subprocess.pm called at /tmp/loop_over_bdir-699717-u8pT6m/AnyEvent-Subprocess-1.102912-0/blib/lib/AnyEvent/Subprocess/Easy.pm line 10
	AnyEvent::Subprocess::Easy::BEGIN() called at /tmp/loop_over_bdir-699717-u8pT6m/AnyEvent-Subprocess-1.102912-0/blib/lib/AnyEvent/Subprocess/Easy.pm line 10
	eval {...} called at /tmp/loop_over_bdir-699717-u8pT6m/AnyEvent-Subprocess-1.102912-0/blib/lib/AnyEvent/Subprocess/Easy.pm line 10
	require AnyEvent/Subprocess/Easy.pm called at t/easy-qx.t line 6
	main::BEGIN() called at t/easy-qx.t line 6
	eval {...} called at t/easy-qx.t line 6
# Wed 12 Oct 2022 10:08:38 PM UTC
# The 'failed' message you are about to see is good.
Failed to exec 'I CAN HAZ CHEZBURGER?': No such file or directory at /tmp/loop_over_bdir-699717-u8pT6m/AnyEvent-Subprocess-1.102912-0/blib/lib/AnyEvent/Subprocess/Types.pm line 36.
t/easy-qx.t ................. ok
Passing a list of values to enum is deprecated. Enum values should be wrapped in an arrayref. at /tmp/loop_over_bdir-699717-u8pT6m/AnyEvent-Subprocess-1.102912-0/blib/lib/AnyEvent/Subprocess/Types.pm line 42.
	require AnyEvent/Subprocess/Types.pm called at /tmp/loop_over_bdir-699717-u8pT6m/AnyEvent-Subprocess-1.102912-0/blib/lib/AnyEvent/Subprocess/Job/Delegate/Handle.pm line 12
	AnyEvent::Subprocess::Job::Delegate::Handle::BEGIN() called at /tmp/loop_over_bdir-699717-u8pT6m/AnyEvent-Subprocess-1.102912-0/blib/lib/AnyEvent/Subprocess/Job/Delegate/Handle.pm line 12
	eval {...} called at /tmp/loop_over_bdir-699717-u8pT6m/AnyEvent-Subprocess-1.102912-0/blib/lib/AnyEvent/Subprocess/Job/Delegate/Handle.pm line 12
	require AnyEvent/Subprocess/Job/Delegate/Handle.pm called at /tmp/loop_over_bdir-699717-u8pT6m/AnyEvent-Subprocess-1.102912-0/blib/lib/AnyEvent/Subprocess/DefaultDelegates.pm line 16
	AnyEvent::Subprocess::DefaultDelegates::BEGIN() called at /tmp/loop_over_bdir-699717-u8pT6m/AnyEvent-Subprocess-1.102912-0/blib/lib/AnyEvent/Subprocess/DefaultDelegates.pm line 16
	eval {...} called at /tmp/loop_over_bdir-699717-u8pT6m/AnyEvent-Subprocess-1.102912-0/blib/lib/AnyEvent/Subprocess/DefaultDelegates.pm line 16
	require AnyEvent/Subprocess/DefaultDelegates.pm called at /tmp/loop_over_bdir-699717-u8pT6m/AnyEvent-Subprocess-1.102912-0/blib/lib/AnyEvent/Subprocess.pm line 11
	AnyEvent::Subprocess::BEGIN() called at /tmp/loop_over_bdir-699717-u8pT6m/AnyEvent-Subprocess-1.102912-0/blib/lib/AnyEvent/Subprocess.pm line 11
	eval {...} called at /tmp/loop_over_bdir-699717-u8pT6m/AnyEvent-Subprocess-1.102912-0/blib/lib/AnyEvent/Subprocess.pm line 11
	require AnyEvent/Subprocess.pm called at t/exit-code.t line 5
	main::BEGIN() called at t/exit-code.t line 5
	eval {...} called at t/exit-code.t line 5
t/exit-code.t ............... ok
Passing a list of values to enum is deprecated. Enum values should be wrapped in an arrayref. at /tmp/loop_over_bdir-699717-u8pT6m/AnyEvent-Subprocess-1.102912-0/blib/lib/AnyEvent/Subprocess/Types.pm line 42.
	require AnyEvent/Subprocess/Types.pm called at /tmp/loop_over_bdir-699717-u8pT6m/AnyEvent-Subprocess-1.102912-0/blib/lib/AnyEvent/Subprocess/Job/Delegate/Handle.pm line 12
	AnyEvent::Subprocess::Job::Delegate::Handle::BEGIN() called at /tmp/loop_over_bdir-699717-u8pT6m/AnyEvent-Subprocess-1.102912-0/blib/lib/AnyEvent/Subprocess/Job/Delegate/Handle.pm line 12
	eval {...} called at /tmp/loop_over_bdir-699717-u8pT6m/AnyEvent-Subprocess-1.102912-0/blib/lib/AnyEvent/Subprocess/Job/Delegate/Handle.pm line 12
	require AnyEvent/Subprocess/Job/Delegate/Handle.pm called at /tmp/loop_over_bdir-699717-u8pT6m/AnyEvent-Subprocess-1.102912-0/blib/lib/AnyEvent/Subprocess/DefaultDelegates.pm line 16
	AnyEvent::Subprocess::DefaultDelegates::BEGIN() called at /tmp/loop_over_bdir-699717-u8pT6m/AnyEvent-Subprocess-1.102912-0/blib/lib/AnyEvent/Subprocess/DefaultDelegates.pm line 16
	eval {...} called at /tmp/loop_over_bdir-699717-u8pT6m/AnyEvent-Subprocess-1.102912-0/blib/lib/AnyEvent/Subprocess/DefaultDelegates.pm line 16
	require AnyEvent/Subprocess/DefaultDelegates.pm called at /tmp/loop_over_bdir-699717-u8pT6m/AnyEvent-Subprocess-1.102912-0/blib/lib/AnyEvent/Subprocess.pm line 11
	AnyEvent::Subprocess::BEGIN() called at /tmp/loop_over_bdir-699717-u8pT6m/AnyEvent-Subprocess-1.102912-0/blib/lib/AnyEvent/Subprocess.pm line 11
	eval {...} called at /tmp/loop_over_bdir-699717-u8pT6m/AnyEvent-Subprocess-1.102912-0/blib/lib/AnyEvent/Subprocess.pm line 11
	require AnyEvent/Subprocess.pm called at t/external-process.t line 5
	main::BEGIN() called at t/external-process.t line 5
	eval {...} called at t/external-process.t line 5
t/external-process.t ........ ok
Passing a list of values to enum is deprecated. Enum values should be wrapped in an arrayref. at /tmp/loop_over_bdir-699717-u8pT6m/AnyEvent-Subprocess-1.102912-0/blib/lib/AnyEvent/Subprocess/Types.pm line 42.
	require AnyEvent/Subprocess/Types.pm called at /tmp/loop_over_bdir-699717-u8pT6m/AnyEvent-Subprocess-1.102912-0/blib/lib/AnyEvent/Subprocess/Job/Delegate/Handle.pm line 12
	AnyEvent::Subprocess::Job::Delegate::Handle::BEGIN() called at /tmp/loop_over_bdir-699717-u8pT6m/AnyEvent-Subprocess-1.102912-0/blib/lib/AnyEvent/Subprocess/Job/Delegate/Handle.pm line 12
	eval {...} called at /tmp/loop_over_bdir-699717-u8pT6m/AnyEvent-Subprocess-1.102912-0/blib/lib/AnyEvent/Subprocess/Job/Delegate/Handle.pm line 12
	require AnyEvent/Subprocess/Job/Delegate/Handle.pm called at /tmp/loop_over_bdir-699717-u8pT6m/AnyEvent-Subprocess-1.102912-0/blib/lib/AnyEvent/Subprocess/DefaultDelegates.pm line 16
	AnyEvent::Subprocess::DefaultDelegates::BEGIN() called at /tmp/loop_over_bdir-699717-u8pT6m/AnyEvent-Subprocess-1.102912-0/blib/lib/AnyEvent/Subprocess/DefaultDelegates.pm line 16
	eval {...} called at /tmp/loop_over_bdir-699717-u8pT6m/AnyEvent-Subprocess-1.102912-0/blib/lib/AnyEvent/Subprocess/DefaultDelegates.pm line 16
	require AnyEvent/Subprocess/DefaultDelegates.pm called at /tmp/loop_over_bdir-699717-u8pT6m/AnyEvent-Subprocess-1.102912-0/blib/lib/AnyEvent/Subprocess.pm line 11
	AnyEvent::Subprocess::BEGIN() called at /tmp/loop_over_bdir-699717-u8pT6m/AnyEvent-Subprocess-1.102912-0/blib/lib/AnyEvent/Subprocess.pm line 11
	eval {...} called at /tmp/loop_over_bdir-699717-u8pT6m/AnyEvent-Subprocess-1.102912-0/blib/lib/AnyEvent/Subprocess.pm line 11
	require AnyEvent/Subprocess.pm called at t/handle-leftovers.t line 5
	main::BEGIN() called at t/handle-leftovers.t line 5
	eval {...} called at t/handle-leftovers.t line 5
t/handle-leftovers.t ........ ok
Passing a list of values to enum is deprecated. Enum values should be wrapped in an arrayref. at /tmp/loop_over_bdir-699717-u8pT6m/AnyEvent-Subprocess-1.102912-0/blib/lib/AnyEvent/Subprocess/Types.pm line 42.
	require AnyEvent/Subprocess/Types.pm called at /tmp/loop_over_bdir-699717-u8pT6m/AnyEvent-Subprocess-1.102912-0/blib/lib/AnyEvent/Subprocess/Job/Delegate/Handle.pm line 12
	AnyEvent::Subprocess::Job::Delegate::Handle::BEGIN() called at /tmp/loop_over_bdir-699717-u8pT6m/AnyEvent-Subprocess-1.102912-0/blib/lib/AnyEvent/Subprocess/Job/Delegate/Handle.pm line 12
	eval {...} called at /tmp/loop_over_bdir-699717-u8pT6m/AnyEvent-Subprocess-1.102912-0/blib/lib/AnyEvent/Subprocess/Job/Delegate/Handle.pm line 12
	require AnyEvent/Subprocess/Job/Delegate/Handle.pm called at /tmp/loop_over_bdir-699717-u8pT6m/AnyEvent-Subprocess-1.102912-0/blib/lib/AnyEvent/Subprocess/DefaultDelegates.pm line 16
	AnyEvent::Subprocess::DefaultDelegates::BEGIN() called at /tmp/loop_over_bdir-699717-u8pT6m/AnyEvent-Subprocess-1.102912-0/blib/lib/AnyEvent/Subprocess/DefaultDelegates.pm line 16
	eval {...} called at /tmp/loop_over_bdir-699717-u8pT6m/AnyEvent-Subprocess-1.102912-0/blib/lib/AnyEvent/Subprocess/DefaultDelegates.pm line 16
	require AnyEvent/Subprocess/DefaultDelegates.pm called at /tmp/loop_over_bdir-699717-u8pT6m/AnyEvent-Subprocess-1.102912-0/blib/lib/AnyEvent/Subprocess.pm line 11
	AnyEvent::Subprocess::BEGIN() called at /tmp/loop_over_bdir-699717-u8pT6m/AnyEvent-Subprocess-1.102912-0/blib/lib/AnyEvent/Subprocess.pm line 11
	eval {...} called at /tmp/loop_over_bdir-699717-u8pT6m/AnyEvent-Subprocess-1.102912-0/blib/lib/AnyEvent/Subprocess.pm line 11
	require AnyEvent/Subprocess.pm called at t/kill.t line 5
	main::BEGIN() called at t/kill.t line 5
	eval {...} called at t/kill.t line 5
t/kill.t .................... ok
Passing a list of values to enum is deprecated. Enum values should be wrapped in an arrayref. at /tmp/loop_over_bdir-699717-u8pT6m/AnyEvent-Subprocess-1.102912-0/blib/lib/AnyEvent/Subprocess/Types.pm line 42.
	require AnyEvent/Subprocess/Types.pm called at /tmp/loop_over_bdir-699717-u8pT6m/AnyEvent-Subprocess-1.102912-0/blib/lib/AnyEvent/Subprocess/Job/Delegate/Handle.pm line 12
	AnyEvent::Subprocess::Job::Delegate::Handle::BEGIN() called at /tmp/loop_over_bdir-699717-u8pT6m/AnyEvent-Subprocess-1.102912-0/blib/lib/AnyEvent/Subprocess/Job/Delegate/Handle.pm line 12
	eval {...} called at /tmp/loop_over_bdir-699717-u8pT6m/AnyEvent-Subprocess-1.102912-0/blib/lib/AnyEvent/Subprocess/Job/Delegate/Handle.pm line 12
	require AnyEvent/Subprocess/Job/Delegate/Handle.pm called at /tmp/loop_over_bdir-699717-u8pT6m/AnyEvent-Subprocess-1.102912-0/blib/lib/AnyEvent/Subprocess/DefaultDelegates.pm line 16
	AnyEvent::Subprocess::DefaultDelegates::BEGIN() called at /tmp/loop_over_bdir-699717-u8pT6m/AnyEvent-Subprocess-1.102912-0/blib/lib/AnyEvent/Subprocess/DefaultDelegates.pm line 16
	eval {...} called at /tmp/loop_over_bdir-699717-u8pT6m/AnyEvent-Subprocess-1.102912-0/blib/lib/AnyEvent/Subprocess/DefaultDelegates.pm line 16
	require AnyEvent/Subprocess/DefaultDelegates.pm called at /tmp/loop_over_bdir-699717-u8pT6m/AnyEvent-Subprocess-1.102912-0/blib/lib/AnyEvent/Subprocess.pm line 11
	AnyEvent::Subprocess::BEGIN() called at /tmp/loop_over_bdir-699717-u8pT6m/AnyEvent-Subprocess-1.102912-0/blib/lib/AnyEvent/Subprocess.pm line 11
	eval {...} called at /tmp/loop_over_bdir-699717-u8pT6m/AnyEvent-Subprocess-1.102912-0/blib/lib/AnyEvent/Subprocess.pm line 11
	require AnyEvent/Subprocess.pm called at t/monitorhandle.t line 5
	main::BEGIN() called at t/monitorhandle.t line 5
	eval {...} called at t/monitorhandle.t line 5
t/monitorhandle.t ........... ok
Passing a list of values to enum is deprecated. Enum values should be wrapped in an arrayref. at /tmp/loop_over_bdir-699717-u8pT6m/AnyEvent-Subprocess-1.102912-0/blib/lib/AnyEvent/Subprocess/Types.pm line 42.
	require AnyEvent/Subprocess/Types.pm called at /tmp/loop_over_bdir-699717-u8pT6m/AnyEvent-Subprocess-1.102912-0/blib/lib/AnyEvent/Subprocess/Done.pm line 9
	AnyEvent::Subprocess::Done::BEGIN() called at /tmp/loop_over_bdir-699717-u8pT6m/AnyEvent-Subprocess-1.102912-0/blib/lib/AnyEvent/Subprocess/Done.pm line 9
	eval {...} called at /tmp/loop_over_bdir-699717-u8pT6m/AnyEvent-Subprocess-1.102912-0/blib/lib/AnyEvent/Subprocess/Done.pm line 9
	require AnyEvent/Subprocess/Done.pm called at t/negative-one.t line 4
	main::BEGIN() called at t/negative-one.t line 4
	eval {...} called at t/negative-one.t line 4
t/negative-one.t ............ ok
Passing a list of values to enum is deprecated. Enum values should be wrapped in an arrayref. at /tmp/loop_over_bdir-699717-u8pT6m/AnyEvent-Subprocess-1.102912-0/blib/lib/AnyEvent/Subprocess/Types.pm line 42.
	require AnyEvent/Subprocess/Types.pm called at /tmp/loop_over_bdir-699717-u8pT6m/AnyEvent-Subprocess-1.102912-0/blib/lib/AnyEvent/Subprocess/Job/Delegate/Handle.pm line 12
	AnyEvent::Subprocess::Job::Delegate::Handle::BEGIN() called at /tmp/loop_over_bdir-699717-u8pT6m/AnyEvent-Subprocess-1.102912-0/blib/lib/AnyEvent/Subprocess/Job/Delegate/Handle.pm line 12
	eval {...} called at /tmp/loop_over_bdir-699717-u8pT6m/AnyEvent-Subprocess-1.102912-0/blib/lib/AnyEvent/Subprocess/Job/Delegate/Handle.pm line 12
	require AnyEvent/Subprocess/Job/Delegate/Handle.pm called at /tmp/loop_over_bdir-699717-u8pT6m/AnyEvent-Subprocess-1.102912-0/blib/lib/AnyEvent/Subprocess/DefaultDelegates.pm line 16
	AnyEvent::Subprocess::DefaultDelegates::BEGIN() called at /tmp/loop_over_bdir-699717-u8pT6m/AnyEvent-Subprocess-1.102912-0/blib/lib/AnyEvent/Subprocess/DefaultDelegates.pm line 16
	eval {...} called at /tmp/loop_over_bdir-699717-u8pT6m/AnyEvent-Subprocess-1.102912-0/blib/lib/AnyEvent/Subprocess/DefaultDelegates.pm line 16
	require AnyEvent/Subprocess/DefaultDelegates.pm called at /tmp/loop_over_bdir-699717-u8pT6m/AnyEvent-Subprocess-1.102912-0/blib/lib/AnyEvent/Subprocess.pm line 11
	AnyEvent::Subprocess::BEGIN() called at /tmp/loop_over_bdir-699717-u8pT6m/AnyEvent-Subprocess-1.102912-0/blib/lib/AnyEvent/Subprocess.pm line 11
	eval {...} called at /tmp/loop_over_bdir-699717-u8pT6m/AnyEvent-Subprocess-1.102912-0/blib/lib/AnyEvent/Subprocess.pm line 11
	require AnyEvent/Subprocess.pm called at t/open-to-fd.t line 5
	main::BEGIN() called at t/open-to-fd.t line 5
	eval {...} called at t/open-to-fd.t line 5
t/open-to-fd.t .............. ok
Passing a list of values to enum is deprecated. Enum values should be wrapped in an arrayref. at /tmp/loop_over_bdir-699717-u8pT6m/AnyEvent-Subprocess-1.102912-0/blib/lib/AnyEvent/Subprocess/Types.pm line 42.
	require AnyEvent/Subprocess/Types.pm called at /tmp/loop_over_bdir-699717-u8pT6m/AnyEvent-Subprocess-1.102912-0/blib/lib/AnyEvent/Subprocess/Job/Delegate/Handle.pm line 12
	AnyEvent::Subprocess::Job::Delegate::Handle::BEGIN() called at /tmp/loop_over_bdir-699717-u8pT6m/AnyEvent-Subprocess-1.102912-0/blib/lib/AnyEvent/Subprocess/Job/Delegate/Handle.pm line 12
	eval {...} called at /tmp/loop_over_bdir-699717-u8pT6m/AnyEvent-Subprocess-1.102912-0/blib/lib/AnyEvent/Subprocess/Job/Delegate/Handle.pm line 12
	require AnyEvent/Subprocess/Job/Delegate/Handle.pm called at /tmp/loop_over_bdir-699717-u8pT6m/AnyEvent-Subprocess-1.102912-0/blib/lib/AnyEvent/Subprocess/DefaultDelegates.pm line 16
	AnyEvent::Subprocess::DefaultDelegates::BEGIN() called at /tmp/loop_over_bdir-699717-u8pT6m/AnyEvent-Subprocess-1.102912-0/blib/lib/AnyEvent/Subprocess/DefaultDelegates.pm line 16
	eval {...} called at /tmp/loop_over_bdir-699717-u8pT6m/AnyEvent-Subprocess-1.102912-0/blib/lib/AnyEvent/Subprocess/DefaultDelegates.pm line 16
	require AnyEvent/Subprocess/DefaultDelegates.pm called at /tmp/loop_over_bdir-699717-u8pT6m/AnyEvent-Subprocess-1.102912-0/blib/lib/AnyEvent/Subprocess.pm line 11
	AnyEvent::Subprocess::BEGIN() called at /tmp/loop_over_bdir-699717-u8pT6m/AnyEvent-Subprocess-1.102912-0/blib/lib/AnyEvent/Subprocess.pm line 11
	eval {...} called at /tmp/loop_over_bdir-699717-u8pT6m/AnyEvent-Subprocess-1.102912-0/blib/lib/AnyEvent/Subprocess.pm line 11
	require AnyEvent/Subprocess.pm called at t/pty-basic.t line 5
	main::BEGIN() called at t/pty-basic.t line 5
	eval {...} called at t/pty-basic.t line 5
t/pty-basic.t ............... ok
Passing a list of values to enum is deprecated. Enum values should be wrapped in an arrayref. at /tmp/loop_over_bdir-699717-u8pT6m/AnyEvent-Subprocess-1.102912-0/blib/lib/AnyEvent/Subprocess/Types.pm line 42.
	require AnyEvent/Subprocess/Types.pm called at /tmp/loop_over_bdir-699717-u8pT6m/AnyEvent-Subprocess-1.102912-0/blib/lib/AnyEvent/Subprocess/Job/Delegate/Handle.pm line 12
	AnyEvent::Subprocess::Job::Delegate::Handle::BEGIN() called at /tmp/loop_over_bdir-699717-u8pT6m/AnyEvent-Subprocess-1.102912-0/blib/lib/AnyEvent/Subprocess/Job/Delegate/Handle.pm line 12
	eval {...} called at /tmp/loop_over_bdir-699717-u8pT6m/AnyEvent-Subprocess-1.102912-0/blib/lib/AnyEvent/Subprocess/Job/Delegate/Handle.pm line 12
	require AnyEvent/Subprocess/Job/Delegate/Handle.pm called at /tmp/loop_over_bdir-699717-u8pT6m/AnyEvent-Subprocess-1.102912-0/blib/lib/AnyEvent/Subprocess/DefaultDelegates.pm line 16
	AnyEvent::Subprocess::DefaultDelegates::BEGIN() called at /tmp/loop_over_bdir-699717-u8pT6m/AnyEvent-Subprocess-1.102912-0/blib/lib/AnyEvent/Subprocess/DefaultDelegates.pm line 16
	eval {...} called at /tmp/loop_over_bdir-699717-u8pT6m/AnyEvent-Subprocess-1.102912-0/blib/lib/AnyEvent/Subprocess/DefaultDelegates.pm line 16
	require AnyEvent/Subprocess/DefaultDelegates.pm called at /tmp/loop_over_bdir-699717-u8pT6m/AnyEvent-Subprocess-1.102912-0/blib/lib/AnyEvent/Subprocess.pm line 11
	AnyEvent::Subprocess::BEGIN() called at /tmp/loop_over_bdir-699717-u8pT6m/AnyEvent-Subprocess-1.102912-0/blib/lib/AnyEvent/Subprocess.pm line 11
	eval {...} called at /tmp/loop_over_bdir-699717-u8pT6m/AnyEvent-Subprocess-1.102912-0/blib/lib/AnyEvent/Subprocess.pm line 11
	require AnyEvent/Subprocess.pm called at t/pty-control.t line 4
	main::BEGIN() called at t/pty-control.t line 4
	eval {...} called at t/pty-control.t line 4
t/pty-control.t ............. ok
t/release-pod-syntax.t ...... skipped: these tests are for release candidate testing
Passing a list of values to enum is deprecated. Enum values should be wrapped in an arrayref. at /tmp/loop_over_bdir-699717-u8pT6m/AnyEvent-Subprocess-1.102912-0/blib/lib/AnyEvent/Subprocess/Types.pm line 42.
	require AnyEvent/Subprocess/Types.pm called at /tmp/loop_over_bdir-699717-u8pT6m/AnyEvent-Subprocess-1.102912-0/blib/lib/AnyEvent/Subprocess/Job/Delegate/Handle.pm line 12
	AnyEvent::Subprocess::Job::Delegate::Handle::BEGIN() called at /tmp/loop_over_bdir-699717-u8pT6m/AnyEvent-Subprocess-1.102912-0/blib/lib/AnyEvent/Subprocess/Job/Delegate/Handle.pm line 12
	eval {...} called at /tmp/loop_over_bdir-699717-u8pT6m/AnyEvent-Subprocess-1.102912-0/blib/lib/AnyEvent/Subprocess/Job/Delegate/Handle.pm line 12
	require AnyEvent/Subprocess/Job/Delegate/Handle.pm called at /tmp/loop_over_bdir-699717-u8pT6m/AnyEvent-Subprocess-1.102912-0/blib/lib/AnyEvent/Subprocess/DefaultDelegates.pm line 16
	AnyEvent::Subprocess::DefaultDelegates::BEGIN() called at /tmp/loop_over_bdir-699717-u8pT6m/AnyEvent-Subprocess-1.102912-0/blib/lib/AnyEvent/Subprocess/DefaultDelegates.pm line 16
	eval {...} called at /tmp/loop_over_bdir-699717-u8pT6m/AnyEvent-Subprocess-1.102912-0/blib/lib/AnyEvent/Subprocess/DefaultDelegates.pm line 16
	require AnyEvent/Subprocess/DefaultDelegates.pm called at /tmp/loop_over_bdir-699717-u8pT6m/AnyEvent-Subprocess-1.102912-0/blib/lib/AnyEvent/Subprocess.pm line 11
	AnyEvent::Subprocess::BEGIN() called at /tmp/loop_over_bdir-699717-u8pT6m/AnyEvent-Subprocess-1.102912-0/blib/lib/AnyEvent/Subprocess.pm line 11
	eval {...} called at /tmp/loop_over_bdir-699717-u8pT6m/AnyEvent-Subprocess-1.102912-0/blib/lib/AnyEvent/Subprocess.pm line 11
	require AnyEvent/Subprocess.pm called at t/socket.t line 5
	main::BEGIN() called at t/socket.t line 5
	eval {...} called at t/socket.t line 5
t/socket.t .................. ok
Passing a list of values to enum is deprecated. Enum values should be wrapped in an arrayref. at /tmp/loop_over_bdir-699717-u8pT6m/AnyEvent-Subprocess-1.102912-0/blib/lib/AnyEvent/Subprocess/Types.pm line 42.
	require AnyEvent/Subprocess/Types.pm called at /tmp/loop_over_bdir-699717-u8pT6m/AnyEvent-Subprocess-1.102912-0/blib/lib/AnyEvent/Subprocess/Job/Delegate/Handle.pm line 12
	AnyEvent::Subprocess::Job::Delegate::Handle::BEGIN() called at /tmp/loop_over_bdir-699717-u8pT6m/AnyEvent-Subprocess-1.102912-0/blib/lib/AnyEvent/Subprocess/Job/Delegate/Handle.pm line 12
	eval {...} called at /tmp/loop_over_bdir-699717-u8pT6m/AnyEvent-Subprocess-1.102912-0/blib/lib/AnyEvent/Subprocess/Job/Delegate/Handle.pm line 12
	require AnyEvent/Subprocess/Job/Delegate/Handle.pm called at /tmp/loop_over_bdir-699717-u8pT6m/AnyEvent-Subprocess-1.102912-0/blib/lib/AnyEvent/Subprocess/DefaultDelegates.pm line 16
	AnyEvent::Subprocess::DefaultDelegates::BEGIN() called at /tmp/loop_over_bdir-699717-u8pT6m/AnyEvent-Subprocess-1.102912-0/blib/lib/AnyEvent/Subprocess/DefaultDelegates.pm line 16
	eval {...} called at /tmp/loop_over_bdir-699717-u8pT6m/AnyEvent-Subprocess-1.102912-0/blib/lib/AnyEvent/Subprocess/DefaultDelegates.pm line 16
	require AnyEvent/Subprocess/DefaultDelegates.pm called at /tmp/loop_over_bdir-699717-u8pT6m/AnyEvent-Subprocess-1.102912-0/blib/lib/AnyEvent/Subprocess.pm line 11
	AnyEvent::Subprocess::BEGIN() called at /tmp/loop_over_bdir-699717-u8pT6m/AnyEvent-Subprocess-1.102912-0/blib/lib/AnyEvent/Subprocess.pm line 11
	eval {...} called at /tmp/loop_over_bdir-699717-u8pT6m/AnyEvent-Subprocess-1.102912-0/blib/lib/AnyEvent/Subprocess.pm line 11
	require AnyEvent/Subprocess.pm called at /tmp/loop_over_bdir-699717-u8pT6m/AnyEvent-Subprocess-1.102912-0/blib/lib/AnyEvent/Subprocess/Easy.pm line 10
	AnyEvent::Subprocess::Easy::BEGIN() called at /tmp/loop_over_bdir-699717-u8pT6m/AnyEvent-Subprocess-1.102912-0/blib/lib/AnyEvent/Subprocess/Easy.pm line 10
	eval {...} called at /tmp/loop_over_bdir-699717-u8pT6m/AnyEvent-Subprocess-1.102912-0/blib/lib/AnyEvent/Subprocess/Easy.pm line 10
	require AnyEvent/Subprocess/Easy.pm called at t/system.t line 5
	main::BEGIN() called at t/system.t line 5
	eval {...} called at t/system.t line 5
t/system.t .................. ok
Passing a list of values to enum is deprecated. Enum values should be wrapped in an arrayref. at /tmp/loop_over_bdir-699717-u8pT6m/AnyEvent-Subprocess-1.102912-0/blib/lib/AnyEvent/Subprocess/Types.pm line 42.
	require AnyEvent/Subprocess/Types.pm called at /tmp/loop_over_bdir-699717-u8pT6m/AnyEvent-Subprocess-1.102912-0/blib/lib/AnyEvent/Subprocess/Job/Delegate/Handle.pm line 12
	AnyEvent::Subprocess::Job::Delegate::Handle::BEGIN() called at /tmp/loop_over_bdir-699717-u8pT6m/AnyEvent-Subprocess-1.102912-0/blib/lib/AnyEvent/Subprocess/Job/Delegate/Handle.pm line 12
	eval {...} called at /tmp/loop_over_bdir-699717-u8pT6m/AnyEvent-Subprocess-1.102912-0/blib/lib/AnyEvent/Subprocess/Job/Delegate/Handle.pm line 12
	require AnyEvent/Subprocess/Job/Delegate/Handle.pm called at /tmp/loop_over_bdir-699717-u8pT6m/AnyEvent-Subprocess-1.102912-0/blib/lib/AnyEvent/Subprocess/DefaultDelegates.pm line 16
	AnyEvent::Subprocess::DefaultDelegates::BEGIN() called at /tmp/loop_over_bdir-699717-u8pT6m/AnyEvent-Subprocess-1.102912-0/blib/lib/AnyEvent/Subprocess/DefaultDelegates.pm line 16
	eval {...} called at /tmp/loop_over_bdir-699717-u8pT6m/AnyEvent-Subprocess-1.102912-0/blib/lib/AnyEvent/Subprocess/DefaultDelegates.pm line 16
	require AnyEvent/Subprocess/DefaultDelegates.pm called at /tmp/loop_over_bdir-699717-u8pT6m/AnyEvent-Subprocess-1.102912-0/blib/lib/AnyEvent/Subprocess.pm line 11
	AnyEvent::Subprocess::BEGIN() called at /tmp/loop_over_bdir-699717-u8pT6m/AnyEvent-Subprocess-1.102912-0/blib/lib/AnyEvent/Subprocess.pm line 11
	eval {...} called at /tmp/loop_over_bdir-699717-u8pT6m/AnyEvent-Subprocess-1.102912-0/blib/lib/AnyEvent/Subprocess.pm line 11
	require AnyEvent/Subprocess.pm called at t/timeout.t line 5
	main::BEGIN() called at t/timeout.t line 5
	eval {...} called at t/timeout.t line 5
t/timeout.t ................. ok
Passing a list of values to enum is deprecated. Enum values should be wrapped in an arrayref. at /tmp/loop_over_bdir-699717-u8pT6m/AnyEvent-Subprocess-1.102912-0/blib/lib/AnyEvent/Subprocess/Types.pm line 42.
	require AnyEvent/Subprocess/Types.pm called at /tmp/loop_over_bdir-699717-u8pT6m/AnyEvent-Subprocess-1.102912-0/blib/lib/AnyEvent/Subprocess/Job/Delegate/Handle.pm line 12
	AnyEvent::Subprocess::Job::Delegate::Handle::BEGIN() called at /tmp/loop_over_bdir-699717-u8pT6m/AnyEvent-Subprocess-1.102912-0/blib/lib/AnyEvent/Subprocess/Job/Delegate/Handle.pm line 12
	eval {...} called at /tmp/loop_over_bdir-699717-u8pT6m/AnyEvent-Subprocess-1.102912-0/blib/lib/AnyEvent/Subprocess/Job/Delegate/Handle.pm line 12
	require AnyEvent/Subprocess/Job/Delegate/Handle.pm called at /tmp/loop_over_bdir-699717-u8pT6m/AnyEvent-Subprocess-1.102912-0/blib/lib/AnyEvent/Subprocess/DefaultDelegates.pm line 16
	AnyEvent::Subprocess::DefaultDelegates::BEGIN() called at /tmp/loop_over_bdir-699717-u8pT6m/AnyEvent-Subprocess-1.102912-0/blib/lib/AnyEvent/Subprocess/DefaultDelegates.pm line 16
	eval {...} called at /tmp/loop_over_bdir-699717-u8pT6m/AnyEvent-Subprocess-1.102912-0/blib/lib/AnyEvent/Subprocess/DefaultDelegates.pm line 16
	require AnyEvent/Subprocess/DefaultDelegates.pm called at /tmp/loop_over_bdir-699717-u8pT6m/AnyEvent-Subprocess-1.102912-0/blib/lib/AnyEvent/Subprocess.pm line 11
	AnyEvent::Subprocess::BEGIN() called at /tmp/loop_over_bdir-699717-u8pT6m/AnyEvent-Subprocess-1.102912-0/blib/lib/AnyEvent/Subprocess.pm line 11
	eval {...} called at /tmp/loop_over_bdir-699717-u8pT6m/AnyEvent-Subprocess-1.102912-0/blib/lib/AnyEvent/Subprocess.pm line 11
	require AnyEvent/Subprocess.pm called at t/trivial.t line 4
	main::BEGIN() called at t/trivial.t line 4
	eval {...} called at t/trivial.t line 4
t/trivial.t ................. ok
Passing a list of values to enum is deprecated. Enum values should be wrapped in an arrayref. at /tmp/loop_over_bdir-699717-u8pT6m/AnyEvent-Subprocess-1.102912-0/blib/lib/AnyEvent/Subprocess/Types.pm line 42.
	require AnyEvent/Subprocess/Types.pm called at /tmp/loop_over_bdir-699717-u8pT6m/AnyEvent-Subprocess-1.102912-0/blib/lib/AnyEvent/Subprocess/Job/Delegate/Handle.pm line 12
	AnyEvent::Subprocess::Job::Delegate::Handle::BEGIN() called at /tmp/loop_over_bdir-699717-u8pT6m/AnyEvent-Subprocess-1.102912-0/blib/lib/AnyEvent/Subprocess/Job/Delegate/Handle.pm line 12
	eval {...} called at /tmp/loop_over_bdir-699717-u8pT6m/AnyEvent-Subprocess-1.102912-0/blib/lib/AnyEvent/Subprocess/Job/Delegate/Handle.pm line 12
	require AnyEvent/Subprocess/Job/Delegate/Handle.pm called at /tmp/loop_over_bdir-699717-u8pT6m/AnyEvent-Subprocess-1.102912-0/blib/lib/AnyEvent/Subprocess/DefaultDelegates.pm line 16
	AnyEvent::Subprocess::DefaultDelegates::BEGIN() called at /tmp/loop_over_bdir-699717-u8pT6m/AnyEvent-Subprocess-1.102912-0/blib/lib/AnyEvent/Subprocess/DefaultDelegates.pm line 16
	eval {...} called at /tmp/loop_over_bdir-699717-u8pT6m/AnyEvent-Subprocess-1.102912-0/blib/lib/AnyEvent/Subprocess/DefaultDelegates.pm line 16
	require AnyEvent/Subprocess/DefaultDelegates.pm called at /tmp/loop_over_bdir-699717-u8pT6m/AnyEvent-Subprocess-1.102912-0/blib/lib/AnyEvent/Subprocess.pm line 11
	AnyEvent::Subprocess::BEGIN() called at /tmp/loop_over_bdir-699717-u8pT6m/AnyEvent-Subprocess-1.102912-0/blib/lib/AnyEvent/Subprocess.pm line 11
	eval {...} called at /tmp/loop_over_bdir-699717-u8pT6m/AnyEvent-Subprocess-1.102912-0/blib/lib/AnyEvent/Subprocess.pm line 11
	require AnyEvent/Subprocess.pm called at t/userhooks.t line 5
	main::BEGIN() called at t/userhooks.t line 5
	eval {...} called at t/userhooks.t line 5
t/userhooks.t ............... ok
Passing a list of values to enum is deprecated. Enum values should be wrapped in an arrayref. at /tmp/loop_over_bdir-699717-u8pT6m/AnyEvent-Subprocess-1.102912-0/blib/lib/AnyEvent/Subprocess/Types.pm line 42.
	require AnyEvent/Subprocess/Types.pm called at /tmp/loop_over_bdir-699717-u8pT6m/AnyEvent-Subprocess-1.102912-0/blib/lib/AnyEvent/Subprocess/Job/Delegate/Handle.pm line 12
	AnyEvent::Subprocess::Job::Delegate::Handle::BEGIN() called at /tmp/loop_over_bdir-699717-u8pT6m/AnyEvent-Subprocess-1.102912-0/blib/lib/AnyEvent/Subprocess/Job/Delegate/Handle.pm line 12
	eval {...} called at /tmp/loop_over_bdir-699717-u8pT6m/AnyEvent-Subprocess-1.102912-0/blib/lib/AnyEvent/Subprocess/Job/Delegate/Handle.pm line 12
	require AnyEvent/Subprocess/Job/Delegate/Handle.pm called at /tmp/loop_over_bdir-699717-u8pT6m/AnyEvent-Subprocess-1.102912-0/blib/lib/AnyEvent/Subprocess/DefaultDelegates.pm line 16
	AnyEvent::Subprocess::DefaultDelegates::BEGIN() called at /tmp/loop_over_bdir-699717-u8pT6m/AnyEvent-Subprocess-1.102912-0/blib/lib/AnyEvent/Subprocess/DefaultDelegates.pm line 16
	eval {...} called at /tmp/loop_over_bdir-699717-u8pT6m/AnyEvent-Subprocess-1.102912-0/blib/lib/AnyEvent/Subprocess/DefaultDelegates.pm line 16
	require AnyEvent/Subprocess/DefaultDelegates.pm called at /tmp/loop_over_bdir-699717-u8pT6m/AnyEvent-Subprocess-1.102912-0/blib/lib/AnyEvent/Subprocess.pm line 11
	AnyEvent::Subprocess::BEGIN() called at /tmp/loop_over_bdir-699717-u8pT6m/AnyEvent-Subprocess-1.102912-0/blib/lib/AnyEvent/Subprocess.pm line 11
	eval {...} called at /tmp/loop_over_bdir-699717-u8pT6m/AnyEvent-Subprocess-1.102912-0/blib/lib/AnyEvent/Subprocess.pm line 11
	require AnyEvent/Subprocess.pm called at t/watchers-are-destroyed.t line 7
	main::BEGIN() called at t/watchers-are-destroyed.t line 7
	eval {...} called at t/watchers-are-destroyed.t line 7
t/watchers-are-destroyed.t .. ok
All tests successful.

Test Summary Report
-------------------
t/negative-one.t          (Wstat: 0 Tests: 5 Failed: 0)
  TODO passed:   1
Files=22, Tests=116, 21 wallclock secs ( 0.08 usr  0.03 sys + 14.00 cusr  1.78 csys = 15.89 CPU)
Result: PASS

------------------------------
PREREQUISITES
------------------------------

Prerequisite modules loaded:

requires:

    Module                      Need Have    
    --------------------------- ---- --------
    AnyEvent                    0    7.17    
    AnyEvent::Handle            0    7.17    
    AnyEvent::Util              0    7.17    
    Carp                        0    1.54    
    EV                          4.0  4.33    
    Event::Join                 0.05 0.06    
    IO::Pty                     0    1.16    
    JSON                        2    4.10    
    Moose                       1.15 2.2201  
    Moose::Role                 0    2.2201  
    MooseX::Clone               0    0.06    
    MooseX::Role::Parameterized 0    1.11    
    MooseX::StrictConstructor   0    0.21    
    MooseX::Types               0    0.50    
    MooseX::Types::Moose        0    0.50    
    MooseX::Types::Signal       0    1.101932
    namespace::autoclean        0    0.29    
    namespace::clean            0    0.27    
    POSIX                       0    2.06    
    Sub::Exporter               0    0.988   
    Try::Tiny                   0    0.31    

build_requires:

    Module                      Need Have    
    --------------------------- ---- --------
    ok                          0    1.302191
    Scalar::Util                0    1.63    
    Test::Exception             0    0.43    
    Test::More                  0    1.302191

configure_requires:

    Module                      Need Have    
    --------------------------- ---- --------
    ExtUtils::MakeMaker         6.31 7.64    


------------------------------
ENVIRONMENT AND OTHER CONTEXT
------------------------------

Environment variables:

    AUTOMATED_TESTING = 1
    LANG = en_US.UTF-8
    PATH = /home/sand/bin:/usr/local/bin:/usr/local/sbin:/usr/sbin:/usr/bin:/sbin:/bin:/usr/games:/usr/local/games:/snap/bin:/usr/local/perl/bin:/usr/X11/bin
    PERL = /tmp/basesmoker-reloperl-kHob/bin/perl
    PERL5LIB = /tmp/loop_over_bdir-699717-u8pT6m/NoZone-1.3-0/blib/arch:/tmp/loop_over_bdir-699717-u8pT6m/NoZone-1.3-0/blib/lib
    PERL5OPT = 
    PERL5_CPANPLUS_IS_RUNNING = 699725
    PERL5_CPAN_IS_RUNNING = 699725
    PERL_CANARY_STABILITY_NOPROMPT = 1
    PERL_MM_USE_DEFAULT = 1
    PERL_USE_UNSAFE_INC = 1
    SHELL = /usr/bin/zsh
    TERM = screen

Perl special variables (and OS-specific diagnostics, for MSWin32):

    $^X = /tmp/basesmoker-reloperl-kHob/bin/perl
    $UID/$EUID = 1005 / 1005
    $GID = 1005 1005
    $EGID = 1005 1005

Perl module toolchain versions installed:

    Module              Have    
    ------------------- --------
    CPAN                2.34    
    CPAN::Meta          2.150010
    Cwd                 3.86    
    ExtUtils::CBuilder  0.280237
    ExtUtils::Command   7.64    
    ExtUtils::Install   2.20    
    ExtUtils::MakeMaker 7.64    
    ExtUtils::Manifest  1.73    
    ExtUtils::ParseXS   3.46    
    File::Spec          3.87    
    JSON                4.10    
    JSON::PP            4.12    
    Module::Build       0.4231  
    Module::Signature   0.88    
    Parse::CPAN::Meta   2.150010
    Test::Harness       3.44    
    Test::More          1.302191
    YAML                1.30    
    YAML::Syck          1.34    
    version             0.9929  


--

Summary of my perl5 (revision 5 version 37 subversion 4) configuration:
  Commit id: f2582f5b18658f945a763f2edc110cdc7c5220e7
  Platform:
    osname=linux
    osvers=5.4.0-125-generic
    archname=x86_64-linux-thread-multi-ld
    uname='linux k93focal 5.4.0-125-generic #141-ubuntu smp wed aug 10 13:42:03 utc 2022 x86_64 x86_64 x86_64 gnulinux '
    config_args='-Dprefix=/home/sand/src/perl/repoperls/installed-perls/host/k93focal/v5.37.4/e463 -Dmyhostname=k93focal -Dinstallusrbinperl=n -Uversiononly -Dusedevel -des -Ui_db -Dlibswanted=cl pthread socket inet nsl gdbm dbm malloc dl ld sun m crypt sec util c cposix posix ucb BSD gdbm_compat -Duseithreads -Duselongdouble -DEBUGGING=both'
    hint=recommended
    useposix=true
    d_sigaction=define
    useithreads=define
    usemultiplicity=define
    use64bitint=define
    use64bitall=define
    uselongdouble=define
    usemymalloc=n
    default_inc_excludes_dot=define
  Compiler:
    cc='cc'
    ccflags ='-D_REENTRANT -D_GNU_SOURCE -fwrapv -DDEBUGGING -fno-strict-aliasing -pipe -fstack-protector-strong -I/usr/local/include -D_LARGEFILE_SOURCE -D_FILE_OFFSET_BITS=64'
    optimize='-O2 -g'
    cppflags='-D_REENTRANT -D_GNU_SOURCE -fwrapv -DDEBUGGING -fno-strict-aliasing -pipe -fstack-protector-strong -I/usr/local/include'
    ccversion=''
    gccversion='9.4.0'
    gccosandvers=''
    intsize=4
    longsize=8
    ptrsize=8
    doublesize=8
    byteorder=12345678
    doublekind=3
    d_longlong=define
    longlongsize=8
    d_longdbl=define
    longdblsize=16
    longdblkind=3
    ivtype='long'
    ivsize=8
    nvtype='long double'
    nvsize=16
    Off_t='off_t'
    lseeksize=8
    alignbytes=16
    prototype=define
  Linker and Libraries:
    ld='cc'
    ldflags =' -fstack-protector-strong -L/usr/local/lib'
    libpth=/usr/local/lib /usr/lib/x86_64-linux-gnu /usr/lib /usr/lib64
    libs=-lpthread -lnsl -ldl -lm -lcrypt -lutil -lc
    perllibs=-lpthread -lnsl -ldl -lm -lcrypt -lutil -lc
    libc=libc-2.31.so
    so=so
    useshrplib=false
    libperl=libperl.a
    gnulibc_version='2.31'
  Dynamic Linking:
    dlsrc=dl_dlopen.xs
    dlext=so
    d_dlsymun=undef
    ccdlflags='-Wl,-E'
    cccdlflags='-fPIC'
    lddlflags='-shared -O2 -g -L/usr/local/lib -fstack-protector-strong'


Characteristics of this binary (from libperl): 
  Compile-time options:
    DEBUGGING
    HAS_TIMES
    MULTIPLICITY
    PERLIO_LAYERS
    PERL_COPY_ON_WRITE
    PERL_DONT_CREATE_GVSV
    PERL_HASH_FUNC_SIPHASH13
    PERL_HASH_USE_SBOX32
    PERL_MALLOC_WRAP
    PERL_OP_PARENT
    PERL_PRESERVE_IVUV
    PERL_TRACK_MEMPOOL
    PERL_USE_DEVEL
    PERL_USE_SAFE_PUTENV
    USE_64_BIT_ALL
    USE_64_BIT_INT
    USE_ITHREADS
    USE_LARGE_FILES
    USE_LOCALE
    USE_LOCALE_COLLATE
    USE_LOCALE_CTYPE
    USE_LOCALE_NUMERIC
    USE_LOCALE_TIME
    USE_LONG_DOUBLE
    USE_PERLIO
    USE_PERL_ATOF
    USE_REENTRANT_API
    USE_THREAD_SAFE_LOCALE
  Built under linux
  Compiled at Oct 10 2022 06:00:24
  %ENV:
    PERL="/tmp/basesmoker-reloperl-kHob/bin/perl"
    PERL5LIB="/tmp/loop_over_bdir-699717-u8pT6m/NoZone-1.3-0/blib/arch:/tmp/loop_over_bdir-699717-u8pT6m/NoZone-1.3-0/blib/lib"
    PERL5OPT=""
    PERL5_CPANPLUS_IS_RUNNING="699725"
    PERL5_CPAN_IS_RUNNING="699725"
    PERL_CANARY_STABILITY_NOPROMPT="1"
    PERL_MM_USE_DEFAULT="1"
    PERL_USE_UNSAFE_INC="1"
  @INC:
    /tmp/loop_over_bdir-699717-u8pT6m/NoZone-1.3-0/blib/arch
    /tmp/loop_over_bdir-699717-u8pT6m/NoZone-1.3-0/blib/lib
    /home/sand/src/perl/repoperls/installed-perls/host/k93focal/v5.37.4/e463/lib/site_perl/5.37.4/x86_64-linux-thread-multi-ld
    /home/sand/src/perl/repoperls/installed-perls/host/k93focal/v5.37.4/e463/lib/site_perl/5.37.4
    /home/sand/src/perl/repoperls/installed-perls/host/k93focal/v5.37.4/e463/lib/5.37.4/x86_64-linux-thread-multi-ld
    /home/sand/src/perl/repoperls/installed-perls/host/k93focal/v5.37.4/e463/lib/5.37.4
    .