Dancer v1.3500 Perl 5 v5.20.1 amd64-freebsd

Status
Pass
From
Nigel Horne
Dist
Dancer v1.3500
Platform
Perl 5 v5.20.1 amd64-freebsd
Date
2018-10-13 02:16:57
ID
0f537298-ce8e-11e8-8fb1-ef5133556b3f
This distribution has been tested as part of the CPAN Testers
project, supporting the Perl programming language.  See
http://wiki.cpantesters.org/ for more information or email
questions to cpan-testers-discuss@perl.org


--
Dear David Precious,

This is a computer-generated report for Dancer-1.3500
on perl 5.20.1, created by CPAN-Reporter-1.2018.

Thank you for uploading your work to CPAN.  Congratulations!
All tests were successful.

Sections of this report:

    * Tester comments
    * Program output
    * Prerequisites
    * Environment and other context

------------------------------
TESTER COMMENTS
------------------------------

Additional comments from tester:

this report is from an automated smoke testing program
and was not reviewed by a human for accuracy

------------------------------
PROGRAM OUTPUT
------------------------------

Output from '/usr/bin/make test':

PERL_DL_NONLAZY=1 "/mnt/nas/home/netgate3/njh/perl5/perlbrew/perls/perl-5.20.1/bin/perl" "-MExtUtils::Command::MM" "-MTest::Harness" "-e" "undef *Test::Harness::Switches; test_harness(0, 'blib/lib', 'blib/arch')" t/*.t t/00_base/*.t t/01_config/*.t t/02_request/*.t t/03_route_handler/*.t t/04_static_file/*.t t/05_views/*.t t/06_helpers/*.t t/07_apphandlers/*.t t/08_session/*.t t/09_cookies/*.t t/10_template/*.t t/11_logger/*.t t/12_response/*.t t/13_engines/*.t t/14_serializer/*.t t/15_plugins/*.t t/16_timer/*.t t/17_apps/*.t t/19_dancer/*.t t/20_deprecation/*.t t/21_dependents/*.t t/22_hooks/*.t t/23_dancer_tests/*.t t/24_deployment/*.t t/25_exceptions/*.t
# 
# Versions for all modules listed in MYMETA.json (including optional ones):
# 
# === Configure Requires ===
# 
#     Module              Want Have
#     ------------------- ---- ----
#     ExtUtils::MakeMaker  any 7.34
# 
# === Configure Suggests ===
# 
#     Module      Want    Have
#     -------- ------- -------
#     JSON::PP 2.27300 2.97001
# 
# === Build Requires ===
# 
#     Module              Want Have
#     ------------------- ---- ----
#     ExtUtils::MakeMaker  any 7.34
# 
# === Test Requires ===
# 
#     Module               Want     Have
#     ------------------- ----- --------
#     Data::Dump            any     1.23
#     Devel::Hide           any   0.0010
#     Digest::MD5           any     2.55
#     ExtUtils::MakeMaker   any     7.34
#     File::Spec            any     3.48
#     HTTP::CookieJar     0.008    0.008
#     HTTP::Request         any     6.18
#     HTTP::Tiny          0.014    0.076
#     IO::Handle            any     1.39
#     IO::Socket::INET      any     1.39
#     IPC::Open3            any     1.16
#     JSON                 2.90  2.97001
#     Plack::Builder        any    undef
#     Test::More            any 1.302140
#     Test::NoWarnings      any     1.04
#     blib                 1.01     1.06
#     utf8                  any  1.13_01
# 
# === Test Recommends ===
# 
#     Module         Want     Have
#     ---------- -------- --------
#     CPAN::Meta 2.120900 2.150010
# 
# === Runtime Requires ===
# 
#     Module                      Want     Have
#     -------------------------- ----- --------
#     Carp                         any     1.50
#     Cwd                          any     3.48
#     Data::Dumper                 any    2.161
#     Encode                       any     2.98
#     Exporter                     any     5.72
#     Fcntl                        any     1.11
#     File::Basename               any     2.85
#     File::Copy                   any     2.30
#     File::Path                   any     2.16
#     File::Spec                   any     3.48
#     File::Spec::Functions        any     3.48
#     File::Temp                   any   0.2308
#     File::stat                   any     1.07
#     FindBin                      any     1.51
#     Getopt::Long                 any      2.5
#     HTTP::Body                   any     1.22
#     HTTP::Date                   any     6.02
#     HTTP::Headers                any     6.18
#     HTTP::Server::Simple::PSGI   any     0.16
#     HTTP::Tiny                 0.014    0.076
#     Hash::Merge::Simple          any    0.051
#     IO::File                     any     1.39
#     MIME::Types                  any     2.17
#     Module::Runtime              any    0.016
#     POSIX                        any  1.38_03
#     Pod::Usage                   any     1.69
#     Scalar::Util                 any     1.38
#     Test::Builder                any 1.302140
#     Test::More                   any 1.302140
#     Time::HiRes                  any   1.9758
#     Try::Tiny                    any     0.30
#     URI                          any     1.74
#     URI::Escape                  any     3.31
#     base                         any     2.23
#     bytes                        any     1.04
#     constant                     any     1.33
#     lib                          any     0.63
#     overload                     any     1.22
#     parent                       any    0.237
#     strict                       any     1.08
#     vars                         any     1.03
#     warnings                     any     1.23
# 
# === Runtime Recommends ===
# 
#     Module      Want Have
#     ----------- ---- ----
#     MIME::Types 2.17 2.17
#     YAML         any 1.26
#     YAML::XS     any 0.74
# 
t/00-report-prereqs.t ............................... ok
t/00_base/000_create_fake_env.t ..................... ok
# Testing Dancer 1.3500, Perl 5.020001, /mnt/nas/home/netgate3/njh/perl5/perlbrew/perls/perl-5.20.1/bin/perl
t/00_base/001_load.t ................................ ok
t/00_base/002_strict_and_warnings.t ................. ok
t/00_base/003_syntax.t .............................. ok
t/00_base/004_args.t ................................ ok
t/00_base/005_module_loader.t ....................... ok
t/00_base/007_load_syntax.t ......................... ok
t/00_base/008_export.t .............................. ok
t/00_base/009_syntax_export.t ....................... ok
t/00_base/010_export_script.t ....................... ok
t/00_base/06_dancer_object.t ........................ ok
t/00_base/08_pod_coverage_dancer.t .................. skipped: Test::Pod::Coverage 1.08 required for testing POD coverage
t/00_base/09_load_app.t ............................. ok
t/00_base/11_file_utils.t ........................... ok
t/00_base/12_utf8_charset.t ......................... ok
t/00_base/13_dancer_singleton.t ..................... ok
t/00_base/15_dependent_modules.t .................... skipped: Author tests not required for installation
t/00_base/17_globalwarnings_config_on.t ............. ok
t/00_base/config.t .................................. ok
t/00_base/easymocker.t .............................. ok
t/00_base/normalize_path.t .......................... ok
# Test::TCP 2.19 loaded successfully
# Test::More 1.302140 loaded successfully
# JSON 2.97001 loaded successfully
# YAML 1.26 loaded successfully
# Clone 0.39 loaded successfully
# Plack 1.0047 loaded successfully
# XML::Simple is not available
# HTTP::Parser::XS is not available
t/00_base/optional-module-versions.t ................ ok
t/00_base/uri_for.t ................................. ok
t/00-compile.t ...................................... ok
t/01_config/01_settings.t ........................... ok
t/01_config/02_mime_type.t .......................... ok
t/01_config/03_logger.t ............................. ok
t/01_config/04_config_file.t ........................ ok
# Testing YAML parsing with YAML::XS version 0.74
# Testing YAML parsing with YAML version 1.26
t/01_config/06_config_api.t ......................... ok
t/01_config/05_serializers.t ........................ ok
t/01_config/06_stack_trace.t ........................ skipped: tests require module 'Template' to be installed
t/01_config/07_strict_config.t ...................... ok
t/01_config/yaml_dependency.t ....................... ok
t/01_config/08_environments.t ....................... ok
t/02_request/000_create_fake_env.t .................. ok
t/02_request/01_load.t .............................. ok
t/02_request/04_custom.t ............................ ok
t/02_request/04_forward.t ........................... ok
t/02_request/05_cgi_pm_compat.t ..................... ok
t/02_request/06_init_env.t .......................... ok
t/02_request/08_param_array.t ....................... ok
# OK
t/02_request/07_raw_data.t .......................... ok
t/02_request/08_params.t ............................ ok
t/02_request/10_mixed_params.t ...................... ok
t/02_request/11_accessors.t ......................... ok
t/02_request/12_base.t .............................. ok
t/02_request/13_ajax.t .............................. ok
t/02_request/14_uploads.t ........................... ok
t/02_request/15_headers.t ........................... ok
t/02_request/16_delete.t ............................ ok
t/02_request/17_uri_base.t .......................... ok
t/02_request/18_param_accessor.t .................... ok
t/02_request/19_json_body.t ......................... ok
# Selected 127.0.0.1:43663
t/02_request/20_body.t .............................. ok
t/02_request/21_dancer_response_multiple_params.t ... ok
t/03_route_handler/01_http_methods.t ................ ok
t/03_route_handler/02_params.t ...................... ok
t/03_route_handler/04_routes_matching.t ............. ok
t/03_route_handler/04_wildcards_megasplat.t ......... ok
t/03_route_handler/05_filter.t ...................... ok
t/03_route_handler/05_unicode.t ..................... ok
t/03_route_handler/06_redirect.t .................... ok
t/03_route_handler/07_compilation_warning.t ......... ok
t/03_route_handler/03_routes_api.t .................. ok
t/03_route_handler/12_response.t .................... ok
t/03_route_handler/12_response_halt.t ............... ok
t/03_route_handler/14_options.t ..................... ok
t/03_route_handler/15_prefix.t ...................... ok
t/03_route_handler/16_caching.t ..................... ok
t/03_route_handler/16_embedded_prefixes.t ........... ok
t/03_route_handler/18_auto_page.t ................... ok
t/03_route_handler/21_ajax.t ........................ ok
t/03_route_handler/08_errors.t ...................... ok
t/03_route_handler/24_multiple_params.t ............. ok
t/03_route_handler/24_named_captures.t .............. ok
t/03_route_handler/28_plack_mount.t ................. ok
t/03_route_handler/29_forward.t ..................... ok
t/03_route_handler/29_redirect_immediately.t ........ ok
t/03_route_handler/30_forward_session.t ............. ok
t/03_route_handler/23_filter_error_catching.t ....... ok
t/03_route_handler/33_vars.t ........................ ok
t/03_route_handler/34_forward_body_post.t ........... ok
t/03_route_handler/35_no_further_routes.t ........... ok
t/03_route_handler/36_false_routes.t ................ ok
t/03_route_handler/99_bugs.t ........................ ok
t/04_static_file/001_base.t ......................... ok
t/04_static_file/003_mime_types_reinit.t ............ ok
t/04_static_file/01_mime_types.t .................... ok
t/03_route_handler/31_infinite_loop.t ............... ok
t/04_static_file/02_dir_traversal.t ................. ok
t/05_views/002_view_rendering.t ..................... ok
t/06_helpers/000_create_fake_env.t .................. ok
t/05_views/03_layout.t .............................. skipped: Template is needed to run this tests
t/06_helpers/02_http_status.t ....................... ok
t/06_helpers/03_content_type.t ...................... ok
t/06_helpers/04_status.t ............................ ok
t/06_helpers/01_send_file.t ......................... ok
t/06_helpers/06_load.t .............................. ok
t/07_apphandlers/000_create_fake_env.t .............. ok
t/07_apphandlers/01_base.t .......................... ok
t/07_apphandlers/02_apache2_plack.t ................. ok
t/07_apphandlers/03_psgi_app.t ...................... ok
t/07_apphandlers/04_standalone_app.t ................ ok
t/07_apphandlers/05_middlewares.t ................... ok
t/07_apphandlers/05_psgi_api.t ...................... ok
t/07_apphandlers/06_debug.t ......................... skipped: Test::Output is needed for this test
t/07_apphandlers/07_middleware_map.t ................ ok
t/07_apphandlers/08_is_text.t ....................... ok
t/08_session/000_create_fake_env.t .................. ok
t/08_session/01_load.t .............................. ok
Use of uninitialized value in subroutine entry at /var/tmp/build/Dancer-1.3500-4/blib/lib/Dancer/FileUtils.pm line 32.
t/08_session/02_dependency_check.t .................. ok
t/08_session/03_http_requests.t ..................... ok
t/08_session/04_api.t ............................... ok
t/08_session/05_yaml.t .............................. ok
t/08_session/06_abstract.t .......................... ok
t/06_helpers/05_send_error.t ........................ ok
t/08_session/07_session_expires.t ................... ok
t/08_session/08_simple.t ............................ ok
t/08_session/09_session.t ........................... ok
t/08_session/10_filter.t ............................ ok
t/08_session/11_session_secure.t .................... ok
t/08_session/12_session_name.t ...................... ok
t/08_session/14_session_domain.t .................... ok
t/08_session/13_session_httponly.t .................. ok
t/09_cookies/000_create_fake_env.t .................. ok
t/09_cookies/01_use.t ............................... ok
t/09_cookies/02_cookie_object.t ..................... ok
t/09_cookies/04_secure.t ............................ ok
t/09_cookies/03_persistence.t ....................... ok
t/09_cookies/06_expires.t ........................... ok
t/09_cookies/05_api.t ............................... ok
t/10_template/000_create_fake_env.t ................. ok
t/10_template/02_abstract_class.t ................... ok
t/10_template/01_factory.t .......................... skipped: Template needed
t/10_template/05_template_toolkit.t ................. skipped: need Template to run this test
t/10_template/03_simple.t ........................... ok
t/10_template/05_template_toolkit_fromdata.t ........ skipped: module Template::Provider::FromDATA required
t/10_template/extension.t ........................... ok
t/11_logger/000_create_fake_env.t ................... ok
t/11_logger/01_abstract.t ........................... ok
t/11_logger/02_factory.t ............................ ok
t/11_logger/03_file.t ............................... ok
t/11_logger/04_console.t ............................ skipped: Test::Output is needed for this test
t/11_logger/05_format.t ............................. ok
t/11_logger/06_null.t ............................... ok
t/11_logger/07_diag.t ............................... ok
t/11_logger/08_serialize.t .......................... skipped: Test::Output is needed for this test
t/11_logger/09_capture.t ............................ ok
t/11_logger/10_note.t ............................... ok
t/10_template/template.t ............................ ok
t/11_logger/unicode.t ............................... ok
t/12_response/000_create_fake_env.t ................. ok
t/12_response/01_CRLF_injection.t ................... ok
t/11_logger/11_runtime_file.t ....................... ok
t/12_response/02_headers.t .......................... ok
t/12_response/03_charset.t .......................... ok
Wide character in print at /var/tmp/build/HTTP-Server-Simple-PSGI-0.16-4/blib/lib/HTTP/Server/Simple/PSGI.pm line 132, <DATA> line 16.
t/12_response/05_api.t .............................. ok
Wide character in print at /var/tmp/build/HTTP-Server-Simple-PSGI-0.16-4/blib/lib/HTTP/Server/Simple/PSGI.pm line 132, <DATA> line 16.
t/12_response/04_charset_server.t ................... ok
t/12_response/06_filter_halt_status.t ............... ok
t/12_response/07_cookies.t .......................... ok
t/12_response/09_headers_to_array.t ................. ok
t/12_response/08_drop_content.t ..................... ok
Devel::Hide hides Clone.pm
Data exceeding 100 levels, truncating
t/12_response/10_error_dumper.t ..................... ok
t/12_response/10_error_dumper_without_clone.t ....... ok
t/13_engines/00_load.t .............................. ok
t/12_response/11_CVE-2012-5572.t .................... ok
t/13_engines/02_template_init.t ..................... ok
t/14_serializer/02_request_json.t ................... ok
t/14_serializer/01_helpers.t ........................ ok
t/14_serializer/03_request_yaml.t ................... ok
t/14_serializer/04_request_xml.t .................... ok
t/14_serializer/05_request_mutable.t ................ ok
t/14_serializer/06_api.t ............................ ok
t/14_serializer/07_request_jsonp.t .................. ok
t/14_serializer/17_clear_serializer.t ............... ok
t/14_serializer/18_mutable_template_or_serialize.t .. ok
t/15_plugins/000_create_fake_env.t .................. ok
t/14_serializer/99_bugs.t ........................... ok
t/15_plugins/01_register.t .......................... ok
t/15_plugins/02_config.t ............................ ok
t/15_plugins/03_namespace.t ......................... ok
t/15_plugins/04_apps_and_plugins.t .................. ok
t/15_plugins/05_keywords.t .......................... ok
t/15_plugins/05_plugins_and_OO.t .................... ok
t/15_plugins/05b_plugins_and_c3.t ................... ok
t/15_plugins/06_hook.t .............................. ok
t/15_plugins/07_ajax_plack_builder.t ................ ok
t/17_apps/000_create_fake_env.t ..................... ok
t/16_timer/00_base.t ................................ ok
t/17_apps/00_base.t ................................. ok
t/17_apps/01_settings.t ............................. ok
t/17_apps/02_load_app.t ............................. ok
t/17_apps/03_prefix.t ............................... ok
t/17_apps/05_api.t .................................. ok
t/19_dancer/02_script_version_from.t ................ ok
t/20_deprecation/01_api.t ........................... ok
t/21_dependents/Dancer-Session-Cookie.t ............. skipped: Dancer::Session::Cookie 0.14 required
t/22_hooks/00_syntax.t .............................. ok
t/22_hooks/01_api.t ................................. ok
t/19_dancer/01_script.t ............................. ok
t/22_hooks/02_before.t .............................. ok
t/22_hooks/04_template.t ............................ ok
t/22_hooks/03_after.t ............................... ok
t/22_hooks/05_layout.t .............................. ok
t/22_hooks/06_serializer.t .......................... ok
t/22_hooks/07_file.t ................................ ok
t/22_hooks/09_before_error_init.t ................... ok
t/22_hooks/08_error.t ............................... ok
t/22_hooks/10_error_in_hook.t ....................... ok
t/23_dancer_tests/01_basic.t ........................ ok
t/23_dancer_tests/02_tests_functions.t .............. ok
t/23_dancer_tests/03_uris.t ......................... ok
t/24_deployment/01_multi_webapp.t ................... ok
t/22_hooks/11_error_in_hook.t ....................... ok
t/25_exceptions/02_exceptions.t ..................... ok
t/25_exceptions/03_exceptions.t ..................... ok
t/25_exceptions/04_exceptions_warn.t ................ ok
t/author-pod-syntax.t ............................... skipped: these tests are for testing by the author
t/pod.t ............................................. skipped: Author tests not required for installation
t/release-distmeta.t ................................ skipped: these tests are for release candidate testing
t/25_exceptions/01_exceptions.t ..................... ok
All tests successful.
Files=222, Tests=2027, 508 wallclock secs ( 3.29 usr  1.02 sys + 728.41 cusr 179.38 csys = 912.09 CPU)
Result: PASS

------------------------------
PREREQUISITES
------------------------------

Prerequisite modules loaded:

requires:

    Module                     Need  Have    
    -------------------------- ----- --------
    base                       0     2.23    
    bytes                      0     1.04    
    Carp                       0     1.50    
    constant                   0     1.33    
    Cwd                        0     3.48    
    Data::Dumper               0     2.161   
    Encode                     0     2.98    
    Exporter                   0     5.72    
    Fcntl                      0     1.11    
    File::Basename             0     2.85    
    File::Copy                 0     2.30    
    File::Path                 0     2.16    
    File::Spec                 0     3.48    
    File::Spec::Functions      0     3.48    
    File::stat                 0     1.07    
    File::Temp                 0     0.2308  
    FindBin                    0     1.51    
    Getopt::Long               0     2.5     
    Hash::Merge::Simple        0     0.051   
    HTTP::Body                 0     1.22    
    HTTP::Date                 0     6.02    
    HTTP::Headers              0     6.18    
    HTTP::Server::Simple::PSGI 0     0.16    
    HTTP::Tiny                 0.014 0.076   
    IO::File                   0     1.39    
    lib                        0     0.63    
    MIME::Types                0     2.17    
    Module::Runtime            0     0.016   
    overload                   0     1.22    
    parent                     0     0.237   
    perl                       5.006 5.020001
    Pod::Usage                 0     1.69    
    POSIX                      0     1.38_03 
    Scalar::Util               0     1.38    
    strict                     0     1.08    
    Test::Builder              0     1.302140
    Test::More                 0     1.302140
    Time::HiRes                0     1.9758  
    Try::Tiny                  0     0.30    
    URI                        0     1.74    
    URI::Escape                0     3.31    
    vars                       0     1.03    
    warnings                   0     1.23    

build_requires:

    Module                     Need  Have    
    -------------------------- ----- --------
    blib                       1.01  1.06    
    Data::Dump                 0     1.23    
    Devel::Hide                0     0.0010  
    Digest::MD5                0     2.55    
    ExtUtils::MakeMaker        0     7.34    
    File::Spec                 0     3.48    
    HTTP::CookieJar            0.008 0.008   
    HTTP::Request              0     6.18    
    HTTP::Tiny                 0.014 0.076   
    IO::Handle                 0     1.39    
    IO::Socket::INET           0     1.39    
    IPC::Open3                 0     1.16    
    JSON                       2.90  2.97001 
    Plack::Builder             0     0       
    Test::More                 0     1.302140
    Test::NoWarnings           0     1.04    
    utf8                       0     1.13_01 

configure_requires:

    Module                     Need  Have    
    -------------------------- ----- --------
    ExtUtils::MakeMaker        0     7.34    


------------------------------
ENVIRONMENT AND OTHER CONTEXT
------------------------------

Environment variables:

    AUTOMATED_TESTING = 1
    HARNESS_OPTIONS = j2
    NONINTERACTIVE_TESTING = 1
    PATH = /home/njh/perl5/perlbrew/bin:/home/njh/perl5/perlbrew/perls/perl-5.20.1/bin:/home/njh/src/njh/smoker/bin:/sbin:/bin:/usr/sbin:/usr/bin:/usr/local/sbin:/usr/local/bin
    PERL5LIB = /var/tmp/build/Plack-1.0047-4/blib/arch:/var/tmp/build/Plack-1.0047-4/blib/lib:/var/tmp/build/Test-TCP-2.19-4/blib/arch:/var/tmp/build/Test-TCP-2.19-4/blib/lib:/var/tmp/build/HTTP-Headers-Fast-0.21-4/blib/arch:/var/tmp/build/HTTP-Headers-Fast-0.21-4/blib/lib:/var/tmp/build/HTTP-Entity-Parser-0.21-4/blib/arch:/var/tmp/build/HTTP-Entity-Parser-0.21-4/blib/lib:/var/tmp/build/WWW-Form-UrlEncoded-0.25-4/blib/arch:/var/tmp/build/WWW-Form-UrlEncoded-0.25-4/blib/lib:/var/tmp/build/Stream-Buffered-0.03-4/blib/arch:/var/tmp/build/Stream-Buffered-0.03-4/blib/lib:/var/tmp/build/JSON-MaybeXS-1.004000-6/blib/arch:/var/tmp/build/JSON-MaybeXS-1.004000-6/blib/lib:/var/tmp/build/Cpanel-JSON-XS-4.06-6/blib/arch:/var/tmp/build/Cpanel-JSON-XS-4.06-6/blib/lib:/var/tmp/build/Hash-MultiValue-0.16-4/blib/arch:/var/tmp/build/Hash-MultiValue-0.16-4/blib/lib:/var/tmp/build/HTTP-MultiPartParser-0.02-4/blib/arch:/var/tmp/build/HTTP-MultiPartParser-0.02-4/blib/lib:/var/tmp/build/Filesys-Notify-Simple-0.13-4/blib/arch:/var/tmp/build/Filesys-Notify-Simple-0.13-4/blib/lib:/var/tmp/build/Test-SharedFork-0.35-4/blib/arch:/var/tmp/build/Test-SharedFork-0.35-4/blib/lib:/var/tmp/build/File-ShareDir-1.116-4/blib/arch:/var/tmp/build/File-ShareDir-1.116-4/blib/lib:/var/tmp/build/Class-Inspector-1.32-4/blib/arch:/var/tmp/build/Class-Inspector-1.32-4/blib/lib:/var/tmp/build/Devel-StackTrace-AsHTML-0.15-4/blib/arch:/var/tmp/build/Devel-StackTrace-AsHTML-0.15-4/blib/lib:/var/tmp/build/Cookie-Baker-0.10-4/blib/arch:/var/tmp/build/Cookie-Baker-0.10-4/blib/lib:/var/tmp/build/Test-Time-0.07-4/blib/arch:/var/tmp/build/Test-Time-0.07-4/blib/lib:/var/tmp/build/Apache-LogFormat-Compiler-0.35-4/blib/arch:/var/tmp/build/Apache-LogFormat-Compiler-0.35-4/blib/lib:/var/tmp/build/Test-MockTime-0.17-4/blib/arch:/var/tmp/build/Test-MockTime-0.17-4/blib/lib:/var/tmp/build/POSIX-strftime-Compiler-0.42-4/blib/arch:/var/tmp/build/POSIX-strftime-Compiler-0.42-4/blib/lib:/var/tmp/build/Module-Build-Tiny-0.039-4/blib/arch:/var/tmp/build/Module-Build-Tiny-0.039-4/blib/lib:/var/tmp/build/ExtUtils-InstallPaths-0.012-4/blib/arch:/var/tmp/build/ExtUtils-InstallPaths-0.012-4/blib/lib:/var/tmp/build/ExtUtils-Helpers-0.026-4/blib/arch:/var/tmp/build/ExtUtils-Helpers-0.026-4/blib/lib:/var/tmp/build/ExtUtils-Config-0.008-4/blib/arch:/var/tmp/build/ExtUtils-Config-0.008-4/blib/lib:/var/tmp/build/File-ShareDir-Install-0.13-4/blib/arch:/var/tmp/build/File-ShareDir-Install-0.13-4/blib/lib:/var/tmp/build/Module-Runtime-0.016-11/blib/arch:/var/tmp/build/Module-Runtime-0.016-11/blib/lib:/var/tmp/build/MIME-Types-2.17-8/blib/arch:/var/tmp/build/MIME-Types-2.17-8/blib/lib:/var/tmp/build/Hash-Merge-Simple-0.051-4/blib/arch:/var/tmp/build/Hash-Merge-Simple-0.051-4/blib/lib:/var/tmp/build/Test-Most-0.35-4/blib/arch:/var/tmp/build/Test-Most-0.35-4/blib/lib:/var/tmp/build/Test-Differences-0.64-4/blib/arch:/var/tmp/build/Test-Differences-0.64-4/blib/lib:/var/tmp/build/Exception-Class-1.44-4/blib/arch:/var/tmp/build/Exception-Class-1.44-4/blib/lib:/var/tmp/build/Devel-StackTrace-2.03-4/blib/arch:/var/tmp/build/Devel-StackTrace-2.03-4/blib/lib:/var/tmp/build/Class-Data-Inheritable-0.08-4/blib/arch:/var/tmp/build/Class-Data-Inheritable-0.08-4/blib/lib:/var/tmp/build/Clone-0.39-4/blib/arch:/var/tmp/build/Clone-0.39-4/blib/lib:/var/tmp/build/HTTP-Server-Simple-PSGI-0.16-4/blib/arch:/var/tmp/build/HTTP-Server-Simple-PSGI-0.16-4/blib/lib:/var/tmp/build/HTTP-Server-Simple-0.52-4/blib/arch:/var/tmp/build/HTTP-Server-Simple-0.52-4/blib/lib:/var/tmp/build/HTTP-CookieJar-0.008-4/blib/arch:/var/tmp/build/HTTP-CookieJar-0.008-4/blib/lib:/var/tmp/build/Test-Requires-0.10-7/blib/arch:/var/tmp/build/Test-Requires-0.10-7/blib/lib:/var/tmp/build/HTTP-Body-1.22-4/blib/arch:/var/tmp/build/HTTP-Body-1.22-4/blib/lib:/var/tmp/build/Devel-Hide-0.0010-6/blib/arch:/var/tmp/build/Devel-Hide-0.0010-6/blib/lib:/var/tmp/build/Data-Dump-1.23-5/blib/arch:/var/tmp/build/Data-Dump-1.23-5/blib/lib
    PERL5OPT = 
    PERL5_CPANPLUS_IS_RUNNING = 17896
    PERL5_CPAN_IS_RUNNING = 17896
    PERLBREW_HOME = /home/njh/.perlbrew
    PERLBREW_MANPATH = /home/njh/perl5/perlbrew/perls/perl-5.20.1/man
    PERLBREW_PATH = /home/njh/perl5/perlbrew/bin:/home/njh/perl5/perlbrew/perls/perl-5.20.1/bin
    PERLBREW_PERL = perl-5.20.1
    PERLBREW_ROOT = /home/njh/perl5/perlbrew
    PERLBREW_SHELLRC_VERSION = 0.84
    PERLBREW_VERSION = 0.84
    PERL_MM_USE_DEFAULT = 1
    SHELL = /bin/sh
    TMPDIR = /tmp/testwrapper.16270

Perl special variables (and OS-specific diagnostics, for MSWin32):

    $^X = /mnt/nas/home/netgate3/njh/perl5/perlbrew/perls/perl-5.20.1/bin/perl
    $UID/$EUID = 1000 / 1000
    $GID = 1000 1000 0
    $EGID = 1000 1000 0

Perl module toolchain versions installed:

    Module              Have    
    ------------------- --------
    CPAN                2.16    
    CPAN::Meta          2.150010
    Cwd                 3.48    
    ExtUtils::CBuilder  0.280230
    ExtUtils::Command   7.34    
    ExtUtils::Install   2.14    
    ExtUtils::MakeMaker 7.34    
    ExtUtils::Manifest  1.71    
    ExtUtils::ParseXS   3.35    
    File::Spec          3.48    
    JSON                2.97001 
    JSON::PP            2.97001 
    Module::Build       0.4224  
    Module::Signature   n/a     
    Parse::CPAN::Meta   2.150010
    Test::Harness       3.42    
    Test::More          1.302140
    YAML                1.26    
    YAML::Syck          1.30    
    version             0.9924  


--

Summary of my perl5 (revision 5 version 20 subversion 1) configuration:
   
  Platform:
    osname=freebsd, osvers=11.2-release, archname=amd64-freebsd
    uname='freebsd netgate3 11.2-release freebsd 11.2-release #0 r335510: fri jun 22 04:32:14 utc 2018 root@releng2.nyi.freebsd.org:usrobjusrsrcsysgeneric amd64 '
    config_args='-de -Dprefix=/home/njh/perl5/perlbrew/perls/perl-5.20.1 -Aeval:scriptdir=/home/njh/perl5/perlbrew/perls/perl-5.20.1/bin'
    hint=recommended, useposix=true, d_sigaction=define
    useithreads=undef, usemultiplicity=undef
    use64bitint=define, use64bitall=define, uselongdouble=undef
    usemymalloc=n, bincompat5005=undef
  Compiler:
    cc='cc', ccflags ='-DHAS_FPSETMASK -DHAS_FLOATINGPOINT_H -fno-strict-aliasing -pipe -fstack-protector -I/usr/local/include',
    optimize='-O2',
    cppflags='-DHAS_FPSETMASK -DHAS_FLOATINGPOINT_H -fno-strict-aliasing -pipe -fstack-protector -I/usr/local/include'
    ccversion='', gccversion='4.2.1 Compatible FreeBSD Clang 6.0.0 (tags/RELEASE_600/final 326565)', gccosandvers=''
    intsize=4, longsize=8, ptrsize=8, doublesize=8, byteorder=12345678
    d_longlong=define, longlongsize=8, d_longdbl=define, longdblsize=16
    ivtype='long', ivsize=8, nvtype='double', nvsize=8, Off_t='off_t', lseeksize=8
    alignbytes=8, prototype=define
  Linker and Libraries:
    ld='cc', ldflags ='-Wl,-E  -fstack-protector -L/usr/local/lib'
    libpth=/usr/lib /usr/local/lib /usr/lib/clang/6.0.0/lib /usr/lib
    libs=-ldl -lm -lcrypt -lutil -lc
    perllibs=-ldl -lm -lcrypt -lutil -lc
    libc=, so=so, useshrplib=false, libperl=libperl.a
    gnulibc_version=''
  Dynamic Linking:
    dlsrc=dl_dlopen.xs, dlext=so, d_dlsymun=undef, ccdlflags=' '
    cccdlflags='-DPIC -fPIC', lddlflags='-shared  -L/usr/local/lib -fstack-protector'


Characteristics of this binary (from libperl): 
  Compile-time options: HAS_TIMES PERLIO_LAYERS PERL_DONT_CREATE_GVSV
                        PERL_HASH_FUNC_ONE_AT_A_TIME_HARD PERL_MALLOC_WRAP
                        PERL_NEW_COPY_ON_WRITE PERL_PRESERVE_IVUV
                        USE_64_BIT_ALL USE_64_BIT_INT USE_LARGE_FILES
                        USE_LOCALE USE_LOCALE_COLLATE USE_LOCALE_CTYPE
                        USE_LOCALE_NUMERIC USE_PERLIO USE_PERL_ATOF
  Locally applied patches:
	Devel::PatchPerl 1.52
  Built under freebsd
  Compiled at Sep  9 2018 12:44:08
  %ENV:
    PERL5LIB="/var/tmp/build/Plack-1.0047-4/blib/arch:/var/tmp/build/Plack-1.0047-4/blib/lib:/var/tmp/build/Test-TCP-2.19-4/blib/arch:/var/tmp/build/Test-TCP-2.19-4/blib/lib:/var/tmp/build/HTTP-Headers-Fast-0.21-4/blib/arch:/var/tmp/build/HTTP-Headers-Fast-0.21-4/blib/lib:/var/tmp/build/HTTP-Entity-Parser-0.21-4/blib/arch:/var/tmp/build/HTTP-Entity-Parser-0.21-4/blib/lib:/var/tmp/build/WWW-Form-UrlEncoded-0.25-4/blib/arch:/var/tmp/build/WWW-Form-UrlEncoded-0.25-4/blib/lib:/var/tmp/build/Stream-Buffered-0.03-4/blib/arch:/var/tmp/build/Stream-Buffered-0.03-4/blib/lib:/var/tmp/build/JSON-MaybeXS-1.004000-6/blib/arch:/var/tmp/build/JSON-MaybeXS-1.004000-6/blib/lib:/var/tmp/build/Cpanel-JSON-XS-4.06-6/blib/arch:/var/tmp/build/Cpanel-JSON-XS-4.06-6/blib/lib:/var/tmp/build/Hash-MultiValue-0.16-4/blib/arch:/var/tmp/build/Hash-MultiValue-0.16-4/blib/lib:/var/tmp/build/HTTP-MultiPartParser-0.02-4/blib/arch:/var/tmp/build/HTTP-MultiPartParser-0.02-4/blib/lib:/var/tmp/build/Filesys-Notify-Simple-0.13-4/blib/arch:/var/tmp/build/Filesys-Notify-Simple-0.13-4/blib/lib:/var/tmp/build/Test-SharedFork-0.35-4/blib/arch:/var/tmp/build/Test-SharedFork-0.35-4/blib/lib:/var/tmp/build/File-ShareDir-1.116-4/blib/arch:/var/tmp/build/File-ShareDir-1.116-4/blib/lib:/var/tmp/build/Class-Inspector-1.32-4/blib/arch:/var/tmp/build/Class-Inspector-1.32-4/blib/lib:/var/tmp/build/Devel-StackTrace-AsHTML-0.15-4/blib/arch:/var/tmp/build/Devel-StackTrace-AsHTML-0.15-4/blib/lib:/var/tmp/build/Cookie-Baker-0.10-4/blib/arch:/var/tmp/build/Cookie-Baker-0.10-4/blib/lib:/var/tmp/build/Test-Time-0.07-4/blib/arch:/var/tmp/build/Test-Time-0.07-4/blib/lib:/var/tmp/build/Apache-LogFormat-Compiler-0.35-4/blib/arch:/var/tmp/build/Apache-LogFormat-Compiler-0.35-4/blib/lib:/var/tmp/build/Test-MockTime-0.17-4/blib/arch:/var/tmp/build/Test-MockTime-0.17-4/blib/lib:/var/tmp/build/POSIX-strftime-Compiler-0.42-4/blib/arch:/var/tmp/build/POSIX-strftime-Compiler-0.42-4/blib/lib:/var/tmp/build/Module-Build-Tiny-0.039-4/blib/arch:/var/tmp/build/Module-Build-Tiny-0.039-4/blib/lib:/var/tmp/build/ExtUtils-InstallPaths-0.012-4/blib/arch:/var/tmp/build/ExtUtils-InstallPaths-0.012-4/blib/lib:/var/tmp/build/ExtUtils-Helpers-0.026-4/blib/arch:/var/tmp/build/ExtUtils-Helpers-0.026-4/blib/lib:/var/tmp/build/ExtUtils-Config-0.008-4/blib/arch:/var/tmp/build/ExtUtils-Config-0.008-4/blib/lib:/var/tmp/build/File-ShareDir-Install-0.13-4/blib/arch:/var/tmp/build/File-ShareDir-Install-0.13-4/blib/lib:/var/tmp/build/Module-Runtime-0.016-11/blib/arch:/var/tmp/build/Module-Runtime-0.016-11/blib/lib:/var/tmp/build/MIME-Types-2.17-8/blib/arch:/var/tmp/build/MIME-Types-2.17-8/blib/lib:/var/tmp/build/Hash-Merge-Simple-0.051-4/blib/arch:/var/tmp/build/Hash-Merge-Simple-0.051-4/blib/lib:/var/tmp/build/Test-Most-0.35-4/blib/arch:/var/tmp/build/Test-Most-0.35-4/blib/lib:/var/tmp/build/Test-Differences-0.64-4/blib/arch:/var/tmp/build/Test-Differences-0.64-4/blib/lib:/var/tmp/build/Exception-Class-1.44-4/blib/arch:/var/tmp/build/Exception-Class-1.44-4/blib/lib:/var/tmp/build/Devel-StackTrace-2.03-4/blib/arch:/var/tmp/build/Devel-StackTrace-2.03-4/blib/lib:/var/tmp/build/Class-Data-Inheritable-0.08-4/blib/arch:/var/tmp/build/Class-Data-Inheritable-0.08-4/blib/lib:/var/tmp/build/Clone-0.39-4/blib/arch:/var/tmp/build/Clone-0.39-4/blib/lib:/var/tmp/build/HTTP-Server-Simple-PSGI-0.16-4/blib/arch:/var/tmp/build/HTTP-Server-Simple-PSGI-0.16-4/blib/lib:/var/tmp/build/HTTP-Server-Simple-0.52-4/blib/arch:/var/tmp/build/HTTP-Server-Simple-0.52-4/blib/lib:/var/tmp/build/HTTP-CookieJar-0.008-4/blib/arch:/var/tmp/build/HTTP-CookieJar-0.008-4/blib/lib:/var/tmp/build/Test-Requires-0.10-7/blib/arch:/var/tmp/build/Test-Requires-0.10-7/blib/lib:/var/tmp/build/HTTP-Body-1.22-4/blib/arch:/var/tmp/build/HTTP-Body-1.22-4/blib/lib:/var/tmp/build/Devel-Hide-0.0010-6/blib/arch:/var/tmp/build/Devel-Hide-0.0010-6/blib/lib:/var/tmp/build/Data-Dump-1.23-5/blib/arch:/var/tmp/build/Data-Dump-1.23-5/blib/lib"
    PERL5OPT=""
    PERL5_CPANPLUS_IS_RUNNING="17896"
    PERL5_CPAN_IS_RUNNING="17896"
    PERLBREW_HOME="/home/njh/.perlbrew"
    PERLBREW_MANPATH="/home/njh/perl5/perlbrew/perls/perl-5.20.1/man"
    PERLBREW_PATH="/home/njh/perl5/perlbrew/bin:/home/njh/perl5/perlbrew/perls/perl-5.20.1/bin"
    PERLBREW_PERL="perl-5.20.1"
    PERLBREW_ROOT="/home/njh/perl5/perlbrew"
    PERLBREW_SHELLRC_VERSION="0.84"
    PERLBREW_VERSION="0.84"
    PERL_MM_USE_DEFAULT="1"
  @INC:
    /var/tmp/build/Plack-1.0047-4/blib/arch
    /var/tmp/build/Plack-1.0047-4/blib/lib
    /var/tmp/build/Test-TCP-2.19-4/blib/arch
    /var/tmp/build/Test-TCP-2.19-4/blib/lib
    /var/tmp/build/HTTP-Headers-Fast-0.21-4/blib/arch
    /var/tmp/build/HTTP-Headers-Fast-0.21-4/blib/lib
    /var/tmp/build/HTTP-Entity-Parser-0.21-4/blib/arch
    /var/tmp/build/HTTP-Entity-Parser-0.21-4/blib/lib
    /var/tmp/build/WWW-Form-UrlEncoded-0.25-4/blib/arch
    /var/tmp/build/WWW-Form-UrlEncoded-0.25-4/blib/lib
    /var/tmp/build/Stream-Buffered-0.03-4/blib/arch
    /var/tmp/build/Stream-Buffered-0.03-4/blib/lib
    /var/tmp/build/JSON-MaybeXS-1.004000-6/blib/arch
    /var/tmp/build/JSON-MaybeXS-1.004000-6/blib/lib
    /var/tmp/build/Cpanel-JSON-XS-4.06-6/blib/arch
    /var/tmp/build/Cpanel-JSON-XS-4.06-6/blib/lib
    /var/tmp/build/Hash-MultiValue-0.16-4/blib/arch
    /var/tmp/build/Hash-MultiValue-0.16-4/blib/lib
    /var/tmp/build/HTTP-MultiPartParser-0.02-4/blib/arch
    /var/tmp/build/HTTP-MultiPartParser-0.02-4/blib/lib
    /var/tmp/build/Filesys-Notify-Simple-0.13-4/blib/arch
    /var/tmp/build/Filesys-Notify-Simple-0.13-4/blib/lib
    /var/tmp/build/Test-SharedFork-0.35-4/blib/arch
    /var/tmp/build/Test-SharedFork-0.35-4/blib/lib
    /var/tmp/build/File-ShareDir-1.116-4/blib/arch
    /var/tmp/build/File-ShareDir-1.116-4/blib/lib
    /var/tmp/build/Class-Inspector-1.32-4/blib/arch
    /var/tmp/build/Class-Inspector-1.32-4/blib/lib
    /var/tmp/build/Devel-StackTrace-AsHTML-0.15-4/blib/arch
    /var/tmp/build/Devel-StackTrace-AsHTML-0.15-4/blib/lib
    /var/tmp/build/Cookie-Baker-0.10-4/blib/arch
    /var/tmp/build/Cookie-Baker-0.10-4/blib/lib
    /var/tmp/build/Test-Time-0.07-4/blib/arch
    /var/tmp/build/Test-Time-0.07-4/blib/lib
    /var/tmp/build/Apache-LogFormat-Compiler-0.35-4/blib/arch
    /var/tmp/build/Apache-LogFormat-Compiler-0.35-4/blib/lib
    /var/tmp/build/Test-MockTime-0.17-4/blib/arch
    /var/tmp/build/Test-MockTime-0.17-4/blib/lib
    /var/tmp/build/POSIX-strftime-Compiler-0.42-4/blib/arch
    /var/tmp/build/POSIX-strftime-Compiler-0.42-4/blib/lib
    /var/tmp/build/Module-Build-Tiny-0.039-4/blib/arch
    /var/tmp/build/Module-Build-Tiny-0.039-4/blib/lib
    /var/tmp/build/ExtUtils-InstallPaths-0.012-4/blib/arch
    /var/tmp/build/ExtUtils-InstallPaths-0.012-4/blib/lib
    /var/tmp/build/ExtUtils-Helpers-0.026-4/blib/arch
    /var/tmp/build/ExtUtils-Helpers-0.026-4/blib/lib
    /var/tmp/build/ExtUtils-Config-0.008-4/blib/arch
    /var/tmp/build/ExtUtils-Config-0.008-4/blib/lib
    /var/tmp/build/File-ShareDir-Install-0.13-4/blib/arch
    /var/tmp/build/File-ShareDir-Install-0.13-4/blib/lib
    /var/tmp/build/Module-Runtime-0.016-11/blib/arch
    /var/tmp/build/Module-Runtime-0.016-11/blib/lib
    /var/tmp/build/MIME-Types-2.17-8/blib/arch
    /var/tmp/build/MIME-Types-2.17-8/blib/lib
    /var/tmp/build/Hash-Merge-Simple-0.051-4/blib/arch
    /var/tmp/build/Hash-Merge-Simple-0.051-4/blib/lib
    /var/tmp/build/Test-Most-0.35-4/blib/arch
    /var/tmp/build/Test-Most-0.35-4/blib/lib
    /var/tmp/build/Test-Differences-0.64-4/blib/arch
    /var/tmp/build/Test-Differences-0.64-4/blib/lib
    /var/tmp/build/Exception-Class-1.44-4/blib/arch
    /var/tmp/build/Exception-Class-1.44-4/blib/lib
    /var/tmp/build/Devel-StackTrace-2.03-4/blib/arch
    /var/tmp/build/Devel-StackTrace-2.03-4/blib/lib
    /var/tmp/build/Class-Data-Inheritable-0.08-4/blib/arch
    /var/tmp/build/Class-Data-Inheritable-0.08-4/blib/lib
    /var/tmp/build/Clone-0.39-4/blib/arch
    /var/tmp/build/Clone-0.39-4/blib/lib
    /var/tmp/build/HTTP-Server-Simple-PSGI-0.16-4/blib/arch
    /var/tmp/build/HTTP-Server-Simple-PSGI-0.16-4/blib/lib
    /var/tmp/build/HTTP-Server-Simple-0.52-4/blib/arch
    /var/tmp/build/HTTP-Server-Simple-0.52-4/blib/lib
    /var/tmp/build/HTTP-CookieJar-0.008-4/blib/arch
    /var/tmp/build/HTTP-CookieJar-0.008-4/blib/lib
    /var/tmp/build/Test-Requires-0.10-7/blib/arch
    /var/tmp/build/Test-Requires-0.10-7/blib/lib
    /var/tmp/build/HTTP-Body-1.22-4/blib/arch
    /var/tmp/build/HTTP-Body-1.22-4/blib/lib
    /var/tmp/build/Devel-Hide-0.0010-6/blib/arch
    /var/tmp/build/Devel-Hide-0.0010-6/blib/lib
    /var/tmp/build/Data-Dump-1.23-5/blib/arch
    /var/tmp/build/Data-Dump-1.23-5/blib/lib
    /home/njh/perl5/perlbrew/perls/perl-5.20.1/lib/site_perl/5.20.1/amd64-freebsd
    /home/njh/perl5/perlbrew/perls/perl-5.20.1/lib/site_perl/5.20.1
    /home/njh/perl5/perlbrew/perls/perl-5.20.1/lib/5.20.1/amd64-freebsd
    /home/njh/perl5/perlbrew/perls/perl-5.20.1/lib/5.20.1
    .