Lingua-Identify-CLD v0.10 Perl 5 v5.26.1 amd64-freebsd
- Status
- Pass
- From
- Slaven Rezić (SREZIC)
- Dist
-
Lingua-Identify-CLD v0.10
- Platform
- Perl 5 v5.26.1 amd64-freebsd
- Date
- 2018-01-22 08:41:37
- ID
- 0f75499e-ff50-11e7-80be-bfdf2f8f2e1f
This distribution has been tested as part of the CPAN Testers
project, supporting the Perl programming language. See
http://wiki.cpantesters.org/ for more information or email
questions to cpan-testers-discuss@perl.org
--
Dear Alberto Manuel Brandao Simoes,
This is a computer-generated report for Lingua-Identify-CLD-0.10
on perl 5.26.1, created by CPAN-Reporter-1.2018.
Thank you for uploading your work to CPAN. Congratulations!
All tests were successful.
Sections of this report:
* Tester comments
* Program output
* Prerequisites
* Environment and other context
------------------------------
TESTER COMMENTS
------------------------------
Additional comments from tester:
none provided
------------------------------
PROGRAM OUTPUT
------------------------------
Output from './Build test':
cc -I/usr/perl5.26.1p/lib/5.26.1/amd64-freebsd/CORE -DPIC -fPIC -c -DHAS_FPSETMASK -DHAS_FLOATINGPOINT_H -fno-strict-aliasing -pipe -fstack-protector -I/usr/local/include -D_FORTIFY_SOURCE=2 -O2 -pipe -o /var/tmp/cpansmoker-1023/2018012206/VjdDdsC8TC/library.o /var/tmp/cpansmoker-1023/2018012206/VjdDdsC8TC/library.c
cc -I/usr/perl5.26.1p/lib/5.26.1/amd64-freebsd/CORE -DPIC -fPIC -c -DHAS_FPSETMASK -DHAS_FLOATINGPOINT_H -fno-strict-aliasing -pipe -fstack-protector -I/usr/local/include -D_FORTIFY_SOURCE=2 -O2 -pipe -o /var/tmp/cpansmoker-1023/2018012206/VjdDdsC8TC/test.o /var/tmp/cpansmoker-1023/2018012206/VjdDdsC8TC/test.c
cc -shared -L/usr/local/lib -fstack-protector -o /var/tmp/cpansmoker-1023/2018012206/VjdDdsC8TC/libfoo.so /var/tmp/cpansmoker-1023/2018012206/VjdDdsC8TC/library.o
cc -pthread -Wl,-E -fstack-protector -L/usr/local/lib -o /var/tmp/cpansmoker-1023/2018012206/VjdDdsC8TC/foo /var/tmp/cpansmoker-1023/2018012206/VjdDdsC8TC/test.o -L/var/tmp/cpansmoker-1023/2018012206/VjdDdsC8TC -lfoo
** Preparing XS code
# Testing Lingua::Identify::CLD 0.10, Perl 5.026001, /usr/perl5.26.1p/bin/perl
t/00-load.t ....... ok
t/01-identify.t ... ok
t/02-html.t ....... ok
t/manifest.t ...... skipped: Author tests not required for installation
t/pod-coverage.t .. skipped: Set AUTHOR_TESTS to enable author tests
t/pod.t ........... skipped: Set AUTHOR_TESTS to enable author tests
All tests successful.
Files=6, Tests=27, 1 wallclock secs ( 0.00 usr 0.04 sys + 0.03 cusr 0.32 csys = 0.39 CPU)
Result: PASS
------------------------------
PREREQUISITES
------------------------------
Prerequisite modules loaded:
requires:
Module Need Have
-------------------- ----- --------
perl 5.008 5.026001
XSLoader 0.10 0.27
build_requires:
Module Need Have
-------------------- ----- --------
Config::AutoConf 0.17 0.315
ExtUtils::CBuilder 0.27 0.280226
ExtUtils::LibBuilder 0.04 0.08
ExtUtils::ParseXS 0 3.34
Test::More 0 1.302106
configure_requires:
Module Need Have
-------------------- ----- --------
Config::AutoConf 0.16 0.315
ExtUtils::LibBuilder 0.04 0.08
Module::Build 0.38 0.4224
------------------------------
ENVIRONMENT AND OTHER CONTEXT
------------------------------
Environment variables:
LC_ALL = de_DE.ISO8859-1
PATH = /usr/local/bin:/usr/bin:/bin:/usr/local/sbin:/usr/sbin:/sbin:/home/cpansand/bin/freebsd10.3:/home/cpansand/bin/sh:/home/cpansand/bin:/usr/games:/home/cpansand/devel:/home/eserte/src/srezic-misc/scripts
PERL5LIB = /home/cpansand/.cpan/build/2018012206/ExtUtils-LibBuilder-0.08-1/blib/arch:/home/cpansand/.cpan/build/2018012206/ExtUtils-LibBuilder-0.08-1/blib/lib:/home/cpansand/.cpan/build/2018012206/Lingua-Identify-0.56-1/blib/arch:/home/cpansand/.cpan/build/2018012206/Lingua-Identify-0.56-1/blib/lib:/home/cpansand/.cpan/build/2018012206/Text-Ngram-0.15-1/blib/arch:/home/cpansand/.cpan/build/2018012206/Text-Ngram-0.15-1/blib/lib:/home/cpansand/.cpan/build/2018012206/Unicode-CaseFold-1.01-1/blib/arch:/home/cpansand/.cpan/build/2018012206/Unicode-CaseFold-1.01-1/blib/lib:/home/cpansand/.cpan/build/2018012206/Text-Affixes-0.09-1/blib/arch:/home/cpansand/.cpan/build/2018012206/Text-Affixes-0.09-1/blib/lib:/home/cpansand/.cpan/build/2018012206/File-GetLineMaxLength-1.01-1/blib/arch:/home/cpansand/.cpan/build/2018012206/File-GetLineMaxLength-1.01-1/blib/lib
PERL5OPT =
PERL5_CPANPLUS_IS_RUNNING = 97092
PERL5_CPAN_IS_RUNNING = 97092
PERL5_CPAN_IS_RUNNING_IN_RECURSION = 96055,97092
PERLDOC = -MPod::Perldoc::ToTextOverstrike
PERL_BATCH = yes
PERL_CANARY_STABILITY_NOPROMPT = 1
PERL_CPAN_REPORTER_CONFIG = /var/tmp/cpansmoker-1023/2018012206/cpanreporter_001_config.ini
PERL_EXTUTILS_AUTOINSTALL = --defaultdeps
PERL_USE_UNSAFE_INC = 1
SHELL = /usr/local/bin/zsh
TERM = screen
TMPDIR = /var/tmp/cpansmoker-1023/2018012206
Perl special variables (and OS-specific diagnostics, for MSWin32):
$^X = /usr/perl5.26.1p/bin/perl
$UID/$EUID = 1023 / 1023
$GID = 1023 1023
$EGID = 1023 1023
Perl module toolchain versions installed:
Module Have
------------------- --------
CPAN 2.18
CPAN::Meta 2.150010
Cwd 3.67
ExtUtils::CBuilder 0.280226
ExtUtils::Command 7.30
ExtUtils::Install 2.06
ExtUtils::MakeMaker 7.30
ExtUtils::Manifest 1.70
ExtUtils::ParseXS 3.34
File::Spec 3.67
JSON 2.94
JSON::PP 2.94
Module::Build 0.4224
Module::Signature 0.81
Parse::CPAN::Meta 2.150010
Test::Harness 3.39
Test::More 1.302106
YAML 1.24
YAML::Syck 1.30
version 0.9917
--
Summary of my perl5 (revision 5 version 26 subversion 1) configuration:
Platform:
osname=freebsd
osvers=10.3-release-p11
archname=amd64-freebsd
uname='freebsd cvrsnica-freebsd-101.herceg.de 10.3-release-p11 freebsd 10.3-release-p11 #0: mon oct 24 18:49:24 utc 2016 root@amd64-builder.daemonology.net:usrobjusrsrcsysgeneric amd64 '
config_args='-ds -e -Dprefix=/usr/perl5.26.1p -Dcf_email=srezic@cpan.org -Doptimize=-O2 -pipe'
hint=recommended
useposix=true
d_sigaction=define
useithreads=undef
usemultiplicity=undef
use64bitint=define
use64bitall=define
uselongdouble=undef
usemymalloc=n
default_inc_excludes_dot=define
bincompat5005=undef
Compiler:
cc='cc'
ccflags ='-DHAS_FPSETMASK -DHAS_FLOATINGPOINT_H -fno-strict-aliasing -pipe -fstack-protector -I/usr/local/include -D_FORTIFY_SOURCE=2'
optimize='-O2 -pipe'
cppflags='-DHAS_FPSETMASK -DHAS_FLOATINGPOINT_H -fno-strict-aliasing -pipe -fstack-protector -I/usr/local/include'
ccversion=''
gccversion='4.2.1 Compatible FreeBSD Clang 3.4.1 (tags/RELEASE_34/dot1-final 208032)'
gccosandvers=''
intsize=4
longsize=8
ptrsize=8
doublesize=8
byteorder=12345678
doublekind=3
d_longlong=define
longlongsize=8
d_longdbl=define
longdblsize=16
longdblkind=3
ivtype='long'
ivsize=8
nvtype='double'
nvsize=8
Off_t='off_t'
lseeksize=8
alignbytes=8
prototype=define
Linker and Libraries:
ld='cc'
ldflags ='-pthread -Wl,-E -fstack-protector -L/usr/local/lib'
libpth=/usr/lib /usr/local/lib /usr/include/clang/3.4.1 /usr/lib
libs=-lpthread -lgdbm -lm -lcrypt -lutil -lc -lelf
perllibs=-lpthread -lm -lcrypt -lutil -lc -lelf
libc=
so=so
useshrplib=false
libperl=libperl.a
gnulibc_version=''
Dynamic Linking:
dlsrc=dl_dlopen.xs
dlext=so
d_dlsymun=undef
ccdlflags=' '
cccdlflags='-DPIC -fPIC'
lddlflags='-shared -L/usr/local/lib -fstack-protector'
Characteristics of this binary (from libperl):
Compile-time options:
HAS_TIMES
PERLIO_LAYERS
PERL_COPY_ON_WRITE
PERL_DONT_CREATE_GVSV
PERL_MALLOC_WRAP
PERL_OP_PARENT
PERL_PRESERVE_IVUV
USE_64_BIT_ALL
USE_64_BIT_INT
USE_LARGE_FILES
USE_LOCALE
USE_LOCALE_COLLATE
USE_LOCALE_CTYPE
USE_LOCALE_NUMERIC
USE_LOCALE_TIME
USE_PERLIO
USE_PERL_ATOF
Built under freebsd
Compiled at Oct 31 2017 09:43:34
%ENV:
PERL5LIB="/home/cpansand/.cpan/build/2018012206/ExtUtils-LibBuilder-0.08-1/blib/arch:/home/cpansand/.cpan/build/2018012206/ExtUtils-LibBuilder-0.08-1/blib/lib:/home/cpansand/.cpan/build/2018012206/Lingua-Identify-0.56-1/blib/arch:/home/cpansand/.cpan/build/2018012206/Lingua-Identify-0.56-1/blib/lib:/home/cpansand/.cpan/build/2018012206/Text-Ngram-0.15-1/blib/arch:/home/cpansand/.cpan/build/2018012206/Text-Ngram-0.15-1/blib/lib:/home/cpansand/.cpan/build/2018012206/Unicode-CaseFold-1.01-1/blib/arch:/home/cpansand/.cpan/build/2018012206/Unicode-CaseFold-1.01-1/blib/lib:/home/cpansand/.cpan/build/2018012206/Text-Affixes-0.09-1/blib/arch:/home/cpansand/.cpan/build/2018012206/Text-Affixes-0.09-1/blib/lib:/home/cpansand/.cpan/build/2018012206/File-GetLineMaxLength-1.01-1/blib/arch:/home/cpansand/.cpan/build/2018012206/File-GetLineMaxLength-1.01-1/blib/lib"
PERL5OPT=""
PERL5_CPANPLUS_IS_RUNNING="97092"
PERL5_CPAN_IS_RUNNING="97092"
PERL5_CPAN_IS_RUNNING_IN_RECURSION="96055,97092"
PERLDOC="-MPod::Perldoc::ToTextOverstrike"
PERL_BATCH="yes"
PERL_CANARY_STABILITY_NOPROMPT="1"
PERL_CPAN_REPORTER_CONFIG="/var/tmp/cpansmoker-1023/2018012206/cpanreporter_001_config.ini"
PERL_EXTUTILS_AUTOINSTALL="--defaultdeps"
PERL_USE_UNSAFE_INC="1"
@INC:
/home/cpansand/.cpan/build/2018012206/ExtUtils-LibBuilder-0.08-1/blib/arch
/home/cpansand/.cpan/build/2018012206/ExtUtils-LibBuilder-0.08-1/blib/lib
/home/cpansand/.cpan/build/2018012206/Lingua-Identify-0.56-1/blib/arch
/home/cpansand/.cpan/build/2018012206/Lingua-Identify-0.56-1/blib/lib
/home/cpansand/.cpan/build/2018012206/Text-Ngram-0.15-1/blib/arch
/home/cpansand/.cpan/build/2018012206/Text-Ngram-0.15-1/blib/lib
/home/cpansand/.cpan/build/2018012206/Unicode-CaseFold-1.01-1/blib/arch
/home/cpansand/.cpan/build/2018012206/Unicode-CaseFold-1.01-1/blib/lib
/home/cpansand/.cpan/build/2018012206/Text-Affixes-0.09-1/blib/arch
/home/cpansand/.cpan/build/2018012206/Text-Affixes-0.09-1/blib/lib
/home/cpansand/.cpan/build/2018012206/File-GetLineMaxLength-1.01-1/blib/arch
/home/cpansand/.cpan/build/2018012206/File-GetLineMaxLength-1.01-1/blib/lib
/usr/perl5.26.1p/lib/site_perl/5.26.1/amd64-freebsd
/usr/perl5.26.1p/lib/site_perl/5.26.1
/usr/perl5.26.1p/lib/5.26.1/amd64-freebsd
/usr/perl5.26.1p/lib/5.26.1
.