Back
From: metabase:user:314402c4-2aae-11df-837a-5e0a49663a4f
Subject: PASS DBIx-Schema-Changelog-v0.2.0 v5.18.4 GNU/Linux
Date: 2015-02-25T22:10:08Z
This distribution has been tested as part of the CPAN Testers
project, supporting the Perl programming language. See
http://wiki.cpantesters.org/ for more information or email
questions to cpan-testers-discuss@perl.org
--
Dear Mario Zieschang,
This is a computer-generated report for DBIx-Schema-Changelog-v0.2.0
on perl 5.18.4, created by CPAN-Reporter-1.2011.
Thank you for uploading your work to CPAN. Congratulations!
All tests were successful.
Sections of this report:
* Tester comments
* Program output
* Prerequisites
* Environment and other context
------------------------------
TESTER COMMENTS
------------------------------
Additional comments from tester:
none provided
------------------------------
PROGRAM OUTPUT
------------------------------
Output from './Build test':
t/00-load.t ......... ok
DBIx::Schema::Changelog::File::Yaml. Read changlog file '/tmpfs/.cpan-build/DBIx-Schema-Changelog-v0.2.0-eU5d9p/t/data/changelog/changelog.yml'.
DBIx::Schema::Changelog::File::Yaml. Read changlog file '/tmpfs/.cpan-build/DBIx-Schema-Changelog-v0.2.0-eU5d9p/t/data/changelog/changelog-01.yml'.
DBIx::Schema::Changelog::Action::Index (36) Create index is not supported!
DBIx::Schema::Changelog::Action::Sql (33). WARNING: Execute sql statements can lead very likely to incompatibilities.
t/001-create.t ...... ok
t/010-changelog.t ... ok
t/020-driver.t ...... ok
t/021-sqlite.t ...... ok
t/030-changeset.t ... ok
t/040-action.t ...... ok
t/041-column.t ...... ok
t/042-constraint.t .. ok
t/043-index.t ....... ok
t/044-table.t ....... ok
t/045-view.t ........ ok
t/046-sql.t ......... ok
t/047-default.t ..... ok
t/050-command.t ..... ok
t/051-base.t ........ ok
t/052-driver.t ...... ok
t/053-file.t ........ ok
t/054-changeset.t ... ok
t/060-file.t ........ ok
t/061-yaml.t ........ ok
t/062-json.t ........ ok
t/999-delete.t ...... ok
t/boilerplate.t ..... ok
t/manifest.t ........ skipped: Author tests not required for installation
t/pod-coverage.t .... skipped: Author tests not required for installation
t/pod.t ............. skipped: Author tests not required for installation
All tests successful.
Test Summary Report
-------------------
t/boilerplate.t (Wstat: 0 Tests: 3 Failed: 0)
TODO passed: 1-3
Files=27, Tests=86, 9 wallclock secs ( 0.16 usr 0.33 sys + 8.22 cusr 1.31 csys = 10.02 CPU)
Result: PASS
------------------------------
PREREQUISITES
------------------------------
Prerequisite modules loaded:
requires:
Module Need Have
---------------------------- -------- --------
Data::Dumper 2.151 2.154
DBD::SQLite 1.4 1.46
DBI 1.632 1.633
File::Spec 0 3.47
Getopt::Long 2.42 2.43
Hash::MD5 0.05 0.05
Iterator::Simple 0.06 0.06
JSON::Parse 0.31 0.31
Method::Signatures::Simple 1.07 1.07
Module::Version 0.12 0.12
Moose 2.1403 2.1403
MooseX::HasDefaults::RO 0 0
MooseX::Types::LoadableClass 0.013 0.013
MooseX::Types::Moose 0.45 0.45
MooseX::Types::Path::Class 0.06 0.06
MooseX::Types::PerlVersion 0.002 0.002
Path::Class 0.3 0.35
Pod::Usage 0 1.65
Storable 2.49 2.51
strict 0 1.07
Text::Trim 1.02 1.02
Time::Piece 1.27 1.29
warnings 0 1.18
YAML 1.13 1.14
YAML::XS 0.55 0.59
build_requires:
Module Need Have
---------------------------- -------- --------
DBD::SQLite 0 1.46
FindBin 0 1.51
Pod::Coverage::TrustPod 0.100003 0.100003
Test::CheckManifest 0.9 1.28
Test::More 0 1.001014
Test::Pod 1.22 1.48
Test::Pod::Coverage 1.08 1.10
configure_requires:
Module Need Have
---------------------------- -------- --------
Module::Build 0.38 0.4211
------------------------------
ENVIRONMENT AND OTHER CONTEXT
------------------------------
Environment variables:
DBIC_NO_WARN_BAD_PERL = 1
LANG = C
LC_ALL = de_DE.UTF-8
PATH = /usr/local/bin:/usr/bin:/bin:/usr/local/sbin:/usr/sbin:/sbin:/home/eserte/bin/linux-gnu:/home/eserte/bin/sh:/home/eserte/bin:/usr/games:/home/eserte/devel:/home/eserte/src/srezic-misc/scripts
PERL5LIB =
PERL5OPT =
PERL5_CPANPLUS_IS_RUNNING = 24088
PERL5_CPAN_IS_RUNNING = 24088
PERL5_CPAN_IS_RUNNING_IN_RECURSION = 24025,24088
PERLDOC = -MPod::Perldoc::ToTextOverstrike
PERL_BATCH = yes
PERL_CPAN_REPORTER_CONFIG = /var/tmp/cpansmoker-1001/eg2prEYlF5_config.ini
PERL_EXTUTILS_AUTOINSTALL = --defaultdeps
PERL_HTML_DISPLAY_CLASS = HTML::Display::Mozilla
PERL_PARALLEL_SMOKER = yes
SHELL = /bin/zsh
TERM = screen
TMPDIR = /var/tmp/cpansmoker-1001
Perl special variables (and OS-specific diagnostics, for MSWin32):
$^X = /bbbike/perl-5.18.4/bin/perl5.18.4
$UID/$EUID = 1001 / 1001
$GID = 1001 109 1001
$EGID = 1001 109 1001
Perl module toolchain versions installed:
Module Have
------------------- --------
CPAN 2.05
CPAN::Meta 2.142690
Cwd 3.47
ExtUtils::CBuilder 0.280220
ExtUtils::Command 1.17
ExtUtils::Install 2.04
ExtUtils::MakeMaker 7.04
ExtUtils::Manifest 1.68
ExtUtils::ParseXS 3.24
File::Spec 3.47
JSON 2.90
JSON::PP 2.27203
Module::Build 0.4211
Module::Signature 0.73
Parse::CPAN::Meta 1.4414
Test::Harness 3.34
Test::More 1.001014
YAML 1.14
YAML::Syck 1.29
version 0.9911
--
Summary of my perl5 (revision 5 version 18 subversion 4) configuration:
Platform:
osname=linux, osvers=3.2.0-4-amd64, archname=x86_64-linux
uname='linux eserte 3.2.0-4-amd64 #1 smp debian 3.2.60-1+deb7u3 x86_64 gnulinux '
config_args='-ds -e -Dprefix=/opt/perl-5.18.4'
hint=recommended, useposix=true, d_sigaction=define
useithreads=undef, usemultiplicity=undef
useperlio=define, d_sfio=undef, uselargefiles=define, usesocks=undef
use64bitint=define, use64bitall=define, uselongdouble=undef
usemymalloc=n, bincompat5005=undef
Compiler:
cc='cc', ccflags ='-fno-strict-aliasing -pipe -fstack-protector -I/usr/local/include -D_LARGEFILE_SOURCE -D_FILE_OFFSET_BITS=64',
optimize='-O2',
cppflags='-fno-strict-aliasing -pipe -fstack-protector -I/usr/local/include'
ccversion='', gccversion='4.7.2', gccosandvers=''
intsize=4, longsize=8, ptrsize=8, doublesize=8, byteorder=12345678
d_longlong=define, longlongsize=8, d_longdbl=define, longdblsize=16
ivtype='long', ivsize=8, nvtype='double', nvsize=8, Off_t='off_t', lseeksize=8
alignbytes=8, prototype=define
Linker and Libraries:
ld='cc', ldflags =' -fstack-protector -L/usr/local/lib'
libpth=/usr/local/lib /lib/x86_64-linux-gnu /lib/../lib /usr/lib/x86_64-linux-gnu /usr/lib/../lib /lib /usr/lib
libs=-lnsl -ldb -ldl -lm -lcrypt -lutil -lc
perllibs=-lnsl -ldl -lm -lcrypt -lutil -lc
libc=, so=so, useshrplib=false, libperl=libperl.a
gnulibc_version='2.13'
Dynamic Linking:
dlsrc=dl_dlopen.xs, dlext=so, d_dlsymun=undef, ccdlflags='-Wl,-E'
cccdlflags='-fPIC', lddlflags='-shared -O2 -L/usr/local/lib -fstack-protector'
Characteristics of this binary (from libperl):
Compile-time options: HAS_TIMES PERLIO_LAYERS PERL_DONT_CREATE_GVSV
PERL_HASH_FUNC_ONE_AT_A_TIME_HARD PERL_MALLOC_WRAP
PERL_PRESERVE_IVUV PERL_SAWAMPERSAND USE_64_BIT_ALL
USE_64_BIT_INT USE_LARGE_FILES USE_LOCALE
USE_LOCALE_COLLATE USE_LOCALE_CTYPE
USE_LOCALE_NUMERIC USE_PERLIO USE_PERL_ATOF
Built under linux
Compiled at Oct 2 2014 05:37:02
%ENV:
PERL5LIB=""
PERL5OPT=""
PERL5_CPANPLUS_IS_RUNNING="24088"
PERL5_CPAN_IS_RUNNING="24088"
PERL5_CPAN_IS_RUNNING_IN_RECURSION="24025,24088"
PERLDOC="-MPod::Perldoc::ToTextOverstrike"
PERL_BATCH="yes"
PERL_CPAN_REPORTER_CONFIG="/var/tmp/cpansmoker-1001/eg2prEYlF5_config.ini"
PERL_EXTUTILS_AUTOINSTALL="--defaultdeps"
PERL_HTML_DISPLAY_CLASS="HTML::Display::Mozilla"
PERL_PARALLEL_SMOKER="yes"
@INC:
/opt/perl-5.18.4/lib/site_perl/5.18.4/x86_64-linux
/opt/perl-5.18.4/lib/site_perl/5.18.4
/opt/perl-5.18.4/lib/5.18.4/x86_64-linux
/opt/perl-5.18.4/lib/5.18.4
.