ExtUtils-ParseXS v3.35 Perl 5 v5.8.1 x86_64-linux-thread-multi

Status
Pass
From
Nigel Horne
Dist
ExtUtils-ParseXS v3.35
Platform
Perl 5 v5.8.1 x86_64-linux-thread-multi
Date
2018-04-27 01:12:31
ID
0f8ff3b8-49b8-11e8-a069-9e11e0f8fa91
This distribution has been tested as part of the CPAN Testers
project, supporting the Perl programming language.  See
http://wiki.cpantesters.org/ for more information or email
questions to cpan-testers-discuss@perl.org


--
Dear Steffen Mueller,

This is a computer-generated report for ExtUtils-ParseXS-3.35
on perl 5.8.1, created by CPAN-Reporter-1.2018.

Thank you for uploading your work to CPAN.  Congratulations!
All tests were successful.

Sections of this report:

    * Tester comments
    * Program output
    * Prerequisites
    * Environment and other context

------------------------------
TESTER COMMENTS
------------------------------

Additional comments from tester:

none provided

------------------------------
PROGRAM OUTPUT
------------------------------

Output from '/usr/bin/make test':

PERL_DL_NONLAZY=1 "/home/njh/perl5/perlbrew/perls/perl-5.8.1-thread/bin/perl5.8.1" "-MExtUtils::Command::MM" "-MTest::Harness" "-e" "undef *Test::Harness::Switches; test_harness(0, 'blib/lib', 'blib/arch')" t/*.t
t/001-basic.t ............................ ok
t/002-more.t ............................. ok
t/101-standard_typemap_locations.t ....... ok
t/102-trim_whitespace.t .................. ok
t/103-tidy_type.t ........................ ok
t/104-map_type.t ......................... ok
t/105-valid_proto_string.t ............... ok
t/003-usage.t ............................ ok
t/106-process_typemaps.t ................. ok
t/108-map_type.t ......................... ok
t/109-standard_XS_defs.t ................. ok
t/110-assign_func_args.t ................. ok
t/111-analyze_preprocessor_statements.t .. ok
t/112-set_cond.t ......................... ok
t/113-check_cond_preproc_statements.t .... ok
t/114-blurt_death_Warn.t ................. ok
t/115-avoid-noise.t ...................... ok
t/501-t-compile.t ........................ ok
t/511-t-whitespace.t ..................... ok
t/510-t-bare.t ........................... ok
t/512-t-file.t ........................... ok
t/513-t-merge.t .......................... ok
t/514-t-embed.t .......................... ok
t/515-t-cmd.t ............................ ok
t/516-t-clone.t .......................... ok
t/517-t-targetable.t ..................... ok
t/600-t-compat.t ......................... ok
All tests successful.
Files=27, Tests=264,  3 wallclock secs ( 0.19 usr  0.14 sys +  4.94 cusr  0.94 csys =  6.21 CPU)
Result: PASS

------------------------------
PREREQUISITES
------------------------------

Prerequisite modules loaded:

requires:

    Module              Need Have    
    ------------------- ---- --------
    Carp                0    1.38    
    Cwd                 0    3.62    
    DynaLoader          0    1.04    
    Exporter            5.57 5.72    
    ExtUtils::CBuilder  0    0.280230
    ExtUtils::MakeMaker 6.46 7.32    
    File::Basename      0    2.72    
    File::Spec          0    3.62    
    Symbol              0    1.05    
    Test::More          0.47 1.302122

build_requires:

    Module              Need Have    
    ------------------- ---- --------
    ExtUtils::MakeMaker 0    7.32    

configure_requires:

    Module              Need Have    
    ------------------- ---- --------
    ExtUtils::MakeMaker 6.46 7.32    


------------------------------
ENVIRONMENT AND OTHER CONTEXT
------------------------------

Environment variables:

    HARNESS_OPTIONS = j2:c
    LANG = 
    LDFLAGS = 
    PATH = /home/njh/perl5/perlbrew/bin:/home/njh/perl5/perlbrew/perls/perl-5.8.1-thread/bin:/home/njh/bin:/usr/local/bin:/usr/bin:/bin:/usr/local/games:/usr/games
    PERL5LIB = 
    PERL5OPT = 
    PERL5_CPANPLUS_IS_RUNNING = 15619
    PERL5_CPAN_IS_RUNNING = 15619
    PERLBREW_HOME = /home/njh/.perlbrew
    PERLBREW_MANPATH = /home/njh/perl5/perlbrew/perls/perl-5.8.1-thread/man
    PERLBREW_PATH = /home/njh/perl5/perlbrew/bin:/home/njh/perl5/perlbrew/perls/perl-5.8.1-thread/bin
    PERLBREW_PERL = perl-5.8.1-thread
    PERLBREW_ROOT = /home/njh/perl5/perlbrew
    PERLBREW_SHELLRC_VERSION = 0.82
    PERLBREW_VERSION = 0.82
    SHELL = /bin/bash
    TERM = xterm-256color
    TMPDIR = /tmp

Perl special variables (and OS-specific diagnostics, for MSWin32):

    $^X = /home/njh/perl5/perlbrew/perls/perl-5.8.1-thread/bin/perl5.8.1
    $UID/$EUID = 1000 / 1000
    $GID = 1000 1000
    $EGID = 1000 1000

Perl module toolchain versions installed:

    Module              Have    
    ------------------- --------
    CPAN                2.16    
    CPAN::Meta          2.143240
    Cwd                 3.62    
    ExtUtils::CBuilder  0.280230
    ExtUtils::Command   7.32    
    ExtUtils::Install   2.06    
    ExtUtils::MakeMaker 7.32    
    ExtUtils::Manifest  1.70    
    ExtUtils::ParseXS   n/a     
    File::Spec          3.62    
    JSON                n/a     
    JSON::PP            2.97001 
    Module::Build       n/a     
    Module::Signature   n/a     
    Parse::CPAN::Meta   1.4414  
    Test::Harness       3.39    
    Test::More          1.302122
    YAML                1.24    
    YAML::Syck          1.30    
    version             0.9918  


--

Summary of my perl5 (revision 5.0 version 8 subversion 1) configuration:
  Platform:
    osname=linux, osvers=4.9.0-5-amd64, archname=x86_64-linux-thread-multi
    uname='linux dev0.teada.net 4.9.0-5-amd64 #1 smp debian 4.9.65-3+deb9u2 (2018-01-04) x86_64 gnulinux '
    config_args='-de -Dprefix=/home/njh/perl5/perlbrew/perls/perl-5.8.1-thread -Dusedevel -Dusethreads -Accflags= -Aeval:scriptdir=/home/njh/perl5/perlbrew/perls/perl-5.8.1-thread/bin'
    hint=recommended, useposix=true, d_sigaction=define
    usethreads=define use5005threads=undef useithreads=define usemultiplicity=define
    useperlio=define d_sfio=undef uselargefiles=define usesocks=undef
    use64bitint=define use64bitall=define uselongdouble=undef
    usemymalloc=n, bincompat5005=undef
  Compiler:
    cc='cc', ccflags ='-D_REENTRANT -D_GNU_SOURCE -fno-strict-aliasing -I/usr/local/include -D_LARGEFILE_SOURCE -D_FILE_OFFSET_BITS=64',
    optimize='-O2',
    cppflags='-D_REENTRANT -D_GNU_SOURCE -fno-strict-aliasing -I/usr/local/include'
    ccversion='', gccversion='6.3.0 20170516', gccosandvers=''
    intsize=4, longsize=8, ptrsize=8, doublesize=8, byteorder=12345678
    d_longlong=define, longlongsize=8, d_longdbl=define, longdblsize=16
    ivtype='long', ivsize=8, nvtype='double', nvsize=8, Off_t='off_t', lseeksize=8
    alignbytes=8, prototype=define
  Linker and Libraries:
    ld='cc', ldflags =' -L/usr/local/lib'
    libpth=/usr/local/lib /lib/x86_64-linux-gnu /lib/../lib /usr/lib/x86_64-linux-gnu /usr/lib/../lib /lib /usr/lib
    libs=-lnsl -ldl -lm -lcrypt -lutil -lpthread -lc
    perllibs=-lnsl -ldl -lm -lcrypt -lutil -lpthread -lc
    libc=libc-2.24.so, so=so, useshrplib=false, libperl=libperl.a
    gnulibc_version='2.24'
  Dynamic Linking:
    dlsrc=dl_dlopen.xs, dlext=so, d_dlsymun=undef, ccdlflags='-rdynamic'
    cccdlflags='-fpic', lddlflags='-shared -L/usr/local/lib'


Characteristics of this binary (from libperl): 
  Compile-time options: MULTIPLICITY USE_ITHREADS USE_64_BIT_INT USE_64_BIT_ALL USE_LARGE_FILES PERL_IMPLICIT_CONTEXT
  Locally applied patches:
  	Devel::PatchPerl 1.48
  Built under linux
  Compiled at Feb 17 2018 13:21:17
  %ENV:
    PERL5LIB=""
    PERL5OPT=""
    PERL5_CPANPLUS_IS_RUNNING="15619"
    PERL5_CPAN_IS_RUNNING="15619"
    PERLBREW_HOME="/home/njh/.perlbrew"
    PERLBREW_MANPATH="/home/njh/perl5/perlbrew/perls/perl-5.8.1-thread/man"
    PERLBREW_PATH="/home/njh/perl5/perlbrew/bin:/home/njh/perl5/perlbrew/perls/perl-5.8.1-thread/bin"
    PERLBREW_PERL="perl-5.8.1-thread"
    PERLBREW_ROOT="/home/njh/perl5/perlbrew"
    PERLBREW_SHELLRC_VERSION="0.82"
    PERLBREW_VERSION="0.82"
  @INC:
    /home/njh/perl5/perlbrew/perls/perl-5.8.1-thread/lib/5.8.1/x86_64-linux-thread-multi
    /home/njh/perl5/perlbrew/perls/perl-5.8.1-thread/lib/5.8.1
    /home/njh/perl5/perlbrew/perls/perl-5.8.1-thread/lib/site_perl/5.8.1/x86_64-linux-thread-multi
    /home/njh/perl5/perlbrew/perls/perl-5.8.1-thread/lib/site_perl/5.8.1
    /home/njh/perl5/perlbrew/perls/perl-5.8.1-thread/lib/site_perl
    .