Report for BenchmarkAnything-Schema-0.004

Back
From: metabase:user:320bfe00-2aae-11df-837a-5e0a49663a4f
Subject: PASS BenchmarkAnything-Schema-0.004 v5.12.5 GNU/Linux
Date: 2016-08-24T15:54:37Z

This distribution has been tested as part of the CPAN Testers
project, supporting the Perl programming language.  See
http://wiki.cpantesters.org/ for more information or email
questions to cpan-testers-discuss@perl.org


--
Dear Steffen Schwigon,

This is a computer-generated report for BenchmarkAnything-Schema-0.004
on perl 5.12.5, created by CPAN-Reporter-1.2018.

Thank you for uploading your work to CPAN.  Congratulations!
All tests were successful.

Sections of this report:

    * Tester comments
    * Program output
    * Prerequisites
    * Environment and other context

------------------------------
TESTER COMMENTS
------------------------------

Additional comments from tester:

this report is from an automated smoke testing program
and was not reviewed by a human for accuracy

------------------------------
PROGRAM OUTPUT
------------------------------

Output from '/usr/bin/make test':

Skip blib/lib/auto/share/dist/BenchmarkAnything-Schema/benchmark-anything-schema.json (unchanged)
PERL_DL_NONLAZY=1 "/home/sand/src/perl/repoperls/installed-perls/perl/v5.12.5/79cc/bin/perl" "-MExtUtils::Command::MM" "-MTest::Harness" "-e" "undef *Test::Harness::Switches; test_harness(0, 'blib/lib', 'blib/arch')" t/*.t
t/00-compile.t ............ ok
t/author-eol.t ............ skipped: these tests are for testing by the author
t/author-no-tabs.t ........ skipped: these tests are for testing by the author
t/author-pod-syntax.t ..... skipped: these tests are for testing by the author
t/basic.t ................. ok
t/release-pod-coverage.t .. skipped: these tests are for release candidate testing
# validate valid files
# validate invalid files
#  expected validation error: $.BenchmarkAnythingData.0.NAME: is missing and it is required
#  expected validation error: $.BenchmarkAnythingData.0.NAME: is missing and it is required
#  expected validation error: $.BenchmarkAnythingData.0.VALUE: is missing and it is required
#  expected validation error: $.BenchmarkAnythingData.0.VALUE: is missing and it is required
#  expected validation error: $.BenchmarkAnythingData.0.NAME: is missing and it is required
#  expected validation error: $.BenchmarkAnythingData.0.NAME: is missing and it is required
#  expected validation error: $.BenchmarkAnythingData.0.VALUE: is missing and it is required
#  expected validation error: $.BenchmarkAnythingData.0.NAME: is missing and it is required
#  expected validation error: $.BenchmarkAnythingData.0.VALUE: is missing and it is required
#  expected validation error: $.BenchmarkAnythingData.0.NAME: is missing and it is required
t/validate.t .............. ok
All tests successful.
Files=7, Tests=27,  2 wallclock secs ( 0.03 usr  0.04 sys +  0.44 cusr  0.12 csys =  0.63 CPU)
Result: PASS

------------------------------
PREREQUISITES
------------------------------

Prerequisite modules loaded:

requires:

    Module                  Need  Have        
    ----------------------- ----- ------------
    App::Rad                0     1.05        
    Config::General         0     2.63        
    Config::INI::Serializer 0     0.002       
    File::ShareDir          0     1.102       
    File::Slurper           0     0.009       
    JSON                    0     2.90        
    JSON::MaybeXS           0     1.003006_001
    JSON::Schema            0     0.016       
    perl                    5.008 5.012005    
    Scalar::Util            0     1.46_01     
    strict                  0     1.04        
    TAP::DOM                0     0.13        
    TAP::Parser             0     3.36        
    warnings                0     1.09        
    XML::Simple             0     2.22        
    YAML::Any               0     1.17        

build_requires:

    Module                  Need  Have        
    ----------------------- ----- ------------
    blib                    1.01  1.04        
    ExtUtils::MakeMaker     0     7.24        
    File::Spec              0     3.62        
    IO::Handle              0     1.28        
    IPC::Open3              0     1.05        
    Test::More              0.88  1.302054    

configure_requires:

    Module                  Need  Have        
    ----------------------- ----- ------------
    ExtUtils::MakeMaker     0     7.24        
    File::ShareDir::Install 0.06  0.11        


------------------------------
ENVIRONMENT AND OTHER CONTEXT
------------------------------

Environment variables:

    AUTOMATED_TESTING = 1
    LANG = en_US.UTF-8
    LANGUAGE = en_US:en
    PATH = /usr/lib/ccache:/home/sand/bin:/usr/local/bin:/usr/bin:/bin:/usr/games:/usr/local/perl/bin:/usr/X11/bin:/sbin:/usr/sbin
    PERL5LIB = 
    PERL5OPT = 
    PERL5_CPANPLUS_IS_RUNNING = 19562
    PERL5_CPAN_IS_RUNNING = 19562
    PERL_CANARY_STABILITY_NOPROMPT = 1
    PERL_MM_USE_DEFAULT = 1
    SHELL = /usr/bin/zsh
    TERM = screen

Perl special variables (and OS-specific diagnostics, for MSWin32):

    $^X = /home/sand/src/perl/repoperls/installed-perls/perl/v5.12.5/79cc/bin/perl
    $UID/$EUID = 1005 / 1005
    $GID = 1005 1005
    $EGID = 1005 1005

Perl module toolchain versions installed:

    Module              Have    
    ------------------- --------
    CPAN                2.14    
    CPAN::Meta          2.150010
    Cwd                 3.62    
    ExtUtils::CBuilder  0.280224
    ExtUtils::Command   7.24    
    ExtUtils::Install   1.55    
    ExtUtils::MakeMaker 7.24    
    ExtUtils::Manifest  1.70    
    ExtUtils::ParseXS   3.30    
    File::Spec          3.62    
    JSON                2.90    
    JSON::PP            2.27300 
    Module::Build       0.42_19 
    Module::Signature   0.80    
    Parse::CPAN::Meta   2.150010
    Test::Harness       3.36    
    Test::More          1.302054
    YAML                1.17    
    YAML::Syck          1.29    
    version             0.9915  


--

Summary of my perl5 (revision 5 version 12 subversion 5) configuration:
  Derived from: 9a9cbd715960a905dcbc9166349a73a64a007e4e
  Platform:
    osname=linux, osvers=4.3.0-1-amd64, archname=x86_64-linux
    uname='linux k83 4.3.0-1-amd64 #1 smp debian 4.3.3-7 (2016-01-19) x86_64 gnulinux '
    config_args='-Dprefix=/home/sand/src/perl/repoperls/installed-perls/perl/v5.12.5/79cc -Dmyhostname=k83 -Dinstallusrbinperl=n -Uversiononly -Dusedevel -des -Ui_db -Dlibswanted=cl pthread socket inet nsl gdbm dbm malloc dl ld sun m crypt sec util c cposix posix ucb BSD gdbm_compat -Uuseithreads -Uuselongdouble -DDEBUGGING=-g'
    hint=recommended, useposix=true, d_sigaction=define
    useithreads=undef, usemultiplicity=undef
    useperlio=define, d_sfio=undef, uselargefiles=define, usesocks=undef
    use64bitint=define, use64bitall=define, uselongdouble=undef
    usemymalloc=n, bincompat5005=undef
  Compiler:
    cc='cc', ccflags ='-fno-strict-aliasing -pipe -fstack-protector -I/usr/local/include -D_LARGEFILE_SOURCE -D_FILE_OFFSET_BITS=64',
    optimize='-O2 -g',
    cppflags='-fno-strict-aliasing -pipe -fstack-protector -I/usr/local/include'
    ccversion='', gccversion='5.3.1 20160121', gccosandvers=''
    intsize=4, longsize=8, ptrsize=8, doublesize=8, byteorder=12345678
    d_longlong=define, longlongsize=8, d_longdbl=define, longdblsize=16
    ivtype='long', ivsize=8, nvtype='double', nvsize=8, Off_t='off_t', lseeksize=8
    alignbytes=8, prototype=define
  Linker and Libraries:
    ld='cc', ldflags =' -fstack-protector -L/usr/local/lib'
    libpth=/usr/local/lib /lib/x86_64-linux-gnu /lib/../lib /usr/lib/x86_64-linux-gnu /usr/lib/../lib /lib /usr/lib
    libs=-lpthread -lnsl -lgdbm -ldl -lm -lcrypt -lutil -lc -lgdbm_compat
    perllibs=-lpthread -lnsl -ldl -lm -lcrypt -lutil -lc
    libc=libc-2.21.so, so=so, useshrplib=false, libperl=libperl.a
    gnulibc_version='2.21'
  Dynamic Linking:
    dlsrc=dl_dlopen.xs, dlext=so, d_dlsymun=undef, ccdlflags='-Wl,-E'
    cccdlflags='-fPIC', lddlflags='-shared -O2 -g -L/usr/local/lib -fstack-protector'


Characteristics of this binary (from libperl): 
  Compile-time options: PERL_DONT_CREATE_GVSV PERL_MALLOC_WRAP PERL_USE_DEVEL
                        USE_64_BIT_ALL USE_64_BIT_INT USE_LARGE_FILES
                        USE_PERLIO USE_PERL_ATOF
  Locally applied patches:
	uncommitted-changes
	Devel::PatchPerl 1.40
  Built under linux
  Compiled at Mar 11 2016 08:32:18
  %ENV:
    PERL5LIB=""
    PERL5OPT=""
    PERL5_CPANPLUS_IS_RUNNING="19562"
    PERL5_CPAN_IS_RUNNING="19562"
    PERL_CANARY_STABILITY_NOPROMPT="1"
    PERL_MM_USE_DEFAULT="1"
  @INC:
    /home/sand/src/perl/repoperls/installed-perls/perl/v5.12.5/79cc/lib/site_perl/5.12.5/x86_64-linux
    /home/sand/src/perl/repoperls/installed-perls/perl/v5.12.5/79cc/lib/site_perl/5.12.5
    /home/sand/src/perl/repoperls/installed-perls/perl/v5.12.5/79cc/lib/5.12.5/x86_64-linux
    /home/sand/src/perl/repoperls/installed-perls/perl/v5.12.5/79cc/lib/5.12.5
    .