Report for PadWalker-1.98

Back
From: metabase:user:dc1c8589-6bf4-1014-abca-562cf06b08ef
Subject: PASS PadWalker-1.98 v5.16.3 GNU/Linux
Date: 2013-10-27T22:35:20Z

This distribution has been tested as part of the CPAN Testers
project, supporting the Perl programming language.  See
http://wiki.cpantesters.org/ for more information or email
questions to cpan-testers-discuss@perl.org


--
Dear Robin Houston,

This is a computer-generated report for PadWalker-1.98
on perl 5.16.3, created by CPAN-Reporter-1.2010.

Thank you for uploading your work to CPAN.  Congratulations!
All tests were successful.

Sections of this report:

    * Tester comments
    * Program output
    * Prerequisites
    * Environment and other context

------------------------------
TESTER COMMENTS
------------------------------

Additional comments from tester:

none provided

------------------------------
PROGRAM OUTPUT
------------------------------

Output from '/usr/bin/make test':

PERL_DL_NONLAZY=1 /home/aero/perl5/perlbrew/perls/perl-5.16/bin/perl "-MExtUtils::Command::MM" "-MTest::Harness" "-e" "undef *Test::Harness::Switches; test_harness(0, 'blib/lib', 'blib/arch')" t/*.t
t/closure.t ... ok
t/dm.t ........ ok
t/foo.t ....... ok
t/our.t ....... ok
t/recurse.t ... ok
t/sub.t ....... ok
t/test.t ...... ok
t/tt.t ........ ok
t/var_name.t .. ok
All tests successful.
Files=9, Tests=81,  1 wallclock secs ( 0.05 usr  0.04 sys +  0.05 cusr  0.03 csys =  0.17 CPU)
Result: PASS

------------------------------
PREREQUISITES
------------------------------

Prerequisite modules loaded:

requires:

    Module              Need     Have    
    ------------------- -------- --------
    perl                5.008001 5.016003

build_requires:

    Module              Need     Have    
    ------------------- -------- --------
    ExtUtils::MakeMaker 0        6.80    

configure_requires:

    Module              Need     Have    
    ------------------- -------- --------
    ExtUtils::MakeMaker 0        6.80    


------------------------------
ENVIRONMENT AND OTHER CONTEXT
------------------------------

Environment variables:

    LANG = ko_KR.UTF-8
    PATH = /home/aero/.rbenv/shims:/home/aero/.rbenv/bin:/home/aero/.nvm/v0.10.7/bin:/home/aero/.pythonbrew/bin:/home/aero/.pythonbrew/pythons/Python-2.7.4/bin:/home/aero/perl5/perlbrew/bin:/home/aero/perl5/perlbrew/perls/perl-5.16/bin:/usr/kerberos/bin:/usr/local/bin:/bin:/usr/bin:/home/aero/bin
    PERL5LIB = 
    PERL5OPT = 
    PERL5_CPANPLUS_IS_RUNNING = 32151
    PERL5_CPAN_IS_RUNNING = 32151
    PERLBREW_BASHRC_VERSION = 0.66
    PERLBREW_HOME = /home/aero/.perlbrew
    PERLBREW_MANPATH = /home/aero/perl5/perlbrew/perls/perl-5.16/man
    PERLBREW_PATH = /home/aero/perl5/perlbrew/bin:/home/aero/perl5/perlbrew/perls/perl-5.16/bin
    PERLBREW_PERL = perl-5.16
    PERLBREW_ROOT = /home/aero/perl5/perlbrew
    PERLBREW_VERSION = 0.66
    SHELL = /bin/bash
    TERM = xterm

Perl special variables (and OS-specific diagnostics, for MSWin32):

    $^X = /home/aero/perl5/perlbrew/perls/perl-5.16/bin/perl
    $UID/$EUID = 501 / 501
    $GID = 501 10 501
    $EGID = 501 10 501

Perl module toolchain versions installed:

    Module              Have    
    ------------------- --------
    CPAN                2.00    
    CPAN::Meta          2.132830
    Cwd                 3.40    
    ExtUtils::CBuilder  0.280212
    ExtUtils::Command   1.18    
    ExtUtils::Install   1.58    
    ExtUtils::MakeMaker 6.80    
    ExtUtils::Manifest  1.63    
    ExtUtils::ParseXS   3.22    
    File::Spec          3.40    
    JSON                2.61    
    JSON::PP            2.27203 
    Module::Build       0.4007  
    Module::Signature   0.73    
    Parse::CPAN::Meta   1.4409  
    Test::Harness       3.29    
    Test::More          0.99    
    YAML                0.84    
    YAML::Syck          1.27    
    version             0.9904  


--

Summary of my perl5 (revision 5 version 16 subversion 3) configuration:
   
  Platform:
    osname=linux, osvers=2.6.18-348.1.1.el5xen, archname=x86_64-linux-thread-multi
    uname='linux gis 2.6.18-348.1.1.el5xen #1 smp tue jan 22 17:00:37 est 2013 x86_64 x86_64 x86_64 gnulinux '
    config_args='-de -Dprefix=/home/aero/perl5/perlbrew/perls/perl-5.16 -Dusethreads -Aeval:scriptdir=/home/aero/perl5/perlbrew/perls/perl-5.16/bin'
    hint=recommended, useposix=true, d_sigaction=define
    useithreads=define, usemultiplicity=define
    useperlio=define, d_sfio=undef, uselargefiles=define, usesocks=undef
    use64bitint=define, use64bitall=define, uselongdouble=undef
    usemymalloc=n, bincompat5005=undef
  Compiler:
    cc='cc', ccflags ='-D_REENTRANT -D_GNU_SOURCE -fno-strict-aliasing -pipe -fstack-protector -I/usr/local/include -D_LARGEFILE_SOURCE -D_FILE_OFFSET_BITS=64',
    optimize='-O2',
    cppflags='-D_REENTRANT -D_GNU_SOURCE -fno-strict-aliasing -pipe -fstack-protector -I/usr/local/include'
    ccversion='', gccversion='4.1.2 20080704 (Red Hat 4.1.2-54)', gccosandvers=''
    intsize=4, longsize=8, ptrsize=8, doublesize=8, byteorder=12345678
    d_longlong=define, longlongsize=8, d_longdbl=define, longdblsize=16
    ivtype='long', ivsize=8, nvtype='double', nvsize=8, Off_t='off_t', lseeksize=8
    alignbytes=8, prototype=define
  Linker and Libraries:
    ld='cc', ldflags =' -fstack-protector -L/usr/local/lib'
    libpth=/usr/local/lib /lib /usr/lib /lib64 /usr/lib64 /usr/local/lib64
    libs=-lnsl -ldb -ldl -lm -lcrypt -lutil -lpthread -lc
    perllibs=-lnsl -ldl -lm -lcrypt -lutil -lpthread -lc
    libc=/lib/libc-2.5.so, so=so, useshrplib=false, libperl=libperl.a
    gnulibc_version='2.5'
  Dynamic Linking:
    dlsrc=dl_dlopen.xs, dlext=so, d_dlsymun=undef, ccdlflags='-Wl,-E'
    cccdlflags='-fPIC', lddlflags='-shared -O2 -L/usr/local/lib -fstack-protector'


Characteristics of this binary (from libperl): 
  Compile-time options: HAS_TIMES MULTIPLICITY PERLIO_LAYERS
                        PERL_DONT_CREATE_GVSV PERL_IMPLICIT_CONTEXT
                        PERL_MALLOC_WRAP PERL_PRESERVE_IVUV USE_64_BIT_ALL
                        USE_64_BIT_INT USE_ITHREADS USE_LARGE_FILES
                        USE_LOCALE USE_LOCALE_COLLATE USE_LOCALE_CTYPE
                        USE_LOCALE_NUMERIC USE_PERLIO USE_PERL_ATOF
                        USE_REENTRANT_API
  Built under linux
  Compiled at Mar 13 2013 15:58:22
  %ENV:
    PERL5LIB=""
    PERL5OPT=""
    PERL5_CPANPLUS_IS_RUNNING="32151"
    PERL5_CPAN_IS_RUNNING="32151"
    PERLBREW_BASHRC_VERSION="0.66"
    PERLBREW_HOME="/home/aero/.perlbrew"
    PERLBREW_MANPATH="/home/aero/perl5/perlbrew/perls/perl-5.16/man"
    PERLBREW_PATH="/home/aero/perl5/perlbrew/bin:/home/aero/perl5/perlbrew/perls/perl-5.16/bin"
    PERLBREW_PERL="perl-5.16"
    PERLBREW_ROOT="/home/aero/perl5/perlbrew"
    PERLBREW_VERSION="0.66"
  @INC:
    /home/aero/perl5/perlbrew/perls/perl-5.16/lib/site_perl/5.16.3/x86_64-linux-thread-multi
    /home/aero/perl5/perlbrew/perls/perl-5.16/lib/site_perl/5.16.3
    /home/aero/perl5/perlbrew/perls/perl-5.16/lib/5.16.3/x86_64-linux-thread-multi
    /home/aero/perl5/perlbrew/perls/perl-5.16/lib/5.16.3
    .