Report for MozRepl-RemoteObject-0.39

Back
From: metabase:user:320bfe00-2aae-11df-837a-5e0a49663a4f
Subject: PASS MozRepl-RemoteObject-0.39 v5.22.0 GNU/Linux
Date: 2016-05-24T20:14:03Z

This distribution has been tested as part of the CPAN Testers
project, supporting the Perl programming language.  See
http://wiki.cpantesters.org/ for more information or email
questions to cpan-testers-discuss@perl.org


--
Dear Max Maischein,

This is a computer-generated report for MozRepl-RemoteObject-0.39
on perl 5.22.0, created by CPAN-Reporter-1.2017.

Thank you for uploading your work to CPAN.  Congratulations!
All tests were successful.

Sections of this report:

    * Tester comments
    * Program output
    * Prerequisites
    * Environment and other context

------------------------------
TESTER COMMENTS
------------------------------

Additional comments from tester:

this report is from an automated smoke testing program
and was not reviewed by a human for accuracy

------------------------------
PROGRAM OUTPUT
------------------------------

Output from '/usr/bin/make test':

PERL_DL_NONLAZY=1 "/home/sand/src/perl/repoperls/installed-perls/perl/v5.22.0/f991/bin/perl" "-MExtUtils::Command::MM" "-MTest::Harness" "-e" "undef *Test::Harness::Switches; test_harness(0, 'blib/lib', 'blib/arch')" t/*.t
# Testing MozRepl::RemoteObject 0.39, Perl 5.022000
# Carp 1.38
# Config 5.022000
# DynaLoader 1.32
# Encode 2.83
# Encode::Alias 2.20
# Encode::Config 2.05
# Encode::Encoding 2.07
# Exporter 5.72
# Exporter::Heavy 5.72
# JSON 2.90
# JSON::XS 3.02
# List::Util 1.45
# MozRepl::RemoteObject 0.39
# MozRepl::RemoteObject::Methods 0.39
# Scalar::Util 1.45
# Test::Builder 1.302021
# Test::Builder::Formatter 1.302021
# Test::Builder::Module 1.302021
# Test::Builder::TodoDiag 1.302021
# Test::More 1.302021
# Test2::API 1.302021
# Test2::API::Context 1.302021
# Test2::API::Instance 1.302021
# Test2::API::Stack 1.302021
# Test2::Event 1.302021
# Test2::Event::Bail 1.302021
# Test2::Event::Diag 1.302021
# Test2::Event::Exception 1.302021
# Test2::Event::Note 1.302021
# Test2::Event::Ok 1.302021
# Test2::Event::Plan 1.302021
# Test2::Event::Skip 1.302021
# Test2::Event::Subtest 1.302021
# Test2::Event::Waiting 1.302021
# Test2::Formatter 1.302021
# Test2::Formatter::TAP 1.302021
# Test2::Hub 1.302021
# Test2::Hub::Interceptor 1.302021
# Test2::Hub::Interceptor::Terminator 1.302021
# Test2::Hub::Subtest 1.302021
# Test2::Util 1.302021
# Test2::Util::ExternalMeta 1.302021
# Test2::Util::HashBase 1.302021
# Test2::Util::Trace 1.302021
# Types::Serialiser 1.0
# XSLoader 0.20
# attributes 0.27
# base 2.22
# bytes 1.04
# common::sense 3.74
# constant 1.33
# mro 1.17
# overload 1.26
# overloading 0.02
# strict 1.09
# vars 1.03
# warnings 1.32
# warnings::register 1.04
t/00-load.t .................... ok
t/01-appversion.t .............. skipped: Couldn't connect to MozRepl: Failed to connect to , problem connecting to "localhost", port 4242: Connection refused at /home/sand/src/perl/repoperls/installed-perls/perl/v5.22.0/f991/lib/site_perl/5.22.0/MozRepl/Client.pm line 144
# --- Loading object functionality into repl
t/01-array.t ................... skipped: Couldn't connect to MozRepl: Failed to connect to , problem connecting to "localhost", port 4242: Connection refused at /home/sand/src/perl/repoperls/installed-perls/perl/v5.22.0/f991/lib/site_perl/5.22.0/MozRepl/Client.pm line 144
[error] Cannot assign requested address
t/01-backend-anyevent-timer.t .. skipped: Couldn't connect to Firefox: Failed to connect to , Cannot assign requested address at /tmp/loop_over_bdir-31376-7etQX6/MozRepl-RemoteObject-0.39-0/blib/lib/MozRepl/AnyEvent.pm line 188.
t/01-backend-anyevent.t ........ skipped: Couldn't connect to Firefox: Cannot assign requested address at /tmp/loop_over_bdir-31376-7etQX6/MozRepl-RemoteObject-0.39-0/blib/lib/MozRepl/AnyEvent.pm line 188.
t/01-callback-overhead.t ....... skipped: Couldn't connect to MozRepl: Failed to connect to , problem connecting to "localhost", port 4242: Connection refused at /home/sand/src/perl/repoperls/installed-perls/perl/v5.22.0/f991/lib/site_perl/5.22.0/MozRepl/Client.pm line 144
t/01-callback.t ................ skipped: Couldn't connect to MozRepl: Failed to connect to , problem connecting to "localhost", port 4242: Connection refused at /home/sand/src/perl/repoperls/installed-perls/perl/v5.22.0/f991/lib/site_perl/5.22.0/MozRepl/Client.pm line 144
t/01-constant.t ................ skipped: Couldn't connect to MozRepl: Failed to connect to , problem connecting to "localhost", port 4242: Connection refused at /home/sand/src/perl/repoperls/installed-perls/perl/v5.22.0/f991/lib/site_perl/5.22.0/MozRepl/Client.pm line 144
t/01-dive.t .................... skipped: Couldn't connect to MozRepl: Failed to connect to , problem connecting to "localhost", port 4242: Connection refused at /home/sand/src/perl/repoperls/installed-perls/perl/v5.22.0/f991/lib/site_perl/5.22.0/MozRepl/Client.pm line 144
[error] Cannot assign requested address
t/01-expr-anyevent.t ........... skipped: Couldn't connect to Firefix: Failed to connect to , Cannot assign requested address at /tmp/loop_over_bdir-31376-7etQX6/MozRepl-RemoteObject-0.39-0/blib/lib/MozRepl/AnyEvent.pm line 188.
t/01-expr.t .................... skipped: Couldn't connect to MozRepl: Failed to connect to , problem connecting to "localhost", port 4242: Connection refused at /home/sand/src/perl/repoperls/installed-perls/perl/v5.22.0/f991/lib/site_perl/5.22.0/MozRepl/Client.pm line 144
t/01-hash.t .................... skipped: Couldn't connect to MozRepl: Failed to connect to , problem connecting to "localhost", port 4242: Connection refused at /home/sand/src/perl/repoperls/installed-perls/perl/v5.22.0/f991/lib/site_perl/5.22.0/MozRepl/Client.pm line 144
t/01-invoke.t .................. skipped: Couldn't connect to MozRepl: Failed to connect to , problem connecting to "localhost", port 4242: Connection refused at /home/sand/src/perl/repoperls/installed-perls/perl/v5.22.0/f991/lib/site_perl/5.22.0/MozRepl/Client.pm line 144
# --- Loading object functionality into repl
t/01-multiline-string.t ........ skipped: Couldn't connect to MozRepl: Failed to connect to , problem connecting to "localhost", port 4242: Connection refused at /home/sand/src/perl/repoperls/installed-perls/perl/v5.22.0/f991/lib/site_perl/5.22.0/MozRepl/Client.pm line 144
# --- Loading object functionality into repl
t/01-object.t .................. skipped: Couldn't connect to MozRepl: Failed to connect to , problem connecting to "localhost", port 4242: Connection refused at /home/sand/src/perl/repoperls/installed-perls/perl/v5.22.0/f991/lib/site_perl/5.22.0/MozRepl/Client.pm line 144
# --- Loading object functionality into repl
t/01-queue.t ................... skipped: Couldn't connect to MozRepl: Failed to connect to , problem connecting to "localhost", port 4242: Connection refused at /home/sand/src/perl/repoperls/installed-perls/perl/v5.22.0/f991/lib/site_perl/5.22.0/MozRepl/Client.pm line 144
t/01-release-action.t .......... skipped: Couldn't connect to MozRepl: Failed to connect to , problem connecting to "localhost", port 4242: Connection refused at /home/sand/src/perl/repoperls/installed-perls/perl/v5.22.0/f991/lib/site_perl/5.22.0/MozRepl/Client.pm line 144
t/02-multiple-instances.t ...... skipped: Couldn't connect to MozRepl: Failed to connect to , problem connecting to "localhost", port 4242: Connection refused at /home/sand/src/perl/repoperls/installed-perls/perl/v5.22.0/f991/lib/site_perl/5.22.0/MozRepl/Client.pm line 144
t/02-repl.t .................... skipped: Couldn't connect to MozRepl: Failed to connect to , problem connecting to "localhost", port 4242: Connection refused at /home/sand/src/perl/repoperls/installed-perls/perl/v5.22.0/f991/lib/site_perl/5.22.0/MozRepl/Client.pm line 144
t/02-synopsis.t ................ skipped: Couldn't connect to MozRepl: Failed to connect to , problem connecting to "localhost", port 4242: Connection refused at /home/sand/src/perl/repoperls/installed-perls/perl/v5.22.0/f991/lib/site_perl/5.22.0/MozRepl/Client.pm line 144
t/03-unicode.t ................. skipped: Couldn't connect to MozRepl: Failed to connect to , problem connecting to "localhost", port 4242: Connection refused at /home/sand/src/perl/repoperls/installed-perls/perl/v5.22.0/f991/lib/site_perl/5.22.0/MozRepl/Client.pm line 144
t/04-looong-input.t ............ skipped: Couldn't connect to MozRepl: Failed to connect to , problem connecting to "localhost", port 4242: Connection refused at /home/sand/src/perl/repoperls/installed-perls/perl/v5.22.0/f991/lib/site_perl/5.22.0/MozRepl/Client.pm line 144
t/05-callback-parameter.t ...... skipped: Couldn't connect to MozRepl: Failed to connect to , problem connecting to "localhost", port 4242: Connection refused at /home/sand/src/perl/repoperls/installed-perls/perl/v5.22.0/f991/lib/site_perl/5.22.0/MozRepl/Client.pm line 144
t/10-xul-hud.t ................. skipped: Couldn't connect to MozRepl: Failed to connect to , problem connecting to "localhost", port 4242: Connection refused at /home/sand/src/perl/repoperls/installed-perls/perl/v5.22.0/f991/lib/site_perl/5.22.0/MozRepl/Client.pm line 144
t/11-memleak-callback.t ........ skipped: Couldn't connect to MozRepl: Failed to connect to , problem connecting to "localhost", port 4242: Connection refused at /home/sand/src/perl/repoperls/installed-perls/perl/v5.22.0/f991/lib/site_perl/5.22.0/MozRepl/Client.pm line 144
t/11-memleak-constant.t ........ skipped: Couldn't connect to MozRepl: Failed to connect to , problem connecting to "localhost", port 4242: Connection refused at /home/sand/src/perl/repoperls/installed-perls/perl/v5.22.0/f991/lib/site_perl/5.22.0/MozRepl/Client.pm line 144
t/11-memleak-declare.t ......... skipped: Couldn't connect to MozRepl: Failed to connect to , problem connecting to "localhost", port 4242: Connection refused at /home/sand/src/perl/repoperls/installed-perls/perl/v5.22.0/f991/lib/site_perl/5.22.0/MozRepl/Client.pm line 144
t/11-memleak.t ................. skipped: Couldn't connect to MozRepl: Failed to connect to , problem connecting to "localhost", port 4242: Connection refused at /home/sand/src/perl/repoperls/installed-perls/perl/v5.22.0/f991/lib/site_perl/5.22.0/MozRepl/Client.pm line 144
# Checking for version 0.39
t/99-changes.t ................. ok
t/99-manifest.t ................ ok
t/99-pod.t ..................... ok
t/99-todo.t .................... ok
t/99-unix-text.t ............... ok
# Checking for $VERSION = '0.39';
t/99-versions.t ................ ok
All tests successful.
Files=34, Tests=31,  9 wallclock secs ( 0.09 usr  0.18 sys +  4.24 cusr  0.97 csys =  5.48 CPU)
Result: PASS

------------------------------
PREREQUISITES
------------------------------

Prerequisite modules loaded:

requires:

    Module              Need  Have    
    ------------------- ----- --------
    Encode              0     2.83    
    Exporter            0     5.72    
    File::Basename      0     2.85    
    IPC::Run            0     0.94_02 
    JSON                2     2.90    
    MozRepl             0.06  0.06    
    parent              0     0.232   
    perl                5.006 5.022000
    Scalar::Util        0     1.45    

build_requires:

    Module              Need  Have    
    ------------------- ----- --------
    Task::Weaken        0     1.04    

configure_requires:

    Module              Need  Have    
    ------------------- ----- --------
    ExtUtils::MakeMaker 0     7.18    


------------------------------
ENVIRONMENT AND OTHER CONTEXT
------------------------------

Environment variables:

    AUTOMATED_TESTING = 1
    LANG = en_US.UTF-8
    LANGUAGE = en_US:en
    PATH = /usr/lib/ccache:/home/sand/bin:/usr/local/bin:/usr/bin:/bin:/usr/games:/usr/local/perl/bin:/usr/X11/bin:/sbin:/usr/sbin
    PERL5LIB = 
    PERL5OPT = 
    PERL5_CPANPLUS_IS_RUNNING = 31377
    PERL5_CPAN_IS_RUNNING = 31377
    PERL_CANARY_STABILITY_NOPROMPT = 1
    PERL_MM_USE_DEFAULT = 1
    SHELL = /usr/bin/zsh
    TERM = screen

Perl special variables (and OS-specific diagnostics, for MSWin32):

    $^X = /home/sand/src/perl/repoperls/installed-perls/perl/v5.22.0/f991/bin/perl
    $UID/$EUID = 1005 / 1005
    $GID = 1005 1005
    $EGID = 1005 1005

Perl module toolchain versions installed:

    Module              Have    
    ------------------- --------
    CPAN                2.13    
    CPAN::Meta          2.150005
    Cwd                 3.62    
    ExtUtils::CBuilder  0.280224
    ExtUtils::Command   7.18    
    ExtUtils::Install   2.04    
    ExtUtils::MakeMaker 7.18    
    ExtUtils::Manifest  1.70    
    ExtUtils::ParseXS   3.28    
    File::Spec          3.62    
    JSON                2.90    
    JSON::PP            2.27400 
    Module::Build       0.4216  
    Module::Signature   0.79    
    Parse::CPAN::Meta   1.4419  
    Test::Harness       3.36    
    Test::More          1.302021
    YAML                1.15    
    YAML::Syck          1.29    
    version             0.9916  


--

Summary of my perl5 (revision 5 version 22 subversion 0) configuration:
  Derived from: 70f63a4c7dba89e8e48b44de7978faae4319e693
  Platform:
    osname=linux, osvers=4.3.0-1-amd64, archname=x86_64-linux
    uname='linux k83 4.3.0-1-amd64 #1 smp debian 4.3.3-7 (2016-01-19) x86_64 gnulinux '
    config_args='-Dprefix=/home/sand/src/perl/repoperls/installed-perls/perl/v5.22.0/f991 -Dmyhostname=k83 -Dinstallusrbinperl=n -Uversiononly -Dusedevel -des -Ui_db -Dlibswanted=cl pthread socket inet nsl gdbm dbm malloc dl ld sun m crypt sec util c cposix posix ucb BSD gdbm_compat -Uuseithreads -Uuselongdouble'
    hint=recommended, useposix=true, d_sigaction=define
    useithreads=undef, usemultiplicity=undef
    use64bitint=define, use64bitall=define, uselongdouble=undef
    usemymalloc=n, bincompat5005=undef
  Compiler:
    cc='cc', ccflags ='-fwrapv -fno-strict-aliasing -pipe -fstack-protector-strong -I/usr/local/include -D_LARGEFILE_SOURCE -D_FILE_OFFSET_BITS=64',
    optimize='-O2',
    cppflags='-fwrapv -fno-strict-aliasing -pipe -fstack-protector-strong -I/usr/local/include'
    ccversion='', gccversion='5.3.1 20160121', gccosandvers=''
    intsize=4, longsize=8, ptrsize=8, doublesize=8, byteorder=12345678, doublekind=3
    d_longlong=define, longlongsize=8, d_longdbl=define, longdblsize=16, longdblkind=3
    ivtype='long', ivsize=8, nvtype='double', nvsize=8, Off_t='off_t', lseeksize=8
    alignbytes=8, prototype=define
  Linker and Libraries:
    ld='cc', ldflags =' -fstack-protector-strong -L/usr/local/lib'
    libpth=/usr/local/lib /usr/lib/gcc/x86_64-linux-gnu/5/include-fixed /usr/include/x86_64-linux-gnu /usr/lib /lib/x86_64-linux-gnu /lib/../lib /usr/lib/x86_64-linux-gnu /usr/lib/../lib /lib
    libs=-lpthread -lnsl -lgdbm -ldl -lm -lcrypt -lutil -lc -lgdbm_compat
    perllibs=-lpthread -lnsl -ldl -lm -lcrypt -lutil -lc
    libc=libc-2.21.so, so=so, useshrplib=false, libperl=libperl.a
    gnulibc_version='2.21'
  Dynamic Linking:
    dlsrc=dl_dlopen.xs, dlext=so, d_dlsymun=undef, ccdlflags='-Wl,-E'
    cccdlflags='-fPIC', lddlflags='-shared -O2 -L/usr/local/lib -fstack-protector-strong'


Characteristics of this binary (from libperl): 
  Compile-time options: HAS_TIMES PERLIO_LAYERS PERL_DONT_CREATE_GVSV
                        PERL_HASH_FUNC_ONE_AT_A_TIME_HARD PERL_MALLOC_WRAP
                        PERL_NEW_COPY_ON_WRITE PERL_PRESERVE_IVUV
                        PERL_USE_DEVEL USE_64_BIT_ALL USE_64_BIT_INT
                        USE_LARGE_FILES USE_LOCALE USE_LOCALE_COLLATE
                        USE_LOCALE_CTYPE USE_LOCALE_NUMERIC USE_LOCALE_TIME
                        USE_PERLIO USE_PERL_ATOF
  Locally applied patches:
	uncommitted-changes
	Devel::PatchPerl 1.40
  Built under linux
  Compiled at Feb  1 2016 11:40:32
  %ENV:
    PERL5LIB=""
    PERL5OPT=""
    PERL5_CPANPLUS_IS_RUNNING="31377"
    PERL5_CPAN_IS_RUNNING="31377"
    PERL_CANARY_STABILITY_NOPROMPT="1"
    PERL_MM_USE_DEFAULT="1"
  @INC:
    /home/sand/src/perl/repoperls/installed-perls/perl/v5.22.0/f991/lib/site_perl/5.22.0/x86_64-linux
    /home/sand/src/perl/repoperls/installed-perls/perl/v5.22.0/f991/lib/site_perl/5.22.0
    /home/sand/src/perl/repoperls/installed-perls/perl/v5.22.0/f991/lib/5.22.0/x86_64-linux
    /home/sand/src/perl/repoperls/installed-perls/perl/v5.22.0/f991/lib/5.22.0
    .