Soar-Production v0.03 Perl 5 v5.26.0 MSWin32-x86-multi-thread-64int
- Status
- Pass
- From
- Alexandr Ciornii (CHORNY)
- Dist
-
Soar-Production v0.03
- Platform
- Perl 5 v5.26.0 MSWin32-x86-multi-thread-64int
- Date
- 2018-01-29 04:14:28
- ID
- 0fa1be2e-6c02-1014-91f2-ecf7b5711d73
This distribution has been tested as part of the CPAN Testers
project, supporting the Perl programming language. See
http://wiki.cpantesters.org/ for more information or email
questions to cpan-testers-discuss@perl.org
--
Dear Nathan Gary Glenn,
This is a computer-generated report for Soar-Production-0.03
on perl 5.26.0, created by CPAN-Reporter-1.2018.
Thank you for uploading your work to CPAN. Congratulations!
All tests were successful.
Sections of this report:
* Tester comments
* Program output
* Prerequisites
* Environment and other context
------------------------------
TESTER COMMENTS
------------------------------
Additional comments from tester:
this report is from an automated smoke testing program
and was not reviewed by a human for accuracy
------------------------------
PROGRAM OUTPUT
------------------------------
Output from 'C:\Strawberry260\perl\bin\perl.exe ./Build test':
t/0-use.t ........................ ok
t/00-compile.t ................... ok
#
#
# Generated by Dist::Zilla::Plugin::ReportVersions::Tiny v1.08
# perl: 5.026000 (wanted 5.010) on MSWin32 from C:\Strawberry260\perl\bin\perl.exe
#
# Carp => 1.42 (want any version)
# Data::Diver => 1.0101 (want any version)
# Data::Dumper => 2.167 (want any version)
# Exporter::Easy => 0.18 (want any version)
# File::Find => 1.34 (want any version)
# File::Spec => 3.67 (want any version)
# File::Spec::Functions => 3.67 (want any version)
# File::Temp => 0.2304 (want any version)
# FindBin => 1.51 (want any version)
# Module::Build => 0.4224 (want 0.3601)
# Parse::RecDescent => 1.967015 (want any version)
# Path::Tiny => 0.104 (want any version)
# Pod::Coverage::TrustPod => 0.100003 (want any version)
# Test::Base => 0.88 (want any version)
# Test::Base::Filter => <undef> (want any version)
# Test::CPAN::Meta => 0.25 (want any version)
# Test::Deep => 1.127 (want any version)
# Test::Exception => 0.43 (want any version)
# Test::LongString => 0.17 (want any version)
# Test::More => 1.302120 (want 0.88)
# Test::Pod => 1.51 (want 1.41)
# Test::Pod::Coverage => 1.10 (want 1.08)
# Test::Warn => 0.32 (want any version)
# strict => 1.11 (want any version)
# utf8 => 1.19 (want any version)
# version => 0.9918 (want 0.9901)
# warnings => 1.37 (want any version)
#
# Thanks for using my code. I hope it works for you.
# If not, please try and include this output in the bug report.
# That will help me reproduce the issue and solve your problem.
#
t/000-report-versions-tiny.t ..... ok
t/1-basic.t ...................... ok
t/parser/00-use.t ................ ok
t/parser/01-bad_input.t .......... ok
t/parser/01_5-comments.t ......... ok
t/parser/02-split-productions.t .. ok
t/parser/03-production-names.t ... ok
t/parser/04-documentation.t ...... ok
t/parser/05-Flags.t .............. ok
t/parser/06-State.t .............. ok
t/parser/07-variables.t .......... ok
t/parser/08-attributes.t ......... ok
t/parser/09-int.t ................ ok
t/parser/10-float.t .............. ok
t/parser/11-string.t ............. ok
t/parser/12-quoted.t ............. ok
t/parser/13-disjunct.t ........... ok
t/parser/14-conjunct.t ........... ok
t/parser/15-predicate.t .......... ok
t/parser/16-preference.t ......... ok
t/parser/17-function.t ........... ok
t/parser/18-negative.t ........... ok
t/parser/19-conjunctiveCond.t .... ok
t/parser/20-test_data.t .......... ok
t/printer/0-use.t ................ ok
t/printer/1-test_data.t .......... ok
All tests successful.
Files=28, Tests=1816, 198 wallclock secs ( 0.11 usr + 0.17 sys = 0.28 CPU)
Result: PASS
------------------------------
PREREQUISITES
------------------------------
Prerequisite modules loaded:
requires:
Module Need Have
--------------------- ------ --------
Carp 0 1.42
Data::Dumper 0 2.167
Exporter::Easy 0 0.18
Parse::RecDescent 0 1.967015
perl 5.010 5.026000
strict 0 1.11
warnings 0 1.37
build_requires:
Module Need Have
--------------------- ------ --------
Data::Diver 0 1.0101
File::Find 0 1.34
File::Spec 0 3.67
File::Spec::Functions 0 3.67
File::Temp 0 0.2304
FindBin 0 1.51
Module::Build 0.3601 0.4224
Path::Tiny 0 0.104
Test::Base 0 0.88
Test::Base::Filter 0 0
Test::Deep 0 1.127
Test::Exception 0 0.43
Test::LongString 0 0.17
Test::More 0.88 1.302120
Test::Warn 0 0.32
utf8 0 1.19
configure_requires:
Module Need Have
--------------------- ------ --------
Module::Build 0.3601 0.4224
------------------------------
ENVIRONMENT AND OTHER CONTEXT
------------------------------
Environment variables:
AUTOMATED_TESTING = 1
COMSPEC = C:\WINDOWS\system32\cmd.exe
NUMBER_OF_PROCESSORS = 1
PATH = C:\WINDOWS\system32;C:\WINDOWS;C:\WINDOWS\System32\Wbem;C:\Git\cmd;C:\Strawberry260\c\bin;C:\Strawberry260\perl\site\bin;C:\Strawberry260\perl\bin
PERL5LIB = C:\STRAWB~1\cpan\build\Data-Diver-1.0101-0/blib/arch;C:\STRAWB~1\cpan\build\Data-Diver-1.0101-0/blib/lib
PERL5OPT =
PERL5_CPANPLUS_IS_RUNNING = 1616
PERL5_CPAN_IS_RUNNING = 1616
PERL5_CPAN_IS_RUNNING_IN_RECURSION = 288,1616
PERL_CR_SMOKER_CURRENT = Soar-Production-0.03
PERL_CR_SMOKER_RUNONCE = 1
PERL_EXTUTILS_AUTOINSTALL = --defaultdeps
PERL_MM_USE_DEFAULT = 1
PERL_USE_UNSAFE_INC = 1
PROCESSOR_IDENTIFIER = x86 Family 16 Model 5 Stepping 3, AuthenticAMD
TEMP = C:\DOCUME~1\a\LOCALS~1\Temp
Perl special variables (and OS-specific diagnostics, for MSWin32):
$^X = C:\Strawberry260\perl\bin\perl.exe
$UID/$EUID = 0 / 0
$GID = 0
$EGID = 0
Win32::GetOSName = WinXP/.Net
Win32::GetOSVersion = Service Pack 3, 5, 1, 2600, 2, 3, 0, 256, 1
Win32::FsType = NTFS
Win32::IsAdminUser = 1
Perl module toolchain versions installed:
Module Have
------------------- --------
CPAN 2.18
CPAN::Meta 2.150010
Cwd 3.67
ExtUtils::CBuilder 0.280230
ExtUtils::Command 7.30
ExtUtils::Install 2.14
ExtUtils::MakeMaker 7.30
ExtUtils::Manifest 1.70
ExtUtils::ParseXS 3.35
File::Spec 3.67
JSON 2.97001
JSON::PP 2.97001
Module::Build 0.4224
Module::Signature 0.81
Parse::CPAN::Meta 2.150010
Test::Harness 3.39
Test::More 1.302120
YAML 1.24
YAML::Syck 1.30
version 0.9918
--
Summary of my perl5 (revision 5 version 26 subversion 0) configuration:
Platform:
osname=MSWin32
osvers=4.0
archname=MSWin32-x86-multi-thread-64int
uname='Win32 strawberry-perl 5.26.0.1 #1 Sat Dec 30 15:55:34 2017 i386'
config_args='undef'
hint=recommended
useposix=true
d_sigaction=undef
useithreads=define
usemultiplicity=define
use64bitint=define
use64bitall=undef
uselongdouble=undef
usemymalloc=n
default_inc_excludes_dot=define
bincompat5005=undef
Compiler:
cc='gcc'
ccflags =' -s -O2 -DWIN32 -D__USE_MINGW_ANSI_STDIO -DPERL_TEXTMODE_SCRIPTS -DPERL_IMPLICIT_CONTEXT -DPERL_IMPLICIT_SYS -DUSE_PERLIO -fwrapv -fno-strict-aliasing -mms-bitfields'
optimize='-s -O2'
cppflags='-DWIN32'
ccversion=''
gccversion='7.1.0'
gccosandvers=''
intsize=4
longsize=4
ptrsize=4
doublesize=8
byteorder=12345678
doublekind=3
d_longlong=define
longlongsize=8
d_longdbl=define
longdblsize=12
longdblkind=3
ivtype='long long'
ivsize=8
nvtype='double'
nvsize=8
Off_t='long long'
lseeksize=8
alignbytes=8
prototype=define
Linker and Libraries:
ld='g++'
ldflags ='-s -L"C:\STRAWB~1\perl\lib\CORE" -L"C:\STRAWB~1\c\lib"'
libpth=C:\STRAWB~1\c\lib C:\STRAWB~1\c\i686-w64-mingw32\lib C:\STRAWB~1\c\lib\gcc\i686-w64-mingw32\7.1.0
libs= -lmoldname -lkernel32 -luser32 -lgdi32 -lwinspool -lcomdlg32 -ladvapi32 -lshell32 -lole32 -loleaut32 -lnetapi32 -luuid -lws2_32 -lmpr -lwinmm -lversion -lodbc32 -lodbccp32 -lcomctl32
perllibs= -lmoldname -lkernel32 -luser32 -lgdi32 -lwinspool -lcomdlg32 -ladvapi32 -lshell32 -lole32 -loleaut32 -lnetapi32 -luuid -lws2_32 -lmpr -lwinmm -lversion -lodbc32 -lodbccp32 -lcomctl32
libc=
so=dll
useshrplib=true
libperl=libperl526.a
gnulibc_version=''
Dynamic Linking:
dlsrc=dl_win32.xs
dlext=xs.dll
d_dlsymun=undef
ccdlflags=' '
cccdlflags=' '
lddlflags='-mdll -s -L"C:\STRAWB~1\perl\lib\CORE" -L"C:\STRAWB~1\c\lib"'
Characteristics of this binary (from libperl):
Compile-time options:
HAS_TIMES
HAVE_INTERP_INTERN
MULTIPLICITY
PERLIO_LAYERS
PERL_COPY_ON_WRITE
PERL_DONT_CREATE_GVSV
PERL_IMPLICIT_CONTEXT
PERL_IMPLICIT_SYS
PERL_MALLOC_WRAP
PERL_OP_PARENT
PERL_PRESERVE_IVUV
USE_64_BIT_INT
USE_ITHREADS
USE_LARGE_FILES
USE_LOCALE
USE_LOCALE_COLLATE
USE_LOCALE_CTYPE
USE_LOCALE_NUMERIC
USE_LOCALE_TIME
USE_PERLIO
USE_PERL_ATOF
Built under MSWin32
Compiled at Dec 30 2017 16:05:39
%ENV:
PERL5LIB="C:\STRAWB~1\cpan\build\Data-Diver-1.0101-0/blib/arch;C:\STRAWB~1\cpan\build\Data-Diver-1.0101-0/blib/lib"
PERL5_CPANPLUS_IS_RUNNING="1616"
PERL5_CPAN_IS_RUNNING="1616"
PERL5_CPAN_IS_RUNNING_IN_RECURSION="288,1616"
PERL_CR_SMOKER_CURRENT="Soar-Production-0.03"
PERL_CR_SMOKER_RUNONCE="1"
PERL_EXTUTILS_AUTOINSTALL="--defaultdeps"
PERL_MM_USE_DEFAULT="1"
PERL_USE_UNSAFE_INC="1"
@INC:
C:\STRAWB~1\cpan\build\Data-Diver-1.0101-0/blib/arch
C:\STRAWB~1\cpan\build\Data-Diver-1.0101-0/blib/lib
C:/Strawberry260/perl/site/lib
C:/Strawberry260/perl/vendor/lib
C:/Strawberry260/perl/lib
.