HTTP-Request-Generator v0.11 Perl 5 v5.30.3 amd64-freebsd
- Status
- Pass
- From
- Slaven Rezić
- Dist
-
HTTP-Request-Generator v0.11
- Platform
- Perl 5 v5.30.3 amd64-freebsd
- Date
- 2020-12-09 02:05:51
- ID
- 0fde1e3c-39c3-11eb-a5c7-ae821f24ea8f
This distribution has been tested as part of the CPAN Testers
project, supporting the Perl programming language. See
http://wiki.cpantesters.org/ for more information or email
questions to cpan-testers-discuss@perl.org
--
Dear Max Maischein,
This is a computer-generated report for HTTP-Request-Generator-0.11
on perl 5.30.3, created by CPAN-Reporter-1.2018.
Thank you for uploading your work to CPAN. Congratulations!
All tests were successful.
Sections of this report:
* Tester comments
* Program output
* Prerequisites
* Environment and other context
------------------------------
TESTER COMMENTS
------------------------------
Additional comments from tester:
none provided
------------------------------
PROGRAM OUTPUT
------------------------------
Output from '/usr/bin/make test':
PERL_DL_NONLAZY=1 "/usr/perl5.30.3p/bin/perl5.30.3" "-MExtUtils::Command::MM" "-MTest::Harness" "-e" "undef *Test::Harness::Switches; test_harness(0, 'blib/lib', 'blib/arch')" t/00-load.t t/02-http-generator.t t/03-wrap-http-request.t t/03-wrap-plack.t t/03-wrap.t t/04-url-expansion.t
# Testing HTTP::Request::Generator 0.11, Perl 5.030003
# Algorithm::Loops 1.032
# Carp 1.50
# Config 5.030003
# Cwd 3.78
# Encode 3.08
# Encode::Alias 2.24
# Encode::Config 2.05
# Encode::Encoding 2.08
# Encode::MIME::Name 1.03
# Exporter 5.73
# Exporter::Heavy 5.73
# Exporter::Tiny 1.002002
# ExtUtils::Liblist 7.54
# ExtUtils::Liblist::Kid 7.54
# ExtUtils::MM 7.54
# ExtUtils::MM_Any 7.54
# ExtUtils::MM_Unix 7.54
# ExtUtils::MY 7.54
# ExtUtils::MakeMaker 7.54
# ExtUtils::MakeMaker::Config 7.54
# ExtUtils::MakeMaker::Locale 7.54
# ExtUtils::MakeMaker::version 7.54
# Fcntl 1.13
# File::Basename 2.85
# File::Glob 1.32
# File::Path 2.18
# File::Spec 3.78
# File::Spec::Unix 3.78
# Filter::Simple 0.95
# Filter::Util::Call 1.6
# Filter::signatures 0.17
# HTTP::Request::Generator 0.11
# I18N::Langinfo 0.18
# IO 1.40
# IO::Handle 1.40
# List::MoreUtils 0.430
# List::MoreUtils::PP 0.430
# List::MoreUtils::XS 0.430
# List::Util 1.55
# POSIX 1.88
# PerlIO 1.10
# Scalar::Util 1.55
# SelectSaver 1.02
# SelfLoader 1.25
# Storable 3.15
# Symbol 1.08
# Test::Builder 1.302183
# Test::Builder::Formatter 1.302183
# Test::Builder::Module 1.302183
# Test::Builder::TodoDiag 1.302183
# Test::More 1.302183
# Test2::API 1.302183
# Test2::API::Context 1.302183
# Test2::API::Instance 1.302183
# Test2::API::Stack 1.302183
# Test2::Event 1.302183
# Test2::Event::Bail 1.302183
# Test2::Event::Diag 1.302183
# Test2::Event::Exception 1.302183
# Test2::Event::Fail 1.302183
# Test2::Event::Note 1.302183
# Test2::Event::Ok 1.302183
# Test2::Event::Pass 1.302183
# Test2::Event::Plan 1.302183
# Test2::Event::Skip 1.302183
# Test2::Event::Subtest 1.302183
# Test2::Event::V2 1.302183
# Test2::Event::Waiting 1.302183
# Test2::EventFacet 1.302183
# Test2::EventFacet::About 1.302183
# Test2::EventFacet::Amnesty 1.302183
# Test2::EventFacet::Assert 1.302183
# Test2::EventFacet::Control 1.302183
# Test2::EventFacet::Error 1.302183
# Test2::EventFacet::Hub 1.302183
# Test2::EventFacet::Info 1.302183
# Test2::EventFacet::Meta 1.302183
# Test2::EventFacet::Parent 1.302183
# Test2::EventFacet::Plan 1.302183
# Test2::EventFacet::Trace 1.302183
# Test2::Formatter 1.302183
# Test2::Formatter::TAP 1.302183
# Test2::Hub 1.302183
# Test2::Hub::Interceptor 1.302183
# Test2::Hub::Interceptor::Terminator 1.302183
# Test2::Hub::Subtest 1.302183
# Test2::Util 1.302183
# Test2::Util::ExternalMeta 1.302183
# Test2::Util::Facets2Legacy 1.302183
# Test2::Util::HashBase 1.302183
# Test2::Util::Trace 1.302183
# Text::Balanced 2.03
# Tie::Hash 1.05
# URI 5.05
# URI::Escape 5.05
# XSLoader 0.30
# base 2.27
# bytes 1.07
# constant 1.33
# feature 1.54
# mro 1.22
# overload 1.30
# overloading 0.02
# parent 0.237
# re 0.37
# strict 1.11
# vars 1.05
# version 0.9924
# version::regex 0.9924
# warnings 1.44
# warnings::register 1.04
t/00-load.t ............... ok
t/02-http-generator.t ..... ok
t/03-wrap-http-request.t .. ok
t/03-wrap-plack.t ......... ok
t/03-wrap.t ............... ok
t/04-url-expansion.t ...... ok
All tests successful.
Files=6, Tests=67, 3 wallclock secs ( 0.06 usr 0.02 sys + 1.89 cusr 0.14 csys = 2.12 CPU)
Result: PASS
------------------------------
PREREQUISITES
------------------------------
Prerequisite modules loaded:
requires:
Module Need Have
------------------- ----- --------
Algorithm::Loops 0 1.032
Carp 0 1.50
Exporter 5 5.73
Filter::signatures 0 0.17
List::MoreUtils 0 0.430
perl 5.006 5.030003
URI 0 5.05
URI::Escape 0 5.05
build_requires:
Module Need Have
------------------- ----- --------
Data::Dumper 0 2.174
ExtUtils::MakeMaker 0 7.54
File::Spec 0 3.78
Test::More 0 1.302183
configure_requires:
Module Need Have
------------------- ----- --------
ExtUtils::MakeMaker 0 7.54
------------------------------
ENVIRONMENT AND OTHER CONTEXT
------------------------------
Environment variables:
PATH = /usr/local/bin:/usr/bin:/bin:/usr/local/sbin:/usr/sbin:/sbin:/home/cpansand/bin/sh:/home/cpansand/bin:/usr/games:/home/cpansand/devel:/usr/home/eserte/src/srezic-misc/scripts
PERL5LIB =
PERL5OPT =
PERL5_CPANPLUS_IS_RUNNING = 62583
PERL5_CPAN_IS_RUNNING = 62583
PERL5_CPAN_IS_RUNNING_IN_RECURSION = 58331,62583
PERL_BATCH = yes
PERL_CANARY_STABILITY_NOPROMPT = 1
PERL_CPAN_REPORTER_CONFIG = /var/tmp/cpansmoker-1023/2020120902/cpanreporter_000_config.ini
PERL_EXTUTILS_AUTOINSTALL = --defaultdeps
PERL_USE_UNSAFE_INC = 1
SHELL = /bin/sh
TMPDIR = /var/tmp/cpansmoker-1023/2020120902
Perl special variables (and OS-specific diagnostics, for MSWin32):
$^X = /usr/perl5.30.3p/bin/perl5.30.3
$UID/$EUID = 1023 / 1023
$GID = 1023 1023
$EGID = 1023 1023
Perl module toolchain versions installed:
Module Have
------------------- --------
CPAN 2.22
CPAN::Meta 2.150010
Cwd 3.78
ExtUtils::CBuilder 0.280231
ExtUtils::Command 7.54
ExtUtils::Install 2.18
ExtUtils::MakeMaker 7.54
ExtUtils::Manifest 1.72
ExtUtils::ParseXS 3.40
File::Spec 3.78
JSON 4.02
JSON::PP 4.05
Module::Build 0.4231
Module::Signature 0.87
Parse::CPAN::Meta 2.150010
Test::Harness 3.42
Test::More 1.302183
YAML 1.30
YAML::Syck 1.33
version 0.9924
--
Summary of my perl5 (revision 5 version 30 subversion 3) configuration:
Platform:
osname=freebsd
osvers=12.1-stable
archname=amd64-freebsd
uname='freebsd cloud1.bbbike.org 12.1-stable freebsd 12.1-stable c3d9189e4c2(stable12) generic amd64 '
config_args='-ds -e -Dprefix=/usr/perl5.30.3p -Dcf_email=srezic@cpan.org -Doptimize=-O2 -pipe'
hint=recommended
useposix=true
d_sigaction=define
useithreads=undef
usemultiplicity=undef
use64bitint=define
use64bitall=define
uselongdouble=undef
usemymalloc=n
default_inc_excludes_dot=define
bincompat5005=undef
Compiler:
cc='cc'
ccflags ='-DHAS_FPSETMASK -DHAS_FLOATINGPOINT_H -fno-strict-aliasing -pipe -fstack-protector-strong -I/usr/local/include'
optimize='-O2 -pipe'
cppflags='-DHAS_FPSETMASK -DHAS_FLOATINGPOINT_H -fno-strict-aliasing -pipe -fstack-protector-strong -I/usr/local/include'
ccversion=''
gccversion='FreeBSD Clang 10.0.0 (git@github.com:llvm/llvm-project.git llvmorg-10.0.0-0-gd32170dbd5b)'
gccosandvers=''
intsize=4
longsize=8
ptrsize=8
doublesize=8
byteorder=12345678
doublekind=3
d_longlong=define
longlongsize=8
d_longdbl=define
longdblsize=16
longdblkind=3
ivtype='long'
ivsize=8
nvtype='double'
nvsize=8
Off_t='off_t'
lseeksize=8
alignbytes=8
prototype=define
Linker and Libraries:
ld='cc'
ldflags ='-pthread -Wl,-E -fstack-protector-strong -L/usr/local/lib'
libpth=/usr/lib /usr/local/lib /usr/lib/clang/10.0.0/lib /usr/lib
libs=-lpthread -lgdbm -ldl -lm -lcrypt -lutil -lc
perllibs=-lpthread -ldl -lm -lcrypt -lutil -lc
libc=
so=so
useshrplib=false
libperl=libperl.a
gnulibc_version=''
Dynamic Linking:
dlsrc=dl_dlopen.xs
dlext=so
d_dlsymun=undef
ccdlflags=' '
cccdlflags='-DPIC -fPIC'
lddlflags='-shared -L/usr/local/lib -fstack-protector-strong'
Characteristics of this binary (from libperl):
Compile-time options:
HAS_TIMES
PERLIO_LAYERS
PERL_COPY_ON_WRITE
PERL_DONT_CREATE_GVSV
PERL_MALLOC_WRAP
PERL_OP_PARENT
PERL_PRESERVE_IVUV
USE_64_BIT_ALL
USE_64_BIT_INT
USE_LARGE_FILES
USE_LOCALE
USE_LOCALE_COLLATE
USE_LOCALE_CTYPE
USE_LOCALE_NUMERIC
USE_LOCALE_TIME
USE_PERLIO
USE_PERL_ATOF
Built under freebsd
Compiled at Jul 6 2020 19:02:57
%ENV:
PERL5LIB=""
PERL5OPT=""
PERL5_CPANPLUS_IS_RUNNING="62583"
PERL5_CPAN_IS_RUNNING="62583"
PERL5_CPAN_IS_RUNNING_IN_RECURSION="58331,62583"
PERL_BATCH="yes"
PERL_CANARY_STABILITY_NOPROMPT="1"
PERL_CPAN_REPORTER_CONFIG="/var/tmp/cpansmoker-1023/2020120902/cpanreporter_000_config.ini"
PERL_EXTUTILS_AUTOINSTALL="--defaultdeps"
PERL_USE_UNSAFE_INC="1"
@INC:
/usr/perl5.30.3p/lib/site_perl/5.30.3/amd64-freebsd
/usr/perl5.30.3p/lib/site_perl/5.30.3
/usr/perl5.30.3p/lib/5.30.3/amd64-freebsd
/usr/perl5.30.3p/lib/5.30.3
.