Report for Hash-AutoHash-1.17

Back
From: metabase:user:314402c4-2aae-11df-837a-5e0a49663a4f
Subject: PASS Hash-AutoHash-1.17 v5.24.1 GNU/Linux
Date: 2017-04-23T08:22:59Z

This distribution has been tested as part of the CPAN Testers
project, supporting the Perl programming language.  See
http://wiki.cpantesters.org/ for more information or email
questions to cpan-testers-discuss@perl.org


--
Dear Nathan Goodman,

This is a computer-generated report for Hash-AutoHash-1.17
on perl 5.24.1, created by CPAN-Reporter-1.2018.

Thank you for uploading your work to CPAN.  Congratulations!
All tests were successful.

Sections of this report:

    * Tester comments
    * Program output
    * Prerequisites
    * Environment and other context

------------------------------
TESTER COMMENTS
------------------------------

Additional comments from tester:

none provided

------------------------------
PROGRAM OUTPUT
------------------------------

Output from './Build test':

# Testing Hash::AutoHash 1.17, Perl 5.024001, /opt/perl-5.24.1t/bin/perl
t/autohash.000.code_exists.t .... ok
t/autohash.001.boilerplate.t .... ok
t/autohash.002.pod.t ............ ok
t/autohash.010.cons_funcs.t ..... ok
t/autohash.011.new_func.t ....... ok
t/autohash.012.new_method.t ..... ok
t/autohash.013.ashash.t ......... ok
t/autohash.013.exthash.t ........ ok
t/autohash.013.extobj.t ......... ok
t/autohash.019.export_ok.t ...... ok
t/autohash.020.class_methods.t .. ok
t/autohash.020.special_keys.t ... ok
t/autohash.020.universal.t ...... ok
t/autohash.030.alias.t .......... ok
t/autohash.030.clear.t .......... ok
t/autohash.030.count_etc.t ...... ok
t/autohash.030.delete.t ......... ok
t/autohash.030.each.t ........... ok
t/autohash.030.exists.t ......... ok
t/autohash.030.get.t ............ ok
t/autohash.030.keys.t ........... ok
t/autohash.030.set.t ............ ok
t/autohash.030.tied.t ........... ok
t/autohash.030.values.t ......... ok
t/autohash.031.delete_exists.t .. ok
t/autohash.031.delete_keys.t .... ok
t/autohash.031.delete_values.t .. ok
t/autohash.040.destroy.t ........ ok
t/autohash.050.child.t .......... ok
t/autohash.050.grandchild.t ..... ok
t/autohash.055.typicalchild.t ... ok
t/autohash.099.docs.t ........... ok
All tests successful.
Files=32, Tests=2813,  6 wallclock secs ( 0.44 usr  0.06 sys +  5.36 cusr  0.64 csys =  6.50 CPU)
Result: PASS

------------------------------
PREREQUISITES
------------------------------

Prerequisite modules loaded:

requires:

    Module                Need   Have    
    --------------------- ------ --------
    Carp                  1.2    1.40    
    Cwd                   3.4    3.63_01 
    Exporter              5.68   5.72    
    List::MoreUtils       0.33   0.419   
    List::Util            1.32   1.47    
    perl                  v5.8.3 5.024001
    Tie::Hash             1.04   1.05    
    Tie::ToObject         0.03   0.03    
    XSLoader              0.15   0.22    

build_requires:

    Module                Need   Have    
    --------------------- ------ --------
    Carp                  1.2    1.40    
    Exporter              5.68   5.72    
    File::Spec            3.4    3.63_01 
    List::MoreUtils       0.33   0.419   
    Module::Build         0.4007 0.4220  
    Scalar::Util          1.23   1.47    
    Storable              2.3    2.56_01 
    Test::Deep            0.11   1.126   
    Test::More            0.98   1.302083
    Test::Pod             1.48   1.51    
    Test::Pod::Content    v0.0.6 0.0.6   
    Tie::Hash             1.04   1.05    
    Tie::Hash::MultiValue 1.02   1.02    

configure_requires:

    Module                Need   Have    
    --------------------- ------ --------
    Module::Build         0.4007 0.4220  


------------------------------
ENVIRONMENT AND OTHER CONTEXT
------------------------------

Environment variables:

    LANG = en_US.UTF-8
    PATH = /usr/local/bin:/usr/bin:/bin:/usr/local/sbin:/usr/sbin:/sbin:/home/cpansand/bin/linux-gnu:/home/cpansand/bin/sh:/home/cpansand/bin:/usr/games:/home/cpansand/devel:/home/eserte/src/srezic-misc/scripts
    PERL5LIB = /home/cpansand/.cpan/build/2017042309/Tie-Hash-MultiValue-1.02-3/blib/arch:/home/cpansand/.cpan/build/2017042309/Tie-Hash-MultiValue-1.02-3/blib/lib
    PERL5OPT = 
    PERL5_CPANPLUS_IS_RUNNING = 11816
    PERL5_CPAN_IS_RUNNING = 11816
    PERL5_CPAN_IS_RUNNING_IN_RECURSION = 9590,11816
    PERLDOC = -MPod::Perldoc::ToTextOverstrike
    PERL_BATCH = yes
    PERL_CANARY_STABILITY_NOPROMPT = 1
    PERL_CPAN_REPORTER_CONFIG = /var/tmp/cpansmoker-1002/2017042309/cpanreporter_001_config.ini
    PERL_EXTUTILS_AUTOINSTALL = --defaultdeps
    SHELL = /bin/zsh
    TERM = screen
    TMPDIR = /var/tmp/cpansmoker-1002/2017042309

Perl special variables (and OS-specific diagnostics, for MSWin32):

    $^X = /opt/perl-5.24.1t/bin/perl
    $UID/$EUID = 1002 / 1002
    $GID = 1002 1002
    $EGID = 1002 1002

Perl module toolchain versions installed:

    Module              Have      
    ------------------- ----------
    CPAN                2.16      
    CPAN::Meta          2.150005  
    Cwd                 3.63_01   
    ExtUtils::CBuilder  0.280225  
    ExtUtils::Command   7.24      
    ExtUtils::Install   2.04      
    ExtUtils::MakeMaker 7.24      
    ExtUtils::Manifest  1.70      
    ExtUtils::ParseXS   3.31      
    File::Spec          3.63_01   
    JSON                2.90      
    JSON::PP            2.27400   
    Module::Build       0.4220    
    Module::Signature   0.81      
    Parse::CPAN::Meta   1.4417_001
    Test::Harness       3.38      
    Test::More          1.302083  
    YAML                1.23      
    YAML::Syck          1.30      
    version             0.9916    


--

Summary of my perl5 (revision 5 version 24 subversion 1) configuration:
   
  Platform:
    osname=linux, osvers=3.10.0-514.6.2.el7.x86_64, archname=x86_64-linux-thread-multi
    uname='linux prod5 3.10.0-514.6.2.el7.x86_64 #1 smp thu feb 23 03:04:39 utc 2017 x86_64 x86_64 x86_64 gnulinux '
    config_args='-ds -e -Dprefix=/opt/perl-5.24.1t -Dusethreads -Dcf_email=srezic@cpan.org'
    hint=recommended, useposix=true, d_sigaction=define
    useithreads=define, usemultiplicity=define
    use64bitint=define, use64bitall=define, uselongdouble=undef
    usemymalloc=n, bincompat5005=undef
  Compiler:
    cc='cc', ccflags ='-D_REENTRANT -D_GNU_SOURCE -fwrapv -fno-strict-aliasing -pipe -fstack-protector-strong -I/usr/local/include -D_LARGEFILE_SOURCE -D_FILE_OFFSET_BITS=64 -D_FORTIFY_SOURCE=2',
    optimize='-O2',
    cppflags='-D_REENTRANT -D_GNU_SOURCE -fwrapv -fno-strict-aliasing -pipe -fstack-protector-strong -I/usr/local/include'
    ccversion='', gccversion='4.8.5 20150623 (Red Hat 4.8.5-11)', gccosandvers=''
    intsize=4, longsize=8, ptrsize=8, doublesize=8, byteorder=12345678, doublekind=3
    d_longlong=define, longlongsize=8, d_longdbl=define, longdblsize=16, longdblkind=3
    ivtype='long', ivsize=8, nvtype='double', nvsize=8, Off_t='off_t', lseeksize=8
    alignbytes=8, prototype=define
  Linker and Libraries:
    ld='cc', ldflags =' -fstack-protector-strong -L/usr/local/lib'
    libpth=/usr/local/lib /usr/lib /lib/../lib64 /usr/lib/../lib64 /lib /lib64 /usr/lib64 /usr/local/lib64
    libs=-lpthread -lnsl -lgdbm -ldb -ldl -lm -lcrypt -lutil -lc -lgdbm_compat
    perllibs=-lpthread -lnsl -ldl -lm -lcrypt -lutil -lc
    libc=libc-2.17.so, so=so, useshrplib=false, libperl=libperl.a
    gnulibc_version='2.17'
  Dynamic Linking:
    dlsrc=dl_dlopen.xs, dlext=so, d_dlsymun=undef, ccdlflags='-Wl,-E'
    cccdlflags='-fPIC', lddlflags='-shared -O2 -L/usr/local/lib -fstack-protector-strong'


Characteristics of this binary (from libperl): 
  Compile-time options: HAS_TIMES MULTIPLICITY PERLIO_LAYERS
                        PERL_COPY_ON_WRITE PERL_DONT_CREATE_GVSV
                        PERL_HASH_FUNC_ONE_AT_A_TIME_HARD
                        PERL_IMPLICIT_CONTEXT PERL_MALLOC_WRAP
                        PERL_PRESERVE_IVUV USE_64_BIT_ALL USE_64_BIT_INT
                        USE_ITHREADS USE_LARGE_FILES USE_LOCALE
                        USE_LOCALE_COLLATE USE_LOCALE_CTYPE
                        USE_LOCALE_NUMERIC USE_LOCALE_TIME USE_PERLIO
                        USE_PERL_ATOF USE_REENTRANT_API
  Built under linux
  Compiled at Feb 23 2017 21:20:48
  %ENV:
    PERL5LIB="/home/cpansand/.cpan/build/2017042309/Tie-Hash-MultiValue-1.02-3/blib/arch:/home/cpansand/.cpan/build/2017042309/Tie-Hash-MultiValue-1.02-3/blib/lib"
    PERL5OPT=""
    PERL5_CPANPLUS_IS_RUNNING="11816"
    PERL5_CPAN_IS_RUNNING="11816"
    PERL5_CPAN_IS_RUNNING_IN_RECURSION="9590,11816"
    PERLDOC="-MPod::Perldoc::ToTextOverstrike"
    PERL_BATCH="yes"
    PERL_CANARY_STABILITY_NOPROMPT="1"
    PERL_CPAN_REPORTER_CONFIG="/var/tmp/cpansmoker-1002/2017042309/cpanreporter_001_config.ini"
    PERL_EXTUTILS_AUTOINSTALL="--defaultdeps"
  @INC:
    /home/cpansand/.cpan/build/2017042309/Tie-Hash-MultiValue-1.02-3/blib/arch
    /home/cpansand/.cpan/build/2017042309/Tie-Hash-MultiValue-1.02-3/blib/lib
    /opt/perl-5.24.1t/lib/site_perl/5.24.1/x86_64-linux-thread-multi
    /opt/perl-5.24.1t/lib/site_perl/5.24.1
    /opt/perl-5.24.1t/lib/5.24.1/x86_64-linux-thread-multi
    /opt/perl-5.24.1t/lib/5.24.1
    .