Module-Metadata v1.000038 Perl 5 v5.24.4 x86_64-linux
- Status
- Pass
- From
- Andreas J. König (ANDK)
- Dist
-
Module-Metadata v1.000038
- Platform
- Perl 5 v5.24.4 x86_64-linux
- Date
- 2023-06-13 20:51:25
- ID
- 0fe3ca76-0a2c-11ee-aae6-55e6b5835a5b
This distribution has been tested as part of the CPAN Testers
project, supporting the Perl programming language. See
http://wiki.cpantesters.org/ for more information or email
questions to cpan-testers-discuss@perl.org
--
Dear Karen Etheridge,
This is a computer-generated report for Module-Metadata-1.000038
on perl 5.24.4, created by CPAN-Reporter-1.2018.
Thank you for uploading your work to CPAN. Congratulations!
All tests were successful.
Sections of this report:
* Tester comments
* Program output
* Prerequisites
* Environment and other context
------------------------------
TESTER COMMENTS
------------------------------
Additional comments from tester:
this report is from an automated smoke testing program
and was not reviewed by a human for accuracy
------------------------------
PROGRAM OUTPUT
------------------------------
Output from '/usr/bin/make test':
PERL_DL_NONLAZY=1 "/home/sand/src/perl/repoperls/installed-perls/host/k93msid/v5.24.4/bb7f/bin/perl" "-MExtUtils::Command::MM" "-MTest::Harness" "-e" "undef *Test::Harness::Switches; test_harness(0, 'blib/lib', 'blib/arch')" t/*.t
#
# Versions for all modules listed in MYMETA.json (including optional ones):
#
# === Configure Requires ===
#
# Module Want Have
# ------------------- ----- --------
# ExtUtils::MakeMaker any 7.64
# perl 5.006 5.024004
#
# === Build Requires ===
#
# Module Want Have
# ------------------- ---- ----
# ExtUtils::MakeMaker any 7.64
#
# === Test Requires ===
#
# Module Want Have
# ------------------- ----- --------
# Cwd any 3.75
# ExtUtils::MakeMaker any 7.64
# File::Basename any 2.85
# File::Path any 2.18
# File::Spec any 3.75
# File::Temp any 0.2311
# IO::File any 1.48
# Test::More 0.88 1.302191
# lib any 0.63
# perl 5.006 5.024004
#
# === Test Recommends ===
#
# Module Want Have
# ---------- -------- --------
# CPAN::Meta 2.120900 2.150010
#
# === Runtime Requires ===
#
# Module Want Have
# ---------- ----- --------
# Carp any 1.50
# Encode any 3.17
# Fcntl any 1.13
# File::Find any 1.34
# File::Spec any 3.75
# perl 5.006 5.024004
# strict any 1.11
# version 0.87 0.9929
# warnings any 1.36
#
# === Other Modules ===
#
# Module Have
# --------------- ------
# Encode 3.17
# File::Temp 0.2311
# JSON::PP 4.12
# Module::Runtime 0.016
# Pod::Coverage 0.23
# Sub::Name 0.26
# YAML 1.30
# autodie 2.29
#
t/00-report-prereqs.t .. ok
t/contains_pod.t ....... ok
t/encoding.t ........... ok
t/endpod.t ............. ok
# Got: '_private'
# Module contents:
# package _private;
# $::VERSION = 0.01;
# $VERSION = '999';
# Got: '_private'
# Module contents:
# package _private;
# $VERSION = '999';
# $::VERSION = 0.01;
t/extract-package.t .... ok
# parsed module: bless( {
# 'collect_pod' => undef,
# 'decode_pod' => undef,
# 'filename' => '/tmp/MMD-1vKAvGao/Simple59/Simple.pm',
# 'inc' => undef,
# 'module' => 'Simple',
# 'packages' => [
# 'Simple'
# ],
# 'pod' => {},
# 'pod_headings' => [],
# 'version' => bless( {
# 'original' => '0',
# 'version' => [
# 0
# ]
# }, 'version' ),
# 'versions' => {
# 'Simple' => $VAR1->{'version'}
# }
# }, 'Module::Metadata' )
# parsed module: bless( {
# 'collect_pod' => undef,
# 'decode_pod' => undef,
# 'filename' => '/tmp/MMD-1vKAvGao/Simple60/Simple.pm',
# 'inc' => undef,
# 'module' => 'Simple',
# 'packages' => [
# 'main',
# 'Simple'
# ],
# 'pod' => {},
# 'pod_headings' => [],
# 'version' => bless( {
# 'original' => '0',
# 'version' => [
# 0
# ]
# }, 'version' ),
# 'versions' => {
# 'Simple' => $VAR1->{'version'},
# 'main' => ''
# }
# }, 'Module::Metadata' )
# parsed module: bless( {
# 'collect_pod' => undef,
# 'decode_pod' => undef,
# 'filename' => '/tmp/MMD-1vKAvGao/Simple62/Simple.pm',
# 'inc' => undef,
# 'module' => undef,
# 'packages' => [
# 'main'
# ],
# 'pod' => {},
# 'pod_headings' => [],
# 'version' => undef,
# 'versions' => {
# 'main' => bless( {
# 'original' => '1.23',
# 'version' => [
# 1,
# 230
# ]
# }, 'version' )
# }
# }, 'Module::Metadata' )
# parsed module: bless( {
# 'collect_pod' => undef,
# 'decode_pod' => undef,
# 'filename' => '/tmp/MMD-1vKAvGao/Simple63/Simple.pm',
# 'inc' => undef,
# 'module' => undef,
# 'packages' => [
# 'main'
# ],
# 'pod' => {},
# 'pod_headings' => [],
# 'version' => undef,
# 'versions' => {
# 'main' => bless( {
# 'original' => '1.23',
# 'version' => [
# 1,
# 230
# ]
# }, 'version' )
# }
# }, 'Module::Metadata' )
t/extract-version.t .... ok
t/metadata.t ........... ok
t/taint.t .............. ok
t/version.t ............ ok
All tests successful.
Files=9, Tests=385, 2 wallclock secs ( 0.08 usr 0.02 sys + 0.98 cusr 0.27 csys = 1.35 CPU)
Result: PASS
------------------------------
PREREQUISITES
------------------------------
Prerequisite modules loaded:
requires:
Module Need Have
------------------- ----- --------
Carp 0 1.50
Encode 0 3.17
Fcntl 0 1.13
File::Find 0 1.34
File::Spec 0 3.75
perl 5.006 5.024004
strict 0 1.11
version 0.87 0.9929
warnings 0 1.36
build_requires:
Module Need Have
------------------- ----- --------
Cwd 0 3.75
ExtUtils::MakeMaker 0 7.64
File::Basename 0 2.85
File::Path 0 2.18
File::Spec 0 3.75
File::Temp 0 0.2311
IO::File 0 1.48
lib 0 0.63
Test::More 0.88 1.302191
configure_requires:
Module Need Have
------------------- ----- --------
ExtUtils::MakeMaker 0 7.64
perl 5.006 5.024004
------------------------------
ENVIRONMENT AND OTHER CONTEXT
------------------------------
Environment variables:
AUTOMATED_TESTING = 1
LANG = en_US.UTF-8
LANGUAGE = en_US:en
PATH = /home/sand/bin:/usr/local/bin:/usr/bin:/bin:/usr/games:/usr/local/perl/bin:/usr/X11/bin:/sbin:/usr/sbin
PERL5LIB =
PERL5OPT =
PERL5_CPANPLUS_IS_RUNNING = 2792692
PERL5_CPAN_IS_RUNNING = 2792692
PERL_CANARY_STABILITY_NOPROMPT = 1
PERL_MM_USE_DEFAULT = 1
PERL_USE_UNSAFE_INC = 1
SHELL = /usr/bin/zsh
TERM = screen
Perl special variables (and OS-specific diagnostics, for MSWin32):
$^X = /home/sand/src/perl/repoperls/installed-perls/host/k93msid/v5.24.4/bb7f/bin/perl
$UID/$EUID = 1005 / 1005
$GID = 1005 1005
$EGID = 1005 1005
Perl module toolchain versions installed:
Module Have
------------------- --------
CPAN 2.34
CPAN::Meta 2.150010
Cwd 3.75
ExtUtils::CBuilder 0.280236
ExtUtils::Command 7.64
ExtUtils::Install 2.06
ExtUtils::MakeMaker 7.64
ExtUtils::Manifest 1.70
ExtUtils::ParseXS 3.44
File::Spec 3.75
JSON 4.10
JSON::PP 4.12
Module::Build 0.4231
Module::Signature 0.88
Parse::CPAN::Meta 2.150010
Test::Harness 3.44
Test::More 1.302191
YAML 1.30
YAML::Syck 1.34
version 0.9929
--
Summary of my perl5 (revision 5 version 24 subversion 4) configuration:
Derived from: 901dd848e31de6d0cacfb77c029b4e92c41a13ce
Platform:
osname=linux, osvers=5.16.0-6-amd64, archname=x86_64-linux
uname='linux k93msid 5.16.0-6-amd64 #1 smp preempt debian 5.16.18-1 (2022-03-29) x86_64 gnulinux '
config_args='-Dprefix=/home/sand/src/perl/repoperls/installed-perls/host/k93msid/v5.24.4/bb7f -Dmyhostname=k93msid -Dinstallusrbinperl=n -Uversiononly -Dusedevel -des -Ui_db -Dlibswanted=cl pthread socket inet nsl gdbm dbm malloc dl ld sun m crypt sec util c cposix posix ucb BSD gdbm_compat -Uuseithreads -Uuselongdouble -DEBUGGING=both'
hint=recommended, useposix=true, d_sigaction=define
useithreads=undef, usemultiplicity=undef
use64bitint=define, use64bitall=define, uselongdouble=undef
usemymalloc=n, bincompat5005=undef
Compiler:
cc='cc', ccflags ='-fwrapv -DDEBUGGING -fno-strict-aliasing -pipe -fstack-protector-strong -I/usr/local/include -D_LARGEFILE_SOURCE -D_FILE_OFFSET_BITS=64 -D_FORTIFY_SOURCE=2',
optimize='-O2 -g',
cppflags='-fwrapv -DDEBUGGING -fno-strict-aliasing -pipe -fstack-protector-strong -I/usr/local/include'
ccversion='', gccversion='11.2.0', gccosandvers=''
intsize=4, longsize=8, ptrsize=8, doublesize=8, byteorder=12345678, doublekind=3
d_longlong=define, longlongsize=8, d_longdbl=define, longdblsize=16, longdblkind=3
ivtype='long', ivsize=8, nvtype='double', nvsize=8, Off_t='off_t', lseeksize=8
alignbytes=8, prototype=define
Linker and Libraries:
ld='cc', ldflags =' -fstack-protector-strong -L/usr/local/lib'
libpth=/usr/local/lib /usr/include/x86_64-linux-gnu /usr/lib /lib/x86_64-linux-gnu /lib/../lib /usr/lib/x86_64-linux-gnu /usr/lib/../lib /lib
libs=-lpthread -lnsl -ldl -lm -lcrypt -lutil -lc
perllibs=-lpthread -lnsl -ldl -lm -lcrypt -lutil -lc
libc=libc-2.33.so, so=so, useshrplib=false, libperl=libperl.a
gnulibc_version='2.33'
Dynamic Linking:
dlsrc=dl_dlopen.xs, dlext=so, d_dlsymun=undef, ccdlflags='-Wl,-E'
cccdlflags='-fPIC', lddlflags='-shared -O2 -g -L/usr/local/lib -fstack-protector-strong'
Characteristics of this binary (from libperl):
Compile-time options: DEBUGGING HAS_TIMES PERLIO_LAYERS PERL_COPY_ON_WRITE
PERL_DONT_CREATE_GVSV
PERL_HASH_FUNC_ONE_AT_A_TIME_HARD PERL_MALLOC_WRAP
PERL_PRESERVE_IVUV PERL_USE_DEVEL USE_64_BIT_ALL
USE_64_BIT_INT USE_LARGE_FILES USE_LOCALE
USE_LOCALE_COLLATE USE_LOCALE_CTYPE
USE_LOCALE_NUMERIC USE_LOCALE_TIME USE_PERLIO
USE_PERL_ATOF
Locally applied patches:
uncommitted-changes
Built under linux
Compiled at Apr 28 2022 04:26:30
%ENV:
PERL5LIB=""
PERL5OPT=""
PERL5_CPANPLUS_IS_RUNNING="2792692"
PERL5_CPAN_IS_RUNNING="2792692"
PERL_CANARY_STABILITY_NOPROMPT="1"
PERL_MM_USE_DEFAULT="1"
PERL_USE_UNSAFE_INC="1"
@INC:
/home/sand/src/perl/repoperls/installed-perls/host/k93msid/v5.24.4/bb7f/lib/site_perl/5.24.4/x86_64-linux
/home/sand/src/perl/repoperls/installed-perls/host/k93msid/v5.24.4/bb7f/lib/site_perl/5.24.4
/home/sand/src/perl/repoperls/installed-perls/host/k93msid/v5.24.4/bb7f/lib/5.24.4/x86_64-linux
/home/sand/src/perl/repoperls/installed-perls/host/k93msid/v5.24.4/bb7f/lib/5.24.4
.