Report for Test-HTML-Tidy-1.00

Back
From: metabase:user:8286d1fc-3d52-11e2-9ec4-cb9cdd236785
Subject: PASS Test-HTML-Tidy-1.00 v5.18.1 RC1 GNU/Linux
Date: 2013-08-04T17:05:28Z

This distribution has been tested as part of the CPAN Testers
project, supporting the Perl programming language.  See
http://wiki.cpantesters.org/ for more information or email
questions to cpan-testers-discuss@perl.org


--
Dear Andy Lester,

This is a computer-generated report for Test-HTML-Tidy-1.00
on perl 5.18.1, created by CPAN-Reporter-1.2010.

Thank you for uploading your work to CPAN.  Congratulations!
All tests were successful.

Sections of this report:

    * Tester comments
    * Program output
    * Prerequisites
    * Environment and other context

------------------------------
TESTER COMMENTS
------------------------------

Additional comments from tester:

this report is from an automated smoke testing program
and was not reviewed by a human for accuracy

------------------------------
PROGRAM OUTPUT
------------------------------

Output from '/usr/local/bin/make test':

PERL_DL_NONLAZY=1 /opt/perl431-5.18.1-RC1/bin/perl "-MExtUtils::Command::MM" "-e" "test_harness(0, 'blib/lib', 'blib/arch')" t/*.t
# Testing Test::HTML::Tidy 1.00
[10:05:23] t/00.load.t ........ ok      144 ms
[10:05:23] t/pod-coverage.t ... ok      314 ms
[10:05:24] t/pod.t ............ ok      341 ms
Use of uninitialized value in subroutine entry at /opt/perl431-5.18.1-RC1/lib/site_perl/5.18.1/i686-linux-thread-multi-64int-ld/HTML/Tidy.pm line 231.
Use of uninitialized value $newline in regexp compilation at /opt/perl431-5.18.1-RC1/lib/site_perl/5.18.1/i686-linux-thread-multi-64int-ld/HTML/Tidy.pm line 245.
[10:05:24] t/test-builder.t ... ok      150 ms
[10:05:24] t/tidy-overload.t .. ok      178 ms
[10:05:24]
All tests successful.
Files=5, Tests=7,  1 wallclock secs ( 0.15 usr  0.01 sys +  0.98 cusr  0.09 csys =  1.23 CPU)
Result: PASS

------------------------------
PREREQUISITES
------------------------------

Prerequisite modules loaded:

requires:

    Module                Need Have
    --------------------- ---- ----
    HTML::Tidy            1    1.54
    Test::Builder::Tester 0    1.22
    Test::More            0    0.98

build_requires:

    Module                Need Have
    --------------------- ---- ----
    ExtUtils::MakeMaker   0    6.72


------------------------------
ENVIRONMENT AND OTHER CONTEXT
------------------------------

Environment variables:

    AUTHOR_TESTING = 1
    AUTOMATED_TESTING = 1
    LANG = en_US.UTF-8
    LD_LIBRARY_PATH = /usr/local/lib
    PATH = /usr/lib/qt-3.3/bin:/usr/kerberos/sbin:/usr/kerberos/bin:/usr/lib/ccache:/usr/local/sbin:/usr/local/bin:/sbin:/bin:/usr/sbin:/usr/bin:/usr/X11R6/bin:/usr/lib/alliance/bin:/opt/real/RealPlayer:/root/bin:/usr/lib/alliance/bin:/opt/real/RealPlayer
    PERL5LIB = 
    PERL5OPT = 
    PERL5_CPANPLUS_IS_RUNNING = 16469
    PERL5_CPAN_IS_RUNNING = 16469
    PERL_ANYEVENT_MODEL = POE
    PERL_ANYEVENT_VERBOSE = 1
    PERL_MM_USE_DEFAULT = 1
    SHELL = /bin/bash
    TERM = xterm

Perl special variables (and OS-specific diagnostics, for MSWin32):

    $^X = /opt/perl431-5.18.1-RC1/bin/perl
    $UID/$EUID = 0 / 0
    $GID = 0 0 1 2 3 4 6 10
    $EGID = 0 0 1 2 3 4 6 10

Perl module toolchain versions installed:

    Module              Have    
    ------------------- --------
    CPAN                2.00    
    CPAN::Meta          2.132140
    Cwd                 3.40    
    ExtUtils::CBuilder  0.280205
    ExtUtils::Command   1.17    
    ExtUtils::Install   1.54    
    ExtUtils::MakeMaker 6.72    
    ExtUtils::Manifest  1.61    
    ExtUtils::ParseXS   3.18    
    File::Spec          3.40    
    JSON                2.59    
    JSON::PP            2.27202 
    Module::Build       0.4007  
    Module::Signature   0.73    
    Parse::CPAN::Meta   1.4405  
    Test::Harness       3.28    
    Test::More          0.98    
    YAML                0.84    
    YAML::Syck          1.27    
    version             0.9902  


--

Summary of my perl5 (revision 5 version 18 subversion 1) configuration:
   
  Platform:
    osname=linux, osvers=2.6.22.14-72.fc6, archname=i686-linux-thread-multi-64int-ld
    uname='linux localhost.localdomain 2.6.22.14-72.fc6 #1 smp wed nov 21 13:44:07 est 2007 i686 i686 i386 gnulinux '
    config_args='-Dcc=/opt/7cc/bin/gcc -Doptimize=-g -DDMALLOC=/usr/local/bin/dmalloc -Dprefix=/opt/perl431-5.18.1-RC1 -DDEBUGGING'
    hint=recommended, useposix=true, d_sigaction=define
    useithreads=define, usemultiplicity=define
    useperlio=define, d_sfio=undef, uselargefiles=define, usesocks=undef
    use64bitint=define, use64bitall=undef, uselongdouble=define
    usemymalloc=n, bincompat5005=undef
  Compiler:
    cc='/opt/7cc/bin/gcc', ccflags ='-DDMALLOC -D_LARGEFILE_SOURCE -D_FILE_OFFSET_BITS=64',
    optimize='-g',
    cppflags='-DDMALLOC'
    ccversion='', gccversion='4.3.1', gccosandvers=''
    intsize=4, longsize=4, ptrsize=4, doublesize=8, byteorder=12345678
    d_longlong=define, longlongsize=8, d_longdbl=define, longdblsize=12
    ivtype='long long', ivsize=8, nvtype='long double', nvsize=12, Off_t='off_t', lseeksize=8
    alignbytes=4, prototype=define
  Linker and Libraries:
    ld='/opt/7cc/bin/gcc', ldflags =' -L/usr/local/lib'
    libpth=/usr/local/lib /lib /usr/lib
    libs=-lnsl -lgdbm -ldb -ldl -lm -lcrypt -lutil -lpthread -lc
    perllibs=-lnsl -ldl -lm -lcrypt -lutil -lpthread -lc
    libc=/lib/libc-2.5.so, so=so, useshrplib=true, libperl=libperl.so
    gnulibc_version='2.5'
  Dynamic Linking:
    dlsrc=dl_dlopen.xs, dlext=so, d_dlsymun=undef, ccdlflags='-Wl,-E -Wl,-rpath,/opt/perl431-5.18.1-RC1/lib/5.18.1/i686-linux-thread-multi-64int-ld/CORE'
    cccdlflags='-fPIC', lddlflags='-shared -g -L/usr/local/lib'


Characteristics of this binary (from libperl): 
  Compile-time options: HAS_TIMES MULTIPLICITY PERLIO_LAYERS
                        PERL_DONT_CREATE_GVSV
                        PERL_HASH_FUNC_ONE_AT_A_TIME_HARD
                        PERL_IMPLICIT_CONTEXT PERL_MAD PERL_MALLOC_WRAP
                        PERL_PRESERVE_IVUV PERL_SAWAMPERSAND USE_64_BIT_INT
                        USE_FAST_STDIO USE_ITHREADS USE_LARGE_FILES
                        USE_LOCALE USE_LOCALE_COLLATE USE_LOCALE_CTYPE
                        USE_LOCALE_NUMERIC USE_LONG_DOUBLE USE_PERLIO
                        USE_PERL_ATOF USE_REENTRANT_API
  Locally applied patches:
	RC1
  Built under linux
  Compiled at Aug  3 2013 21:28:21
  %ENV:
    PERL5LIB=""
    PERL5OPT=""
    PERL5_CPANPLUS_IS_RUNNING="16469"
    PERL5_CPAN_IS_RUNNING="16469"
    PERL_ANYEVENT_MODEL="POE"
    PERL_ANYEVENT_VERBOSE="1"
    PERL_MM_USE_DEFAULT="1"
  @INC:
    /opt/perl431-5.18.1-RC1/lib/site_perl/5.18.1/i686-linux-thread-multi-64int-ld
    /opt/perl431-5.18.1-RC1/lib/site_perl/5.18.1
    /opt/perl431-5.18.1-RC1/lib/5.18.1/i686-linux-thread-multi-64int-ld
    /opt/perl431-5.18.1-RC1/lib/5.18.1
    .