Crypt-OpenSSL-RSA v0.30 Perl 5 v5.29.0 darwin-thread-multi-2level

Status
Pass
From
Nigel Horne
Dist
Crypt-OpenSSL-RSA v0.30
Platform
Perl 5 v5.29.0 darwin-thread-multi-2level
Date
2018-07-18 01:22:40
ID
0ff4982a-8a29-11e8-acef-39cc29477ca1
This distribution has been tested as part of the CPAN Testers
project, supporting the Perl programming language.  See
http://wiki.cpantesters.org/ for more information or email
questions to cpan-testers-discuss@perl.org


--
Dear Todd Rinaldo,

This is a computer-generated report for Crypt-OpenSSL-RSA-0.30
on perl 5.29.0, created by CPAN-Reporter-1.2018.

Thank you for uploading your work to CPAN.  Congratulations!
All tests were successful.

Sections of this report:

    * Tester comments
    * Program output
    * Prerequisites
    * Environment and other context

------------------------------
TESTER COMMENTS
------------------------------

Additional comments from tester:

this report is from an automated smoke testing program
and was not reviewed by a human for accuracy

------------------------------
PROGRAM OUTPUT
------------------------------

Output from '/sw/bin/make test':

"/Users/hornenj/perl5/perlbrew/perls/perl-5.29.0-thread/bin/perl5.29.0" -MExtUtils::Command::MM -e 'cp_nonempty' -- RSA.bs blib/arch/auto/Crypt/OpenSSL/RSA/RSA.bs 644
PERL_DL_NONLAZY=1 "/Users/hornenj/perl5/perlbrew/perls/perl-5.29.0-thread/bin/perl5.29.0" "-MExtUtils::Command::MM" "-MTest::Harness" "-e" "undef *Test::Harness::Switches; test_harness(0, 'blib/lib', 'blib/arch')" t/*.t
t/format.t .................. ok
t/bignum.t .................. skipped: Crypt::OpenSSL::Bignum required for bignum tests
t/rsa.t ..................... ok
t/z_meta.t .................. skipped: This test is only run for the module author
t/z_kwalitee.t .............. skipped: This test is only run for the module author
t/z_perl_minimum_version.t .. skipped: Author tests not required for installation
t/z_pod.t ................... skipped: This test is only run for the module author
t/z_pod-coverage.t .......... skipped: This test is only run for the module author
All tests successful.
Files=8, Tests=73,  1 wallclock secs ( 0.04 usr  0.04 sys +  0.48 cusr  0.64 csys =  1.20 CPU)
Result: PASS

------------------------------
PREREQUISITES
------------------------------

Prerequisite modules loaded:

requires:

    Module                 Need  Have    
    ---------------------- ----- --------
    Crypt::OpenSSL::Random 0     0.15    
    perl                   5.006 5.029000
    Test::More             0     1.302138

build_requires:

    Module                 Need  Have    
    ---------------------- ----- --------
    ExtUtils::MakeMaker    0     7.34    

configure_requires:

    Module                 Need  Have    
    ---------------------- ----- --------
    Crypt::OpenSSL::Guess  0.11  0.11    
    ExtUtils::MakeMaker    0     7.34    


------------------------------
ENVIRONMENT AND OTHER CONTEXT
------------------------------

Environment variables:

    AUTOMATED_TESTING = 1
    HARNESS_OPTIONS = j4
    LANG = en_US.UTF-8
    LC_ALL = POSIX
    PATH = /Users/hornenj/perl5/perlbrew/bin:/Users/hornenj/perl5/perlbrew/perls/perl-5.29.0-thread/bin:/Users/hornenj/homebrew/bin:/Users/hornenj/bin:/usr/bin:/bin:/usr/X11R6/bin:/sw/bin:/Users/hornenj/src/njh/smoker/bin
    PERL5LIB = /Users/hornenj/.cpan/build/Crypt-OpenSSL-Random-0.15-0/blib/arch:/Users/hornenj/.cpan/build/Crypt-OpenSSL-Random-0.15-0/blib/lib:/Users/hornenj/.cpan/build/Crypt-OpenSSL-Guess-0.11-0/blib/arch:/Users/hornenj/.cpan/build/Crypt-OpenSSL-Guess-0.11-0/blib/lib:/Users/hornenj/.cpan/build/Software-LicenseMoreUtils-1.002-0/blib/arch:/Users/hornenj/.cpan/build/Software-LicenseMoreUtils-1.002-0/blib/lib:/Users/hornenj/.cpan/build/YAML-Tiny-1.73-0/blib/arch:/Users/hornenj/.cpan/build/YAML-Tiny-1.73-0/blib/lib:/Users/hornenj/.cpan/build/Finance-Bank-Postbank_de-0.51-0/blib/arch:/Users/hornenj/.cpan/build/Finance-Bank-Postbank_de-0.51-0/blib/lib:/Users/hornenj/.cpan/build/MIME-Lite-3.030-0/blib/arch:/Users/hornenj/.cpan/build/MIME-Lite-3.030-0/blib/lib:/Users/hornenj/.cpan/build/MailTools-2.20-0/blib/arch:/Users/hornenj/.cpan/build/MailTools-2.20-0/blib/lib:/Users/hornenj/.cpan/build/MIME-Types-2.17-0/blib/arch:/Users/hornenj/.cpan/build/MIME-Types-2.17-0/blib/lib:/Users/hornenj/.cpan/build/Email-Date-Format-1.005-0/blib/arch:/Users/hornenj/.cpan/build/Email-Date-Format-1.005-0/blib/lib:/Users/hornenj/.cpan/build/List-Sliding-Changes-0.03-0/blib/arch:/Users/hornenj/.cpan/build/List-Sliding-Changes-0.03-0/blib/lib
    PERL5OPT = 
    PERL5_CPANPLUS_IS_RUNNING = 99166
    PERL5_CPAN_IS_RUNNING = 99166
    PERLBREW_HOME = /Users/hornenj/.perlbrew
    PERLBREW_MANPATH = /Users/hornenj/perl5/perlbrew/perls/perl-5.29.0-thread/man
    PERLBREW_PATH = /Users/hornenj/perl5/perlbrew/bin:/Users/hornenj/perl5/perlbrew/perls/perl-5.29.0-thread/bin
    PERLBREW_PERL = perl-5.29.0-thread
    PERLBREW_ROOT = /Users/hornenj/perl5/perlbrew
    PERLBREW_SHELLRC_VERSION = 0.84
    PERLBREW_VERSION = 0.84
    PERL_USE_UNSAFE_INC = 1
    SHELL = /bin/bash
    TERM = xterm-256color
    TMPDIR = /var/folders/pz/pd7y1qjs6s3cbk170cw50fjc000c61/T//testwrapper.99154
    VERSIONER_PERL_PREFER_32_BIT = no
    VERSIONER_PERL_VERSION = 5.18

Perl special variables (and OS-specific diagnostics, for MSWin32):

    $^X = /Users/hornenj/perl5/perlbrew/perls/perl-5.29.0-thread/bin/perl5.29.0
    $UID/$EUID = 12481 / 12481
    $GID = 14 14 5344 37191 527 12 62 98 204 399 206 37223 241 223 100
    $EGID = 14 14 5344 37191 527 12 62 98 204 399 206 37223 241 223 100

Perl module toolchain versions installed:

    Module              Have    
    ------------------- --------
    CPAN                2.20    
    CPAN::Meta          2.150010
    Cwd                 3.74    
    ExtUtils::CBuilder  0.280230
    ExtUtils::Command   7.34    
    ExtUtils::Install   2.14    
    ExtUtils::MakeMaker 7.34    
    ExtUtils::Manifest  1.71    
    ExtUtils::ParseXS   3.39    
    File::Spec          3.74    
    JSON                2.97001 
    JSON::PP            2.97001 
    Module::Build       0.4224  
    Module::Signature   n/a     
    Parse::CPAN::Meta   2.150010
    Test::Harness       3.42    
    Test::More          1.302138
    YAML                1.26    
    YAML::Syck          1.30    
    version             0.9924  


--

Summary of my perl5 (revision 5 version 29 subversion 0) configuration:
   
  Platform:
    osname=darwin
    osvers=17.6.0
    archname=darwin-thread-multi-2level
    uname='darwin ncbimac2024 17.6.0 darwin kernel version 17.6.0: tue may 8 15:22:16 pdt 2018; root:xnu-4570.61.1~1release_x86_64 x86_64 '
    config_args='-de -Dprefix=/Users/hornenj/perl5/perlbrew/perls/perl-5.29.0-thread -Dusethreads -Dusedevel -Accflags=-O2 -W -Wformat=2 -Wswitch -Wshadow -Wwrite-strings -Wuninitialized -Wall -pipe -fomit-frame-pointer -pedantic -D_FORTIFY_SOURCE=2 -Wpointer-arith -Wstrict-prototypes -fstack-protector -Wstack-protector -Wextra -Wbad-function-cast -Wcast-align -Wcast-qual -Wdisabled-optimization -Wendif-labels -Wfloat-equal -Wformat-nonliteral -Winline -Wmissing-declarations -Wmissing-prototypes -Wnested-externs -Wpointer-arith -Wundef -Wformat-security -ftree-vectorize -maes -mmmx -msse -mfpmath=sse -msse2 -msse3 -msse4.1 -msse4.2 -mssse3 -I/Users/hornenj/openssl/include -fdiagnostics-color=auto -mtune=native -march=native -Aeval:scriptdir=/Users/hornenj/perl5/perlbrew/perls/perl-5.29.0-thread/bin'
    hint=recommended
    useposix=true
    d_sigaction=define
    useithreads=define
    usemultiplicity=define
    use64bitint=define
    use64bitall=define
    uselongdouble=undef
    usemymalloc=n
    default_inc_excludes_dot=define
    bincompat5005=undef
  Compiler:
    cc='cc'
    ccflags ='-fno-common -DPERL_DARWIN -O2 -W -Wformat=2 -Wswitch -Wshadow -Wwrite-strings -Wuninitialized -Wall -pipe -fomit-frame-pointer -pedantic -D_FORTIFY_SOURCE=2 -Wpointer-arith -Wstrict-prototypes -fstack-protector -Wstack-protector -Wextra -Wbad-function-cast -Wcast-align -Wcast-qual -Wdisabled-optimization -Wendif-labels -Wfloat-equal -Wformat-nonliteral -Winline -Wmissing-declarations -Wmissing-prototypes -Wnested-externs -Wpointer-arith -Wundef -Wformat-security -ftree-vectorize -maes -mmmx -msse -mfpmath=sse -msse2 -msse3 -msse4.1 -msse4.2 -mssse3 -I/Users/hornenj/openssl/include -fdiagnostics-color=auto -mtune=native -march=native -fno-strict-aliasing -fstack-protector-strong'
    optimize='-O3'
    cppflags='-fno-common -DPERL_DARWIN -O2 -W -Wformat=2 -Wswitch -Wshadow -Wwrite-strings -Wuninitialized -Wall -pipe -fomit-frame-pointer -pedantic -D_FORTIFY_SOURCE=2 -Wpointer-arith -Wstrict-prototypes -fstack-protector -Wstack-protector -Wextra -Wbad-function-cast -Wcast-align -Wcast-qual -Wdisabled-optimization -Wendif-labels -Wfloat-equal -Wformat-nonliteral -Winline -Wmissing-declarations -Wmissing-prototypes -Wnested-externs -Wpointer-arith -Wundef -Wformat-security -ftree-vectorize -maes -mmmx -msse -mfpmath=sse -msse2 -msse3 -msse4.1 -msse4.2 -mssse3 -I/Users/hornenj/openssl/include -fdiagnostics-color=auto -mtune=native -march=native -fno-strict-aliasing -fstack-protector-strong'
    ccversion=''
    gccversion='4.2.1 Compatible Apple LLVM 9.1.0 (clang-902.0.39.2)'
    gccosandvers=''
    intsize=4
    longsize=8
    ptrsize=8
    doublesize=8
    byteorder=12345678
    doublekind=3
    d_longlong=define
    longlongsize=8
    d_longdbl=define
    longdblsize=16
    longdblkind=3
    ivtype='long'
    ivsize=8
    nvtype='double'
    nvsize=8
    Off_t='off_t'
    lseeksize=8
    alignbytes=8
    prototype=define
  Linker and Libraries:
    ld='env MACOSX_DEPLOYMENT_TARGET=10.3 cc'
    ldflags =' -fstack-protector-strong -L/usr/local/lib'
    libpth=/Applications/Xcode.app/Contents/Developer/Toolchains/XcodeDefault.xctoolchain/usr/lib/clang/9.1.0/lib /Applications/Xcode.app/Contents/Developer/Toolchains/XcodeDefault.xctoolchain/usr/lib /usr/lib /usr/local/lib
    libs=-lpthread -ldbm -ldl -lm -lutil -lc
    perllibs=-lpthread -ldl -lm -lutil -lc
    libc=
    so=dylib
    useshrplib=false
    libperl=libperl.a
    gnulibc_version=''
  Dynamic Linking:
    dlsrc=dl_dlopen.xs
    dlext=bundle
    d_dlsymun=undef
    ccdlflags=' '
    cccdlflags=' '
    lddlflags=' -bundle -undefined dynamic_lookup -L/usr/local/lib -fstack-protector-strong'


Characteristics of this binary (from libperl): 
  Compile-time options:
    HAS_TIMES
    MULTIPLICITY
    PERLIO_LAYERS
    PERL_COPY_ON_WRITE
    PERL_DONT_CREATE_GVSV
    PERL_IMPLICIT_CONTEXT
    PERL_MALLOC_WRAP
    PERL_OP_PARENT
    PERL_PRESERVE_IVUV
    PERL_USE_DEVEL
    USE_64_BIT_ALL
    USE_64_BIT_INT
    USE_ITHREADS
    USE_LARGE_FILES
    USE_LOCALE
    USE_LOCALE_COLLATE
    USE_LOCALE_CTYPE
    USE_LOCALE_NUMERIC
    USE_LOCALE_TIME
    USE_PERLIO
    USE_PERL_ATOF
    USE_REENTRANT_API
  Locally applied patches:
    Devel::PatchPerl 1.30
  Built under darwin
  Compiled at Jun 27 2018 18:31:05
  %ENV:
    PERL5LIB="/Users/hornenj/.cpan/build/Crypt-OpenSSL-Random-0.15-0/blib/arch:/Users/hornenj/.cpan/build/Crypt-OpenSSL-Random-0.15-0/blib/lib:/Users/hornenj/.cpan/build/Crypt-OpenSSL-Guess-0.11-0/blib/arch:/Users/hornenj/.cpan/build/Crypt-OpenSSL-Guess-0.11-0/blib/lib:/Users/hornenj/.cpan/build/Software-LicenseMoreUtils-1.002-0/blib/arch:/Users/hornenj/.cpan/build/Software-LicenseMoreUtils-1.002-0/blib/lib:/Users/hornenj/.cpan/build/YAML-Tiny-1.73-0/blib/arch:/Users/hornenj/.cpan/build/YAML-Tiny-1.73-0/blib/lib:/Users/hornenj/.cpan/build/Finance-Bank-Postbank_de-0.51-0/blib/arch:/Users/hornenj/.cpan/build/Finance-Bank-Postbank_de-0.51-0/blib/lib:/Users/hornenj/.cpan/build/MIME-Lite-3.030-0/blib/arch:/Users/hornenj/.cpan/build/MIME-Lite-3.030-0/blib/lib:/Users/hornenj/.cpan/build/MailTools-2.20-0/blib/arch:/Users/hornenj/.cpan/build/MailTools-2.20-0/blib/lib:/Users/hornenj/.cpan/build/MIME-Types-2.17-0/blib/arch:/Users/hornenj/.cpan/build/MIME-Types-2.17-0/blib/lib:/Users/hornenj/.cpan/build/Email-Date-Format-1.005-0/blib/arch:/Users/hornenj/.cpan/build/Email-Date-Format-1.005-0/blib/lib:/Users/hornenj/.cpan/build/List-Sliding-Changes-0.03-0/blib/arch:/Users/hornenj/.cpan/build/List-Sliding-Changes-0.03-0/blib/lib"
    PERL5OPT=""
    PERL5_CPANPLUS_IS_RUNNING="99166"
    PERL5_CPAN_IS_RUNNING="99166"
    PERLBREW_HOME="/Users/hornenj/.perlbrew"
    PERLBREW_MANPATH="/Users/hornenj/perl5/perlbrew/perls/perl-5.29.0-thread/man"
    PERLBREW_PATH="/Users/hornenj/perl5/perlbrew/bin:/Users/hornenj/perl5/perlbrew/perls/perl-5.29.0-thread/bin"
    PERLBREW_PERL="perl-5.29.0-thread"
    PERLBREW_ROOT="/Users/hornenj/perl5/perlbrew"
    PERLBREW_SHELLRC_VERSION="0.84"
    PERLBREW_VERSION="0.84"
    PERL_USE_UNSAFE_INC="1"
  @INC:
    /Users/hornenj/.cpan/build/Crypt-OpenSSL-Random-0.15-0/blib/arch
    /Users/hornenj/.cpan/build/Crypt-OpenSSL-Random-0.15-0/blib/lib
    /Users/hornenj/.cpan/build/Crypt-OpenSSL-Guess-0.11-0/blib/arch
    /Users/hornenj/.cpan/build/Crypt-OpenSSL-Guess-0.11-0/blib/lib
    /Users/hornenj/.cpan/build/Software-LicenseMoreUtils-1.002-0/blib/arch
    /Users/hornenj/.cpan/build/Software-LicenseMoreUtils-1.002-0/blib/lib
    /Users/hornenj/.cpan/build/YAML-Tiny-1.73-0/blib/arch
    /Users/hornenj/.cpan/build/YAML-Tiny-1.73-0/blib/lib
    /Users/hornenj/.cpan/build/Finance-Bank-Postbank_de-0.51-0/blib/arch
    /Users/hornenj/.cpan/build/Finance-Bank-Postbank_de-0.51-0/blib/lib
    /Users/hornenj/.cpan/build/MIME-Lite-3.030-0/blib/arch
    /Users/hornenj/.cpan/build/MIME-Lite-3.030-0/blib/lib
    /Users/hornenj/.cpan/build/MailTools-2.20-0/blib/arch
    /Users/hornenj/.cpan/build/MailTools-2.20-0/blib/lib
    /Users/hornenj/.cpan/build/MIME-Types-2.17-0/blib/arch
    /Users/hornenj/.cpan/build/MIME-Types-2.17-0/blib/lib
    /Users/hornenj/.cpan/build/Email-Date-Format-1.005-0/blib/arch
    /Users/hornenj/.cpan/build/Email-Date-Format-1.005-0/blib/lib
    /Users/hornenj/.cpan/build/List-Sliding-Changes-0.03-0/blib/arch
    /Users/hornenj/.cpan/build/List-Sliding-Changes-0.03-0/blib/lib
    /Users/hornenj/perl5/perlbrew/perls/perl-5.29.0-thread/lib/site_perl/5.29.0/darwin-thread-multi-2level
    /Users/hornenj/perl5/perlbrew/perls/perl-5.29.0-thread/lib/site_perl/5.29.0
    /Users/hornenj/perl5/perlbrew/perls/perl-5.29.0-thread/lib/5.29.0/darwin-thread-multi-2level
    /Users/hornenj/perl5/perlbrew/perls/perl-5.29.0-thread/lib/5.29.0
    .