Report for Carp-Diagnostics-0.05.3

Back
From: metabase:user:8286d1fc-3d52-11e2-9ec4-cb9cdd236785
Subject: PASS Carp-Diagnostics-0.05.3 v5.10.0 GNU/Linux
Date: 2014-03-10T00:01:00Z

This distribution has been tested as part of the CPAN Testers
project, supporting the Perl programming language.  See
http://wiki.cpantesters.org/ for more information or email
questions to cpan-testers-discuss@perl.org


--
Dear Nadim Ibn Hamouda El Khemir,

This is a computer-generated report for Carp-Diagnostics-0.05.3
on perl 5.10.0, created by CPAN-Reporter-1.2010.

Thank you for uploading your work to CPAN.  Congratulations!
All tests were successful.

Sections of this report:

    * Tester comments
    * Program output
    * Prerequisites
    * Environment and other context

------------------------------
TESTER COMMENTS
------------------------------

Additional comments from tester:

this report is from an automated smoke testing program
and was not reviewed by a human for accuracy

------------------------------
PROGRAM OUTPUT
------------------------------

Output from '/usr/local/bin/make test':

/opt/perl420-27-5.10.0/bin/perl Build --makefile_env_macros 1 test
t/001_load.t ......... ok
t/004_diagnostics.t .. ok
t/005_arguments.t .... ok
All tests successful.
Files=3, Tests=24,  3 wallclock secs ( 0.10 usr  0.03 sys +  1.13 cusr  0.23 csys =  1.49 CPU)
Result: PASS

------------------------------
PREREQUISITES
------------------------------

Prerequisite modules loaded:

requires:

    Module           Need Have 
    ---------------- ---- -----
    IO::String       0    1.08 
    Pod::Text        0    3.18 
    Readonly         0    1.04 
    Sub::Exporter    0    0.987
    Term::Size       0.2  0.207
    Test::Block      0    0.13 
    Test::Exception  0    0.32 
    Test::NoWarnings 0    1.04 
    Test::Warn       0    0.30 


------------------------------
ENVIRONMENT AND OTHER CONTEXT
------------------------------

Environment variables:

    AUTOMATED_TESTING = 1
    LANG = en_US.UTF-8
    LD_LIBRARY_PATH = /usr/local/lib
    PATH = /usr/lib/qt-3.3/bin:/usr/kerberos/sbin:/usr/kerberos/bin:/usr/lib/ccache:/usr/local/sbin:/usr/local/bin:/sbin:/bin:/usr/sbin:/usr/bin:/usr/X11R6/bin:/usr/lib/alliance/bin:/opt/real/RealPlayer:/root/bin:/usr/lib/alliance/bin:/opt/real/RealPlayer
    PERL5LIB = /root/.cpan/build/Carp-Clan-Share-0.013-hWoMuW/blib/arch:/root/.cpan/build/Carp-Clan-Share-0.013-hWoMuW/blib/lib:/root/.cpan/build/Carp-Clan-6.04-E1daqh/blib/arch:/root/.cpan/build/Carp-Clan-6.04-E1daqh/blib/lib:/root/.cpan/build/Carp-Assert-More-1.14-dVuLax/blib/arch:/root/.cpan/build/Carp-Assert-More-1.14-dVuLax/blib/lib:/root/.cpan/build/Carp-Assert-0.20-jInNtF/blib/arch:/root/.cpan/build/Carp-Assert-0.20-jInNtF/blib/lib:/root/.cpan/build/Carp-Always-Color-0.07-TzaB9n/blib/arch:/root/.cpan/build/Carp-Always-Color-0.07-TzaB9n/blib/lib:/root/.cpan/build/Carp-Always-0.13-XR0ocF/blib/arch:/root/.cpan/build/Carp-Always-0.13-XR0ocF/blib/lib:/root/.cpan/build/Carp-1.32-hSdnBS/blib/arch:/root/.cpan/build/Carp-1.32-hSdnBS/blib/lib
    PERL5OPT = 
    PERL5_CPANPLUS_IS_RUNNING = 24324
    PERL5_CPAN_IS_RUNNING = 24324
    PERL_ANYEVENT_MODEL = POE
    PERL_MM_NONINTERACTIVE = 1
    PERL_MM_USE_DEFAULT = 1
    SHELL = /bin/bash
    TERM = xterm

Perl special variables (and OS-specific diagnostics, for MSWin32):

    $^X = /opt/perl420-27-5.10.0/bin/perl
    $UID/$EUID = 0 / 0
    $GID = 0 0 1 2 3 4 6 10
    $EGID = 0 0 1 2 3 4 6 10

Perl module toolchain versions installed:

    Module              Have    
    ------------------- --------
    CPAN                2.03    
    CPAN::Meta          2.140640
    Cwd                 3.40    
    ExtUtils::CBuilder  0.280212
    ExtUtils::Command   1.18    
    ExtUtils::Install   1.54    
    ExtUtils::MakeMaker 6.90    
    ExtUtils::Manifest  1.63    
    ExtUtils::ParseXS   3.24    
    File::Spec          3.40    
    JSON                2.90    
    JSON::PP            2.27203 
    Module::Build       0.4205  
    Module::Signature   0.73    
    Parse::CPAN::Meta   1.4414  
    Test::Harness       3.30    
    Test::More          1.001002
    YAML                0.90    
    YAML::Syck          1.27    
    version             0.9908  


--

Summary of my perl5 (revision 5 version 10 subversion 0) configuration:
  Platform:
    osname=linux, osvers=2.6.27-repin.1, archname=i686-linux-thread-multi-64int-ld
    uname='linux localhost.localdomain 2.6.27-repin.1 #1 smp tue jan 25 20:07:21 msk 2011 i686 i686 i386 gnulinux '
    config_args='-Dcc=/opt/420/bin/gcc -Dprefix=/opt/perl420-27-5.10.0 -DDEBUGGING'
    hint=recommended, useposix=true, d_sigaction=define
    useithreads=define, usemultiplicity=define
    useperlio=define, d_sfio=undef, uselargefiles=define, usesocks=undef
    use64bitint=define, use64bitall=undef, uselongdouble=define
    usemymalloc=y, bincompat5005=undef
  Compiler:
    cc='/opt/420/bin/gcc', ccflags ='-D_REENTRANT -D_GNU_SOURCE -DDEBUGGING -fno-strict-aliasing -pipe -I/usr/local/include -I/opt/gnu/include -D_LARGEFILE_SOURCE -D_FILE_OFFSET_BITS=64 -I/usr/include/gdbm',
    optimize='-O2 -g',
    cppflags='-D_REENTRANT -D_GNU_SOURCE -DDEBUGGING -fno-strict-aliasing -pipe -I/usr/local/include -I/opt/gnu/include -I/usr/include/gdbm'
    ccversion='', gccversion='4.2.0', gccosandvers=''
    intsize=4, longsize=4, ptrsize=4, doublesize=8, byteorder=12345678
    d_longlong=define, longlongsize=8, d_longdbl=define, longdblsize=12
    ivtype='long long', ivsize=8, nvtype='long double', nvsize=12, Off_t='off_t', lseeksize=8
    alignbytes=4, prototype=define
  Linker and Libraries:
    ld='/opt/420/bin/gcc', ldflags =' -L/usr/local/lib'
    libpth=/usr/local/lib /lib /usr/lib
    libs=-lnsl -lgdbm -ldb -ldl -lm -lcrypt -lutil -lpthread -lc
    perllibs=-lnsl -ldl -lm -lcrypt -lutil -lpthread -lc
    libc=/lib/libc-2.5.so, so=so, useshrplib=true, libperl=libperl.so
    gnulibc_version='2.5'
  Dynamic Linking:
    dlsrc=dl_dlopen.xs, dlext=so, d_dlsymun=undef, ccdlflags='-Wl,-E -Wl,-rpath,/opt/perl420-27-5.10.0/lib/5.10.0/i686-linux-thread-multi-64int-ld/CORE'
    cccdlflags='-fPIC', lddlflags='-shared -O2 -g -L/usr/local/lib'


Characteristics of this binary (from libperl): 
  Compile-time options: DEBUGGING MULTIPLICITY MYMALLOC PERL_DONT_CREATE_GVSV
                        PERL_IMPLICIT_CONTEXT PERL_MAD PERL_MALLOC_WRAP
                        PERL_TRACK_MEMPOOL USE_64_BIT_INT USE_ITHREADS
                        USE_LARGE_FILES USE_LONG_DOUBLE USE_PERLIO
                        USE_REENTRANT_API
  Built under linux
  Compiled at Mar  5 2014 19:57:43
  %ENV:
    PERL5LIB="/root/.cpan/build/Carp-Clan-Share-0.013-hWoMuW/blib/arch:/root/.cpan/build/Carp-Clan-Share-0.013-hWoMuW/blib/lib:/root/.cpan/build/Carp-Clan-6.04-E1daqh/blib/arch:/root/.cpan/build/Carp-Clan-6.04-E1daqh/blib/lib:/root/.cpan/build/Carp-Assert-More-1.14-dVuLax/blib/arch:/root/.cpan/build/Carp-Assert-More-1.14-dVuLax/blib/lib:/root/.cpan/build/Carp-Assert-0.20-jInNtF/blib/arch:/root/.cpan/build/Carp-Assert-0.20-jInNtF/blib/lib:/root/.cpan/build/Carp-Always-Color-0.07-TzaB9n/blib/arch:/root/.cpan/build/Carp-Always-Color-0.07-TzaB9n/blib/lib:/root/.cpan/build/Carp-Always-0.13-XR0ocF/blib/arch:/root/.cpan/build/Carp-Always-0.13-XR0ocF/blib/lib:/root/.cpan/build/Carp-1.32-hSdnBS/blib/arch:/root/.cpan/build/Carp-1.32-hSdnBS/blib/lib"
    PERL5OPT=""
    PERL5_CPANPLUS_IS_RUNNING="24324"
    PERL5_CPAN_IS_RUNNING="24324"
    PERL_ANYEVENT_MODEL="POE"
    PERL_MM_NONINTERACTIVE="1"
    PERL_MM_USE_DEFAULT="1"
  @INC:
    /root/.cpan/build/Carp-Clan-Share-0.013-hWoMuW/blib/arch
    /root/.cpan/build/Carp-Clan-Share-0.013-hWoMuW/blib/lib
    /root/.cpan/build/Carp-Clan-6.04-E1daqh/blib/arch
    /root/.cpan/build/Carp-Clan-6.04-E1daqh/blib/lib
    /root/.cpan/build/Carp-Assert-More-1.14-dVuLax/blib/arch
    /root/.cpan/build/Carp-Assert-More-1.14-dVuLax/blib/lib
    /root/.cpan/build/Carp-Assert-0.20-jInNtF/blib/arch
    /root/.cpan/build/Carp-Assert-0.20-jInNtF/blib/lib
    /root/.cpan/build/Carp-Always-Color-0.07-TzaB9n/blib/arch
    /root/.cpan/build/Carp-Always-Color-0.07-TzaB9n/blib/lib
    /root/.cpan/build/Carp-Always-0.13-XR0ocF/blib/arch
    /root/.cpan/build/Carp-Always-0.13-XR0ocF/blib/lib
    /root/.cpan/build/Carp-1.32-hSdnBS/blib/arch
    /root/.cpan/build/Carp-1.32-hSdnBS/blib/lib
    /opt/perl420-27-5.10.0/lib/5.10.0/i686-linux-thread-multi-64int-ld
    /opt/perl420-27-5.10.0/lib/5.10.0
    /opt/perl420-27-5.10.0/lib/site_perl/5.10.0/i686-linux-thread-multi-64int-ld
    /opt/perl420-27-5.10.0/lib/site_perl/5.10.0
    .