MooseX-UndefTolerant v0.21 Perl 5 v5.27.8 x86_64-linux-thread-multi
- Status
- Pass
- From
- Serguei Trouchelle (STRO)
- Dist
-
MooseX-UndefTolerant v0.21
- Platform
- Perl 5 v5.27.8 x86_64-linux-thread-multi
- Date
- 2018-03-25 11:17:12
- ID
- 1094c8be-301e-11e8-bf3e-a6c643f789d6
This distribution has been tested as part of the CPAN Testers
project, supporting the Perl programming language. See
http://wiki.cpantesters.org/ for more information or email
questions to cpan-testers-discuss@perl.org
--
Dear Karen Etheridge,
This is a computer-generated report for MooseX-UndefTolerant-0.21
on perl 5.27.8, created by CPAN-Reporter-1.2018.
Thank you for uploading your work to CPAN. Congratulations!
All tests were successful.
Sections of this report:
* Tester comments
* Program output
* Prerequisites
* Environment and other context
------------------------------
TESTER COMMENTS
------------------------------
Additional comments from tester:
this report is from an automated smoke testing program
and was not reviewed by a human for accuracy
------------------------------
PROGRAM OUTPUT
------------------------------
Output from '/usr/bin/make test':
PERL_DL_NONLAZY=1 "/home/stro/perl/5.27.8t/bin/perl" "-MExtUtils::Command::MM" "-MTest::Harness" "-e" "undef *Test::Harness::Switches; test_harness(0, 'blib/lib', 'blib/arch')" t/*.t
# Testing MooseX::UndefTolerant 0.21, Perl 5.027008, /home/stro/perl/5.27.8t/bin/perl
t/00-load.t ............ ok
#
# Versions for all modules listed in MYMETA.json (including optional ones):
#
# === Configure Requires ===
#
# Module Want Have
# ------------------- ----- -----
# Module::Build::Tiny 0.034 0.039
#
# === Build Requires ===
#
# Module Want Have
# ------------------- ---- ----
# ExtUtils::MakeMaker any 7.34
#
# === Test Requires ===
#
# Module Want Have
# ---------------- ---- --------
# File::Spec any 3.74
# Module::Metadata any 1.000033
# Test::Fatal any 0.014
# Test::Moose any 2.2010
# Test::More 0.88 1.302133
# if any 0.0608
# lib any 0.64
#
# === Test Recommends ===
#
# Module Want Have
# ---------- -------- --------
# CPAN::Meta 2.120900 2.150010
#
# === Runtime Requires ===
#
# Module Want Have
# -------------------- ---- ------
# Moose 0.89 2.2010
# Moose::Exporter any 2.2010
# Moose::Role any 2.2010
# namespace::autoclean any 0.28
# strict any 1.11
# warnings any 1.40
#
# === Other Modules ===
#
# Module Have
# --------- -------
# JSON::PP 2.97001
# Sub::Name 0.21
# YAML 1.24
# autodie 2.29
#
t/00-report-prereqs.t .. ok
t/basic.t .............. ok
t/constructor.t ........ ok
t/defaults.t ........... ok
t/roles.t .............. ok
t/undef_init_arg.t ..... ok
t/zzz-check-breaks.t ... ok
All tests successful.
Files=8, Tests=158, 7 wallclock secs ( 0.04 usr 0.00 sys + 2.14 cusr 0.08 csys = 2.26 CPU)
Result: PASS
------------------------------
PREREQUISITES
------------------------------
Prerequisite modules loaded:
requires:
Module Need Have
-------------------- -------- --------
Moose 0.89 2.2010
Moose::Exporter 0 2.2010
Moose::Role 0 2.2010
namespace::autoclean 0 0.28
perl 5.006 5.027008
strict 0 1.11
warnings 0 1.40
build_requires:
Module Need Have
-------------------- -------- --------
ExtUtils::MakeMaker 0 7.34
File::Spec 0 3.74
if 0 0.0608
lib 0 0.64
Module::Metadata 0 1.000033
Test::Fatal 0 0.014
Test::Moose 0 2.2010
Test::More 0.88 1.302133
configure_requires:
Module Need Have
-------------------- -------- --------
Module::Build::Tiny 0.034 0.039
perl 5.006 5.027008
opt_build_requires:
Module Need Have
-------------------- -------- --------
CPAN::Meta 2.120900 2.150010
------------------------------
ENVIRONMENT AND OTHER CONTEXT
------------------------------
Environment variables:
AUTOMATED_TESTING = 1
LANG = en_US.UTF-8
PATH = /usr/local/bin:/usr/bin:/bin:/usr/local/games:/usr/games
PERL5LIB =
PERL5OPT =
PERL5_CPANPLUS_IS_RUNNING = 17279
PERL5_CPAN_IS_RUNNING = 17279
PERL5_CPAN_IS_RUNNING_IN_RECURSION = 3561,17279
PERL_CR_SMOKER_CURRENT = App-SimulateReads-0.11
PERL_EXTUTILS_AUTOINSTALL = --defaultdeps
PERL_MM_USE_DEFAULT = 1
PERL_USE_UNSAFE_INC = 1
SHELL = /bin/bash
TERM = xterm
Perl special variables (and OS-specific diagnostics, for MSWin32):
$^X = /home/stro/perl/5.27.8t/bin/perl
$UID/$EUID = 1000 / 1000
$GID = 1000 24 25 29 30 44 46 108 114 1000
$EGID = 1000 24 25 29 30 44 46 108 114 1000
Perl module toolchain versions installed:
Module Have
------------------- --------
CPAN 2.20
CPAN::Meta 2.150010
Cwd 3.74
ExtUtils::CBuilder 0.280230
ExtUtils::Command 7.34
ExtUtils::Install 2.14
ExtUtils::MakeMaker 7.34
ExtUtils::Manifest 1.70
ExtUtils::ParseXS 3.36
File::Spec 3.74
JSON 2.97001
JSON::PP 2.97001
Module::Build 0.4224
Module::Signature 0.81
Parse::CPAN::Meta 2.150010
Test::Harness 3.42
Test::More 1.302133
YAML 1.24
YAML::Syck 1.30
version 0.9918
--
Summary of my perl5 (revision 5 version 27 subversion 8) configuration:
Platform:
osname=linux
osvers=3.16.0-4-amd64
archname=x86_64-linux-thread-multi
uname='linux vm-debian-001 3.16.0-4-amd64 #1 smp debian 3.16.7-ckt11-1 (2015-05-24) x86_64 gnulinux '
config_args=''
hint=recommended
useposix=true
d_sigaction=define
useithreads=define
usemultiplicity=define
use64bitint=define
use64bitall=define
uselongdouble=undef
usemymalloc=n
default_inc_excludes_dot=define
bincompat5005=undef
Compiler:
cc='cc'
ccflags ='-D_REENTRANT -D_GNU_SOURCE -fwrapv -fno-strict-aliasing -pipe -fstack-protector-strong -I/usr/local/include -D_LARGEFILE_SOURCE -D_FILE_OFFSET_BITS=64 -D_FORTIFY_SOURCE=2'
optimize='-O2'
cppflags='-D_REENTRANT -D_GNU_SOURCE -fwrapv -fno-strict-aliasing -pipe -fstack-protector-strong -I/usr/local/include'
ccversion=''
gccversion='4.9.2'
gccosandvers=''
intsize=4
longsize=8
ptrsize=8
doublesize=8
byteorder=12345678
doublekind=3
d_longlong=define
longlongsize=8
d_longdbl=define
longdblsize=16
longdblkind=3
ivtype='long'
ivsize=8
nvtype='double'
nvsize=8
Off_t='off_t'
lseeksize=8
alignbytes=8
prototype=define
Linker and Libraries:
ld='cc'
ldflags =' -fstack-protector-strong -L/usr/local/lib'
libpth=/usr/local/lib /usr/lib/gcc/x86_64-linux-gnu/4.9/include-fixed /usr/include/x86_64-linux-gnu /usr/lib /lib/x86_64-linux-gnu /lib/../lib /usr/lib/x86_64-linux-gnu /usr/lib/../lib /lib
libs=-lpthread -lnsl -ldl -lm -lcrypt -lutil -lc
perllibs=-lpthread -lnsl -ldl -lm -lcrypt -lutil -lc
libc=libc-2.19.so
so=so
useshrplib=false
libperl=libperl.a
gnulibc_version='2.19'
Dynamic Linking:
dlsrc=dl_dlopen.xs
dlext=so
d_dlsymun=undef
ccdlflags='-Wl,-E'
cccdlflags='-fPIC'
lddlflags='-shared -O2 -L/usr/local/lib -fstack-protector-strong'
Characteristics of this binary (from libperl):
Compile-time options:
HAS_TIMES
MULTIPLICITY
PERLIO_LAYERS
PERL_COPY_ON_WRITE
PERL_DONT_CREATE_GVSV
PERL_IMPLICIT_CONTEXT
PERL_MALLOC_WRAP
PERL_OP_PARENT
PERL_PRESERVE_IVUV
USE_64_BIT_ALL
USE_64_BIT_INT
USE_ITHREADS
USE_LARGE_FILES
USE_LOCALE
USE_LOCALE_COLLATE
USE_LOCALE_CTYPE
USE_LOCALE_NUMERIC
USE_LOCALE_TIME
USE_PERLIO
USE_PERL_ATOF
USE_REENTRANT_API
Built under linux
Compiled at Jan 27 2018 17:48:17
%ENV:
PERL5LIB=""
PERL5OPT=""
PERL5_CPANPLUS_IS_RUNNING="17279"
PERL5_CPAN_IS_RUNNING="17279"
PERL5_CPAN_IS_RUNNING_IN_RECURSION="3561,17279"
PERL_CR_SMOKER_CURRENT="App-SimulateReads-0.11"
PERL_EXTUTILS_AUTOINSTALL="--defaultdeps"
PERL_MM_USE_DEFAULT="1"
PERL_USE_UNSAFE_INC="1"
@INC:
/home/stro/perl/5.27.8t/lib/site_perl/5.27.8/x86_64-linux-thread-multi
/home/stro/perl/5.27.8t/lib/site_perl/5.27.8
/home/stro/perl/5.27.8t/lib/5.27.8/x86_64-linux-thread-multi
/home/stro/perl/5.27.8t/lib/5.27.8
.