Test-PostgreSQL v1.29 Perl 5 v5.20.1 x86_64-linux-ld

Status
Pass
From
Andreas J. König (ANDK)
Dist
Test-PostgreSQL v1.29
Platform
Perl 5 v5.20.1 x86_64-linux-ld
Date
2025-04-15 18:54:31
ID
10a75494-1a2b-11f0-9c93-dbba40e543f3
This distribution has been tested as part of the CPAN Testers
project, supporting the Perl programming language.  See
http://wiki.cpantesters.org/ for more information or email
questions to cpan-testers-discuss@perl.org


--
Dear Toby Corkindale,

This is a computer-generated report for Test-PostgreSQL-1.29
on perl 5.20.1, created by CPAN-Reporter-1.2020.

Thank you for uploading your work to CPAN.  Congratulations!
All tests were successful.

Sections of this report:

    * Tester comments
    * Program output
    * Prerequisites
    * Environment and other context

------------------------------
TESTER COMMENTS
------------------------------

Additional comments from tester:

this report is from an automated smoke testing program
and was not reviewed by a human for accuracy

------------------------------
PROGRAM OUTPUT
------------------------------

Output from './Build test':

t/00-base.t .............. ok
t/01-raii.t .............. skipped: could not find postmaster, please set appropriate PATH or POSTGRES_HOME at /tmp/loop_over_bdir-2639088-4hyNhb/Test-PostgreSQL-1.29-0/blib/lib/Test/PostgreSQL.pm line 309.
t/02-multi.t ............. skipped: could not find postmaster, please set appropriate PATH or POSTGRES_HOME at /tmp/loop_over_bdir-2639088-4hyNhb/Test-PostgreSQL-1.29-0/blib/lib/Test/PostgreSQL.pm line 309.
t/04-multiprocess.t ...... skipped: could not find postmaster, please set appropriate PATH or POSTGRES_HOME at /tmp/loop_over_bdir-2639088-4hyNhb/Test-PostgreSQL-1.29-0/blib/lib/Test/PostgreSQL.pm line 309.
t/05-recycle-base-dir.t .. skipped: could not find postmaster, please set appropriate PATH or POSTGRES_HOME at /tmp/loop_over_bdir-2639088-4hyNhb/Test-PostgreSQL-1.29-0/blib/lib/Test/PostgreSQL.pm line 309.
t/06-unix-socket.t ....... skipped: could not find postmaster, please set appropriate PATH or POSTGRES_HOME at /tmp/loop_over_bdir-2639088-4hyNhb/Test-PostgreSQL-1.29-0/blib/lib/Test/PostgreSQL.pm line 309.
t/07-configs.t ........... skipped: could not find postmaster, please set appropriate PATH or POSTGRES_HOME at /tmp/loop_over_bdir-2639088-4hyNhb/Test-PostgreSQL-1.29-0/blib/lib/Test/PostgreSQL.pm line 309.
t/08-postgresql_conf.t ... skipped: could not find postmaster, please set appropriate PATH or POSTGRES_HOME at /tmp/loop_over_bdir-2639088-4hyNhb/Test-PostgreSQL-1.29-0/blib/lib/Test/PostgreSQL.pm line 309.
t/09-run_psql.t .......... skipped: could not find postmaster, please set appropriate PATH or POSTGRES_HOME at /tmp/loop_over_bdir-2639088-4hyNhb/Test-PostgreSQL-1.29-0/blib/lib/Test/PostgreSQL.pm line 309.
t/10-seed_scripts.t ...... skipped: could not find postmaster, please set appropriate PATH or POSTGRES_HOME at /tmp/loop_over_bdir-2639088-4hyNhb/Test-PostgreSQL-1.29-0/blib/lib/Test/PostgreSQL.pm line 309.
t/deadlock.t ............. skipped: could not find postmaster, please set appropriate PATH or POSTGRES_HOME at /tmp/loop_over_bdir-2639088-4hyNhb/Test-PostgreSQL-1.29-0/blib/lib/Test/PostgreSQL.pm line 309.
All tests successful.
Files=11, Tests=1,  4 wallclock secs ( 0.05 usr  0.01 sys +  2.20 cusr  0.44 csys =  2.70 CPU)
Result: PASS

------------------------------
PREREQUISITES
------------------------------

Prerequisite modules loaded:

requires:

    Module               Need  Have     
    -------------------- ----- ---------
    DBD::Pg              0     3.18.0   
    DBI                  0     1.645    
    File::Spec           0     3.75     
    File::Which          0     1.27     
    Function::Parameters 0     2.002004 
    Moo                  0     2.005005 
    perl                 5.014 5.020001 
    POSIX                0     1.38_03  
    Tie::Hash::Method    0     0.02     
    Try::Tiny            0     0.31     
    Types::Standard      0     2.007_000
    User::pwent          0     1.00     

build_requires:

    Module               Need  Have     
    -------------------- ----- ---------
    DBD::Pg              0     3.18.0   
    Test::SharedFork     0.06  0.35     

configure_requires:

    Module               Need  Have     
    -------------------- ----- ---------
    Module::Build::Tiny  0.035 0.047    


------------------------------
ENVIRONMENT AND OTHER CONTEXT
------------------------------

Environment variables:

    AUTOMATED_TESTING = 1
    LANG = en_US.UTF-8
    LANGUAGE = en_US:en
    PATH = /home/sand/bin:/usr/local/bin:/usr/bin:/bin:/usr/games:/usr/local/perl/bin:/usr/X11/bin:/sbin:/usr/sbin
    PERL5LIB = 
    PERL5OPT = 
    PERL5_CPANPLUS_IS_RUNNING = 2630380
    PERL5_CPAN_IS_RUNNING = 2630380
    PERL_CANARY_STABILITY_NOPROMPT = 1
    PERL_MM_USE_DEFAULT = 1
    PERL_USE_UNSAFE_INC = 1
    SHELL = /usr/bin/zsh
    TERM = screen

Perl special variables (and OS-specific diagnostics, for MSWin32):

    $^X = /home/sand/src/perl/repoperls/installed-perls/host/k93msid/v5.20.1/fc43/bin/perl
    $UID/$EUID = 1005 / 1005
    $GID = 1005 1005
    $EGID = 1005 1005

Perl module toolchain versions installed:

    Module              Have    
    ------------------- --------
    CPAN                2.38    
    CPAN::Meta          2.150010
    Cwd                 3.75    
    ExtUtils::CBuilder  0.280236
    ExtUtils::Command   7.70    
    ExtUtils::Install   2.22    
    ExtUtils::MakeMaker 7.70    
    ExtUtils::Manifest  1.75    
    ExtUtils::ParseXS   3.51    
    File::Spec          3.75    
    JSON                4.10    
    JSON::PP            4.16    
    Module::Build       0.4234  
    Module::Signature   0.89    
    Parse::CPAN::Meta   2.150010
    Test2               1.302204
    Test::Harness       3.50    
    Test::More          1.302204
    YAML                1.31    
    YAML::Syck          1.34    
    version             0.9930  


--

Summary of my perl5 (revision 5 version 20 subversion 1) configuration:
  Derived from: 4f732e9acf9b96a6e70ba729c7eae63906b663e5
  Platform:
    osname=linux, osvers=6.5.0-5-amd64, archname=x86_64-linux-ld
    uname='linux k93msid 6.5.0-5-amd64 #1 smp preempt_dynamic debian 6.5.13-1 (2023-11-29) x86_64 gnulinux '
    config_args='-Dprefix=/home/sand/src/perl/repoperls/installed-perls/host/k93msid/v5.20.1/fc43 -Dmyhostname=k93msid -Dinstallusrbinperl=n -Uversiononly -Dusedevel -des -Ui_db -Dlibswanted=cl pthread socket inet nsl gdbm dbm malloc dl ld sun m crypt sec util c cposix posix ucb BSD gdbm_compat -Uuseithreads -Duselongdouble -DEBUGGING=both'
    hint=recommended, useposix=true, d_sigaction=define
    useithreads=undef, usemultiplicity=undef
    use64bitint=define, use64bitall=define, uselongdouble=define
    usemymalloc=n, bincompat5005=undef
  Compiler:
    cc='cc', ccflags ='-fwrapv -DDEBUGGING -fno-strict-aliasing -pipe -fstack-protector -I/usr/local/include -D_LARGEFILE_SOURCE -D_FILE_OFFSET_BITS=64',
    optimize='-O2 -g',
    cppflags='-fwrapv -DDEBUGGING -fno-strict-aliasing -pipe -fstack-protector -I/usr/local/include'
    ccversion='', gccversion='13.2.0', gccosandvers=''
    intsize=4, longsize=8, ptrsize=8, doublesize=8, byteorder=12345678
    d_longlong=define, longlongsize=8, d_longdbl=define, longdblsize=16
    ivtype='long', ivsize=8, nvtype='long double', nvsize=16, Off_t='off_t', lseeksize=8
    alignbytes=16, prototype=define
  Linker and Libraries:
    ld='cc', ldflags =' -fstack-protector -L/usr/local/lib'
    libpth=/usr/local/lib /usr/include/x86_64-linux-gnu /usr/lib /lib/x86_64-linux-gnu /lib/../lib /usr/lib/x86_64-linux-gnu /usr/lib/../lib /lib /lib64 /usr/lib64
    libs=-lpthread -lnsl -ldl -lm -lcrypt -lutil -lc
    perllibs=-lpthread -lnsl -ldl -lm -lcrypt -lutil -lc
    libc=/lib/x86_64-linux-gnu/libc.so.6, so=so, useshrplib=false, libperl=libperl.a
    gnulibc_version='2.37'
  Dynamic Linking:
    dlsrc=dl_dlopen.xs, dlext=so, d_dlsymun=undef, ccdlflags='-Wl,-E'
    cccdlflags='-fPIC', lddlflags='-shared -O2 -g -L/usr/local/lib -fstack-protector'


Characteristics of this binary (from libperl): 
  Compile-time options: DEBUGGING HAS_TIMES PERLIO_LAYERS
                        PERL_DONT_CREATE_GVSV
                        PERL_HASH_FUNC_ONE_AT_A_TIME_HARD PERL_MALLOC_WRAP
                        PERL_NEW_COPY_ON_WRITE PERL_PRESERVE_IVUV
                        PERL_USE_DEVEL USE_64_BIT_ALL USE_64_BIT_INT
                        USE_LARGE_FILES USE_LOCALE USE_LOCALE_COLLATE
                        USE_LOCALE_CTYPE USE_LOCALE_NUMERIC USE_LONG_DOUBLE
                        USE_PERLIO USE_PERL_ATOF
  Locally applied patches:
	uncommitted-changes
  Built under linux
  Compiled at Jan 21 2024 11:44:03
  %ENV:
    PERL5LIB=""
    PERL5OPT=""
    PERL5_CPANPLUS_IS_RUNNING="2630380"
    PERL5_CPAN_IS_RUNNING="2630380"
    PERL_CANARY_STABILITY_NOPROMPT="1"
    PERL_MM_USE_DEFAULT="1"
    PERL_USE_UNSAFE_INC="1"
  @INC:
    /home/sand/src/perl/repoperls/installed-perls/host/k93msid/v5.20.1/fc43/lib/site_perl/5.20.1/x86_64-linux-ld
    /home/sand/src/perl/repoperls/installed-perls/host/k93msid/v5.20.1/fc43/lib/site_perl/5.20.1
    /home/sand/src/perl/repoperls/installed-perls/host/k93msid/v5.20.1/fc43/lib/5.20.1/x86_64-linux-ld
    /home/sand/src/perl/repoperls/installed-perls/host/k93msid/v5.20.1/fc43/lib/5.20.1
    .