Report for Apache-ASP-2.62

Back
From: metabase:user:30f0bd62-2aae-11df-837a-5e0a49663a4f
Subject: PASS Apache-ASP-2.62 v5.14.1 OpenBSD
Date: 2011-12-18T07:58:26Z

This distribution has been tested as part of the CPAN Testers
project, supporting the Perl programming language.  See
http://wiki.cpantesters.org/ for more information or email
questions to cpan-testers-discuss@perl.org


--
Dear Gregory S. Youngblood,

This is a computer-generated report for Apache-ASP-2.62
on perl 5.14.1, created by CPAN-Reporter-1.2002.

Thank you for uploading your work to CPAN.  Congratulations!
All tests were successful.

Sections of this report:

    * Tester comments
    * Program output
    * Prerequisites
    * Environment and other context

------------------------------
TESTER COMMENTS
------------------------------

Additional comments from tester:

this report is from an automated smoke testing program
and was not reviewed by a human for accuracy

------------------------------
PROGRAM OUTPUT
------------------------------

Output from '/usr/bin/make test':

PERL_DL_NONLAZY=1 /home/sts/cpansmoke/perl-5.14.1/bin/perl "-MExtUtils::Command::MM" "-e" "test_harness(0, 'blib/lib', 'blib/arch')" t/*.t
Use of uninitialized value $rv in lc at /home/sts/cpansmoke/perl-5.14.1/cpan/build/Apache-ASP-2.62-baQXj4/blib/lib/Apache/ASP.pm line 2018.
Use of uninitialized value $rv in lc at /home/sts/cpansmoke/perl-5.14.1/cpan/build/Apache-ASP-2.62-baQXj4/blib/lib/Apache/ASP.pm line 2018.
Use of uninitialized value $rv in lc at /home/sts/cpansmoke/perl-5.14.1/cpan/build/Apache-ASP-2.62-baQXj4/blib/lib/Apache/ASP.pm line 2018.
Use of uninitialized value $rv in lc at /home/sts/cpansmoke/perl-5.14.1/cpan/build/Apache-ASP-2.62-baQXj4/blib/lib/Apache/ASP.pm line 2018.
Use of uninitialized value $rv in lc at /home/sts/cpansmoke/perl-5.14.1/cpan/build/Apache-ASP-2.62-baQXj4/blib/lib/Apache/ASP.pm line 2018.
Use of uninitialized value $rv in lc at /home/sts/cpansmoke/perl-5.14.1/cpan/build/Apache-ASP-2.62-baQXj4/blib/lib/Apache/ASP.pm line 2018.
Use of uninitialized value $rv in lc at /home/sts/cpansmoke/perl-5.14.1/cpan/build/Apache-ASP-2.62-baQXj4/blib/lib/Apache/ASP.pm line 2018.
Use of uninitialized value $rv in lc at /home/sts/cpansmoke/perl-5.14.1/cpan/build/Apache-ASP-2.62-baQXj4/blib/lib/Apache/ASP.pm line 2018.
Use of uninitialized value $rv in lc at /home/sts/cpansmoke/perl-5.14.1/cpan/build/Apache-ASP-2.62-baQXj4/blib/lib/Apache/ASP.pm line 2018.
Use of uninitialized value $rv in lc at /home/sts/cpansmoke/perl-5.14.1/cpan/build/Apache-ASP-2.62-baQXj4/blib/lib/Apache/ASP.pm line 2018.
Use of uninitialized value $rv in lc at /home/sts/cpansmoke/perl-5.14.1/cpan/build/Apache-ASP-2.62-baQXj4/blib/lib/Apache/ASP.pm line 2018.
t/application.t .......... ok
Use of uninitialized value $rv in lc at ../blib/lib/Apache/ASP.pm line 2018.
Use of uninitialized value $rv in lc at ../blib/lib/Apache/ASP.pm line 2018.
Use of uninitialized value $rv in lc at ../blib/lib/Apache/ASP.pm line 2018.
Use of uninitialized value $rv in lc at ../blib/lib/Apache/ASP.pm line 2018.
Use of uninitialized value $rv in lc at ../blib/lib/Apache/ASP.pm line 2018.
Use of uninitialized value $rv in lc at ../blib/lib/Apache/ASP.pm line 2018.
Use of uninitialized value $rv in lc at ../blib/lib/Apache/ASP.pm line 2018.
Use of uninitialized value $rv in lc at ../blib/lib/Apache/ASP.pm line 2018.
Use of uninitialized value $rv in lc at ../blib/lib/Apache/ASP.pm line 2018.
Use of uninitialized value $rv in lc at ../blib/lib/Apache/ASP.pm line 2018.
t/asp-perl1.t ............ ok
Use of uninitialized value $rv in lc at ../../blib/lib/Apache/ASP.pm line 2018.
Use of uninitialized value $rv in lc at ../../blib/lib/Apache/ASP.pm line 2018.
Use of uninitialized value $rv in lc at ../../blib/lib/Apache/ASP.pm line 2018.
Use of uninitialized value $rv in lc at ../../blib/lib/Apache/ASP.pm line 2018.
Use of uninitialized value $rv in lc at ../../blib/lib/Apache/ASP.pm line 2018.
Use of uninitialized value $rv in lc at ../../blib/lib/Apache/ASP.pm line 2018.
Use of uninitialized value $rv in lc at ../../blib/lib/Apache/ASP.pm line 2018.
Use of uninitialized value $rv in lc at ../../blib/lib/Apache/ASP.pm line 2018.
Use of uninitialized value $rv in lc at ../../blib/lib/Apache/ASP.pm line 2018.
Use of uninitialized value $rv in lc at ../../blib/lib/Apache/ASP.pm line 2018.
t/asp-perl2.t ............ ok
Use of uninitialized value $rv in lc at /home/sts/cpansmoke/perl-5.14.1/cpan/build/Apache-ASP-2.62-baQXj4/blib/lib/Apache/ASP.pm line 2018.
Use of uninitialized value $rv in lc at /home/sts/cpansmoke/perl-5.14.1/cpan/build/Apache-ASP-2.62-baQXj4/blib/lib/Apache/ASP.pm line 2018.
Use of uninitialized value $rv in lc at /home/sts/cpansmoke/perl-5.14.1/cpan/build/Apache-ASP-2.62-baQXj4/blib/lib/Apache/ASP.pm line 2018.
Use of uninitialized value $rv in lc at /home/sts/cpansmoke/perl-5.14.1/cpan/build/Apache-ASP-2.62-baQXj4/blib/lib/Apache/ASP.pm line 2018.
Use of uninitialized value $rv in lc at /home/sts/cpansmoke/perl-5.14.1/cpan/build/Apache-ASP-2.62-baQXj4/blib/lib/Apache/ASP.pm line 2018.
Use of uninitialized value $rv in lc at /home/sts/cpansmoke/perl-5.14.1/cpan/build/Apache-ASP-2.62-baQXj4/blib/lib/Apache/ASP.pm line 2018.
Use of uninitialized value $rv in lc at /home/sts/cpansmoke/perl-5.14.1/cpan/build/Apache-ASP-2.62-baQXj4/blib/lib/Apache/ASP.pm line 2018.
Use of uninitialized value $rv in lc at /home/sts/cpansmoke/perl-5.14.1/cpan/build/Apache-ASP-2.62-baQXj4/blib/lib/Apache/ASP.pm line 2018.
Use of uninitialized value $rv in lc at /home/sts/cpansmoke/perl-5.14.1/cpan/build/Apache-ASP-2.62-baQXj4/blib/lib/Apache/ASP.pm line 2018.
Use of uninitialized value $rv in lc at /home/sts/cpansmoke/perl-5.14.1/cpan/build/Apache-ASP-2.62-baQXj4/blib/lib/Apache/ASP.pm line 2018.
Use of uninitialized value $rv in lc at /home/sts/cpansmoke/perl-5.14.1/cpan/build/Apache-ASP-2.62-baQXj4/blib/lib/Apache/ASP.pm line 2018.
Use of uninitialized value $rv in lc at /home/sts/cpansmoke/perl-5.14.1/cpan/build/Apache-ASP-2.62-baQXj4/blib/lib/Apache/ASP.pm line 2018.
Use of uninitialized value $rv in lc at /home/sts/cpansmoke/perl-5.14.1/cpan/build/Apache-ASP-2.62-baQXj4/blib/lib/Apache/ASP.pm line 2018.
Use of uninitialized value $rv in lc at /home/sts/cpansmoke/perl-5.14.1/cpan/build/Apache-ASP-2.62-baQXj4/blib/lib/Apache/ASP.pm line 2018.
Use of uninitialized value $rv in lc at /home/sts/cpansmoke/perl-5.14.1/cpan/build/Apache-ASP-2.62-baQXj4/blib/lib/Apache/ASP.pm line 2018.
Use of uninitialized value $rv in lc at /home/sts/cpansmoke/perl-5.14.1/cpan/build/Apache-ASP-2.62-baQXj4/blib/lib/Apache/ASP.pm line 2018.
Use of uninitialized value $rv in lc at /home/sts/cpansmoke/perl-5.14.1/cpan/build/Apache-ASP-2.62-baQXj4/blib/lib/Apache/ASP.pm line 2018.
Use of uninitialized value $rv in lc at /home/sts/cpansmoke/perl-5.14.1/cpan/build/Apache-ASP-2.62-baQXj4/blib/lib/Apache/ASP.pm line 2018.
Use of uninitialized value $rv in lc at /home/sts/cpansmoke/perl-5.14.1/cpan/build/Apache-ASP-2.62-baQXj4/blib/lib/Apache/ASP.pm line 2018.
Use of uninitialized value $rv in lc at /home/sts/cpansmoke/perl-5.14.1/cpan/build/Apache-ASP-2.62-baQXj4/blib/lib/Apache/ASP.pm line 2018.
Use of uninitialized value $rv in lc at /home/sts/cpansmoke/perl-5.14.1/cpan/build/Apache-ASP-2.62-baQXj4/blib/lib/Apache/ASP.pm line 2018.
Use of uninitialized value $rv in lc at /home/sts/cpansmoke/perl-5.14.1/cpan/build/Apache-ASP-2.62-baQXj4/blib/lib/Apache/ASP.pm line 2018.
t/asp_object.t ........... ok
Use of uninitialized value $rv in lc at /home/sts/cpansmoke/perl-5.14.1/cpan/build/Apache-ASP-2.62-baQXj4/blib/lib/Apache/ASP.pm line 2018.
Use of uninitialized value $rv in lc at /home/sts/cpansmoke/perl-5.14.1/cpan/build/Apache-ASP-2.62-baQXj4/blib/lib/Apache/ASP.pm line 2018.
Use of uninitialized value $rv in lc at /home/sts/cpansmoke/perl-5.14.1/cpan/build/Apache-ASP-2.62-baQXj4/blib/lib/Apache/ASP.pm line 2018.
Use of uninitialized value $rv in lc at /home/sts/cpansmoke/perl-5.14.1/cpan/build/Apache-ASP-2.62-baQXj4/blib/lib/Apache/ASP.pm line 2018.
Use of uninitialized value $rv in lc at /home/sts/cpansmoke/perl-5.14.1/cpan/build/Apache-ASP-2.62-baQXj4/blib/lib/Apache/ASP.pm line 2018.
Use of uninitialized value $rv in lc at /home/sts/cpansmoke/perl-5.14.1/cpan/build/Apache-ASP-2.62-baQXj4/blib/lib/Apache/ASP.pm line 2018.
Use of uninitialized value $rv in lc at /home/sts/cpansmoke/perl-5.14.1/cpan/build/Apache-ASP-2.62-baQXj4/blib/lib/Apache/ASP.pm line 2018.
Use of uninitialized value $rv in lc at /home/sts/cpansmoke/perl-5.14.1/cpan/build/Apache-ASP-2.62-baQXj4/blib/lib/Apache/ASP.pm line 2018.
Use of uninitialized value $rv in lc at /home/sts/cpansmoke/perl-5.14.1/cpan/build/Apache-ASP-2.62-baQXj4/blib/lib/Apache/ASP.pm line 2018.
Use of uninitialized value $rv in lc at /home/sts/cpansmoke/perl-5.14.1/cpan/build/Apache-ASP-2.62-baQXj4/blib/lib/Apache/ASP.pm line 2018.
t/cache.t ................ ok
Use of uninitialized value $rv in lc at /home/sts/cpansmoke/perl-5.14.1/cpan/build/Apache-ASP-2.62-baQXj4/blib/lib/Apache/ASP.pm line 2018.
Use of uninitialized value $rv in lc at /home/sts/cpansmoke/perl-5.14.1/cpan/build/Apache-ASP-2.62-baQXj4/blib/lib/Apache/ASP.pm line 2018.
Use of uninitialized value $rv in lc at /home/sts/cpansmoke/perl-5.14.1/cpan/build/Apache-ASP-2.62-baQXj4/blib/lib/Apache/ASP.pm line 2018.
Use of uninitialized value $rv in lc at /home/sts/cpansmoke/perl-5.14.1/cpan/build/Apache-ASP-2.62-baQXj4/blib/lib/Apache/ASP.pm line 2018.
Use of uninitialized value $rv in lc at /home/sts/cpansmoke/perl-5.14.1/cpan/build/Apache-ASP-2.62-baQXj4/blib/lib/Apache/ASP.pm line 2018.
Use of uninitialized value $rv in lc at /home/sts/cpansmoke/perl-5.14.1/cpan/build/Apache-ASP-2.62-baQXj4/blib/lib/Apache/ASP.pm line 2018.
Use of uninitialized value $rv in lc at /home/sts/cpansmoke/perl-5.14.1/cpan/build/Apache-ASP-2.62-baQXj4/blib/lib/Apache/ASP.pm line 2018.
Use of uninitialized value $rv in lc at /home/sts/cpansmoke/perl-5.14.1/cpan/build/Apache-ASP-2.62-baQXj4/blib/lib/Apache/ASP.pm line 2018.
Use of uninitialized value $rv in lc at /home/sts/cpansmoke/perl-5.14.1/cpan/build/Apache-ASP-2.62-baQXj4/blib/lib/Apache/ASP.pm line 2018.
Use of uninitialized value $rv in lc at /home/sts/cpansmoke/perl-5.14.1/cpan/build/Apache-ASP-2.62-baQXj4/blib/lib/Apache/ASP.pm line 2018.
t/cgi_headers.t .......... ok
Use of uninitialized value $rv in lc at /home/sts/cpansmoke/perl-5.14.1/cpan/build/Apache-ASP-2.62-baQXj4/blib/lib/Apache/ASP.pm line 2018.
Use of uninitialized value $rv in lc at /home/sts/cpansmoke/perl-5.14.1/cpan/build/Apache-ASP-2.62-baQXj4/blib/lib/Apache/ASP.pm line 2018.
Use of uninitialized value $rv in lc at /home/sts/cpansmoke/perl-5.14.1/cpan/build/Apache-ASP-2.62-baQXj4/blib/lib/Apache/ASP.pm line 2018.
Use of uninitialized value $rv in lc at /home/sts/cpansmoke/perl-5.14.1/cpan/build/Apache-ASP-2.62-baQXj4/blib/lib/Apache/ASP.pm line 2018.
Use of uninitialized value $rv in lc at /home/sts/cpansmoke/perl-5.14.1/cpan/build/Apache-ASP-2.62-baQXj4/blib/lib/Apache/ASP.pm line 2018.
Use of uninitialized value $rv in lc at /home/sts/cpansmoke/perl-5.14.1/cpan/build/Apache-ASP-2.62-baQXj4/blib/lib/Apache/ASP.pm line 2018.
Use of uninitialized value $rv in lc at /home/sts/cpansmoke/perl-5.14.1/cpan/build/Apache-ASP-2.62-baQXj4/blib/lib/Apache/ASP.pm line 2018.
Use of uninitialized value $rv in lc at /home/sts/cpansmoke/perl-5.14.1/cpan/build/Apache-ASP-2.62-baQXj4/blib/lib/Apache/ASP.pm line 2018.
Use of uninitialized value $rv in lc at /home/sts/cpansmoke/perl-5.14.1/cpan/build/Apache-ASP-2.62-baQXj4/blib/lib/Apache/ASP.pm line 2018.
t/closure.t .............. ok
Use of uninitialized value $rv in lc at /home/sts/cpansmoke/perl-5.14.1/cpan/build/Apache-ASP-2.62-baQXj4/blib/lib/Apache/ASP.pm line 2018.
Use of uninitialized value $rv in lc at /home/sts/cpansmoke/perl-5.14.1/cpan/build/Apache-ASP-2.62-baQXj4/blib/lib/Apache/ASP.pm line 2018.
Use of uninitialized value $rv in lc at /home/sts/cpansmoke/perl-5.14.1/cpan/build/Apache-ASP-2.62-baQXj4/blib/lib/Apache/ASP.pm line 2018.
Use of uninitialized value $rv in lc at /home/sts/cpansmoke/perl-5.14.1/cpan/build/Apache-ASP-2.62-baQXj4/blib/lib/Apache/ASP.pm line 2018.
Use of uninitialized value $rv in lc at /home/sts/cpansmoke/perl-5.14.1/cpan/build/Apache-ASP-2.62-baQXj4/blib/lib/Apache/ASP.pm line 2018.
Use of uninitialized value $rv in lc at /home/sts/cpansmoke/perl-5.14.1/cpan/build/Apache-ASP-2.62-baQXj4/blib/lib/Apache/ASP.pm line 2018.
Use of uninitialized value $rv in lc at /home/sts/cpansmoke/perl-5.14.1/cpan/build/Apache-ASP-2.62-baQXj4/blib/lib/Apache/ASP.pm line 2018.
Use of uninitialized value $rv in lc at /home/sts/cpansmoke/perl-5.14.1/cpan/build/Apache-ASP-2.62-baQXj4/blib/lib/Apache/ASP.pm line 2018.
Use of uninitialized value $rv in lc at /home/sts/cpansmoke/perl-5.14.1/cpan/build/Apache-ASP-2.62-baQXj4/blib/lib/Apache/ASP.pm line 2018.
Use of uninitialized value $rv in lc at /home/sts/cpansmoke/perl-5.14.1/cpan/build/Apache-ASP-2.62-baQXj4/blib/lib/Apache/ASP.pm line 2018.
Use of uninitialized value $rv in lc at /home/sts/cpansmoke/perl-5.14.1/cpan/build/Apache-ASP-2.62-baQXj4/blib/lib/Apache/ASP.pm line 2018.
t/collection.t ........... ok
Use of uninitialized value $rv in lc at /home/sts/cpansmoke/perl-5.14.1/cpan/build/Apache-ASP-2.62-baQXj4/blib/lib/Apache/ASP.pm line 2018.
Use of uninitialized value $rv in lc at /home/sts/cpansmoke/perl-5.14.1/cpan/build/Apache-ASP-2.62-baQXj4/blib/lib/Apache/ASP.pm line 2018.
Use of uninitialized value $rv in lc at /home/sts/cpansmoke/perl-5.14.1/cpan/build/Apache-ASP-2.62-baQXj4/blib/lib/Apache/ASP.pm line 2018.
Use of uninitialized value $rv in lc at /home/sts/cpansmoke/perl-5.14.1/cpan/build/Apache-ASP-2.62-baQXj4/blib/lib/Apache/ASP.pm line 2018.
Use of uninitialized value $rv in lc at /home/sts/cpansmoke/perl-5.14.1/cpan/build/Apache-ASP-2.62-baQXj4/blib/lib/Apache/ASP.pm line 2018.
Use of uninitialized value $rv in lc at /home/sts/cpansmoke/perl-5.14.1/cpan/build/Apache-ASP-2.62-baQXj4/blib/lib/Apache/ASP.pm line 2018.
Use of uninitialized value $rv in lc at /home/sts/cpansmoke/perl-5.14.1/cpan/build/Apache-ASP-2.62-baQXj4/blib/lib/Apache/ASP.pm line 2018.
Use of uninitialized value $rv in lc at /home/sts/cpansmoke/perl-5.14.1/cpan/build/Apache-ASP-2.62-baQXj4/blib/lib/Apache/ASP.pm line 2018.
Use of uninitialized value $rv in lc at /home/sts/cpansmoke/perl-5.14.1/cpan/build/Apache-ASP-2.62-baQXj4/blib/lib/Apache/ASP.pm line 2018.
Use of uninitialized value $rv in lc at /home/sts/cpansmoke/perl-5.14.1/cpan/build/Apache-ASP-2.62-baQXj4/blib/lib/Apache/ASP.pm line 2018.
Use of uninitialized value $rv in lc at /home/sts/cpansmoke/perl-5.14.1/cpan/build/Apache-ASP-2.62-baQXj4/blib/lib/Apache/ASP.pm line 2018.
t/collectionitem.t ....... ok
Use of uninitialized value $rv in lc at /home/sts/cpansmoke/perl-5.14.1/cpan/build/Apache-ASP-2.62-baQXj4/blib/lib/Apache/ASP.pm line 2018.
Use of uninitialized value $rv in lc at /home/sts/cpansmoke/perl-5.14.1/cpan/build/Apache-ASP-2.62-baQXj4/blib/lib/Apache/ASP.pm line 2018.
Use of uninitialized value $rv in lc at /home/sts/cpansmoke/perl-5.14.1/cpan/build/Apache-ASP-2.62-baQXj4/blib/lib/Apache/ASP.pm line 2018.
Use of uninitialized value $rv in lc at /home/sts/cpansmoke/perl-5.14.1/cpan/build/Apache-ASP-2.62-baQXj4/blib/lib/Apache/ASP.pm line 2018.
Use of uninitialized value $rv in lc at /home/sts/cpansmoke/perl-5.14.1/cpan/build/Apache-ASP-2.62-baQXj4/blib/lib/Apache/ASP.pm line 2018.
Use of uninitialized value $rv in lc at /home/sts/cpansmoke/perl-5.14.1/cpan/build/Apache-ASP-2.62-baQXj4/blib/lib/Apache/ASP.pm line 2018.
Use of uninitialized value $rv in lc at /home/sts/cpansmoke/perl-5.14.1/cpan/build/Apache-ASP-2.62-baQXj4/blib/lib/Apache/ASP.pm line 2018.
Use of uninitialized value $rv in lc at /home/sts/cpansmoke/perl-5.14.1/cpan/build/Apache-ASP-2.62-baQXj4/blib/lib/Apache/ASP.pm line 2018.
Use of uninitialized value $rv in lc at /home/sts/cpansmoke/perl-5.14.1/cpan/build/Apache-ASP-2.62-baQXj4/blib/lib/Apache/ASP.pm line 2018.
Use of uninitialized value $rv in lc at /home/sts/cpansmoke/perl-5.14.1/cpan/build/Apache-ASP-2.62-baQXj4/blib/lib/Apache/ASP.pm line 2018.
t/cookies.t .............. ok
Use of uninitialized value $rv in lc at /home/sts/cpansmoke/perl-5.14.1/cpan/build/Apache-ASP-2.62-baQXj4/blib/lib/Apache/ASP.pm line 2018.
Use of uninitialized value $rv in lc at /home/sts/cpansmoke/perl-5.14.1/cpan/build/Apache-ASP-2.62-baQXj4/blib/lib/Apache/ASP.pm line 2018.
Use of uninitialized value $rv in lc at /home/sts/cpansmoke/perl-5.14.1/cpan/build/Apache-ASP-2.62-baQXj4/blib/lib/Apache/ASP.pm line 2018.
Use of uninitialized value $rv in lc at /home/sts/cpansmoke/perl-5.14.1/cpan/build/Apache-ASP-2.62-baQXj4/blib/lib/Apache/ASP.pm line 2018.
Use of uninitialized value $rv in lc at /home/sts/cpansmoke/perl-5.14.1/cpan/build/Apache-ASP-2.62-baQXj4/blib/lib/Apache/ASP.pm line 2018.
Use of uninitialized value $rv in lc at /home/sts/cpansmoke/perl-5.14.1/cpan/build/Apache-ASP-2.62-baQXj4/blib/lib/Apache/ASP.pm line 2018.
Use of uninitialized value $rv in lc at /home/sts/cpansmoke/perl-5.14.1/cpan/build/Apache-ASP-2.62-baQXj4/blib/lib/Apache/ASP.pm line 2018.
Use of uninitialized value $rv in lc at /home/sts/cpansmoke/perl-5.14.1/cpan/build/Apache-ASP-2.62-baQXj4/blib/lib/Apache/ASP.pm line 2018.
Use of uninitialized value $rv in lc at /home/sts/cpansmoke/perl-5.14.1/cpan/build/Apache-ASP-2.62-baQXj4/blib/lib/Apache/ASP.pm line 2018.
Use of uninitialized value $rv in lc at /home/sts/cpansmoke/perl-5.14.1/cpan/build/Apache-ASP-2.62-baQXj4/blib/lib/Apache/ASP.pm line 2018.
Use of uninitialized value $rv in lc at /home/sts/cpansmoke/perl-5.14.1/cpan/build/Apache-ASP-2.62-baQXj4/blib/lib/Apache/ASP.pm line 2018.
Use of uninitialized value $rv in lc at /home/sts/cpansmoke/perl-5.14.1/cpan/build/Apache-ASP-2.62-baQXj4/blib/lib/Apache/ASP.pm line 2018.
Use of uninitialized value $rv in lc at /home/sts/cpansmoke/perl-5.14.1/cpan/build/Apache-ASP-2.62-baQXj4/blib/lib/Apache/ASP.pm line 2018.
Use of uninitialized value $rv in lc at /home/sts/cpansmoke/perl-5.14.1/cpan/build/Apache-ASP-2.62-baQXj4/blib/lib/Apache/ASP.pm line 2018.
Use of uninitialized value $rv in lc at /home/sts/cpansmoke/perl-5.14.1/cpan/build/Apache-ASP-2.62-baQXj4/blib/lib/Apache/ASP.pm line 2018.
Use of uninitialized value $rv in lc at /home/sts/cpansmoke/perl-5.14.1/cpan/build/Apache-ASP-2.62-baQXj4/blib/lib/Apache/ASP.pm line 2018.
Use of uninitialized value $rv in lc at /home/sts/cpansmoke/perl-5.14.1/cpan/build/Apache-ASP-2.62-baQXj4/blib/lib/Apache/ASP.pm line 2018.
Use of uninitialized value $rv in lc at /home/sts/cpansmoke/perl-5.14.1/cpan/build/Apache-ASP-2.62-baQXj4/blib/lib/Apache/ASP.pm line 2018.
Use of uninitialized value $rv in lc at /home/sts/cpansmoke/perl-5.14.1/cpan/build/Apache-ASP-2.62-baQXj4/blib/lib/Apache/ASP.pm line 2018.
Use of uninitialized value $rv in lc at /home/sts/cpansmoke/perl-5.14.1/cpan/build/Apache-ASP-2.62-baQXj4/blib/lib/Apache/ASP.pm line 2018.
Use of uninitialized value $rv in lc at /home/sts/cpansmoke/perl-5.14.1/cpan/build/Apache-ASP-2.62-baQXj4/blib/lib/Apache/ASP.pm line 2018.
Use of uninitialized value $rv in lc at /home/sts/cpansmoke/perl-5.14.1/cpan/build/Apache-ASP-2.62-baQXj4/blib/lib/Apache/ASP.pm line 2018.
Use of uninitialized value $rv in lc at /home/sts/cpansmoke/perl-5.14.1/cpan/build/Apache-ASP-2.62-baQXj4/blib/lib/Apache/ASP.pm line 2018.
Use of uninitialized value $rv in lc at /home/sts/cpansmoke/perl-5.14.1/cpan/build/Apache-ASP-2.62-baQXj4/blib/lib/Apache/ASP.pm line 2018.
Use of uninitialized value $rv in lc at /home/sts/cpansmoke/perl-5.14.1/cpan/build/Apache-ASP-2.62-baQXj4/blib/lib/Apache/ASP.pm line 2018.
Use of uninitialized value $rv in lc at /home/sts/cpansmoke/perl-5.14.1/cpan/build/Apache-ASP-2.62-baQXj4/blib/lib/Apache/ASP.pm line 2018.
Use of uninitialized value $rv in lc at /home/sts/cpansmoke/perl-5.14.1/cpan/build/Apache-ASP-2.62-baQXj4/blib/lib/Apache/ASP.pm line 2018.
Use of uninitialized value $rv in lc at /home/sts/cpansmoke/perl-5.14.1/cpan/build/Apache-ASP-2.62-baQXj4/blib/lib/Apache/ASP.pm line 2018.
Use of uninitialized value $rv in lc at /home/sts/cpansmoke/perl-5.14.1/cpan/build/Apache-ASP-2.62-baQXj4/blib/lib/Apache/ASP.pm line 2018.
Use of uninitialized value $rv in lc at /home/sts/cpansmoke/perl-5.14.1/cpan/build/Apache-ASP-2.62-baQXj4/blib/lib/Apache/ASP.pm line 2018.
Use of uninitialized value $rv in lc at /home/sts/cpansmoke/perl-5.14.1/cpan/build/Apache-ASP-2.62-baQXj4/blib/lib/Apache/ASP.pm line 2018.
Use of uninitialized value $rv in lc at /home/sts/cpansmoke/perl-5.14.1/cpan/build/Apache-ASP-2.62-baQXj4/blib/lib/Apache/ASP.pm line 2018.
Use of uninitialized value $rv in lc at /home/sts/cpansmoke/perl-5.14.1/cpan/build/Apache-ASP-2.62-baQXj4/blib/lib/Apache/ASP.pm line 2018.
Use of uninitialized value $rv in lc at /home/sts/cpansmoke/perl-5.14.1/cpan/build/Apache-ASP-2.62-baQXj4/blib/lib/Apache/ASP.pm line 2018.
Use of uninitialized value $rv in lc at /home/sts/cpansmoke/perl-5.14.1/cpan/build/Apache-ASP-2.62-baQXj4/blib/lib/Apache/ASP.pm line 2018.
Use of uninitialized value $rv in lc at /home/sts/cpansmoke/perl-5.14.1/cpan/build/Apache-ASP-2.62-baQXj4/blib/lib/Apache/ASP.pm line 2018.
Use of uninitialized value $rv in lc at /home/sts/cpansmoke/perl-5.14.1/cpan/build/Apache-ASP-2.62-baQXj4/blib/lib/Apache/ASP.pm line 2018.
Use of uninitialized value $rv in lc at /home/sts/cpansmoke/perl-5.14.1/cpan/build/Apache-ASP-2.62-baQXj4/blib/lib/Apache/ASP.pm line 2018.
Use of uninitialized value $rv in lc at /home/sts/cpansmoke/perl-5.14.1/cpan/build/Apache-ASP-2.62-baQXj4/blib/lib/Apache/ASP.pm line 2018.
Use of uninitialized value $rv in lc at /home/sts/cpansmoke/perl-5.14.1/cpan/build/Apache-ASP-2.62-baQXj4/blib/lib/Apache/ASP.pm line 2018.
Use of uninitialized value $rv in lc at /home/sts/cpansmoke/perl-5.14.1/cpan/build/Apache-ASP-2.62-baQXj4/blib/lib/Apache/ASP.pm line 2018.
Use of uninitialized value $rv in lc at /home/sts/cpansmoke/perl-5.14.1/cpan/build/Apache-ASP-2.62-baQXj4/blib/lib/Apache/ASP.pm line 2018.
Use of uninitialized value $rv in lc at /home/sts/cpansmoke/perl-5.14.1/cpan/build/Apache-ASP-2.62-baQXj4/blib/lib/Apache/ASP.pm line 2018.
Use of uninitialized value $rv in lc at /home/sts/cpansmoke/perl-5.14.1/cpan/build/Apache-ASP-2.62-baQXj4/blib/lib/Apache/ASP.pm line 2018.
Use of uninitialized value $rv in lc at /home/sts/cpansmoke/perl-5.14.1/cpan/build/Apache-ASP-2.62-baQXj4/blib/lib/Apache/ASP.pm line 2018.
Use of uninitialized value $rv in lc at /home/sts/cpansmoke/perl-5.14.1/cpan/build/Apache-ASP-2.62-baQXj4/blib/lib/Apache/ASP.pm line 2018.
Use of uninitialized value $rv in lc at /home/sts/cpansmoke/perl-5.14.1/cpan/build/Apache-ASP-2.62-baQXj4/blib/lib/Apache/ASP.pm line 2018.
Use of uninitialized value $rv in lc at /home/sts/cpansmoke/perl-5.14.1/cpan/build/Apache-ASP-2.62-baQXj4/blib/lib/Apache/ASP.pm line 2018.
Use of uninitialized value $rv in lc at /home/sts/cpansmoke/perl-5.14.1/cpan/build/Apache-ASP-2.62-baQXj4/blib/lib/Apache/ASP.pm line 2018.
Use of uninitialized value $rv in lc at /home/sts/cpansmoke/perl-5.14.1/cpan/build/Apache-ASP-2.62-baQXj4/blib/lib/Apache/ASP.pm line 2018.
Use of uninitialized value $rv in lc at /home/sts/cpansmoke/perl-5.14.1/cpan/build/Apache-ASP-2.62-baQXj4/blib/lib/Apache/ASP.pm line 2018.
Use of uninitialized value $rv in lc at /home/sts/cpansmoke/perl-5.14.1/cpan/build/Apache-ASP-2.62-baQXj4/blib/lib/Apache/ASP.pm line 2018.
Use of uninitialized value $rv in lc at /home/sts/cpansmoke/perl-5.14.1/cpan/build/Apache-ASP-2.62-baQXj4/blib/lib/Apache/ASP.pm line 2018.
Use of uninitialized value $rv in lc at /home/sts/cpansmoke/perl-5.14.1/cpan/build/Apache-ASP-2.62-baQXj4/blib/lib/Apache/ASP.pm line 2018.
t/end.t .................. ok
Use of uninitialized value $rv in lc at /home/sts/cpansmoke/perl-5.14.1/cpan/build/Apache-ASP-2.62-baQXj4/blib/lib/Apache/ASP.pm line 2018.
Use of uninitialized value $rv in lc at /home/sts/cpansmoke/perl-5.14.1/cpan/build/Apache-ASP-2.62-baQXj4/blib/lib/Apache/ASP.pm line 2018.
Use of uninitialized value $rv in lc at /home/sts/cpansmoke/perl-5.14.1/cpan/build/Apache-ASP-2.62-baQXj4/blib/lib/Apache/ASP.pm line 2018.
Use of uninitialized value $rv in lc at /home/sts/cpansmoke/perl-5.14.1/cpan/build/Apache-ASP-2.62-baQXj4/blib/lib/Apache/ASP.pm line 2018.
Use of uninitialized value $rv in lc at /home/sts/cpansmoke/perl-5.14.1/cpan/build/Apache-ASP-2.62-baQXj4/blib/lib/Apache/ASP.pm line 2018.
Use of uninitialized value $rv in lc at /home/sts/cpansmoke/perl-5.14.1/cpan/build/Apache-ASP-2.62-baQXj4/blib/lib/Apache/ASP.pm line 2018.
Use of uninitialized value $rv in lc at /home/sts/cpansmoke/perl-5.14.1/cpan/build/Apache-ASP-2.62-baQXj4/blib/lib/Apache/ASP.pm line 2018.
Use of uninitialized value $rv in lc at /home/sts/cpansmoke/perl-5.14.1/cpan/build/Apache-ASP-2.62-baQXj4/blib/lib/Apache/ASP.pm line 2018.
Use of uninitialized value $rv in lc at /home/sts/cpansmoke/perl-5.14.1/cpan/build/Apache-ASP-2.62-baQXj4/blib/lib/Apache/ASP.pm line 2018.
Use of uninitialized value $rv in lc at /home/sts/cpansmoke/perl-5.14.1/cpan/build/Apache-ASP-2.62-baQXj4/blib/lib/Apache/ASP.pm line 2018.
Use of uninitialized value $rv in lc at /home/sts/cpansmoke/perl-5.14.1/cpan/build/Apache-ASP-2.62-baQXj4/blib/lib/Apache/ASP.pm line 2018.
t/general.t .............. ok
Use of uninitialized value $rv in lc at /home/sts/cpansmoke/perl-5.14.1/cpan/build/Apache-ASP-2.62-baQXj4/blib/lib/Apache/ASP.pm line 2018.
Use of uninitialized value $rv in lc at /home/sts/cpansmoke/perl-5.14.1/cpan/build/Apache-ASP-2.62-baQXj4/blib/lib/Apache/ASP.pm line 2018.
Use of uninitialized value $rv in lc at /home/sts/cpansmoke/perl-5.14.1/cpan/build/Apache-ASP-2.62-baQXj4/blib/lib/Apache/ASP.pm line 2018.
Use of uninitialized value $rv in lc at /home/sts/cpansmoke/perl-5.14.1/cpan/build/Apache-ASP-2.62-baQXj4/blib/lib/Apache/ASP.pm line 2018.
Use of uninitialized value $rv in lc at /home/sts/cpansmoke/perl-5.14.1/cpan/build/Apache-ASP-2.62-baQXj4/blib/lib/Apache/ASP.pm line 2018.
Use of uninitialized value $rv in lc at /home/sts/cpansmoke/perl-5.14.1/cpan/build/Apache-ASP-2.62-baQXj4/blib/lib/Apache/ASP.pm line 2018.
Use of uninitialized value $rv in lc at /home/sts/cpansmoke/perl-5.14.1/cpan/build/Apache-ASP-2.62-baQXj4/blib/lib/Apache/ASP.pm line 2018.
Use of uninitialized value $rv in lc at /home/sts/cpansmoke/perl-5.14.1/cpan/build/Apache-ASP-2.62-baQXj4/blib/lib/Apache/ASP.pm line 2018.
Use of uninitialized value $rv in lc at /home/sts/cpansmoke/perl-5.14.1/cpan/build/Apache-ASP-2.62-baQXj4/blib/lib/Apache/ASP.pm line 2018.
Use of uninitialized value $rv in lc at /home/sts/cpansmoke/perl-5.14.1/cpan/build/Apache-ASP-2.62-baQXj4/blib/lib/Apache/ASP.pm line 2018.
t/global_event_end.t ..... ok
Use of uninitialized value $rv in lc at /home/sts/cpansmoke/perl-5.14.1/cpan/build/Apache-ASP-2.62-baQXj4/blib/lib/Apache/ASP.pm line 2018.
Use of uninitialized value $rv in lc at /home/sts/cpansmoke/perl-5.14.1/cpan/build/Apache-ASP-2.62-baQXj4/blib/lib/Apache/ASP.pm line 2018.
Use of uninitialized value $rv in lc at /home/sts/cpansmoke/perl-5.14.1/cpan/build/Apache-ASP-2.62-baQXj4/blib/lib/Apache/ASP.pm line 2018.
Use of uninitialized value $rv in lc at /home/sts/cpansmoke/perl-5.14.1/cpan/build/Apache-ASP-2.62-baQXj4/blib/lib/Apache/ASP.pm line 2018.
Use of uninitialized value $rv in lc at /home/sts/cpansmoke/perl-5.14.1/cpan/build/Apache-ASP-2.62-baQXj4/blib/lib/Apache/ASP.pm line 2018.
Use of uninitialized value $rv in lc at /home/sts/cpansmoke/perl-5.14.1/cpan/build/Apache-ASP-2.62-baQXj4/blib/lib/Apache/ASP.pm line 2018.
Use of uninitialized value $rv in lc at /home/sts/cpansmoke/perl-5.14.1/cpan/build/Apache-ASP-2.62-baQXj4/blib/lib/Apache/ASP.pm line 2018.
Use of uninitialized value $rv in lc at /home/sts/cpansmoke/perl-5.14.1/cpan/build/Apache-ASP-2.62-baQXj4/blib/lib/Apache/ASP.pm line 2018.
Use of uninitialized value $rv in lc at /home/sts/cpansmoke/perl-5.14.1/cpan/build/Apache-ASP-2.62-baQXj4/blib/lib/Apache/ASP.pm line 2018.
Use of uninitialized value $rv in lc at /home/sts/cpansmoke/perl-5.14.1/cpan/build/Apache-ASP-2.62-baQXj4/blib/lib/Apache/ASP.pm line 2018.
t/include.t .............. ok
Use of uninitialized value $rv in lc at /home/sts/cpansmoke/perl-5.14.1/cpan/build/Apache-ASP-2.62-baQXj4/blib/lib/Apache/ASP.pm line 2018.
 at /home/sts/cpansmoke/perl-5.14.1/cpan/build/Apache-ASP-2.62-baQXj4/blib/lib/Apache/ASP.pm line 2018
	Apache::ASP::get_dir_config('Apache::ASP::CGI::Table=HASH(0x3c137bb4)', 'Global') called at /home/sts/cpansmoke/perl-5.14.1/cpan/build/Apache-ASP-2.62-baQXj4/blib/lib/Apache/ASP.pm line 276
	Apache::ASP::new('Apache::ASP', 'Apache::ASP::CGI=HASH(0x3c03b494)', 't/include_change.t') called at /home/sts/cpansmoke/perl-5.14.1/cpan/build/Apache-ASP-2.62-baQXj4/blib/lib/Apache/ASP.pm line 184
	Apache::ASP::handler('Apache::ASP::CGI=HASH(0x3c03b494)') called at /home/sts/cpansmoke/perl-5.14.1/cpan/build/Apache-ASP-2.62-baQXj4/blib/lib/Apache/ASP/CGI.pm line 40
	Apache::ASP::CGI::do_self('NoState', 1, 'Debug', 0, 'UseStrict', 0) called at t/include_change.t line 5
Use of uninitialized value $rv in lc at /home/sts/cpansmoke/perl-5.14.1/cpan/build/Apache-ASP-2.62-baQXj4/blib/lib/Apache/ASP.pm line 2018.
 at /home/sts/cpansmoke/perl-5.14.1/cpan/build/Apache-ASP-2.62-baQXj4/blib/lib/Apache/ASP.pm line 2018
	Apache::ASP::get_dir_config('Apache::ASP::CGI::Table=HASH(0x3c137bb4)', 'GlobalPackage') called at /home/sts/cpansmoke/perl-5.14.1/cpan/build/Apache-ASP-2.62-baQXj4/blib/lib/Apache/ASP.pm line 280
	Apache::ASP::new('Apache::ASP', 'Apache::ASP::CGI=HASH(0x3c03b494)', 't/include_change.t') called at /home/sts/cpansmoke/perl-5.14.1/cpan/build/Apache-ASP-2.62-baQXj4/blib/lib/Apache/ASP.pm line 184
	Apache::ASP::handler('Apache::ASP::CGI=HASH(0x3c03b494)') called at /home/sts/cpansmoke/perl-5.14.1/cpan/build/Apache-ASP-2.62-baQXj4/blib/lib/Apache/ASP/CGI.pm line 40
	Apache::ASP::CGI::do_self('NoState', 1, 'Debug', 0, 'UseStrict', 0) called at t/include_change.t line 5
Use of uninitialized value $rv in lc at /home/sts/cpansmoke/perl-5.14.1/cpan/build/Apache-ASP-2.62-baQXj4/blib/lib/Apache/ASP.pm line 2018.
 at /home/sts/cpansmoke/perl-5.14.1/cpan/build/Apache-ASP-2.62-baQXj4/blib/lib/Apache/ASP.pm line 2018
	Apache::ASP::get_dir_config('Apache::ASP::CGI::Table=HASH(0x3c137bb4)', 'InodeNames') called at /home/sts/cpansmoke/perl-5.14.1/cpan/build/Apache-ASP-2.62-baQXj4/blib/lib/Apache/ASP.pm line 280
	Apache::ASP::new('Apache::ASP', 'Apache::ASP::CGI=HASH(0x3c03b494)', 't/include_change.t') called at /home/sts/cpansmoke/perl-5.14.1/cpan/build/Apache-ASP-2.62-baQXj4/blib/lib/Apache/ASP.pm line 184
	Apache::ASP::handler('Apache::ASP::CGI=HASH(0x3c03b494)') called at /home/sts/cpansmoke/perl-5.14.1/cpan/build/Apache-ASP-2.62-baQXj4/blib/lib/Apache/ASP/CGI.pm line 40
	Apache::ASP::CGI::do_self('NoState', 1, 'Debug', 0, 'UseStrict', 0) called at t/include_change.t line 5
Use of uninitialized value $rv in lc at /home/sts/cpansmoke/perl-5.14.1/cpan/build/Apache-ASP-2.62-baQXj4/blib/lib/Apache/ASP.pm line 2018.
 at /home/sts/cpansmoke/perl-5.14.1/cpan/build/Apache-ASP-2.62-baQXj4/blib/lib/Apache/ASP.pm line 2018
	Apache::ASP::get_dir_config('Apache::ASP::CGI::Table=HASH(0x3c137bb4)', 'NoCache') called at /home/sts/cpansmoke/perl-5.14.1/cpan/build/Apache-ASP-2.62-baQXj4/blib/lib/Apache/ASP.pm line 280
	Apache::ASP::new('Apache::ASP', 'Apache::ASP::CGI=HASH(0x3c03b494)', 't/include_change.t') called at /home/sts/cpansmoke/perl-5.14.1/cpan/build/Apache-ASP-2.62-baQXj4/blib/lib/Apache/ASP.pm line 184
	Apache::ASP::handler('Apache::ASP::CGI=HASH(0x3c03b494)') called at /home/sts/cpansmoke/perl-5.14.1/cpan/build/Apache-ASP-2.62-baQXj4/blib/lib/Apache/ASP/CGI.pm line 40
	Apache::ASP::CGI::do_self('NoState', 1, 'Debug', 0, 'UseStrict', 0) called at t/include_change.t line 5
Use of uninitialized value $rv in lc at /home/sts/cpansmoke/perl-5.14.1/cpan/build/Apache-ASP-2.62-baQXj4/blib/lib/Apache/ASP.pm line 2018.
 at /home/sts/cpansmoke/perl-5.14.1/cpan/build/Apache-ASP-2.62-baQXj4/blib/lib/Apache/ASP.pm line 2018
	Apache::ASP::get_dir_config('Apache::ASP::CGI::Table=HASH(0x3c137bb4)', 'StatINC') called at /home/sts/cpansmoke/perl-5.14.1/cpan/build/Apache-ASP-2.62-baQXj4/blib/lib/Apache/ASP.pm line 280
	Apache::ASP::new('Apache::ASP', 'Apache::ASP::CGI=HASH(0x3c03b494)', 't/include_change.t') called at /home/sts/cpansmoke/perl-5.14.1/cpan/build/Apache-ASP-2.62-baQXj4/blib/lib/Apache/ASP.pm line 184
	Apache::ASP::handler('Apache::ASP::CGI=HASH(0x3c03b494)') called at /home/sts/cpansmoke/perl-5.14.1/cpan/build/Apache-ASP-2.62-baQXj4/blib/lib/Apache/ASP/CGI.pm line 40
	Apache::ASP::CGI::do_self('NoState', 1, 'Debug', 0, 'UseStrict', 0) called at t/include_change.t line 5
Use of uninitialized value $rv in lc at /home/sts/cpansmoke/perl-5.14.1/cpan/build/Apache-ASP-2.62-baQXj4/blib/lib/Apache/ASP.pm line 2018.
 at /home/sts/cpansmoke/perl-5.14.1/cpan/build/Apache-ASP-2.62-baQXj4/blib/lib/Apache/ASP.pm line 2018
	Apache::ASP::get_dir_config('Apache::ASP::CGI::Table=HASH(0x3c137bb4)', 'StatINCMatch') called at /home/sts/cpansmoke/perl-5.14.1/cpan/build/Apache-ASP-2.62-baQXj4/blib/lib/Apache/ASP.pm line 280
	Apache::ASP::new('Apache::ASP', 'Apache::ASP::CGI=HASH(0x3c03b494)', 't/include_change.t') called at /home/sts/cpansmoke/perl-5.14.1/cpan/build/Apache-ASP-2.62-baQXj4/blib/lib/Apache/ASP.pm line 184
	Apache::ASP::handler('Apache::ASP::CGI=HASH(0x3c03b494)') called at /home/sts/cpansmoke/perl-5.14.1/cpan/build/Apache-ASP-2.62-baQXj4/blib/lib/Apache/ASP/CGI.pm line 40
	Apache::ASP::CGI::do_self('NoState', 1, 'Debug', 0, 'UseStrict', 0) called at t/include_change.t line 5
Use of uninitialized value $rv in lc at /home/sts/cpansmoke/perl-5.14.1/cpan/build/Apache-ASP-2.62-baQXj4/blib/lib/Apache/ASP.pm line 2018.
 at /home/sts/cpansmoke/perl-5.14.1/cpan/build/Apache-ASP-2.62-baQXj4/blib/lib/Apache/ASP.pm line 2018
	Apache::ASP::get_dir_config('Apache::ASP::CGI::Table=HASH(0x3c137bb4)', 'XSLT') called at /home/sts/cpansmoke/perl-5.14.1/cpan/build/Apache-ASP-2.62-baQXj4/blib/lib/Apache/ASP.pm line 280
	Apache::ASP::new('Apache::ASP', 'Apache::ASP::CGI=HASH(0x3c03b494)', 't/include_change.t') called at /home/sts/cpansmoke/perl-5.14.1/cpan/build/Apache-ASP-2.62-baQXj4/blib/lib/Apache/ASP.pm line 184
	Apache::ASP::handler('Apache::ASP::CGI=HASH(0x3c03b494)') called at /home/sts/cpansmoke/perl-5.14.1/cpan/build/Apache-ASP-2.62-baQXj4/blib/lib/Apache/ASP/CGI.pm line 40
	Apache::ASP::CGI::do_self('NoState', 1, 'Debug', 0, 'UseStrict', 0) called at t/include_change.t line 5
Use of uninitialized value $rv in lc at /home/sts/cpansmoke/perl-5.14.1/cpan/build/Apache-ASP-2.62-baQXj4/blib/lib/Apache/ASP.pm line 2018.
 at /home/sts/cpansmoke/perl-5.14.1/cpan/build/Apache-ASP-2.62-baQXj4/blib/lib/Apache/ASP.pm line 2018
	Apache::ASP::get_dir_config('Apache::ASP::CGI::Table=HASH(0x3c137bb4)', 'Filter') called at /home/sts/cpansmoke/perl-5.14.1/cpan/build/Apache-ASP-2.62-baQXj4/blib/lib/Apache/ASP.pm line 326
	Apache::ASP::new('Apache::ASP', 'Apache::ASP::CGI=HASH(0x3c03b494)', 't/include_change.t') called at /home/sts/cpansmoke/perl-5.14.1/cpan/build/Apache-ASP-2.62-baQXj4/blib/lib/Apache/ASP.pm line 184
	Apache::ASP::handler('Apache::ASP::CGI=HASH(0x3c03b494)') called at /home/sts/cpansmoke/perl-5.14.1/cpan/build/Apache-ASP-2.62-baQXj4/blib/lib/Apache/ASP/CGI.pm line 40
	Apache::ASP::CGI::do_self('NoState', 1, 'Debug', 0, 'UseStrict', 0) called at t/include_change.t line 5
Use of uninitialized value $rv in lc at /home/sts/cpansmoke/perl-5.14.1/cpan/build/Apache-ASP-2.62-baQXj4/blib/lib/Apache/ASP.pm line 2018.
 at /home/sts/cpansmoke/perl-5.14.1/cpan/build/Apache-ASP-2.62-baQXj4/blib/lib/Apache/ASP.pm line 2018
	Apache::ASP::get_dir_config('Apache::ASP::CGI::Table=HASH(0x3c137bb4)', 'CompressGzip') called at /home/sts/cpansmoke/perl-5.14.1/cpan/build/Apache-ASP-2.62-baQXj4/blib/lib/Apache/ASP.pm line 353
	Apache::ASP::new('Apache::ASP', 'Apache::ASP::CGI=HASH(0x3c03b494)', 't/include_change.t') called at /home/sts/cpansmoke/perl-5.14.1/cpan/build/Apache-ASP-2.62-baQXj4/blib/lib/Apache/ASP.pm line 184
	Apache::ASP::handler('Apache::ASP::CGI=HASH(0x3c03b494)') called at /home/sts/cpansmoke/perl-5.14.1/cpan/build/Apache-ASP-2.62-baQXj4/blib/lib/Apache/ASP/CGI.pm line 40
	Apache::ASP::CGI::do_self('NoState', 1, 'Debug', 0, 'UseStrict', 0) called at t/include_change.t line 5
t/include_change.t ....... ok
Use of uninitialized value $rv in lc at /home/sts/cpansmoke/perl-5.14.1/cpan/build/Apache-ASP-2.62-baQXj4/blib/lib/Apache/ASP.pm line 2018.
Use of uninitialized value $rv in lc at /home/sts/cpansmoke/perl-5.14.1/cpan/build/Apache-ASP-2.62-baQXj4/blib/lib/Apache/ASP.pm line 2018.
Use of uninitialized value $rv in lc at /home/sts/cpansmoke/perl-5.14.1/cpan/build/Apache-ASP-2.62-baQXj4/blib/lib/Apache/ASP.pm line 2018.
Use of uninitialized value $rv in lc at /home/sts/cpansmoke/perl-5.14.1/cpan/build/Apache-ASP-2.62-baQXj4/blib/lib/Apache/ASP.pm line 2018.
Use of uninitialized value $rv in lc at /home/sts/cpansmoke/perl-5.14.1/cpan/build/Apache-ASP-2.62-baQXj4/blib/lib/Apache/ASP.pm line 2018.
Use of uninitialized value $rv in lc at /home/sts/cpansmoke/perl-5.14.1/cpan/build/Apache-ASP-2.62-baQXj4/blib/lib/Apache/ASP.pm line 2018.
Use of uninitialized value $rv in lc at /home/sts/cpansmoke/perl-5.14.1/cpan/build/Apache-ASP-2.62-baQXj4/blib/lib/Apache/ASP.pm line 2018.
Use of uninitialized value $rv in lc at /home/sts/cpansmoke/perl-5.14.1/cpan/build/Apache-ASP-2.62-baQXj4/blib/lib/Apache/ASP.pm line 2018.
Use of uninitialized value $rv in lc at /home/sts/cpansmoke/perl-5.14.1/cpan/build/Apache-ASP-2.62-baQXj4/blib/lib/Apache/ASP.pm line 2018.
Use of uninitialized value $rv in lc at /home/sts/cpansmoke/perl-5.14.1/cpan/build/Apache-ASP-2.62-baQXj4/blib/lib/Apache/ASP.pm line 2018.
Use of uninitialized value $rv in lc at /home/sts/cpansmoke/perl-5.14.1/cpan/build/Apache-ASP-2.62-baQXj4/blib/lib/Apache/ASP.pm line 2018.
t/include_dir_error.t .... ok
Use of uninitialized value $rv in lc at /home/sts/cpansmoke/perl-5.14.1/cpan/build/Apache-ASP-2.62-baQXj4/blib/lib/Apache/ASP.pm line 2018.
Use of uninitialized value $rv in lc at /home/sts/cpansmoke/perl-5.14.1/cpan/build/Apache-ASP-2.62-baQXj4/blib/lib/Apache/ASP.pm line 2018.
Use of uninitialized value $rv in lc at /home/sts/cpansmoke/perl-5.14.1/cpan/build/Apache-ASP-2.62-baQXj4/blib/lib/Apache/ASP.pm line 2018.
Use of uninitialized value $rv in lc at /home/sts/cpansmoke/perl-5.14.1/cpan/build/Apache-ASP-2.62-baQXj4/blib/lib/Apache/ASP.pm line 2018.
Use of uninitialized value $rv in lc at /home/sts/cpansmoke/perl-5.14.1/cpan/build/Apache-ASP-2.62-baQXj4/blib/lib/Apache/ASP.pm line 2018.
Use of uninitialized value $rv in lc at /home/sts/cpansmoke/perl-5.14.1/cpan/build/Apache-ASP-2.62-baQXj4/blib/lib/Apache/ASP.pm line 2018.
Use of uninitialized value $rv in lc at /home/sts/cpansmoke/perl-5.14.1/cpan/build/Apache-ASP-2.62-baQXj4/blib/lib/Apache/ASP.pm line 2018.
Use of uninitialized value $rv in lc at /home/sts/cpansmoke/perl-5.14.1/cpan/build/Apache-ASP-2.62-baQXj4/blib/lib/Apache/ASP.pm line 2018.
Use of uninitialized value $rv in lc at /home/sts/cpansmoke/perl-5.14.1/cpan/build/Apache-ASP-2.62-baQXj4/blib/lib/Apache/ASP.pm line 2018.
Use of uninitialized value $rv in lc at /home/sts/cpansmoke/perl-5.14.1/cpan/build/Apache-ASP-2.62-baQXj4/blib/lib/Apache/ASP.pm line 2018.
Use of uninitialized value $rv in lc at /home/sts/cpansmoke/perl-5.14.1/cpan/build/Apache-ASP-2.62-baQXj4/blib/lib/Apache/ASP.pm line 2018.
t/include_runtime.t ...... ok
Use of uninitialized value $rv in lc at /home/sts/cpansmoke/perl-5.14.1/cpan/build/Apache-ASP-2.62-baQXj4/blib/lib/Apache/ASP.pm line 2018.
Use of uninitialized value $rv in lc at /home/sts/cpansmoke/perl-5.14.1/cpan/build/Apache-ASP-2.62-baQXj4/blib/lib/Apache/ASP.pm line 2018.
Use of uninitialized value $rv in lc at /home/sts/cpansmoke/perl-5.14.1/cpan/build/Apache-ASP-2.62-baQXj4/blib/lib/Apache/ASP.pm line 2018.
Use of uninitialized value $rv in lc at /home/sts/cpansmoke/perl-5.14.1/cpan/build/Apache-ASP-2.62-baQXj4/blib/lib/Apache/ASP.pm line 2018.
Use of uninitialized value $rv in lc at /home/sts/cpansmoke/perl-5.14.1/cpan/build/Apache-ASP-2.62-baQXj4/blib/lib/Apache/ASP.pm line 2018.
Use of uninitialized value $rv in lc at /home/sts/cpansmoke/perl-5.14.1/cpan/build/Apache-ASP-2.62-baQXj4/blib/lib/Apache/ASP.pm line 2018.
Use of uninitialized value $rv in lc at /home/sts/cpansmoke/perl-5.14.1/cpan/build/Apache-ASP-2.62-baQXj4/blib/lib/Apache/ASP.pm line 2018.
Use of uninitialized value $rv in lc at /home/sts/cpansmoke/perl-5.14.1/cpan/build/Apache-ASP-2.62-baQXj4/blib/lib/Apache/ASP.pm line 2018.
Use of uninitialized value $rv in lc at /home/sts/cpansmoke/perl-5.14.1/cpan/build/Apache-ASP-2.62-baQXj4/blib/lib/Apache/ASP.pm line 2018.
t/inode_names.t .......... ok
[ASP WARN] Use of uninitialized value $rv in lc at /home/sts/cpansmoke/perl-5.14.1/cpan/build/Apache-ASP-2.62-baQXj4/blib/lib/Apache/ASP.pm line 2018.
[ASP WARN] Use of uninitialized value $rv in lc at /home/sts/cpansmoke/perl-5.14.1/cpan/build/Apache-ASP-2.62-baQXj4/blib/lib/Apache/ASP.pm line 2018.
[ASP WARN] Use of uninitialized value $rv in lc at /home/sts/cpansmoke/perl-5.14.1/cpan/build/Apache-ASP-2.62-baQXj4/blib/lib/Apache/ASP.pm line 2018.
[ASP WARN] Use of uninitialized value $rv in lc at /home/sts/cpansmoke/perl-5.14.1/cpan/build/Apache-ASP-2.62-baQXj4/blib/lib/Apache/ASP.pm line 2018.
[ASP WARN] Use of uninitialized value $rv in lc at /home/sts/cpansmoke/perl-5.14.1/cpan/build/Apache-ASP-2.62-baQXj4/blib/lib/Apache/ASP.pm line 2018.
[ASP WARN] Use of uninitialized value $rv in lc at /home/sts/cpansmoke/perl-5.14.1/cpan/build/Apache-ASP-2.62-baQXj4/blib/lib/Apache/ASP.pm line 2018.
[ASP WARN] Use of uninitialized value $rv in lc at /home/sts/cpansmoke/perl-5.14.1/cpan/build/Apache-ASP-2.62-baQXj4/blib/lib/Apache/ASP.pm line 2018.
[ASP WARN] Use of uninitialized value $rv in lc at /home/sts/cpansmoke/perl-5.14.1/cpan/build/Apache-ASP-2.62-baQXj4/blib/lib/Apache/ASP.pm line 2018.
[ASP WARN] Use of uninitialized value $rv in lc at /home/sts/cpansmoke/perl-5.14.1/cpan/build/Apache-ASP-2.62-baQXj4/blib/lib/Apache/ASP.pm line 2018.
[ASP WARN] Use of uninitialized value $rv in lc at /home/sts/cpansmoke/perl-5.14.1/cpan/build/Apache-ASP-2.62-baQXj4/blib/lib/Apache/ASP.pm line 2018.
Use of uninitialized value $rv in lc at /home/sts/cpansmoke/perl-5.14.1/cpan/build/Apache-ASP-2.62-baQXj4/blib/lib/Apache/ASP.pm line 2018.
Use of uninitialized value $rv in lc at /home/sts/cpansmoke/perl-5.14.1/cpan/build/Apache-ASP-2.62-baQXj4/blib/lib/Apache/ASP.pm line 2018.
Use of uninitialized value $rv in lc at /home/sts/cpansmoke/perl-5.14.1/cpan/build/Apache-ASP-2.62-baQXj4/blib/lib/Apache/ASP.pm line 2018.
Use of uninitialized value $rv in lc at /home/sts/cpansmoke/perl-5.14.1/cpan/build/Apache-ASP-2.62-baQXj4/blib/lib/Apache/ASP.pm line 2018.
Use of uninitialized value $rv in lc at /home/sts/cpansmoke/perl-5.14.1/cpan/build/Apache-ASP-2.62-baQXj4/blib/lib/Apache/ASP.pm line 2018.
Use of uninitialized value $rv in lc at /home/sts/cpansmoke/perl-5.14.1/cpan/build/Apache-ASP-2.62-baQXj4/blib/lib/Apache/ASP.pm line 2018.
Use of uninitialized value $rv in lc at /home/sts/cpansmoke/perl-5.14.1/cpan/build/Apache-ASP-2.62-baQXj4/blib/lib/Apache/ASP.pm line 2018.
Use of uninitialized value $rv in lc at /home/sts/cpansmoke/perl-5.14.1/cpan/build/Apache-ASP-2.62-baQXj4/blib/lib/Apache/ASP.pm line 2018.
Use of uninitialized value $rv in lc at /home/sts/cpansmoke/perl-5.14.1/cpan/build/Apache-ASP-2.62-baQXj4/blib/lib/Apache/ASP.pm line 2018.
t/load.t ................. ok
Use of uninitialized value $rv in lc at /home/sts/cpansmoke/perl-5.14.1/cpan/build/Apache-ASP-2.62-baQXj4/blib/lib/Apache/ASP.pm line 2018.
Use of uninitialized value $rv in lc at /home/sts/cpansmoke/perl-5.14.1/cpan/build/Apache-ASP-2.62-baQXj4/blib/lib/Apache/ASP.pm line 2018.
Use of uninitialized value $rv in lc at /home/sts/cpansmoke/perl-5.14.1/cpan/build/Apache-ASP-2.62-baQXj4/blib/lib/Apache/ASP.pm line 2018.
Use of uninitialized value $rv in lc at /home/sts/cpansmoke/perl-5.14.1/cpan/build/Apache-ASP-2.62-baQXj4/blib/lib/Apache/ASP.pm line 2018.
Use of uninitialized value $rv in lc at /home/sts/cpansmoke/perl-5.14.1/cpan/build/Apache-ASP-2.62-baQXj4/blib/lib/Apache/ASP.pm line 2018.
Use of uninitialized value $rv in lc at /home/sts/cpansmoke/perl-5.14.1/cpan/build/Apache-ASP-2.62-baQXj4/blib/lib/Apache/ASP.pm line 2018.
Use of uninitialized value $rv in lc at /home/sts/cpansmoke/perl-5.14.1/cpan/build/Apache-ASP-2.62-baQXj4/blib/lib/Apache/ASP.pm line 2018.
Use of uninitialized value $rv in lc at /home/sts/cpansmoke/perl-5.14.1/cpan/build/Apache-ASP-2.62-baQXj4/blib/lib/Apache/ASP.pm line 2018.
Use of uninitialized value $rv in lc at /home/sts/cpansmoke/perl-5.14.1/cpan/build/Apache-ASP-2.62-baQXj4/blib/lib/Apache/ASP.pm line 2018.
t/long_names.t ........... ok
Use of uninitialized value $rv in lc at /home/sts/cpansmoke/perl-5.14.1/cpan/build/Apache-ASP-2.62-baQXj4/blib/lib/Apache/ASP.pm line 2018.
Use of uninitialized value $rv in lc at /home/sts/cpansmoke/perl-5.14.1/cpan/build/Apache-ASP-2.62-baQXj4/blib/lib/Apache/ASP.pm line 2018.
Use of uninitialized value $rv in lc at /home/sts/cpansmoke/perl-5.14.1/cpan/build/Apache-ASP-2.62-baQXj4/blib/lib/Apache/ASP.pm line 2018.
Use of uninitialized value $rv in lc at /home/sts/cpansmoke/perl-5.14.1/cpan/build/Apache-ASP-2.62-baQXj4/blib/lib/Apache/ASP.pm line 2018.
Use of uninitialized value $rv in lc at /home/sts/cpansmoke/perl-5.14.1/cpan/build/Apache-ASP-2.62-baQXj4/blib/lib/Apache/ASP.pm line 2018.
Use of uninitialized value $rv in lc at /home/sts/cpansmoke/perl-5.14.1/cpan/build/Apache-ASP-2.62-baQXj4/blib/lib/Apache/ASP.pm line 2018.
Use of uninitialized value $rv in lc at /home/sts/cpansmoke/perl-5.14.1/cpan/build/Apache-ASP-2.62-baQXj4/blib/lib/Apache/ASP.pm line 2018.
Use of uninitialized value $rv in lc at /home/sts/cpansmoke/perl-5.14.1/cpan/build/Apache-ASP-2.62-baQXj4/blib/lib/Apache/ASP.pm line 2018.
Use of uninitialized value $rv in lc at /home/sts/cpansmoke/perl-5.14.1/cpan/build/Apache-ASP-2.62-baQXj4/blib/lib/Apache/ASP.pm line 2018.
Use of uninitialized value $rv in lc at /home/sts/cpansmoke/perl-5.14.1/cpan/build/Apache-ASP-2.62-baQXj4/blib/lib/Apache/ASP.pm line 2018.
Use of uninitialized value $rv in lc at /home/sts/cpansmoke/perl-5.14.1/cpan/build/Apache-ASP-2.62-baQXj4/blib/lib/Apache/ASP.pm line 2018.
t/loops.t ................ ok
Use of uninitialized value $rv in lc at /home/sts/cpansmoke/perl-5.14.1/cpan/build/Apache-ASP-2.62-baQXj4/blib/lib/Apache/ASP.pm line 2018.
Use of uninitialized value $rv in lc at /home/sts/cpansmoke/perl-5.14.1/cpan/build/Apache-ASP-2.62-baQXj4/blib/lib/Apache/ASP.pm line 2018.
Use of uninitialized value $rv in lc at /home/sts/cpansmoke/perl-5.14.1/cpan/build/Apache-ASP-2.62-baQXj4/blib/lib/Apache/ASP.pm line 2018.
Use of uninitialized value $rv in lc at /home/sts/cpansmoke/perl-5.14.1/cpan/build/Apache-ASP-2.62-baQXj4/blib/lib/Apache/ASP.pm line 2018.
Use of uninitialized value $rv in lc at /home/sts/cpansmoke/perl-5.14.1/cpan/build/Apache-ASP-2.62-baQXj4/blib/lib/Apache/ASP.pm line 2018.
Use of uninitialized value $rv in lc at /home/sts/cpansmoke/perl-5.14.1/cpan/build/Apache-ASP-2.62-baQXj4/blib/lib/Apache/ASP.pm line 2018.
Use of uninitialized value $rv in lc at /home/sts/cpansmoke/perl-5.14.1/cpan/build/Apache-ASP-2.62-baQXj4/blib/lib/Apache/ASP.pm line 2018.
Use of uninitialized value $rv in lc at /home/sts/cpansmoke/perl-5.14.1/cpan/build/Apache-ASP-2.62-baQXj4/blib/lib/Apache/ASP.pm line 2018.
Use of uninitialized value $rv in lc at /home/sts/cpansmoke/perl-5.14.1/cpan/build/Apache-ASP-2.62-baQXj4/blib/lib/Apache/ASP.pm line 2018.
Use of uninitialized value $rv in lc at /home/sts/cpansmoke/perl-5.14.1/cpan/build/Apache-ASP-2.62-baQXj4/blib/lib/Apache/ASP.pm line 2018.
t/mail_error.t ........... ok
Use of uninitialized value $rv in lc at /home/sts/cpansmoke/perl-5.14.1/cpan/build/Apache-ASP-2.62-baQXj4/blib/lib/Apache/ASP.pm line 2018.
Use of uninitialized value $rv in lc at /home/sts/cpansmoke/perl-5.14.1/cpan/build/Apache-ASP-2.62-baQXj4/blib/lib/Apache/ASP.pm line 2018.
Use of uninitialized value $rv in lc at /home/sts/cpansmoke/perl-5.14.1/cpan/build/Apache-ASP-2.62-baQXj4/blib/lib/Apache/ASP.pm line 2018.
Use of uninitialized value $rv in lc at /home/sts/cpansmoke/perl-5.14.1/cpan/build/Apache-ASP-2.62-baQXj4/blib/lib/Apache/ASP.pm line 2018.
Use of uninitialized value $rv in lc at /home/sts/cpansmoke/perl-5.14.1/cpan/build/Apache-ASP-2.62-baQXj4/blib/lib/Apache/ASP.pm line 2018.
Use of uninitialized value $rv in lc at /home/sts/cpansmoke/perl-5.14.1/cpan/build/Apache-ASP-2.62-baQXj4/blib/lib/Apache/ASP.pm line 2018.
Use of uninitialized value $rv in lc at /home/sts/cpansmoke/perl-5.14.1/cpan/build/Apache-ASP-2.62-baQXj4/blib/lib/Apache/ASP.pm line 2018.
t/no_cache.t ............. ok
Use of uninitialized value $rv in lc at /home/sts/cpansmoke/perl-5.14.1/cpan/build/Apache-ASP-2.62-baQXj4/blib/lib/Apache/ASP.pm line 2018.
Use of uninitialized value $rv in lc at /home/sts/cpansmoke/perl-5.14.1/cpan/build/Apache-ASP-2.62-baQXj4/blib/lib/Apache/ASP.pm line 2018.
Use of uninitialized value $rv in lc at /home/sts/cpansmoke/perl-5.14.1/cpan/build/Apache-ASP-2.62-baQXj4/blib/lib/Apache/ASP.pm line 2018.
Use of uninitialized value $rv in lc at /home/sts/cpansmoke/perl-5.14.1/cpan/build/Apache-ASP-2.62-baQXj4/blib/lib/Apache/ASP.pm line 2018.
Use of uninitialized value $rv in lc at /home/sts/cpansmoke/perl-5.14.1/cpan/build/Apache-ASP-2.62-baQXj4/blib/lib/Apache/ASP.pm line 2018.
Use of uninitialized value $rv in lc at /home/sts/cpansmoke/perl-5.14.1/cpan/build/Apache-ASP-2.62-baQXj4/blib/lib/Apache/ASP.pm line 2018.
Use of uninitialized value $rv in lc at /home/sts/cpansmoke/perl-5.14.1/cpan/build/Apache-ASP-2.62-baQXj4/blib/lib/Apache/ASP.pm line 2018.
Use of uninitialized value $rv in lc at /home/sts/cpansmoke/perl-5.14.1/cpan/build/Apache-ASP-2.62-baQXj4/blib/lib/Apache/ASP.pm line 2018.
Use of uninitialized value $rv in lc at /home/sts/cpansmoke/perl-5.14.1/cpan/build/Apache-ASP-2.62-baQXj4/blib/lib/Apache/ASP.pm line 2018.
t/raw.t .................. ok
Use of uninitialized value $rv in lc at /home/sts/cpansmoke/perl-5.14.1/cpan/build/Apache-ASP-2.62-baQXj4/blib/lib/Apache/ASP.pm line 2018.
Use of uninitialized value $rv in lc at /home/sts/cpansmoke/perl-5.14.1/cpan/build/Apache-ASP-2.62-baQXj4/blib/lib/Apache/ASP.pm line 2018.
Use of uninitialized value $rv in lc at /home/sts/cpansmoke/perl-5.14.1/cpan/build/Apache-ASP-2.62-baQXj4/blib/lib/Apache/ASP.pm line 2018.
Use of uninitialized value $rv in lc at /home/sts/cpansmoke/perl-5.14.1/cpan/build/Apache-ASP-2.62-baQXj4/blib/lib/Apache/ASP.pm line 2018.
Use of uninitialized value $rv in lc at /home/sts/cpansmoke/perl-5.14.1/cpan/build/Apache-ASP-2.62-baQXj4/blib/lib/Apache/ASP.pm line 2018.
Use of uninitialized value $rv in lc at /home/sts/cpansmoke/perl-5.14.1/cpan/build/Apache-ASP-2.62-baQXj4/blib/lib/Apache/ASP.pm line 2018.
Use of uninitialized value $rv in lc at /home/sts/cpansmoke/perl-5.14.1/cpan/build/Apache-ASP-2.62-baQXj4/blib/lib/Apache/ASP.pm line 2018.
Use of uninitialized value $rv in lc at /home/sts/cpansmoke/perl-5.14.1/cpan/build/Apache-ASP-2.62-baQXj4/blib/lib/Apache/ASP.pm line 2018.
Use of uninitialized value $rv in lc at /home/sts/cpansmoke/perl-5.14.1/cpan/build/Apache-ASP-2.62-baQXj4/blib/lib/Apache/ASP.pm line 2018.
t/raw_include.t .......... ok
Use of uninitialized value $rv in lc at /home/sts/cpansmoke/perl-5.14.1/cpan/build/Apache-ASP-2.62-baQXj4/blib/lib/Apache/ASP.pm line 2018.
Use of uninitialized value $rv in lc at /home/sts/cpansmoke/perl-5.14.1/cpan/build/Apache-ASP-2.62-baQXj4/blib/lib/Apache/ASP.pm line 2018.
Use of uninitialized value $rv in lc at /home/sts/cpansmoke/perl-5.14.1/cpan/build/Apache-ASP-2.62-baQXj4/blib/lib/Apache/ASP.pm line 2018.
Use of uninitialized value $rv in lc at /home/sts/cpansmoke/perl-5.14.1/cpan/build/Apache-ASP-2.62-baQXj4/blib/lib/Apache/ASP.pm line 2018.
Use of uninitialized value $rv in lc at /home/sts/cpansmoke/perl-5.14.1/cpan/build/Apache-ASP-2.62-baQXj4/blib/lib/Apache/ASP.pm line 2018.
Use of uninitialized value $rv in lc at /home/sts/cpansmoke/perl-5.14.1/cpan/build/Apache-ASP-2.62-baQXj4/blib/lib/Apache/ASP.pm line 2018.
Use of uninitialized value $rv in lc at /home/sts/cpansmoke/perl-5.14.1/cpan/build/Apache-ASP-2.62-baQXj4/blib/lib/Apache/ASP.pm line 2018.
Use of uninitialized value $rv in lc at /home/sts/cpansmoke/perl-5.14.1/cpan/build/Apache-ASP-2.62-baQXj4/blib/lib/Apache/ASP.pm line 2018.
Use of uninitialized value $rv in lc at /home/sts/cpansmoke/perl-5.14.1/cpan/build/Apache-ASP-2.62-baQXj4/blib/lib/Apache/ASP.pm line 2018.
Use of uninitialized value $rv in lc at /home/sts/cpansmoke/perl-5.14.1/cpan/build/Apache-ASP-2.62-baQXj4/blib/lib/Apache/ASP.pm line 2018.
Use of uninitialized value $rv in lc at /home/sts/cpansmoke/perl-5.14.1/cpan/build/Apache-ASP-2.62-baQXj4/blib/lib/Apache/ASP.pm line 2018.
Use of uninitialized value $rv in lc at /home/sts/cpansmoke/perl-5.14.1/cpan/build/Apache-ASP-2.62-baQXj4/blib/lib/Apache/ASP.pm line 2018.
Use of uninitialized value $rv in lc at /home/sts/cpansmoke/perl-5.14.1/cpan/build/Apache-ASP-2.62-baQXj4/blib/lib/Apache/ASP.pm line 2018.
Use of uninitialized value $rv in lc at /home/sts/cpansmoke/perl-5.14.1/cpan/build/Apache-ASP-2.62-baQXj4/blib/lib/Apache/ASP.pm line 2018.
Use of uninitialized value $rv in lc at /home/sts/cpansmoke/perl-5.14.1/cpan/build/Apache-ASP-2.62-baQXj4/blib/lib/Apache/ASP.pm line 2018.
Use of uninitialized value $rv in lc at /home/sts/cpansmoke/perl-5.14.1/cpan/build/Apache-ASP-2.62-baQXj4/blib/lib/Apache/ASP.pm line 2018.
Use of uninitialized value $rv in lc at /home/sts/cpansmoke/perl-5.14.1/cpan/build/Apache-ASP-2.62-baQXj4/blib/lib/Apache/ASP.pm line 2018.
Use of uninitialized value $rv in lc at /home/sts/cpansmoke/perl-5.14.1/cpan/build/Apache-ASP-2.62-baQXj4/blib/lib/Apache/ASP.pm line 2018.
Use of uninitialized value $rv in lc at /home/sts/cpansmoke/perl-5.14.1/cpan/build/Apache-ASP-2.62-baQXj4/blib/lib/Apache/ASP.pm line 2018.
Use of uninitialized value $rv in lc at /home/sts/cpansmoke/perl-5.14.1/cpan/build/Apache-ASP-2.62-baQXj4/blib/lib/Apache/ASP.pm line 2018.
t/reload_global_asa.t .... ok
Use of uninitialized value $rv in lc at /home/sts/cpansmoke/perl-5.14.1/cpan/build/Apache-ASP-2.62-baQXj4/blib/lib/Apache/ASP.pm line 2018.
Use of uninitialized value $rv in lc at /home/sts/cpansmoke/perl-5.14.1/cpan/build/Apache-ASP-2.62-baQXj4/blib/lib/Apache/ASP.pm line 2018.
Use of uninitialized value $rv in lc at /home/sts/cpansmoke/perl-5.14.1/cpan/build/Apache-ASP-2.62-baQXj4/blib/lib/Apache/ASP.pm line 2018.
Use of uninitialized value $rv in lc at /home/sts/cpansmoke/perl-5.14.1/cpan/build/Apache-ASP-2.62-baQXj4/blib/lib/Apache/ASP.pm line 2018.
Use of uninitialized value $rv in lc at /home/sts/cpansmoke/perl-5.14.1/cpan/build/Apache-ASP-2.62-baQXj4/blib/lib/Apache/ASP.pm line 2018.
Use of uninitialized value $rv in lc at /home/sts/cpansmoke/perl-5.14.1/cpan/build/Apache-ASP-2.62-baQXj4/blib/lib/Apache/ASP.pm line 2018.
Use of uninitialized value $rv in lc at /home/sts/cpansmoke/perl-5.14.1/cpan/build/Apache-ASP-2.62-baQXj4/blib/lib/Apache/ASP.pm line 2018.
Use of uninitialized value $rv in lc at /home/sts/cpansmoke/perl-5.14.1/cpan/build/Apache-ASP-2.62-baQXj4/blib/lib/Apache/ASP.pm line 2018.
Use of uninitialized value $rv in lc at /home/sts/cpansmoke/perl-5.14.1/cpan/build/Apache-ASP-2.62-baQXj4/blib/lib/Apache/ASP.pm line 2018.
Use of uninitialized value $rv in lc at /home/sts/cpansmoke/perl-5.14.1/cpan/build/Apache-ASP-2.62-baQXj4/blib/lib/Apache/ASP.pm line 2018.
Use of uninitialized value $rv in lc at /home/sts/cpansmoke/perl-5.14.1/cpan/build/Apache-ASP-2.62-baQXj4/blib/lib/Apache/ASP.pm line 2018.
t/req_params_none.t ...... ok
Use of uninitialized value $rv in lc at /home/sts/cpansmoke/perl-5.14.1/cpan/build/Apache-ASP-2.62-baQXj4/blib/lib/Apache/ASP.pm line 2018.
Use of uninitialized value $rv in lc at /home/sts/cpansmoke/perl-5.14.1/cpan/build/Apache-ASP-2.62-baQXj4/blib/lib/Apache/ASP.pm line 2018.
Use of uninitialized value $rv in lc at /home/sts/cpansmoke/perl-5.14.1/cpan/build/Apache-ASP-2.62-baQXj4/blib/lib/Apache/ASP.pm line 2018.
Use of uninitialized value $rv in lc at /home/sts/cpansmoke/perl-5.14.1/cpan/build/Apache-ASP-2.62-baQXj4/blib/lib/Apache/ASP.pm line 2018.
Use of uninitialized value $rv in lc at /home/sts/cpansmoke/perl-5.14.1/cpan/build/Apache-ASP-2.62-baQXj4/blib/lib/Apache/ASP.pm line 2018.
Use of uninitialized value $rv in lc at /home/sts/cpansmoke/perl-5.14.1/cpan/build/Apache-ASP-2.62-baQXj4/blib/lib/Apache/ASP.pm line 2018.
Use of uninitialized value $rv in lc at /home/sts/cpansmoke/perl-5.14.1/cpan/build/Apache-ASP-2.62-baQXj4/blib/lib/Apache/ASP.pm line 2018.
Use of uninitialized value $rv in lc at /home/sts/cpansmoke/perl-5.14.1/cpan/build/Apache-ASP-2.62-baQXj4/blib/lib/Apache/ASP.pm line 2018.
Use of uninitialized value $rv in lc at /home/sts/cpansmoke/perl-5.14.1/cpan/build/Apache-ASP-2.62-baQXj4/blib/lib/Apache/ASP.pm line 2018.
Use of uninitialized value $rv in lc at /home/sts/cpansmoke/perl-5.14.1/cpan/build/Apache-ASP-2.62-baQXj4/blib/lib/Apache/ASP.pm line 2018.
Use of uninitialized value $rv in lc at /home/sts/cpansmoke/perl-5.14.1/cpan/build/Apache-ASP-2.62-baQXj4/blib/lib/Apache/ASP.pm line 2018.
t/request.t .............. ok
Use of uninitialized value $rv in lc at /home/sts/cpansmoke/perl-5.14.1/cpan/build/Apache-ASP-2.62-baQXj4/blib/lib/Apache/ASP.pm line 2018.
Use of uninitialized value $rv in lc at /home/sts/cpansmoke/perl-5.14.1/cpan/build/Apache-ASP-2.62-baQXj4/blib/lib/Apache/ASP.pm line 2018.
Use of uninitialized value $rv in lc at /home/sts/cpansmoke/perl-5.14.1/cpan/build/Apache-ASP-2.62-baQXj4/blib/lib/Apache/ASP.pm line 2018.
Use of uninitialized value $rv in lc at /home/sts/cpansmoke/perl-5.14.1/cpan/build/Apache-ASP-2.62-baQXj4/blib/lib/Apache/ASP.pm line 2018.
Use of uninitialized value $rv in lc at /home/sts/cpansmoke/perl-5.14.1/cpan/build/Apache-ASP-2.62-baQXj4/blib/lib/Apache/ASP.pm line 2018.
Use of uninitialized value $rv in lc at /home/sts/cpansmoke/perl-5.14.1/cpan/build/Apache-ASP-2.62-baQXj4/blib/lib/Apache/ASP.pm line 2018.
Use of uninitialized value $rv in lc at /home/sts/cpansmoke/perl-5.14.1/cpan/build/Apache-ASP-2.62-baQXj4/blib/lib/Apache/ASP.pm line 2018.
Use of uninitialized value $rv in lc at /home/sts/cpansmoke/perl-5.14.1/cpan/build/Apache-ASP-2.62-baQXj4/blib/lib/Apache/ASP.pm line 2018.
Use of uninitialized value $rv in lc at /home/sts/cpansmoke/perl-5.14.1/cpan/build/Apache-ASP-2.62-baQXj4/blib/lib/Apache/ASP.pm line 2018.
Use of uninitialized value $rv in lc at /home/sts/cpansmoke/perl-5.14.1/cpan/build/Apache-ASP-2.62-baQXj4/blib/lib/Apache/ASP.pm line 2018.
Use of uninitialized value $rv in lc at /home/sts/cpansmoke/perl-5.14.1/cpan/build/Apache-ASP-2.62-baQXj4/blib/lib/Apache/ASP.pm line 2018.
t/response.t ............. ok
Use of uninitialized value $rv in lc at /home/sts/cpansmoke/perl-5.14.1/cpan/build/Apache-ASP-2.62-baQXj4/blib/lib/Apache/ASP.pm line 2018.
Use of uninitialized value $rv in lc at /home/sts/cpansmoke/perl-5.14.1/cpan/build/Apache-ASP-2.62-baQXj4/blib/lib/Apache/ASP.pm line 2018.
Use of uninitialized value $rv in lc at /home/sts/cpansmoke/perl-5.14.1/cpan/build/Apache-ASP-2.62-baQXj4/blib/lib/Apache/ASP.pm line 2018.
Use of uninitialized value $rv in lc at /home/sts/cpansmoke/perl-5.14.1/cpan/build/Apache-ASP-2.62-baQXj4/blib/lib/Apache/ASP.pm line 2018.
Use of uninitialized value $rv in lc at /home/sts/cpansmoke/perl-5.14.1/cpan/build/Apache-ASP-2.62-baQXj4/blib/lib/Apache/ASP.pm line 2018.
Use of uninitialized value $rv in lc at /home/sts/cpansmoke/perl-5.14.1/cpan/build/Apache-ASP-2.62-baQXj4/blib/lib/Apache/ASP.pm line 2018.
Use of uninitialized value $rv in lc at /home/sts/cpansmoke/perl-5.14.1/cpan/build/Apache-ASP-2.62-baQXj4/blib/lib/Apache/ASP.pm line 2018.
Use of uninitialized value $rv in lc at /home/sts/cpansmoke/perl-5.14.1/cpan/build/Apache-ASP-2.62-baQXj4/blib/lib/Apache/ASP.pm line 2018.
Use of uninitialized value $rv in lc at /home/sts/cpansmoke/perl-5.14.1/cpan/build/Apache-ASP-2.62-baQXj4/blib/lib/Apache/ASP.pm line 2018.
Use of uninitialized value $rv in lc at /home/sts/cpansmoke/perl-5.14.1/cpan/build/Apache-ASP-2.62-baQXj4/blib/lib/Apache/ASP.pm line 2018.
Use of uninitialized value $rv in lc at /home/sts/cpansmoke/perl-5.14.1/cpan/build/Apache-ASP-2.62-baQXj4/blib/lib/Apache/ASP.pm line 2018.
t/response_end.t ......... ok
Use of uninitialized value $rv in lc at /home/sts/cpansmoke/perl-5.14.1/cpan/build/Apache-ASP-2.62-baQXj4/blib/lib/Apache/ASP.pm line 2018.
Use of uninitialized value $rv in lc at /home/sts/cpansmoke/perl-5.14.1/cpan/build/Apache-ASP-2.62-baQXj4/blib/lib/Apache/ASP.pm line 2018.
Use of uninitialized value $rv in lc at /home/sts/cpansmoke/perl-5.14.1/cpan/build/Apache-ASP-2.62-baQXj4/blib/lib/Apache/ASP.pm line 2018.
Use of uninitialized value $rv in lc at /home/sts/cpansmoke/perl-5.14.1/cpan/build/Apache-ASP-2.62-baQXj4/blib/lib/Apache/ASP.pm line 2018.
Use of uninitialized value $rv in lc at /home/sts/cpansmoke/perl-5.14.1/cpan/build/Apache-ASP-2.62-baQXj4/blib/lib/Apache/ASP.pm line 2018.
Use of uninitialized value $rv in lc at /home/sts/cpansmoke/perl-5.14.1/cpan/build/Apache-ASP-2.62-baQXj4/blib/lib/Apache/ASP.pm line 2018.
Use of uninitialized value $rv in lc at /home/sts/cpansmoke/perl-5.14.1/cpan/build/Apache-ASP-2.62-baQXj4/blib/lib/Apache/ASP.pm line 2018.
Use of uninitialized value $rv in lc at /home/sts/cpansmoke/perl-5.14.1/cpan/build/Apache-ASP-2.62-baQXj4/blib/lib/Apache/ASP.pm line 2018.
Use of uninitialized value $rv in lc at /home/sts/cpansmoke/perl-5.14.1/cpan/build/Apache-ASP-2.62-baQXj4/blib/lib/Apache/ASP.pm line 2018.
Use of uninitialized value $rv in lc at /home/sts/cpansmoke/perl-5.14.1/cpan/build/Apache-ASP-2.62-baQXj4/blib/lib/Apache/ASP.pm line 2018.
Use of uninitialized value $rv in lc at /home/sts/cpansmoke/perl-5.14.1/cpan/build/Apache-ASP-2.62-baQXj4/blib/lib/Apache/ASP.pm line 2018.
Use of uninitialized value $rv in lc at /home/sts/cpansmoke/perl-5.14.1/cpan/build/Apache-ASP-2.62-baQXj4/blib/lib/Apache/ASP.pm line 2018.
Use of uninitialized value $rv in lc at /home/sts/cpansmoke/perl-5.14.1/cpan/build/Apache-ASP-2.62-baQXj4/blib/lib/Apache/ASP.pm line 2018.
Use of uninitialized value $rv in lc at /home/sts/cpansmoke/perl-5.14.1/cpan/build/Apache-ASP-2.62-baQXj4/blib/lib/Apache/ASP.pm line 2018.
Use of uninitialized value $rv in lc at /home/sts/cpansmoke/perl-5.14.1/cpan/build/Apache-ASP-2.62-baQXj4/blib/lib/Apache/ASP.pm line 2018.
Use of uninitialized value $rv in lc at /home/sts/cpansmoke/perl-5.14.1/cpan/build/Apache-ASP-2.62-baQXj4/blib/lib/Apache/ASP.pm line 2018.
Use of uninitialized value $rv in lc at /home/sts/cpansmoke/perl-5.14.1/cpan/build/Apache-ASP-2.62-baQXj4/blib/lib/Apache/ASP.pm line 2018.
Use of uninitialized value $rv in lc at /home/sts/cpansmoke/perl-5.14.1/cpan/build/Apache-ASP-2.62-baQXj4/blib/lib/Apache/ASP.pm line 2018.
Use of uninitialized value $rv in lc at /home/sts/cpansmoke/perl-5.14.1/cpan/build/Apache-ASP-2.62-baQXj4/blib/lib/Apache/ASP.pm line 2018.
Use of uninitialized value $rv in lc at /home/sts/cpansmoke/perl-5.14.1/cpan/build/Apache-ASP-2.62-baQXj4/blib/lib/Apache/ASP.pm line 2018.
t/same_name.t ............ ok
Use of uninitialized value $rv in lc at /home/sts/cpansmoke/perl-5.14.1/cpan/build/Apache-ASP-2.62-baQXj4/blib/lib/Apache/ASP.pm line 2018.
Use of uninitialized value $rv in lc at /home/sts/cpansmoke/perl-5.14.1/cpan/build/Apache-ASP-2.62-baQXj4/blib/lib/Apache/ASP.pm line 2018.
Use of uninitialized value $rv in lc at /home/sts/cpansmoke/perl-5.14.1/cpan/build/Apache-ASP-2.62-baQXj4/blib/lib/Apache/ASP.pm line 2018.
Use of uninitialized value $rv in lc at /home/sts/cpansmoke/perl-5.14.1/cpan/build/Apache-ASP-2.62-baQXj4/blib/lib/Apache/ASP.pm line 2018.
Use of uninitialized value $rv in lc at /home/sts/cpansmoke/perl-5.14.1/cpan/build/Apache-ASP-2.62-baQXj4/blib/lib/Apache/ASP.pm line 2018.
Use of uninitialized value $rv in lc at /home/sts/cpansmoke/perl-5.14.1/cpan/build/Apache-ASP-2.62-baQXj4/blib/lib/Apache/ASP.pm line 2018.
Use of uninitialized value $rv in lc at /home/sts/cpansmoke/perl-5.14.1/cpan/build/Apache-ASP-2.62-baQXj4/blib/lib/Apache/ASP.pm line 2018.
Use of uninitialized value $rv in lc at /home/sts/cpansmoke/perl-5.14.1/cpan/build/Apache-ASP-2.62-baQXj4/blib/lib/Apache/ASP.pm line 2018.
Use of uninitialized value $rv in lc at /home/sts/cpansmoke/perl-5.14.1/cpan/build/Apache-ASP-2.62-baQXj4/blib/lib/Apache/ASP.pm line 2018.
Use of uninitialized value $rv in lc at /home/sts/cpansmoke/perl-5.14.1/cpan/build/Apache-ASP-2.62-baQXj4/blib/lib/Apache/ASP.pm line 2018.
t/server.t ............... ok
Use of uninitialized value $rv in lc at /home/sts/cpansmoke/perl-5.14.1/cpan/build/Apache-ASP-2.62-baQXj4/blib/lib/Apache/ASP.pm line 2018.
Use of uninitialized value $rv in lc at /home/sts/cpansmoke/perl-5.14.1/cpan/build/Apache-ASP-2.62-baQXj4/blib/lib/Apache/ASP.pm line 2018.
Use of uninitialized value $rv in lc at /home/sts/cpansmoke/perl-5.14.1/cpan/build/Apache-ASP-2.62-baQXj4/blib/lib/Apache/ASP.pm line 2018.
Use of uninitialized value $rv in lc at /home/sts/cpansmoke/perl-5.14.1/cpan/build/Apache-ASP-2.62-baQXj4/blib/lib/Apache/ASP.pm line 2018.
Use of uninitialized value $rv in lc at /home/sts/cpansmoke/perl-5.14.1/cpan/build/Apache-ASP-2.62-baQXj4/blib/lib/Apache/ASP.pm line 2018.
Use of uninitialized value $rv in lc at /home/sts/cpansmoke/perl-5.14.1/cpan/build/Apache-ASP-2.62-baQXj4/blib/lib/Apache/ASP.pm line 2018.
Use of uninitialized value $rv in lc at /home/sts/cpansmoke/perl-5.14.1/cpan/build/Apache-ASP-2.62-baQXj4/blib/lib/Apache/ASP.pm line 2018.
Use of uninitialized value $rv in lc at /home/sts/cpansmoke/perl-5.14.1/cpan/build/Apache-ASP-2.62-baQXj4/blib/lib/Apache/ASP.pm line 2018.
Use of uninitialized value $rv in lc at /home/sts/cpansmoke/perl-5.14.1/cpan/build/Apache-ASP-2.62-baQXj4/blib/lib/Apache/ASP.pm line 2018.
Use of uninitialized value $rv in lc at /home/sts/cpansmoke/perl-5.14.1/cpan/build/Apache-ASP-2.62-baQXj4/blib/lib/Apache/ASP.pm line 2018.
t/server_mail.t .......... ok
Use of uninitialized value $rv in lc at /home/sts/cpansmoke/perl-5.14.1/cpan/build/Apache-ASP-2.62-baQXj4/blib/lib/Apache/ASP.pm line 2018.
Use of uninitialized value $rv in lc at /home/sts/cpansmoke/perl-5.14.1/cpan/build/Apache-ASP-2.62-baQXj4/blib/lib/Apache/ASP.pm line 2018.
Use of uninitialized value $rv in lc at /home/sts/cpansmoke/perl-5.14.1/cpan/build/Apache-ASP-2.62-baQXj4/blib/lib/Apache/ASP.pm line 2018.
Use of uninitialized value $rv in lc at /home/sts/cpansmoke/perl-5.14.1/cpan/build/Apache-ASP-2.62-baQXj4/blib/lib/Apache/ASP.pm line 2018.
Use of uninitialized value $rv in lc at /home/sts/cpansmoke/perl-5.14.1/cpan/build/Apache-ASP-2.62-baQXj4/blib/lib/Apache/ASP.pm line 2018.
Use of uninitialized value $rv in lc at /home/sts/cpansmoke/perl-5.14.1/cpan/build/Apache-ASP-2.62-baQXj4/blib/lib/Apache/ASP.pm line 2018.
Use of uninitialized value $rv in lc at /home/sts/cpansmoke/perl-5.14.1/cpan/build/Apache-ASP-2.62-baQXj4/blib/lib/Apache/ASP.pm line 2018.
Use of uninitialized value $rv in lc at /home/sts/cpansmoke/perl-5.14.1/cpan/build/Apache-ASP-2.62-baQXj4/blib/lib/Apache/ASP.pm line 2018.
Use of uninitialized value $rv in lc at /home/sts/cpansmoke/perl-5.14.1/cpan/build/Apache-ASP-2.62-baQXj4/blib/lib/Apache/ASP.pm line 2018.
t/server_transfer.t ...... ok
Use of uninitialized value $rv in lc at /home/sts/cpansmoke/perl-5.14.1/cpan/build/Apache-ASP-2.62-baQXj4/blib/lib/Apache/ASP.pm line 2018.
Use of uninitialized value $rv in lc at /home/sts/cpansmoke/perl-5.14.1/cpan/build/Apache-ASP-2.62-baQXj4/blib/lib/Apache/ASP.pm line 2018.
Use of uninitialized value $rv in lc at /home/sts/cpansmoke/perl-5.14.1/cpan/build/Apache-ASP-2.62-baQXj4/blib/lib/Apache/ASP.pm line 2018.
Use of uninitialized value $rv in lc at /home/sts/cpansmoke/perl-5.14.1/cpan/build/Apache-ASP-2.62-baQXj4/blib/lib/Apache/ASP.pm line 2018.
Use of uninitialized value $rv in lc at /home/sts/cpansmoke/perl-5.14.1/cpan/build/Apache-ASP-2.62-baQXj4/blib/lib/Apache/ASP.pm line 2018.
Use of uninitialized value $rv in lc at /home/sts/cpansmoke/perl-5.14.1/cpan/build/Apache-ASP-2.62-baQXj4/blib/lib/Apache/ASP.pm line 2018.
Use of uninitialized value $rv in lc at /home/sts/cpansmoke/perl-5.14.1/cpan/build/Apache-ASP-2.62-baQXj4/blib/lib/Apache/ASP.pm line 2018.
Use of uninitialized value $rv in lc at /home/sts/cpansmoke/perl-5.14.1/cpan/build/Apache-ASP-2.62-baQXj4/blib/lib/Apache/ASP.pm line 2018.
Use of uninitialized value $rv in lc at /home/sts/cpansmoke/perl-5.14.1/cpan/build/Apache-ASP-2.62-baQXj4/blib/lib/Apache/ASP.pm line 2018.
Use of uninitialized value $rv in lc at /home/sts/cpansmoke/perl-5.14.1/cpan/build/Apache-ASP-2.62-baQXj4/blib/lib/Apache/ASP.pm line 2018.
Use of uninitialized value $rv in lc at /home/sts/cpansmoke/perl-5.14.1/cpan/build/Apache-ASP-2.62-baQXj4/blib/lib/Apache/ASP.pm line 2018.
t/session.t .............. ok
t/session_events.t ....... ok
Use of uninitialized value $rv in lc at /home/sts/cpansmoke/perl-5.14.1/cpan/build/Apache-ASP-2.62-baQXj4/blib/lib/Apache/ASP.pm line 2018.
Use of uninitialized value $rv in lc at /home/sts/cpansmoke/perl-5.14.1/cpan/build/Apache-ASP-2.62-baQXj4/blib/lib/Apache/ASP.pm line 2018.
Use of uninitialized value $rv in lc at /home/sts/cpansmoke/perl-5.14.1/cpan/build/Apache-ASP-2.62-baQXj4/blib/lib/Apache/ASP.pm line 2018.
Use of uninitialized value $rv in lc at /home/sts/cpansmoke/perl-5.14.1/cpan/build/Apache-ASP-2.62-baQXj4/blib/lib/Apache/ASP.pm line 2018.
Use of uninitialized value $rv in lc at /home/sts/cpansmoke/perl-5.14.1/cpan/build/Apache-ASP-2.62-baQXj4/blib/lib/Apache/ASP.pm line 2018.
Use of uninitialized value $rv in lc at /home/sts/cpansmoke/perl-5.14.1/cpan/build/Apache-ASP-2.62-baQXj4/blib/lib/Apache/ASP.pm line 2018.
Use of uninitialized value $rv in lc at /home/sts/cpansmoke/perl-5.14.1/cpan/build/Apache-ASP-2.62-baQXj4/blib/lib/Apache/ASP.pm line 2018.
Use of uninitialized value $rv in lc at /home/sts/cpansmoke/perl-5.14.1/cpan/build/Apache-ASP-2.62-baQXj4/blib/lib/Apache/ASP.pm line 2018.
Use of uninitialized value $rv in lc at /home/sts/cpansmoke/perl-5.14.1/cpan/build/Apache-ASP-2.62-baQXj4/blib/lib/Apache/ASP.pm line 2018.
t/session_query_parse.t .. ok
Use of uninitialized value $rv in lc at /home/sts/cpansmoke/perl-5.14.1/cpan/build/Apache-ASP-2.62-baQXj4/blib/lib/Apache/ASP.pm line 2018.
Use of uninitialized value $rv in lc at /home/sts/cpansmoke/perl-5.14.1/cpan/build/Apache-ASP-2.62-baQXj4/blib/lib/Apache/ASP.pm line 2018.
Use of uninitialized value $rv in lc at /home/sts/cpansmoke/perl-5.14.1/cpan/build/Apache-ASP-2.62-baQXj4/blib/lib/Apache/ASP.pm line 2018.
Use of uninitialized value $rv in lc at /home/sts/cpansmoke/perl-5.14.1/cpan/build/Apache-ASP-2.62-baQXj4/blib/lib/Apache/ASP.pm line 2018.
Use of uninitialized value $rv in lc at /home/sts/cpansmoke/perl-5.14.1/cpan/build/Apache-ASP-2.62-baQXj4/blib/lib/Apache/ASP.pm line 2018.
Use of uninitialized value $rv in lc at /home/sts/cpansmoke/perl-5.14.1/cpan/build/Apache-ASP-2.62-baQXj4/blib/lib/Apache/ASP.pm line 2018.
Use of uninitialized value $rv in lc at /home/sts/cpansmoke/perl-5.14.1/cpan/build/Apache-ASP-2.62-baQXj4/blib/lib/Apache/ASP.pm line 2018.
Use of uninitialized value $rv in lc at /home/sts/cpansmoke/perl-5.14.1/cpan/build/Apache-ASP-2.62-baQXj4/blib/lib/Apache/ASP.pm line 2018.
Use of uninitialized value $rv in lc at /home/sts/cpansmoke/perl-5.14.1/cpan/build/Apache-ASP-2.62-baQXj4/blib/lib/Apache/ASP.pm line 2018.
Use of uninitialized value $rv in lc at /home/sts/cpansmoke/perl-5.14.1/cpan/build/Apache-ASP-2.62-baQXj4/blib/lib/Apache/ASP.pm line 2018.
Use of uninitialized value $rv in lc at /home/sts/cpansmoke/perl-5.14.1/cpan/build/Apache-ASP-2.62-baQXj4/blib/lib/Apache/ASP.pm line 2018.
t/session_serialize.t .... ok
Use of uninitialized value $rv in lc at /home/sts/cpansmoke/perl-5.14.1/cpan/build/Apache-ASP-2.62-baQXj4/blib/lib/Apache/ASP.pm line 2018.
Use of uninitialized value $rv in lc at /home/sts/cpansmoke/perl-5.14.1/cpan/build/Apache-ASP-2.62-baQXj4/blib/lib/Apache/ASP.pm line 2018.
Use of uninitialized value $rv in lc at /home/sts/cpansmoke/perl-5.14.1/cpan/build/Apache-ASP-2.62-baQXj4/blib/lib/Apache/ASP.pm line 2018.
Use of uninitialized value $rv in lc at /home/sts/cpansmoke/perl-5.14.1/cpan/build/Apache-ASP-2.62-baQXj4/blib/lib/Apache/ASP.pm line 2018.
Use of uninitialized value $rv in lc at /home/sts/cpansmoke/perl-5.14.1/cpan/build/Apache-ASP-2.62-baQXj4/blib/lib/Apache/ASP.pm line 2018.
Use of uninitialized value $rv in lc at /home/sts/cpansmoke/perl-5.14.1/cpan/build/Apache-ASP-2.62-baQXj4/blib/lib/Apache/ASP.pm line 2018.
Use of uninitialized value $rv in lc at /home/sts/cpansmoke/perl-5.14.1/cpan/build/Apache-ASP-2.62-baQXj4/blib/lib/Apache/ASP.pm line 2018.
Use of uninitialized value $rv in lc at /home/sts/cpansmoke/perl-5.14.1/cpan/build/Apache-ASP-2.62-baQXj4/blib/lib/Apache/ASP.pm line 2018.
Use of uninitialized value $rv in lc at /home/sts/cpansmoke/perl-5.14.1/cpan/build/Apache-ASP-2.62-baQXj4/blib/lib/Apache/ASP.pm line 2018.
Use of uninitialized value $rv in lc at /home/sts/cpansmoke/perl-5.14.1/cpan/build/Apache-ASP-2.62-baQXj4/blib/lib/Apache/ASP.pm line 2018.
Use of uninitialized value $rv in lc at /home/sts/cpansmoke/perl-5.14.1/cpan/build/Apache-ASP-2.62-baQXj4/blib/lib/Apache/ASP.pm line 2018.
t/share.t ................ ok
Use of uninitialized value $rv in lc at /home/sts/cpansmoke/perl-5.14.1/cpan/build/Apache-ASP-2.62-baQXj4/blib/lib/Apache/ASP.pm line 2018.
Use of uninitialized value $rv in lc at /home/sts/cpansmoke/perl-5.14.1/cpan/build/Apache-ASP-2.62-baQXj4/blib/lib/Apache/ASP.pm line 2018.
Use of uninitialized value $rv in lc at /home/sts/cpansmoke/perl-5.14.1/cpan/build/Apache-ASP-2.62-baQXj4/blib/lib/Apache/ASP.pm line 2018.
Use of uninitialized value $rv in lc at /home/sts/cpansmoke/perl-5.14.1/cpan/build/Apache-ASP-2.62-baQXj4/blib/lib/Apache/ASP.pm line 2018.
Use of uninitialized value $rv in lc at /home/sts/cpansmoke/perl-5.14.1/cpan/build/Apache-ASP-2.62-baQXj4/blib/lib/Apache/ASP.pm line 2018.
Use of uninitialized value $rv in lc at /home/sts/cpansmoke/perl-5.14.1/cpan/build/Apache-ASP-2.62-baQXj4/blib/lib/Apache/ASP.pm line 2018.
Use of uninitialized value $rv in lc at /home/sts/cpansmoke/perl-5.14.1/cpan/build/Apache-ASP-2.62-baQXj4/blib/lib/Apache/ASP.pm line 2018.
Use of uninitialized value $rv in lc at /home/sts/cpansmoke/perl-5.14.1/cpan/build/Apache-ASP-2.62-baQXj4/blib/lib/Apache/ASP.pm line 2018.
Use of uninitialized value $rv in lc at /home/sts/cpansmoke/perl-5.14.1/cpan/build/Apache-ASP-2.62-baQXj4/blib/lib/Apache/ASP.pm line 2018.
Use of uninitialized value $rv in lc at /home/sts/cpansmoke/perl-5.14.1/cpan/build/Apache-ASP-2.62-baQXj4/blib/lib/Apache/ASP.pm line 2018.
t/stat_inc.t ............. ok
Use of uninitialized value $rv in lc at /home/sts/cpansmoke/perl-5.14.1/cpan/build/Apache-ASP-2.62-baQXj4/blib/lib/Apache/ASP.pm line 2018.
Use of uninitialized value $rv in lc at /home/sts/cpansmoke/perl-5.14.1/cpan/build/Apache-ASP-2.62-baQXj4/blib/lib/Apache/ASP.pm line 2018.
Use of uninitialized value $rv in lc at /home/sts/cpansmoke/perl-5.14.1/cpan/build/Apache-ASP-2.62-baQXj4/blib/lib/Apache/ASP.pm line 2018.
Use of uninitialized value $rv in lc at /home/sts/cpansmoke/perl-5.14.1/cpan/build/Apache-ASP-2.62-baQXj4/blib/lib/Apache/ASP.pm line 2018.
Use of uninitialized value $rv in lc at /home/sts/cpansmoke/perl-5.14.1/cpan/build/Apache-ASP-2.62-baQXj4/blib/lib/Apache/ASP.pm line 2018.
Use of uninitialized value $rv in lc at /home/sts/cpansmoke/perl-5.14.1/cpan/build/Apache-ASP-2.62-baQXj4/blib/lib/Apache/ASP.pm line 2018.
Use of uninitialized value $rv in lc at /home/sts/cpansmoke/perl-5.14.1/cpan/build/Apache-ASP-2.62-baQXj4/blib/lib/Apache/ASP.pm line 2018.
Use of uninitialized value $rv in lc at /home/sts/cpansmoke/perl-5.14.1/cpan/build/Apache-ASP-2.62-baQXj4/blib/lib/Apache/ASP.pm line 2018.
Use of uninitialized value $rv in lc at /home/sts/cpansmoke/perl-5.14.1/cpan/build/Apache-ASP-2.62-baQXj4/blib/lib/Apache/ASP.pm line 2018.
t/strict_error.t ......... ok
Use of uninitialized value $rv in lc at blib/lib/Apache/ASP.pm line 2018.
Use of uninitialized value $rv in lc at blib/lib/Apache/ASP.pm line 2018.
Use of uninitialized value $rv in lc at blib/lib/Apache/ASP.pm line 2018.
Use of uninitialized value $rv in lc at blib/lib/Apache/ASP.pm line 2018.
Use of uninitialized value $rv in lc at blib/lib/Apache/ASP.pm line 2018.
Use of uninitialized value $rv in lc at blib/lib/Apache/ASP.pm line 2018.
Use of uninitialized value $rv in lc at blib/lib/Apache/ASP.pm line 2018.
Use of uninitialized value $rv in lc at blib/lib/Apache/ASP.pm line 2018.
Use of uninitialized value $rv in lc at blib/lib/Apache/ASP.pm line 2018.
Use of uninitialized value $rv in lc at blib/lib/Apache/ASP.pm line 2018.
Use of uninitialized value $rv in lc at blib/lib/Apache/ASP.pm line 2018.
t/taint_check.t .......... ok
Use of uninitialized value $rv in lc at /home/sts/cpansmoke/perl-5.14.1/cpan/build/Apache-ASP-2.62-baQXj4/blib/lib/Apache/ASP.pm line 2018.
Use of uninitialized value $rv in lc at /home/sts/cpansmoke/perl-5.14.1/cpan/build/Apache-ASP-2.62-baQXj4/blib/lib/Apache/ASP.pm line 2018.
Use of uninitialized value $rv in lc at /home/sts/cpansmoke/perl-5.14.1/cpan/build/Apache-ASP-2.62-baQXj4/blib/lib/Apache/ASP.pm line 2018.
Use of uninitialized value $rv in lc at /home/sts/cpansmoke/perl-5.14.1/cpan/build/Apache-ASP-2.62-baQXj4/blib/lib/Apache/ASP.pm line 2018.
Use of uninitialized value $rv in lc at /home/sts/cpansmoke/perl-5.14.1/cpan/build/Apache-ASP-2.62-baQXj4/blib/lib/Apache/ASP.pm line 2018.
Use of uninitialized value $rv in lc at /home/sts/cpansmoke/perl-5.14.1/cpan/build/Apache-ASP-2.62-baQXj4/blib/lib/Apache/ASP.pm line 2018.
Use of uninitialized value $rv in lc at /home/sts/cpansmoke/perl-5.14.1/cpan/build/Apache-ASP-2.62-baQXj4/blib/lib/Apache/ASP.pm line 2018.
Use of uninitialized value $rv in lc at /home/sts/cpansmoke/perl-5.14.1/cpan/build/Apache-ASP-2.62-baQXj4/blib/lib/Apache/ASP.pm line 2018.
t/unique_packages.t ...... ok
Use of uninitialized value $rv in lc at /home/sts/cpansmoke/perl-5.14.1/cpan/build/Apache-ASP-2.62-baQXj4/blib/lib/Apache/ASP.pm line 2018.
Use of uninitialized value $rv in lc at /home/sts/cpansmoke/perl-5.14.1/cpan/build/Apache-ASP-2.62-baQXj4/blib/lib/Apache/ASP.pm line 2018.
Use of uninitialized value $rv in lc at /home/sts/cpansmoke/perl-5.14.1/cpan/build/Apache-ASP-2.62-baQXj4/blib/lib/Apache/ASP.pm line 2018.
Use of uninitialized value $rv in lc at /home/sts/cpansmoke/perl-5.14.1/cpan/build/Apache-ASP-2.62-baQXj4/blib/lib/Apache/ASP.pm line 2018.
Use of uninitialized value $rv in lc at /home/sts/cpansmoke/perl-5.14.1/cpan/build/Apache-ASP-2.62-baQXj4/blib/lib/Apache/ASP.pm line 2018.
Use of uninitialized value $rv in lc at /home/sts/cpansmoke/perl-5.14.1/cpan/build/Apache-ASP-2.62-baQXj4/blib/lib/Apache/ASP.pm line 2018.
Use of uninitialized value $rv in lc at /home/sts/cpansmoke/perl-5.14.1/cpan/build/Apache-ASP-2.62-baQXj4/blib/lib/Apache/ASP.pm line 2018.
Use of uninitialized value $rv in lc at /home/sts/cpansmoke/perl-5.14.1/cpan/build/Apache-ASP-2.62-baQXj4/blib/lib/Apache/ASP.pm line 2018.
Use of uninitialized value $rv in lc at /home/sts/cpansmoke/perl-5.14.1/cpan/build/Apache-ASP-2.62-baQXj4/blib/lib/Apache/ASP.pm line 2018.
t/xmlsubs.t .............. ok
Use of uninitialized value $rv in lc at /home/sts/cpansmoke/perl-5.14.1/cpan/build/Apache-ASP-2.62-baQXj4/blib/lib/Apache/ASP.pm line 2018.
Use of uninitialized value $rv in lc at /home/sts/cpansmoke/perl-5.14.1/cpan/build/Apache-ASP-2.62-baQXj4/blib/lib/Apache/ASP.pm line 2018.
Use of uninitialized value $rv in lc at /home/sts/cpansmoke/perl-5.14.1/cpan/build/Apache-ASP-2.62-baQXj4/blib/lib/Apache/ASP.pm line 2018.
Use of uninitialized value $rv in lc at /home/sts/cpansmoke/perl-5.14.1/cpan/build/Apache-ASP-2.62-baQXj4/blib/lib/Apache/ASP.pm line 2018.
Use of uninitialized value $rv in lc at /home/sts/cpansmoke/perl-5.14.1/cpan/build/Apache-ASP-2.62-baQXj4/blib/lib/Apache/ASP.pm line 2018.
Use of uninitialized value $rv in lc at /home/sts/cpansmoke/perl-5.14.1/cpan/build/Apache-ASP-2.62-baQXj4/blib/lib/Apache/ASP.pm line 2018.
Use of uninitialized value $rv in lc at /home/sts/cpansmoke/perl-5.14.1/cpan/build/Apache-ASP-2.62-baQXj4/blib/lib/Apache/ASP.pm line 2018.
Use of uninitialized value $rv in lc at /home/sts/cpansmoke/perl-5.14.1/cpan/build/Apache-ASP-2.62-baQXj4/blib/lib/Apache/ASP.pm line 2018.
Use of uninitialized value $rv in lc at /home/sts/cpansmoke/perl-5.14.1/cpan/build/Apache-ASP-2.62-baQXj4/blib/lib/Apache/ASP.pm line 2018.
t/xmlsubs_aspargs.t ...... ok
Use of uninitialized value $rv in lc at /home/sts/cpansmoke/perl-5.14.1/cpan/build/Apache-ASP-2.62-baQXj4/blib/lib/Apache/ASP.pm line 2018.
Use of uninitialized value $rv in lc at /home/sts/cpansmoke/perl-5.14.1/cpan/build/Apache-ASP-2.62-baQXj4/blib/lib/Apache/ASP.pm line 2018.
Use of uninitialized value $rv in lc at /home/sts/cpansmoke/perl-5.14.1/cpan/build/Apache-ASP-2.62-baQXj4/blib/lib/Apache/ASP.pm line 2018.
Use of uninitialized value $rv in lc at /home/sts/cpansmoke/perl-5.14.1/cpan/build/Apache-ASP-2.62-baQXj4/blib/lib/Apache/ASP.pm line 2018.
Use of uninitialized value $rv in lc at /home/sts/cpansmoke/perl-5.14.1/cpan/build/Apache-ASP-2.62-baQXj4/blib/lib/Apache/ASP.pm line 2018.
Use of uninitialized value $rv in lc at /home/sts/cpansmoke/perl-5.14.1/cpan/build/Apache-ASP-2.62-baQXj4/blib/lib/Apache/ASP.pm line 2018.
Use of uninitialized value $rv in lc at /home/sts/cpansmoke/perl-5.14.1/cpan/build/Apache-ASP-2.62-baQXj4/blib/lib/Apache/ASP.pm line 2018.
Use of uninitialized value $rv in lc at /home/sts/cpansmoke/perl-5.14.1/cpan/build/Apache-ASP-2.62-baQXj4/blib/lib/Apache/ASP.pm line 2018.
Use of uninitialized value $rv in lc at /home/sts/cpansmoke/perl-5.14.1/cpan/build/Apache-ASP-2.62-baQXj4/blib/lib/Apache/ASP.pm line 2018.
t/xmlsubs_perlargs.t ..... ok
Use of uninitialized value $rv in lc at /home/sts/cpansmoke/perl-5.14.1/cpan/build/Apache-ASP-2.62-baQXj4/blib/lib/Apache/ASP.pm line 2018.
Use of uninitialized value $rv in lc at /home/sts/cpansmoke/perl-5.14.1/cpan/build/Apache-ASP-2.62-baQXj4/blib/lib/Apache/ASP.pm line 2018.
Use of uninitialized value $rv in lc at /home/sts/cpansmoke/perl-5.14.1/cpan/build/Apache-ASP-2.62-baQXj4/blib/lib/Apache/ASP.pm line 2018.
Use of uninitialized value $rv in lc at /home/sts/cpansmoke/perl-5.14.1/cpan/build/Apache-ASP-2.62-baQXj4/blib/lib/Apache/ASP.pm line 2018.
Use of uninitialized value $rv in lc at /home/sts/cpansmoke/perl-5.14.1/cpan/build/Apache-ASP-2.62-baQXj4/blib/lib/Apache/ASP.pm line 2018.
Use of uninitialized value $rv in lc at /home/sts/cpansmoke/perl-5.14.1/cpan/build/Apache-ASP-2.62-baQXj4/blib/lib/Apache/ASP.pm line 2018.
Use of uninitialized value $rv in lc at /home/sts/cpansmoke/perl-5.14.1/cpan/build/Apache-ASP-2.62-baQXj4/blib/lib/Apache/ASP.pm line 2018.
Use of uninitialized value $rv in lc at /home/sts/cpansmoke/perl-5.14.1/cpan/build/Apache-ASP-2.62-baQXj4/blib/lib/Apache/ASP.pm line 2018.
Use of uninitialized value $rv in lc at /home/sts/cpansmoke/perl-5.14.1/cpan/build/Apache-ASP-2.62-baQXj4/blib/lib/Apache/ASP.pm line 2018.
Use of uninitialized value $rv in lc at /home/sts/cpansmoke/perl-5.14.1/cpan/build/Apache-ASP-2.62-baQXj4/blib/lib/Apache/ASP.pm line 2018.
t/xmlsubsmatch.t ......... ok
All tests successful.
Files=47, Tests=341, 11 wallclock secs ( 0.21 usr  0.23 sys +  4.95 cusr  0.63 csys =  6.02 CPU)
Result: PASS

------------------------------
PREREQUISITES
------------------------------

Prerequisite modules loaded:

requires:

    Module              Need Have   
    ------------------- ---- -------
    Carp                0    1.20   
    Class::Struct       0    0.63   
    Data::Dumper        0    2.131  
    Digest::MD5         0    2.51   
    Fcntl               0    1.11   
    File::Basename      0    2.82   
    MLDBM               0    2.04   
    MLDBM::Sync         0    0.30   
    SDBM_File           0    1.09   

build_requires:

    Module              Need Have   
    ------------------- ---- -------
    ExtUtils::MakeMaker 0    6.57_05


------------------------------
ENVIRONMENT AND OTHER CONTEXT
------------------------------

Environment variables:

    AUTOMATED_TESTING = 1
    PATH = /home/sts/bin:/bin:/sbin:/usr/bin:/usr/sbin:/usr/X11R6/bin:/usr/local/bin:/usr/local/sbin:/usr/games:.
    PERL5LIB = /home/sts/cpansmoke/perl-5.14.1/cpan/build/MLDBM-Sync-0.30-Vl4sPp/blib/arch:/home/sts/cpansmoke/perl-5.14.1/cpan/build/MLDBM-Sync-0.30-Vl4sPp/blib/lib:/home/sts/cpansmoke/perl-5.14.1/cpan/build/MLDBM-2.04-WHKMRE/blib/arch:/home/sts/cpansmoke/perl-5.14.1/cpan/build/MLDBM-2.04-WHKMRE/blib/lib
    PERL5OPT = 
    PERL5_CPANPLUS_IS_RUNNING = 21986
    PERL5_CPAN_IS_RUNNING = 21986
    PERL5_CPAN_IS_RUNNING_IN_RECURSION = 26101,21986
    PERL_CR_SMOKER_CURRENT = Apache-ASP-2.62
    PERL_EXTUTILS_AUTOINSTALL = --defaultdeps
    PERL_MM_USE_DEFAULT = 1
    SHELL = /usr/local/bin/bash
    TERM = screen
    TMPDIR = /home/sts/cpansmoke/tmp

Perl special variables (and OS-specific diagnostics, for MSWin32):

    $^X = /home/sts/cpansmoke/perl-5.14.1/bin/perl
    $UID/$EUID = 1000 / 1000
    $GID = 10 10 0
    $EGID = 10 10 0

Perl module toolchain versions installed:

    Module              Have    
    ------------------- --------
    CPAN                1.9800  
    CPAN::Meta          2.110440
    Cwd                 3.36    
    ExtUtils::CBuilder  0.280203
    ExtUtils::Command   1.17    
    ExtUtils::Install   1.56    
    ExtUtils::MakeMaker 6.57_05 
    ExtUtils::Manifest  1.58    
    ExtUtils::ParseXS   2.2210  
    File::Spec          3.33    
    JSON                2.53    
    JSON::PP            2.27105 
    Module::Build       0.3800  
    Module::Signature   n/a     
    Parse::CPAN::Meta   1.4401  
    Test::Harness       3.23    
    Test::More          0.98    
    YAML                0.73    
    YAML::Syck          n/a     
    version             0.88    


--

Summary of my perl5 (revision 5 version 14 subversion 1) configuration:
   
  Platform:
    osname=openbsd, osvers=4.9, archname=OpenBSD.i386-openbsd-thread-multi
    uname='openbsd cpansmoke3 4.9 generic.mp#794 i386 '
    config_args='-des -Dusethreads -Dprefix=/home/sts/cpansmoke/perl-5.14.1'
    hint=recommended, useposix=true, d_sigaction=define
    useithreads=define, usemultiplicity=define
    useperlio=define, d_sfio=undef, uselargefiles=define, usesocks=undef
    use64bitint=undef, use64bitall=undef, uselongdouble=undef
    usemymalloc=y, bincompat5005=undef
  Compiler:
    cc='cc', ccflags ='-pthread -fno-strict-aliasing -pipe -fstack-protector -I/usr/local/include',
    optimize='-O2',
    cppflags='-pthread -fno-strict-aliasing -pipe -fstack-protector -I/usr/local/include'
    ccversion='', gccversion='4.2.1 20070719 ', gccosandvers='openbsd4.9'
    intsize=4, longsize=4, ptrsize=4, doublesize=8, byteorder=1234
    d_longlong=define, longlongsize=8, d_longdbl=define, longdblsize=12
    ivtype='long', ivsize=4, nvtype='double', nvsize=8, Off_t='off_t', lseeksize=8
    alignbytes=4, prototype=define
  Linker and Libraries:
    ld='cc', ldflags ='-pthread -Wl,-E  -fstack-protector -L/usr/local/lib'
    libpth=/usr/local/lib /usr/lib
    libs=-lgdbm -lm -lutil -lc
    perllibs=-lm -lutil -lc
    libc=/usr/lib/libc.so.58.0, so=so, useshrplib=false, libperl=libperl.a
    gnulibc_version=''
  Dynamic Linking:
    dlsrc=dl_dlopen.xs, dlext=so, d_dlsymun=undef, ccdlflags=' '
    cccdlflags='-DPIC -fPIC ', lddlflags='-shared -fPIC  -L/usr/local/lib -fstack-protector'


Characteristics of this binary (from libperl): 
  Compile-time options: MULTIPLICITY MYMALLOC PERL_DONT_CREATE_GVSV
                        PERL_IMPLICIT_CONTEXT PERL_MALLOC_WRAP
                        PERL_PRESERVE_IVUV USE_ITHREADS USE_LARGE_FILES
                        USE_PERLIO USE_PERL_ATOF USE_REENTRANT_API
  Built under openbsd
  Compiled at Jun 29 2011 16:46:07
  %ENV:
    PERL5LIB="/home/sts/cpansmoke/perl-5.14.1/cpan/build/MLDBM-Sync-0.30-Vl4sPp/blib/arch:/home/sts/cpansmoke/perl-5.14.1/cpan/build/MLDBM-Sync-0.30-Vl4sPp/blib/lib:/home/sts/cpansmoke/perl-5.14.1/cpan/build/MLDBM-2.04-WHKMRE/blib/arch:/home/sts/cpansmoke/perl-5.14.1/cpan/build/MLDBM-2.04-WHKMRE/blib/lib"
    PERL5OPT=""
    PERL5_CPANPLUS_IS_RUNNING="21986"
    PERL5_CPAN_IS_RUNNING="21986"
    PERL5_CPAN_IS_RUNNING_IN_RECURSION="26101,21986"
    PERL_CR_SMOKER_CURRENT="Apache-ASP-2.62"
    PERL_EXTUTILS_AUTOINSTALL="--defaultdeps"
    PERL_MM_USE_DEFAULT="1"
  @INC:
    /home/sts/cpansmoke/perl-5.14.1/cpan/build/MLDBM-Sync-0.30-Vl4sPp/blib/arch
    /home/sts/cpansmoke/perl-5.14.1/cpan/build/MLDBM-Sync-0.30-Vl4sPp/blib/lib
    /home/sts/cpansmoke/perl-5.14.1/cpan/build/MLDBM-2.04-WHKMRE/blib/arch
    /home/sts/cpansmoke/perl-5.14.1/cpan/build/MLDBM-2.04-WHKMRE/blib/lib
    /home/sts/cpansmoke/perl-5.14.1/lib/site_perl/5.14.1/OpenBSD.i386-openbsd-thread-multi
    /home/sts/cpansmoke/perl-5.14.1/lib/site_perl/5.14.1
    /home/sts/cpansmoke/perl-5.14.1/lib/5.14.1/OpenBSD.i386-openbsd-thread-multi
    /home/sts/cpansmoke/perl-5.14.1/lib/5.14.1
    .