Back
From: metabase:user:20a45eae-6c1a-1014-abaf-4bc2b30e56df
Subject: PASS Module-Pluggable-4.6 v5.8.6 Windows (Cygwin)
Date: 2013-02-01T20:02:48Z
This distribution has been tested as part of the CPAN Testers
project, supporting the Perl programming language. See
http://wiki.cpantesters.org/ for more information or email
questions to cpan-testers-discuss@perl.org
--
Dear Simon Wistow,
This is a computer-generated report for Module-Pluggable-4.6
on perl 5.8.6, created by CPAN-Reporter-1.2009.
Thank you for uploading your work to CPAN. Congratulations!
All tests were successful.
Sections of this report:
* Tester comments
* Program output
* Prerequisites
* Environment and other context
------------------------------
TESTER COMMENTS
------------------------------
Additional comments from tester:
this report is from an automated smoke testing program
and was not reviewed by a human for accuracy
------------------------------
PROGRAM OUTPUT
------------------------------
Output from './Build test':
Use of uninitialized value in length at /opt/perl/cygwin/1.7.17/perl/5.8.6/cygwin/local/lib/site_perl/5.8.6/Module/Build/Base.pm line 2767.
t/01use.t .................. ok
t/02alsoworks.t ............ ok
t/02works.t ................ ok
t/02works_taint.t .......... ok
t/03diffname.t ............. ok
t/04acmedir.t .............. ok
t/04acmedir_single.t ....... ok
t/04acmepath.t ............. ok
t/04acmepath_single.t ...... ok
t/05postpath.t ............. ok
t/06multipath.t ............ ok
t/07instantiate.t .......... ok
t/08nothing.t .............. ok
t/09require.t .............. ok
t/10innerpack.t ............ ok
t/10innerpack_inner.t ...... ok
t/10innerpack_noinner.t .... ok
t/10innerpack_onefile.t .... ok
t/10innerpack_override.t ... ok
t/10innerpack_super.t ...... ok
t/11usetwice.t ............. ok
t/12only.t ................. ok
t/12onlyarray.t ............ ok
t/12onlyregex.t ............ ok
t/12onlyrequire.t .......... ok
t/13except.t ............... ok
t/13exceptarray.t .......... ok
t/13exceptregex.t .......... ok
t/14package.t .............. ok
t/15topicsafe.t ............ ok
t/16different_extension.t .. ok
t/17devel_inner_package.t .. ok
t/18skipped_package.t ...... ok
t/19can_ok_clobber.t ....... ok
t/20dodgy_files.t .......... ok
t/21editor_junk.t .......... ok
t/22trigger.t .............. ok
t/23depth.t ................ ok
t/24local_inc_object.t ..... ok
t/24local_inc_package.t .... ok
All tests successful.
Files=40, Tests=173, 7 wallclock secs ( 0.09 usr 0.06 sys + 2.52 cusr 3.88 csys = 6.56 CPU)
Result: PASS
------------------------------
PREREQUISITES
------------------------------
Prerequisite modules loaded:
requires:
Module Need Have
-------------- ---- ------
File::Basename 0 2.73
File::Spec 3.00 3.40
if 0 0.03
build_requires:
Module Need Have
-------------- ---- ------
Test::More 0.62 0.98
configure_requires:
Module Need Have
-------------- ---- ------
Module::Build 0.38 0.4003
------------------------------
ENVIRONMENT AND OTHER CONTEXT
------------------------------
Environment variables:
AUTOMATED_TESTING = 1
COMSPEC = C:\Windows\system32\cmd.exe
NUMBER_OF_PROCESSORS = 4
PATH = /opt/perl/cygwin/1.7.17/bin/5.8.6/cygwin:/opt/perl/cygwin/1.7.17/perl/5.8.6/cygwin/local/bin:/opt/perl/cygwin/1.7.17/perl/5.8.6/cygwin/bin:/usr/local/bin:/usr/bin:/usr/local/lib
PERL5LIB = /opt/perl/cygwin/1.7.17/perl/5.8.6/cygwin/local/lib/site_perl/5.8.6:/opt/perl/cygwin/1.7.17/perl/5.8.6/cygwin/local/lib/5.8.6:/opt/perl/cygwin/1.7.17/perl/5.8.6/cygwin/local/lib/perl5
PERL5OPT =
PERL5_CPANPLUS_IS_RUNNING = 7688
PERL5_CPAN_IS_RUNNING = 7688
PERL_EXTUTILS_AUTOINSTALL = 1
PERL_MM_USE_DEFAULT = 1
PERL_TEST_CRITIC = 1
PROCESSOR_IDENTIFIER = Intel64 Family 6 Model 37 Stepping 5, GenuineIntel
SHELL = /bin/bash
TEMP = /tmp
TERM = xterm
Perl special variables (and OS-specific diagnostics, for MSWin32):
$^X = /opt/perl/cygwin/1.7.17/perl/5.8.6/cygwin/bin/perl
$UID/$EUID = 101 / 101
$GID = 10513 10513 1001 545 544 0
$EGID = 10513 10513 1001 545 544 0
Perl module toolchain versions installed:
Module Have
------------------- --------
CPAN 1.9800
CPAN::Meta 2.120921
Cwd 3.40
ExtUtils::CBuilder 0.280205
ExtUtils::Command 1.16
ExtUtils::Install 1.54
ExtUtils::MakeMaker 6.64
ExtUtils::Manifest 1.60
ExtUtils::ParseXS 3.18
File::Spec 3.40
JSON n/a
JSON::PP 2.27200
Module::Build 0.4003
Module::Signature 0.70
Parse::CPAN::Meta 1.4404
Test::Harness 3.26
Test::More 0.98
YAML 0.84
YAML::Syck 1.22
version 0.9901
--
Summary of my perl5 (revision 5 version 8 subversion 6) configuration:
Platform:
osname=cygwin, osvers=1.7.17(0.26253), archname=cygwin
uname='cygwin_nt-6.1-wow64 osl069 1.7.17(0.26253) 2012-10-19 14:39 i686 cygwin '
config_args='-Dmksymlinks -de -Dcc=gcc-4 -Dprefix=/opt/perl/cygwin/1.7.17/perl/5.8.6/cygwin -Uinc_version_list -Uinstallusrbinperl -Uusethreads -Uusemultiplicity -Uuse64bitint -Dcf_by=pjacklam -Dcf_email=pjacklam@online.no -Dperladmin=pjacklam@online.no'
hint=recommended, useposix=true, d_sigaction=define
usethreads=undef use5005threads=undef useithreads=undef usemultiplicity=undef
useperlio=define d_sfio=undef uselargefiles=define usesocks=undef
use64bitint=undef use64bitall=undef uselongdouble=undef
usemymalloc=y, bincompat5005=undef
Compiler:
cc='gcc-4', ccflags ='-DPERL_USE_SAFE_PUTENV -fno-strict-aliasing -pipe -I/usr/local/include',
optimize='-O2',
cppflags='-DPERL_USE_SAFE_PUTENV -fno-strict-aliasing -pipe -I/usr/local/include'
ccversion='', gccversion='4.5.3', gccosandvers=''
intsize=4, longsize=4, ptrsize=4, doublesize=8, byteorder=1234
d_longlong=define, longlongsize=8, d_longdbl=define, longdblsize=12
ivtype='long', ivsize=4, nvtype='double', nvsize=8, Off_t='off_t', lseeksize=8
alignbytes=8, prototype=define
Linker and Libraries:
ld='ld2', ldflags =' -L/usr/local/lib'
libpth=/usr/local/lib /usr/lib /lib
libs=-lgdbm -ldb -ldl -lcrypt -lgdbm_compat
perllibs=-ldl -lcrypt -lgdbm_compat
libc=/usr/lib/libc.a, so=dll, useshrplib=true, libperl=libperl.a
gnulibc_version=''
Dynamic Linking:
dlsrc=dl_dlopen.xs, dlext=dll, d_dlsymun=undef, ccdlflags=' '
cccdlflags=' ', lddlflags=' -L/usr/local/lib'
Characteristics of this binary (from libperl):
Compile-time options: USE_LARGE_FILES
Built under cygwin
Compiled at Jan 6 2013 04:49:46
%ENV:
PERL5LIB="/opt/perl/cygwin/1.7.17/perl/5.8.6/cygwin/local/lib/site_perl/5.8.6:/opt/perl/cygwin/1.7.17/perl/5.8.6/cygwin/local/lib/5.8.6:/opt/perl/cygwin/1.7.17/perl/5.8.6/cygwin/local/lib/perl5"
PERL5OPT=""
PERL5_CPANPLUS_IS_RUNNING="7688"
PERL5_CPAN_IS_RUNNING="7688"
PERL_EXTUTILS_AUTOINSTALL="1"
PERL_MM_USE_DEFAULT="1"
PERL_TEST_CRITIC="1"
CYGWIN="codepage:utf8 nodosfilewarning"
@INC:
/opt/perl/cygwin/1.7.17/perl/5.8.6/cygwin/local/lib/site_perl/5.8.6/cygwin
/opt/perl/cygwin/1.7.17/perl/5.8.6/cygwin/local/lib/site_perl/5.8.6
/opt/perl/cygwin/1.7.17/perl/5.8.6/cygwin/local/lib/5.8.6/cygwin
/opt/perl/cygwin/1.7.17/perl/5.8.6/cygwin/local/lib/5.8.6
/opt/perl/cygwin/1.7.17/perl/5.8.6/cygwin/local/lib/perl5/cygwin
/opt/perl/cygwin/1.7.17/perl/5.8.6/cygwin/local/lib/perl5
/opt/perl/cygwin/1.7.17/perl/5.8.6/cygwin/lib/5.8.6/cygwin
/opt/perl/cygwin/1.7.17/perl/5.8.6/cygwin/lib/5.8.6
/opt/perl/cygwin/1.7.17/perl/5.8.6/cygwin/lib/site_perl/5.8.6/cygwin
/opt/perl/cygwin/1.7.17/perl/5.8.6/cygwin/lib/site_perl/5.8.6
/opt/perl/cygwin/1.7.17/perl/5.8.6/cygwin/lib/site_perl
.