Report for WebService-Pingboard-0.009

Back
From: metabase:user:320bfe00-2aae-11df-837a-5e0a49663a4f
Subject: PASS WebService-Pingboard-0.009 v5.24.0 GNU/Linux
Date: 2016-07-27T06:40:53Z

This distribution has been tested as part of the CPAN Testers
project, supporting the Perl programming language.  See
http://wiki.cpantesters.org/ for more information or email
questions to cpan-testers-discuss@perl.org


--
Dear Robin Clarke,

This is a computer-generated report for WebService-Pingboard-0.009
on perl 5.24.0, created by CPAN-Reporter-1.2018.

Thank you for uploading your work to CPAN.  Congratulations!
All tests were successful.

Sections of this report:

    * Tester comments
    * Program output
    * Prerequisites
    * Environment and other context

------------------------------
TESTER COMMENTS
------------------------------

Additional comments from tester:

this report is from an automated smoke testing program
and was not reviewed by a human for accuracy

------------------------------
PROGRAM OUTPUT
------------------------------

Output from '/usr/bin/make test':

PERL_DL_NONLAZY=1 "/home/sand/src/perl/repoperls/installed-perls/perl/v5.24.0/13e0/bin/perl" "-MExtUtils::Command::MM" "-MTest::Harness" "-e" "undef *Test::Harness::Switches; test_harness(0, 'blib/lib', 'blib/arch')" t/*.t
# 
# Versions for all modules listed in MYMETA.json (including optional ones):
# 
# === Configure Requires ===
# 
#     Module              Want    Have
#     ------------------- ---- -------
#     ExtUtils::MakeMaker  any 7.19_07
# 
# === Build Requires ===
# 
#     Module              Want    Have
#     ------------------- ---- -------
#     ExtUtils::MakeMaker  any 7.19_07
# 
# === Test Requires ===
# 
#     Module              Want     Have
#     ------------------- ---- --------
#     ExtUtils::MakeMaker  any  7.19_07
#     File::Spec           any     3.63
#     Log::Log4perl        any     1.47
#     Test::More           any 1.302047
#     Try::Tiny            any     0.24
#     strict               any     1.11
#     warnings             any     1.36
# 
# === Test Recommends ===
# 
#     Module         Want     Have
#     ---------- -------- --------
#     CPAN::Meta 2.120900 2.150009
# 
# === Runtime Requires ===
# 
#     Module                      Want    Have
#     ------------------------ ------- -------
#     Class::Date                  any  1.1.15
#     Encode                       any    2.80
#     HTTP::Headers                any    6.11
#     HTTP::Request                any    6.11
#     JSON                         any    2.90
#     LWP::UserAgent               any    6.15
#     Moose                        any  2.1804
#     MooseX::Log::Log4perl        any    0.47
#     MooseX::Params::Validate     any    0.21
#     MooseX::WithCache        0.01007 0.01007
#     POSIX                        any    1.65
#     URI::Encode                  any   1.1.1
#     YAML                         any    1.18
# 
t/00-report-prereqs.t .. ok
t/001_base.t ........... ok
# !! Cannot run live tests against Pingboard without login credentials !!
# Please define environment variables
# PINGBOARD_USERNAME=[your email address] and PINGBOARD_REFRESH_TOKEN=[oauth refresh token]
#    or
# PINGBOARD_USERNAME=[your email address] and PINGBOARD_PASSWORD=[your password]
# in order to run live tests against the Pingboard API
t/002_gets.t ........... ok
All tests successful.
Files=3, Tests=3, 11 wallclock secs ( 0.04 usr  0.01 sys +  1.48 cusr  0.20 csys =  1.73 CPU)
Result: PASS

------------------------------
PREREQUISITES
------------------------------

Prerequisite modules loaded:

requires:

    Module                   Need    Have    
    ------------------------ ------- --------
    Class::Date              0       1.1.15  
    Encode                   0       2.80    
    HTTP::Headers            0       6.11    
    HTTP::Request            0       6.11    
    JSON                     0       2.90    
    LWP::UserAgent           0       6.15    
    Moose                    0       2.1804  
    MooseX::Log::Log4perl    0       0.47    
    MooseX::Params::Validate 0       0.21    
    MooseX::WithCache        0.01007 0.01007 
    POSIX                    0       1.65    
    URI::Encode              0       1.1.1   
    YAML                     0       1.18    

build_requires:

    Module                   Need    Have    
    ------------------------ ------- --------
    ExtUtils::MakeMaker      0       7.19_07 
    File::Spec               0       3.63    
    Log::Log4perl            0       1.47    
    strict                   0       1.11    
    Test::More               0       1.302047
    Try::Tiny                0       0.24    
    warnings                 0       1.36    

configure_requires:

    Module                   Need    Have    
    ------------------------ ------- --------
    ExtUtils::MakeMaker      0       7.19_07 


------------------------------
ENVIRONMENT AND OTHER CONTEXT
------------------------------

Environment variables:

    AUTOMATED_TESTING = 1
    LANG = en_US.UTF-8
    LANGUAGE = en_US:en
    PATH = /usr/lib/ccache:/home/sand/bin:/usr/local/bin:/usr/bin:/bin:/usr/games:/usr/local/perl/bin:/usr/X11/bin:/sbin:/usr/sbin
    PERL5LIB = 
    PERL5OPT = 
    PERL5_CPANPLUS_IS_RUNNING = 27044
    PERL5_CPAN_IS_RUNNING = 27044
    PERL_CANARY_STABILITY_NOPROMPT = 1
    PERL_MM_USE_DEFAULT = 1
    SHELL = /usr/bin/zsh
    TERM = screen

Perl special variables (and OS-specific diagnostics, for MSWin32):

    $^X = /home/sand/src/perl/repoperls/installed-perls/perl/v5.24.0/13e0/bin/perl
    $UID/$EUID = 1005 / 1005
    $GID = 1005 1005
    $EGID = 1005 1005

Perl module toolchain versions installed:

    Module              Have    
    ------------------- --------
    CPAN                2.14    
    CPAN::Meta          2.150009
    Cwd                 3.63    
    ExtUtils::CBuilder  0.280225
    ExtUtils::Command   7.19_07 
    ExtUtils::Install   2.04    
    ExtUtils::MakeMaker 7.19_07 
    ExtUtils::Manifest  1.70    
    ExtUtils::ParseXS   3.31    
    File::Spec          3.63    
    JSON                2.90    
    JSON::PP            2.27300 
    Module::Build       0.4218  
    Module::Signature   0.80    
    Parse::CPAN::Meta   2.150009
    Test::Harness       3.36    
    Test::More          1.302047
    YAML                1.18    
    YAML::Syck          1.29    
    version             0.9917  


--

Summary of my perl5 (revision 5 version 24 subversion 0) configuration:
  Commit id: be2c0c650b028f54e427f2469a59942edfdff8a9
  Platform:
    osname=linux, osvers=4.3.0-1-amd64, archname=x86_64-linux-thread-multi
    uname='linux k83 4.3.0-1-amd64 #1 smp debian 4.3.3-7 (2016-01-19) x86_64 gnulinux '
    config_args='-Dprefix=/home/sand/src/perl/repoperls/installed-perls/perl/v5.24.0/13e0 -Dmyhostname=k83 -Dinstallusrbinperl=n -Uversiononly -Dusedevel -des -Ui_db -Dlibswanted=cl pthread socket inet nsl gdbm dbm malloc dl ld sun m crypt sec util c cposix posix ucb BSD gdbm_compat -Duseithreads -Uuselongdouble'
    hint=recommended, useposix=true, d_sigaction=define
    useithreads=define, usemultiplicity=define
    use64bitint=define, use64bitall=define, uselongdouble=undef
    usemymalloc=n, bincompat5005=undef
  Compiler:
    cc='cc', ccflags ='-D_REENTRANT -D_GNU_SOURCE -fwrapv -fno-strict-aliasing -pipe -fstack-protector-strong -I/usr/local/include -D_LARGEFILE_SOURCE -D_FILE_OFFSET_BITS=64 -D_FORTIFY_SOURCE=2',
    optimize='-O2',
    cppflags='-D_REENTRANT -D_GNU_SOURCE -fwrapv -fno-strict-aliasing -pipe -fstack-protector-strong -I/usr/local/include'
    ccversion='', gccversion='5.3.1 20160121', gccosandvers=''
    intsize=4, longsize=8, ptrsize=8, doublesize=8, byteorder=12345678, doublekind=3
    d_longlong=define, longlongsize=8, d_longdbl=define, longdblsize=16, longdblkind=3
    ivtype='long', ivsize=8, nvtype='double', nvsize=8, Off_t='off_t', lseeksize=8
    alignbytes=8, prototype=define
  Linker and Libraries:
    ld='cc', ldflags =' -fstack-protector-strong -L/usr/local/lib'
    libpth=/usr/local/lib /usr/lib/gcc/x86_64-linux-gnu/5/include-fixed /usr/include/x86_64-linux-gnu /usr/lib /lib/x86_64-linux-gnu /lib/../lib /usr/lib/x86_64-linux-gnu /usr/lib/../lib /lib
    libs=-lpthread -lnsl -lgdbm -ldl -lm -lcrypt -lutil -lc -lgdbm_compat
    perllibs=-lpthread -lnsl -ldl -lm -lcrypt -lutil -lc
    libc=libc-2.21.so, so=so, useshrplib=false, libperl=libperl.a
    gnulibc_version='2.21'
  Dynamic Linking:
    dlsrc=dl_dlopen.xs, dlext=so, d_dlsymun=undef, ccdlflags='-Wl,-E'
    cccdlflags='-fPIC', lddlflags='-shared -O2 -L/usr/local/lib -fstack-protector-strong'


Characteristics of this binary (from libperl): 
  Compile-time options: HAS_TIMES MULTIPLICITY PERLIO_LAYERS
                        PERL_COPY_ON_WRITE PERL_DONT_CREATE_GVSV
                        PERL_HASH_FUNC_ONE_AT_A_TIME_HARD
                        PERL_IMPLICIT_CONTEXT PERL_MALLOC_WRAP
                        PERL_PRESERVE_IVUV PERL_USE_DEVEL USE_64_BIT_ALL
                        USE_64_BIT_INT USE_ITHREADS USE_LARGE_FILES
                        USE_LOCALE USE_LOCALE_COLLATE USE_LOCALE_CTYPE
                        USE_LOCALE_NUMERIC USE_LOCALE_TIME USE_PERLIO
                        USE_PERL_ATOF USE_REENTRANT_API
  Built under linux
  Compiled at May  9 2016 20:41:44
  %ENV:
    PERL5LIB=""
    PERL5OPT=""
    PERL5_CPANPLUS_IS_RUNNING="27044"
    PERL5_CPAN_IS_RUNNING="27044"
    PERL_CANARY_STABILITY_NOPROMPT="1"
    PERL_MM_USE_DEFAULT="1"
  @INC:
    /home/sand/src/perl/repoperls/installed-perls/perl/v5.24.0/13e0/lib/site_perl/5.24.0/x86_64-linux-thread-multi
    /home/sand/src/perl/repoperls/installed-perls/perl/v5.24.0/13e0/lib/site_perl/5.24.0
    /home/sand/src/perl/repoperls/installed-perls/perl/v5.24.0/13e0/lib/5.24.0/x86_64-linux-thread-multi
    /home/sand/src/perl/repoperls/installed-perls/perl/v5.24.0/13e0/lib/5.24.0
    .