Crypt-OpenSSL-PKCS10 v0.30-TRIAL Perl 5 v5.26.2 darwin-thread-multi-2level

Status
Pass
From
David Cantrell (DCANTRELL)
Dist
Crypt-OpenSSL-PKCS10 v0.30-TRIAL
Platform
Perl 5 v5.26.2 darwin-thread-multi-2level
Date
2025-01-23 01:47:55
ID
10f3a32a-d92c-11ef-a90c-511f0a80d735
This distribution has been tested as part of the CPAN Testers
project, supporting the Perl programming language.  See
http://wiki.cpantesters.org/ for more information or email
questions to cpan-testers-discuss@perl.org


--
Dear Timothy Legge,

This is a computer-generated report for Crypt-OpenSSL-PKCS10-0.30-TRIAL
on perl 5.26.2, created by CPAN-Reporter-1.2019.

Thank you for uploading your work to CPAN.  Congratulations!
All tests were successful.

Sections of this report:

    * Tester comments
    * Program output
    * Prerequisites
    * Environment and other context

------------------------------
TESTER COMMENTS
------------------------------

Additional comments from tester:

this report is from an automated smoke testing program
and was not reviewed by a human for accuracy

------------------------------
PROGRAM OUTPUT
------------------------------

Output from '/usr/bin/make test':

"/Users/cpantesting/cpantesting/perl-5.26.2/bin/perl" -MExtUtils::Command::MM -e 'cp_nonempty' -- PKCS10.bs blib/arch/auto/Crypt/OpenSSL/PKCS10/PKCS10.bs 644
PERL_DL_NONLAZY=1 "/Users/cpantesting/cpantesting/perl-5.26.2/bin/perl" "-MExtUtils::Command::MM" "-MTest::Harness" "-e" "undef *Test::Harness::Switches; test_harness(0, 'blib/lib', 'blib/arch')" t/*.t
# OpenSSL 3.4.0 22 Oct 2024 (Library: OpenSSL 3.4.0 22 Oct 2024)
t/00-openssl-version.t .. ok
t/10-rsa-keys.t ......... ok
t/20-ec.t ............... ok
t/30-ec-keys.t .......... ok
t/author-pod-spell.t .... skipped: these tests are for testing by the author
t/author-pod-syntax.t ... skipped: these tests are for testing by the author
-----BEGIN CERTIFICATE REQUEST-----
MIIBPzCBqQIBADAAMIGfMA0GCSqGSIb3DQEBAQUAA4GNADCBiQKBgQDFO/1xxQvh
ihk3ZAnbhMIS6U2zJdKZrc+LlEx+ec1w91NnhA2MGImDnikAkzeXxvcn6Q9vC8N5
ve2KUmEtFIC2HHja24tQ5Fw61j3tIqwZ0m7IPNYpGLyLAycdBUAzBphtOvA+NtNe
+X4Hi+8f4Uj9VnBo9A9qcwZmZt7ySPF6ZwIDAQABoAAwDQYJKoZIhvcNAQELBQAD
gYEAks750uSJsiMUMDqWAey+lFE2glXVP7O2yD6qKihe1UB0R0PMvfZjjZaSN6RA
2qTmeByp8BkcbKR5rnb1TZ644cGG9pVtIDoEBi0+PCNqGbPhulm2tuUYogys10a6
9xKEyO7dSmHqOURKyoxtjGV08Nwjo5832Xf8orI7exiiAOY=
-----END CERTIFICATE REQUEST-----
-----BEGIN PRIVATE KEY-----
MIICdQIBADANBgkqhkiG9w0BAQEFAASCAl8wggJbAgEAAoGBAMU7/XHFC+GKGTdk
CduEwhLpTbMl0pmtz4uUTH55zXD3U2eEDYwYiYOeKQCTN5fG9yfpD28Lw3m97YpS
YS0UgLYceNrbi1DkXDrWPe0irBnSbsg81ikYvIsDJx0FQDMGmG068D420175fgeL
7x/hSP1WcGj0D2pzBmZm3vJI8XpnAgMBAAECgYBm1oeoWWB/gZzyR6PoJIl4iNLt
lMwBOyIbGgDkdSfMPfjr4Wua33Rb/wxL83aqGaDm21sjwFN017XSSG/IrIcLAuay
j5nz2tqP2LPzRWbyz/sbJKRi7tBhpiaFnr0VdICGuoKT8BpJZxEqc0CA9g1AHyDr
fO9wVi87ivSN2oiWUQJBAOPFF1jnrES046bUbcEPWsWXLqaKyf6jWPci8xUni94n
wMcKjeiEO6RtbRtqjJRhLrvmARZytA2otyf9ExnyV8kCQQDdrglcaZ29fXi1bugk
ntW6aUiDcPXwYdEfVg7DbsyHo0GPdumeuy//hwlE4ujhvf6QGrbf4+OvsdVv5Hr5
N7ivAkAVVQ48u2X9AVwY8ehdnoyH2QL7giAtAyt/6fwOTSfiZKK/gZOM5WWYns8L
NE16UCfKXV5YteF7LgQJcMBrO7FRAkBnF57G2V9AVm+igNd44F0o+fl9FzVo+zST
zCPFg2ue0K+WloiDBy6FOTl4TcZb5U3Tmnjdmk+yz5MhHDKMX/uFAkB+zIs14Ksf
RsACBHapfx99M0aRKCB6KNVKWTP0Sm+mH7WVtIA8RcPbKI7IIwxz1VNP9uSgjs29
2HnGj6zpMjTX
-----END PRIVATE KEY-----


Public-Key: (1024 bit)
Modulus:
    00:c5:3b:fd:71:c5:0b:e1:8a:19:37:64:09:db:84:
    c2:12:e9:4d:b3:25:d2:99:ad:cf:8b:94:4c:7e:79:
    cd:70:f7:53:67:84:0d:8c:18:89:83:9e:29:00:93:
    37:97:c6:f7:27:e9:0f:6f:0b:c3:79:bd:ed:8a:52:
    61:2d:14:80:b6:1c:78:da:db:8b:50:e4:5c:3a:d6:
    3d:ed:22:ac:19:d2:6e:c8:3c:d6:29:18:bc:8b:03:
    27:1d:05:40:33:06:98:6d:3a:f0:3e:36:d3:5e:f9:
    7e:07:8b:ef:1f:e1:48:fd:56:70:68:f4:0f:6a:73:
    06:66:66:de:f2:48:f1:7a:67
Exponent: 65537 (0x10001)

-----BEGIN CERTIFICATE REQUEST-----
MIIBPzCBqQIBADAAMIGfMA0GCSqGSIb3DQEBAQUAA4GNADCBiQKBgQCVq9tnDFgu
xfzWz0Hf3vvAzuOIcsySn1yYh4YISteYt8GUwT1HmReKFTCHeYZWd676/PrbH/B3
9o01Z0mD4GT6q2NIFyXwQU7mM94Dw6aoOuVbFJAcZtwslKLEqVYp9wl0DxJmAuE5
G8e2eaUux0KK7a0pWEMty6E3QxDQqRkMVwIDAQABoAAwDQYJKoZIhvcNAQELBQAD
gYEAD3JOMk0Sjcy2Z2u261r7rP+qIQ+ErKXiMzTLeImAKtBGW1Jaax8bHgOdyaBe
HIZF+w1DlrXOwo1RlnXwVOPw9b3BxG22bVG9G1qchkLUa+UQtolWxMkyLb6+DcqF
3abjxBn74s2OogPEyobPY6FUZBIFme46TQtzPo+89qrk5FY=
-----END CERTIFICATE REQUEST-----

Public-Key: (1024 bit)
Modulus:
    00:95:ab:db:67:0c:58:2e:c5:fc:d6:cf:41:df:de:
    fb:c0:ce:e3:88:72:cc:92:9f:5c:98:87:86:08:4a:
    d7:98:b7:c1:94:c1:3d:47:99:17:8a:15:30:87:79:
    86:56:77:ae:fa:fc:fa:db:1f:f0:77:f6:8d:35:67:
    49:83:e0:64:fa:ab:63:48:17:25:f0:41:4e:e6:33:
    de:03:c3:a6:a8:3a:e5:5b:14:90:1c:66:dc:2c:94:
    a2:c4:a9:56:29:f7:09:74:0f:12:66:02:e1:39:1b:
    c7:b6:79:a5:2e:c7:42:8a:ed:ad:29:58:43:2d:cb:
    a1:37:43:10:d0:a9:19:0c:57
Exponent: 65537 (0x10001)

rsa
-----BEGIN PUBLIC KEY-----
MIGfMA0GCSqGSIb3DQEBAQUAA4GNADCBiQKBgQCVq9tnDFguxfzWz0Hf3vvAzuOI
csySn1yYh4YISteYt8GUwT1HmReKFTCHeYZWd676/PrbH/B39o01Z0mD4GT6q2NI
FyXwQU7mM94Dw6aoOuVbFJAcZtwslKLEqVYp9wl0DxJmAuE5G8e2eaUux0KK7a0p
WEMty6E3QxDQqRkMVwIDAQAB
-----END PUBLIC KEY-----

-----BEGIN CERTIFICATE REQUEST-----
MIIBPzCBqQIBADAAMIGfMA0GCSqGSIb3DQEBAQUAA4GNADCBiQKBgQC26Nnr/wQP
sSP7yoISZRxFIzA9CmXkUY5MYBtOaJiyqJXtsTX7iV/w9uhlGlJ8CRnIXUaAQYN2
D+ALAmBHblRdkGiJv1FHryg4KNB+MsriUhg/0ovjn+9u4S1iswfehBITDurcdTSz
c0X5s/c4YM8nllUP39mPKVNx14VfAbg9ZQIDAQABoAAwDQYJKoZIhvcNAQEMBQAD
gYEAcMH0zRgs6H+lzaRAeL6r0vufdxbfFrzqCJX/ycJhA+r0l3xbIyV7k7I2cSSM
xUd6m5Xx7Tf7ID1/94MnPP679Qr2cdoEtfEkvwLtX54WiZfc5Gul1gDL1eukwhH5
5rHR+R24uY2cnOCOZFmuYwX2mPqBawINpl9l3PpIGKdD/rw=
-----END CERTIFICATE REQUEST-----

Public-Key: (1024 bit)
Modulus:
    00:b6:e8:d9:eb:ff:04:0f:b1:23:fb:ca:82:12:65:
    1c:45:23:30:3d:0a:65:e4:51:8e:4c:60:1b:4e:68:
    98:b2:a8:95:ed:b1:35:fb:89:5f:f0:f6:e8:65:1a:
    52:7c:09:19:c8:5d:46:80:41:83:76:0f:e0:0b:02:
    60:47:6e:54:5d:90:68:89:bf:51:47:af:28:38:28:
    d0:7e:32:ca:e2:52:18:3f:d2:8b:e3:9f:ef:6e:e1:
    2d:62:b3:07:de:84:12:13:0e:ea:dc:75:34:b3:73:
    45:f9:b3:f7:38:60:cf:27:96:55:0f:df:d9:8f:29:
    53:71:d7:85:5f:01:b8:3d:65
Exponent: 65537 (0x10001)

rsa
-----BEGIN PUBLIC KEY-----
MIGfMA0GCSqGSIb3DQEBAQUAA4GNADCBiQKBgQC26Nnr/wQPsSP7yoISZRxFIzA9
CmXkUY5MYBtOaJiyqJXtsTX7iV/w9uhlGlJ8CRnIXUaAQYN2D+ALAmBHblRdkGiJ
v1FHryg4KNB+MsriUhg/0ovjn+9u4S1iswfehBITDurcdTSzc0X5s/c4YM8nllUP
39mPKVNx14VfAbg9ZQIDAQAB
-----END PUBLIC KEY-----

-----BEGIN CERTIFICATE REQUEST-----
MIICJzCCAZACAQAwKTELMAkGA1UEBhMCUk8xDDAKBgNVBAoMA1VUSTEMMAoGA1UE
CwwDc3NpMIGfMA0GCSqGSIb3DQEBAQUAA4GNADCBiQKBgQDTyrrVMttP1VYuCrrj
3aSDcm6/+3wOgbgAznF9v3OBW36nNjCHhBux4ndC9bV+hgQ18DACv6wobOd3/7TD
iOpQSnFDk8j0rnORi69u/IbZh7QyDuyHApUO9Vmp4PbLNP9q8/zmaS9Wx/utZkMF
CJr7hc1Xyn/Y3bR9AR2cN5s2FwIDAQABoIG9MIG6BgkqhkiG9w0BCQ4xgawwgakw
DgYDVR0PAQH/BAQDAgWgMC4GA1UdJQQnMCUGCCsGAQUFBwMBBglghkgBhvhCBAEG
CisGAQQBgjcKAwMGAisEMBwGA1UdEQQVMBOBEXN0ZXZlQG9wZW5zc2wub3JnMB0G
A1UdDgQWBBQVWkbgbIzqhq+FbY/xeG4W0DRqfTAZBgMqAwMEEhYQTXkgbmV3IGV4
dGVuc2lvbjAPBgMqAwQECB4GAGEAYgBjMA0GCSqGSIb3DQEBCwUAA4GBAArKuV51
gzTbjffCRSz+gR8QMQsezzPlIGKvD1DgGTMkkx8f9RF5LhqU7forYdedkZJA944j
LviDKOSZx6/R+2IVmArE8feEFwT4xwTMFbysR9BXfQ4GU07DoDYcd9Pt40W27lAm
/AwBej4HSc3jQyjhoFwB/xEEhmb9Or59kEV8
-----END CERTIFICATE REQUEST-----
Public-Key: (1024 bit)
Modulus:
    00:d3:ca:ba:d5:32:db:4f:d5:56:2e:0a:ba:e3:dd:
    a4:83:72:6e:bf:fb:7c:0e:81:b8:00:ce:71:7d:bf:
    73:81:5b:7e:a7:36:30:87:84:1b:b1:e2:77:42:f5:
    b5:7e:86:04:35:f0:30:02:bf:ac:28:6c:e7:77:ff:
    b4:c3:88:ea:50:4a:71:43:93:c8:f4:ae:73:91:8b:
    af:6e:fc:86:d9:87:b4:32:0e:ec:87:02:95:0e:f5:
    59:a9:e0:f6:cb:34:ff:6a:f3:fc:e6:69:2f:56:c7:
    fb:ad:66:43:05:08:9a:fb:85:cd:57:ca:7f:d8:dd:
    b4:7d:01:1d:9c:37:9b:36:17
Exponent: 65537 (0x10001)

-----BEGIN PUBLIC KEY-----
MIGfMA0GCSqGSIb3DQEBAQUAA4GNADCBiQKBgQDTyrrVMttP1VYuCrrj3aSDcm6/
+3wOgbgAznF9v3OBW36nNjCHhBux4ndC9bV+hgQ18DACv6wobOd3/7TDiOpQSnFD
k8j0rnORi69u/IbZh7QyDuyHApUO9Vmp4PbLNP9q8/zmaS9Wx/utZkMFCJr7hc1X
yn/Y3bR9AR2cN5s2FwIDAQAB
-----END PUBLIC KEY-----

t/Mytest.t .............. ok
t/release-kwalitee.t .... skipped: these tests are for release candidate testing
t/release-meta-json.t ... skipped: these tests are for release candidate testing
All tests successful.
Files=9, Tests=720, 48 wallclock secs ( 0.18 usr  0.05 sys + 32.02 cusr  7.70 csys = 39.95 CPU)
Result: PASS

------------------------------
PREREQUISITES
------------------------------

Prerequisite modules loaded:

requires:

    Module                 Need  Have    
    ---------------------- ----- --------
    Crypt::OpenSSL::RSA    0     0.33    
    Exporter               0     5.72    
    perl                   5.008 5.026002
    XSLoader               0     0.27    

build_requires:

    Module                 Need  Have    
    ---------------------- ----- --------
    Crypt::OpenSSL::Guess  0.11  0.15    
    Crypt::OpenSSL::RSA    0     0.33    
    File::Slurper          0     0.014   
    File::Spec::Functions  0     3.67    
    File::Temp             0     0.2304  
    Import::Into           0     1.002005
    Test::Lib              0     0.003   
    Test::More             0     1.302208

configure_requires:

    Module                 Need  Have    
    ---------------------- ----- --------
    Crypt::OpenSSL::Guess  0.11  0.15    
    ExtUtils::MakeMaker    0     7.58    

opt_requires:

    Module                 Need  Have    
    ---------------------- ----- --------
    Crypt::OpenSSL::Bignum 0     0.09    


------------------------------
ENVIRONMENT AND OTHER CONTEXT
------------------------------

Environment variables:

    AUTOMATED_TESTING = 1
    NONINTERACTIVE_TESTING = 1
    PATH = /Users/cpantesting/perl5/perlbrew/bin:/Users/cpantesting/perl5/perlbrew/perls/perl-5.32.0/bin:/usr/local/bin:/System/Cryptexes/App/usr/bin:/usr/bin:/bin:/usr/sbin:/sbin:/var/run/com.apple.security.cryptexd/codex.system/bootstrap/usr/local/bin:/var/run/com.apple.security.cryptexd/codex.system/bootstrap/usr/bin:/var/run/com.apple.security.cryptexd/codex.system/bootstrap/usr/appleinternal/bin:/Library/Apple/usr/bin:/Applications/VMware Fusion.app/Contents/Public:/usr/local/zfs/bin:/Users/cpantesting/.cargo/bin
    PERL = 5.26.2
    PERL5LIB = 
    PERL5OPT = 
    PERL5_CPANPLUS_IS_RUNNING = 11883
    PERL5_CPAN_IS_RUNNING = 11883
    PERLBREW_HOME = /Users/cpantesting/.perlbrew
    PERLBREW_MANPATH = /Users/cpantesting/perl5/perlbrew/perls/perl-5.32.0/man
    PERLBREW_PATH = /Users/cpantesting/perl5/perlbrew/bin:/Users/cpantesting/perl5/perlbrew/perls/perl-5.32.0/bin
    PERLBREW_PERL = perl-5.32.0
    PERLBREW_ROOT = /Users/cpantesting/perl5/perlbrew
    PERLBREW_SHELLRC_VERSION = 0.94
    PERLBREW_VERSION = 0.94
    PERLVER = 5.26.2
    PERL_INLINE_DIRECTORY = /Users/cpantesting/.Inline-5.26.2
    PERL_MM_USE_DEFAULT = 1
    PERL_USE_UNSAFE_INC = 0
    SHELL = /bin/bash
    TERM = screen

Perl special variables (and OS-specific diagnostics, for MSWin32):

    $^X = /Users/cpantesting/cpantesting/perl-5.26.2/bin/perl
    $UID/$EUID = 503 / 503
    $GID = 20 20 12 61 703 702 701 100
    $EGID = 20 20 12 61 703 702 701 100

Perl module toolchain versions installed:

    Module              Have      
    ------------------- ----------
    CPAN                2.18      
    CPAN::Meta          2.150010  
    Cwd                 3.67      
    ExtUtils::CBuilder  0.280236  
    ExtUtils::Command   7.58      
    ExtUtils::Install   2.06      
    ExtUtils::MakeMaker 7.58      
    ExtUtils::Manifest  1.70      
    ExtUtils::ParseXS   3.34      
    File::Spec          3.67      
    JSON                4.10      
    JSON::PP            2.27400_02
    Module::Build       0.4234    
    Module::Signature   n/a       
    Parse::CPAN::Meta   2.150010  
    Test2               1.302208  
    Test::Harness       3.38      
    Test::More          1.302208  
    YAML                1.31      
    YAML::Syck          n/a       
    version             0.9917    


--

Summary of my perl5 (revision 5 version 26 subversion 2) configuration:
   
  Platform:
    osname=darwin
    osvers=19.6.0
    archname=darwin-thread-multi-2level
    uname='darwin harrow.local 19.6.0 darwin kernel version 19.6.0: thu oct 29 22:56:45 pdt 2020; root:xnu-6153.141.2.2~1release_x86_64 x86_64 '
    config_args='-de -Dusethreads -Dprefix=/Users/cpantesting/cpantesting/perl-5.26.2'
    hint=recommended
    useposix=true
    d_sigaction=define
    useithreads=define
    usemultiplicity=define
    use64bitint=define
    use64bitall=define
    uselongdouble=undef
    usemymalloc=n
    default_inc_excludes_dot=define
    bincompat5005=undef
  Compiler:
    cc='cc'
    ccflags ='-fno-common -DPERL_DARWIN -mmacosx-version-min=10.15 -fno-strict-aliasing -pipe -fstack-protector-strong -I/usr/local/include -DPERL_USE_SAFE_PUTENV'
    optimize='-O3'
    cppflags='-fno-common -DPERL_DARWIN -mmacosx-version-min=10.15 -fno-strict-aliasing -pipe -fstack-protector-strong -I/usr/local/include'
    ccversion=''
    gccversion='Apple LLVM 12.0.0 (clang-1200.0.32.27)'
    gccosandvers=''
    intsize=4
    longsize=8
    ptrsize=8
    doublesize=8
    byteorder=12345678
    doublekind=3
    d_longlong=define
    longlongsize=8
    d_longdbl=define
    longdblsize=16
    longdblkind=3
    ivtype='long'
    ivsize=8
    nvtype='double'
    nvsize=8
    Off_t='off_t'
    lseeksize=8
    alignbytes=8
    prototype=define
  Linker and Libraries:
    ld='cc'
    ldflags =' -mmacosx-version-min=10.15 -fstack-protector-strong -L/usr/local/lib'
    libpth=/usr/local/lib /Library/Developer/CommandLineTools/usr/lib/clang/12.0.0/lib /Library/Developer/CommandLineTools/SDKs/MacOSX10.15.sdk/usr/lib /Library/Developer/CommandLineTools/usr/lib /usr/lib
    libs=-lpthread -lgdbm -ldbm -ldl -lm -lutil -lc
    perllibs=-lpthread -ldl -lm -lutil -lc
    libc=
    so=dylib
    useshrplib=false
    libperl=libperl.a
    gnulibc_version=''
  Dynamic Linking:
    dlsrc=dl_dlopen.xs
    dlext=bundle
    d_dlsymun=undef
    ccdlflags=' '
    cccdlflags=' '
    lddlflags=' -mmacosx-version-min=10.15 -bundle -undefined dynamic_lookup -L/usr/local/lib -fstack-protector-strong'


Characteristics of this binary (from libperl): 
  Compile-time options:
    HAS_TIMES
    MULTIPLICITY
    PERLIO_LAYERS
    PERL_COPY_ON_WRITE
    PERL_DONT_CREATE_GVSV
    PERL_IMPLICIT_CONTEXT
    PERL_MALLOC_WRAP
    PERL_OP_PARENT
    PERL_PRESERVE_IVUV
    PERL_USE_SAFE_PUTENV
    USE_64_BIT_ALL
    USE_64_BIT_INT
    USE_ITHREADS
    USE_LARGE_FILES
    USE_LOCALE
    USE_LOCALE_COLLATE
    USE_LOCALE_CTYPE
    USE_LOCALE_NUMERIC
    USE_LOCALE_TIME
    USE_PERLIO
    USE_PERL_ATOF
    USE_REENTRANT_API
  Built under darwin
  Compiled at Dec 29 2020 22:52:38
  %ENV:
    PERL="5.26.2"
    PERL5LIB=""
    PERL5OPT=""
    PERL5_CPANPLUS_IS_RUNNING="11883"
    PERL5_CPAN_IS_RUNNING="11883"
    PERLBREW_HOME="/Users/cpantesting/.perlbrew"
    PERLBREW_MANPATH="/Users/cpantesting/perl5/perlbrew/perls/perl-5.32.0/man"
    PERLBREW_PATH="/Users/cpantesting/perl5/perlbrew/bin:/Users/cpantesting/perl5/perlbrew/perls/perl-5.32.0/bin"
    PERLBREW_PERL="perl-5.32.0"
    PERLBREW_ROOT="/Users/cpantesting/perl5/perlbrew"
    PERLBREW_SHELLRC_VERSION="0.94"
    PERLBREW_VERSION="0.94"
    PERLVER="5.26.2"
    PERL_INLINE_DIRECTORY="/Users/cpantesting/.Inline-5.26.2"
    PERL_MM_USE_DEFAULT="1"
    PERL_USE_UNSAFE_INC="0"
  @INC:
    /Users/cpantesting/cpantesting/perl-5.26.2/lib/site_perl/5.26.2/darwin-thread-multi-2level
    /Users/cpantesting/cpantesting/perl-5.26.2/lib/site_perl/5.26.2
    /Users/cpantesting/cpantesting/perl-5.26.2/lib/5.26.2/darwin-thread-multi-2level
    /Users/cpantesting/cpantesting/perl-5.26.2/lib/5.26.2