MooseX-Types v0.51 Perl 5 v5.32.1 x86_64-linux

Status
Pass
From
Slaven Rezić
Dist
MooseX-Types v0.51
Platform
Perl 5 v5.32.1 x86_64-linux
Date
2025-04-19 22:10:13
ID
10f576fe-1d6b-11f0-bf31-cde66d8775ea
This distribution has been tested as part of the CPAN Testers
project, supporting the Perl programming language.  See
http://wiki.cpantesters.org/ for more information or email
questions to cpan-testers-discuss@perl.org


--
Dear Karen Etheridge,

This is a computer-generated report for MooseX-Types-0.51
on perl 5.32.1, created by CPAN-Reporter-1.2020.

Thank you for uploading your work to CPAN.  Congratulations!
All tests were successful.

Sections of this report:

    * Tester comments
    * Program output
    * Prerequisites
    * Environment and other context

------------------------------
TESTER COMMENTS
------------------------------

Additional comments from tester:

this report is from an automated smoke testing program
and was not reviewed by a human for accuracy

------------------------------
PROGRAM OUTPUT
------------------------------

Output from './Build test':

# 
# Versions for all modules listed in MYMETA.json (including optional ones):
# 
# === Configure Requires ===
# 
#     Module               Want     Have
#     ------------------- ----- --------
#     Module::Build::Tiny 0.034    0.051
#     perl                5.008 5.032001
# 
# === Configure Suggests ===
# 
#     Module      Want Have
#     -------- ------- ----
#     JSON::PP 2.27300 4.16
# 
# === Test Requires ===
# 
#     Module            Want     Have
#     ---------------- ----- --------
#     File::Spec         any     3.78
#     Module::Metadata   any 1.000037
#     Moose::Role        any   2.2207
#     Term::ANSIColor    any     5.01
#     Test::Fatal        any    0.017
#     Test::More        0.88 1.302209
#     Test::Needs        any 0.002010
#     if                 any   0.0608
#     lib                any     0.65
#     perl             5.008 5.032001
# 
# === Test Recommends ===
# 
#     Module         Want     Have
#     ---------- -------- --------
#     CPAN::Meta 2.120900 2.150010
# 
# === Runtime Requires ===
# 
#     Module                                 Want     Have
#     ---------------------------------- -------- --------
#     Carp                                    any     1.50
#     Carp::Clan                             6.00     6.08
#     Exporter                                any     5.78
#     Module::Runtime                         any    0.016
#     Moose                                  1.06   2.2207
#     Moose::Exporter                         any   2.2207
#     Moose::Meta::TypeConstraint::Union      any   2.2207
#     Moose::Util::TypeConstraints            any   2.2207
#     Scalar::Util                           1.19     1.69
#     Sub::Exporter                           any    0.991
#     Sub::Exporter::ForMethods          0.100052 0.100055
#     Sub::Install                            any    0.929
#     Sub::Util                               any     1.69
#     base                                    any     2.27
#     namespace::autoclean                   0.16     0.31
#     overload                                any     1.31
#     parent                                  any    0.238
#     perl                                  5.008 5.032001
#     strict                                  any     1.11
#     warnings                                any     1.47
# 
# === Other Modules ===
# 
#     Module                 Have
#     -------------------- ------
#     Dist::CheckConflicts   0.11
#     Encode                 3.21
#     File::Temp           0.2311
#     JSON::PP               4.16
#     Module::Runtime       0.016
#     Sub::Name              0.27
#     YAML                   1.31
#     autodie                2.37
#     namespace::clean       0.27
# 
t/00-report-prereqs.t .............. ok
t/10_moose-types.t ................. ok
t/11_library-definition.t .......... ok
t/12_wrapper-definition.t .......... ok
t/13_typedecorator.t ............... ok
t/14_compatibility-sub-exporter.t .. ok
t/15_recursion.t ................... ok
t/16_introspection.t ............... ok
t/17_syntax_errors.t ............... ok
t/18_combined_libs.t ............... ok
t/19_typelib_with_role.t ........... ok
t/20_union_with_string_type.t ...... ok
t/21_coerce_parameterized_types.t .. ok
t/22_class_type.t .................. ok
t/23_any_subtype.t ................. ok
t/24_class_can_isa.t ............... ok
t/25-fully-qualified.t ............. ok
t/26-multi-combined.t .............. ok
t/regressions/01-is_subtype_of.t ... ok
t/zzz-check-breaks.t ............... ok
All tests successful.
Files=20, Tests=250,  7 wallclock secs ( 0.15 usr  0.04 sys +  5.03 cusr  0.63 csys =  5.85 CPU)
Result: PASS

------------------------------
PREREQUISITES
------------------------------

Prerequisite modules loaded:

requires:

    Module                             Need     Have    
    ---------------------------------- -------- --------
    base                               0        2.27    
    Carp                               0        1.50    
    Carp::Clan                         6.00     6.08    
    Exporter                           0        5.78    
    Module::Runtime                    0        0.016   
    Moose                              1.06     2.2207  
    Moose::Exporter                    0        2.2207  
    Moose::Meta::TypeConstraint::Union 0        2.2207  
    Moose::Util::TypeConstraints       0        2.2207  
    namespace::autoclean               0.16     0.31    
    overload                           0        1.31    
    parent                             0        0.238   
    perl                               5.008    5.032001
    Scalar::Util                       1.19     1.69    
    strict                             0        1.11    
    Sub::Exporter                      0        0.991   
    Sub::Exporter::ForMethods          0.100052 0.100055
    Sub::Install                       0        0.929   
    Sub::Util                          0        1.69    
    warnings                           0        1.47    

build_requires:

    Module                             Need     Have    
    ---------------------------------- -------- --------
    File::Spec                         0        3.78    
    if                                 0        0.0608  
    lib                                0        0.65    
    Module::Metadata                   0        1.000037
    Moose::Role                        0        2.2207  
    perl                               5.008    5.032001
    Term::ANSIColor                    0        5.01    
    Test::Fatal                        0        0.017   
    Test::More                         0.88     1.302209
    Test::Needs                        0        0.002010

configure_requires:

    Module                             Need     Have    
    ---------------------------------- -------- --------
    Module::Build::Tiny                0.034    0.051   
    perl                               5.008    5.032001


------------------------------
ENVIRONMENT AND OTHER CONTEXT
------------------------------

Environment variables:

    AUTOMATED_TESTING = 1
    LANG = C
    PATH = /usr/local/bin:/usr/bin:/bin:/usr/local/sbin:/usr/sbin:/sbin:/home/cpansand/bin/linux-gnu:/home/cpansand/bin/sh:/home/cpansand/bin:/usr/games:/home/cpansand/devel:/home/eserte/src/srezic-misc/scripts
    PERL5LIB = 
    PERL5OPT = 
    PERL5_CPANPLUS_IS_RUNNING = 532297
    PERL5_CPAN_IS_RUNNING = 532297
    PERL5_CPAN_IS_RUNNING_IN_RECURSION = 525422,532297
    PERLDOC = -MPod::Perldoc::ToTextOverstrike
    PERL_BATCH = yes
    PERL_CANARY_STABILITY_NOPROMPT = 1
    PERL_CPAN_REPORTER_CONFIG = /var/tmp/cpansmoker-1023/2025041921/cpanreporter_000_config.ini
    PERL_EXTUTILS_AUTOINSTALL = --defaultdeps
    PERL_USE_UNSAFE_INC = 1
    SHELL = /usr/bin/zsh
    TERM = screen
    TMPDIR = /var/tmp/cpansmoker-1023/2025041921

Perl special variables (and OS-specific diagnostics, for MSWin32):

    $^X = /opt/perl-5.32.1/bin/perl
    $UID/$EUID = 1023 / 1023
    $GID = 1023 1023
    $EGID = 1023 1023

Perl module toolchain versions installed:

    Module              Have    
    ------------------- --------
    CPAN                2.27    
    CPAN::Meta          2.150010
    Cwd                 3.78    
    ExtUtils::CBuilder  0.280236
    ExtUtils::Command   7.70    
    ExtUtils::Install   2.22    
    ExtUtils::MakeMaker 7.70    
    ExtUtils::Manifest  1.75    
    ExtUtils::ParseXS   3.51    
    File::Spec          3.78    
    JSON                4.10    
    JSON::PP            4.16    
    Module::Build       0.4234  
    Module::Signature   n/a     
    Parse::CPAN::Meta   2.150010
    Test2               1.302209
    Test::Harness       3.50    
    Test::More          1.302209
    YAML                1.31    
    YAML::Syck          1.34    
    version             0.9924  


--

Summary of my perl5 (revision 5 version 32 subversion 1) configuration:
   
  Platform:
    osname=linux
    osvers=6.1.0-26-amd64
    archname=x86_64-linux
    uname='linux cloud5.bbbike.org 6.1.0-26-amd64 #1 smp preempt_dynamic debian 6.1.112-1 (2024-09-30) x86_64 gnulinux '
    config_args='-ds -e -Dprefix=/opt/perl-5.32.1 -Uinstallusrbinperl -Dcf_email=srezic@cpan.org'
    hint=recommended
    useposix=true
    d_sigaction=define
    useithreads=undef
    usemultiplicity=undef
    use64bitint=define
    use64bitall=define
    uselongdouble=undef
    usemymalloc=n
    default_inc_excludes_dot=define
    bincompat5005=undef
  Compiler:
    cc='cc'
    ccflags ='-fwrapv -fno-strict-aliasing -pipe -fstack-protector-strong -I/usr/local/include -D_LARGEFILE_SOURCE -D_FILE_OFFSET_BITS=64 -D_FORTIFY_SOURCE=2'
    optimize='-O2'
    cppflags='-fwrapv -fno-strict-aliasing -pipe -fstack-protector-strong -I/usr/local/include'
    ccversion=''
    gccversion='12.2.0'
    gccosandvers=''
    intsize=4
    longsize=8
    ptrsize=8
    doublesize=8
    byteorder=12345678
    doublekind=3
    d_longlong=define
    longlongsize=8
    d_longdbl=define
    longdblsize=16
    longdblkind=3
    ivtype='long'
    ivsize=8
    nvtype='double'
    nvsize=8
    Off_t='off_t'
    lseeksize=8
    alignbytes=8
    prototype=define
  Linker and Libraries:
    ld='cc'
    ldflags =' -fstack-protector-strong -L/usr/local/lib'
    libpth=/usr/local/lib /usr/include/x86_64-linux-gnu /usr/lib /lib/x86_64-linux-gnu /lib/../lib /usr/lib/x86_64-linux-gnu /usr/lib/../lib /lib /lib64 /usr/lib64
    libs=-lpthread -lnsl -lgdbm -ldb -ldl -lm -lcrypt -lutil -lc
    perllibs=-lpthread -lnsl -ldl -lm -lcrypt -lutil -lc
    libc=/lib/x86_64-linux-gnu/libc.so.6
    so=so
    useshrplib=false
    libperl=libperl.a
    gnulibc_version='2.36'
  Dynamic Linking:
    dlsrc=dl_dlopen.xs
    dlext=so
    d_dlsymun=undef
    ccdlflags='-Wl,-E'
    cccdlflags='-fPIC'
    lddlflags='-shared -O2 -L/usr/local/lib -fstack-protector-strong'


Characteristics of this binary (from libperl): 
  Compile-time options:
    HAS_TIMES
    PERLIO_LAYERS
    PERL_COPY_ON_WRITE
    PERL_DONT_CREATE_GVSV
    PERL_MALLOC_WRAP
    PERL_OP_PARENT
    PERL_PRESERVE_IVUV
    USE_64_BIT_ALL
    USE_64_BIT_INT
    USE_LARGE_FILES
    USE_LOCALE
    USE_LOCALE_COLLATE
    USE_LOCALE_CTYPE
    USE_LOCALE_NUMERIC
    USE_LOCALE_TIME
    USE_PERLIO
    USE_PERL_ATOF
  Built under linux
  Compiled at Oct 15 2024 05:31:13
  %ENV:
    PERL5LIB=""
    PERL5OPT=""
    PERL5_CPANPLUS_IS_RUNNING="532297"
    PERL5_CPAN_IS_RUNNING="532297"
    PERL5_CPAN_IS_RUNNING_IN_RECURSION="525422,532297"
    PERLDOC="-MPod::Perldoc::ToTextOverstrike"
    PERL_BATCH="yes"
    PERL_CANARY_STABILITY_NOPROMPT="1"
    PERL_CPAN_REPORTER_CONFIG="/var/tmp/cpansmoker-1023/2025041921/cpanreporter_000_config.ini"
    PERL_EXTUTILS_AUTOINSTALL="--defaultdeps"
    PERL_USE_UNSAFE_INC="1"
  @INC:
    /opt/perl-5.32.1/lib/site_perl/5.32.1/x86_64-linux
    /opt/perl-5.32.1/lib/site_perl/5.32.1
    /opt/perl-5.32.1/lib/5.32.1/x86_64-linux
    /opt/perl-5.32.1/lib/5.32.1
    .