Report for Crypt-SSLeay-0.72

Back
From: metabase:user:a775b512-5229-11e4-9828-f1a611f16c33
Subject: PASS Crypt-SSLeay-0.72 v5.18.2 
Date: 2016-03-15T07:12:45Z

This distribution has been tested as part of the CPAN Testers
project, supporting the Perl programming language.  See
http://wiki.cpantesters.org/ for more information or email
questions to cpan-testers-discuss@perl.org


--
Dear A. Sinan Unur,

This is a computer-generated report for Crypt-SSLeay-0.72
on perl 5.18.2, created by CPAN-Reporter-1.2017.

Thank you for uploading your work to CPAN.  Congratulations!
All tests were successful.

Sections of this report:

    * Tester comments
    * Program output
    * Prerequisites
    * Environment and other context

------------------------------
TESTER COMMENTS
------------------------------

Additional comments from tester:

none provided

------------------------------
PROGRAM OUTPUT
------------------------------

Output from 'C:\strawberry\c\bin\dmake.exe test':

C:\STRAWBERRY\PERL\BIN\perl.exe "-MExtUtils::Command::MM" "-MTest::Harness" "-e" "undef *Test::Harness::Switches; test_harness(0, 'blib\lib', 'blib\arch')" t/*.t
t/00-basic.t ..... ok
t/01-connect.t ... ok
# Reading configuration from 'test.config' on MSWin32
# network_tests : 0
t/02-live.t ...... skipped: Network tests disabled
#     You have 'OpenSSL 1.0.1e 11 Feb 2013'
#     built on 'built on: Sat Aug 10 08:44:58 GMT 2013'
#     and SSL Heartbeats are not disabled.
# 
#     That means your client may be vulnerable to a server exploiting the
#     Heartbleed bug unless the vulnerability was patched without changing
#     version. The vulnerability was disclosed on or about 2014/04/07. A
#     build date after that may indicate that the library you are using
#     may have been patched. You should check this.
# 
#     The risk is compounded by the fact that Crypt::SSLeay does not
#     verify hosts.  You can still force install Crypt::SSLeay, but you
#     need to be aware of this issue, and strongly consider upgrading to a
#     safer version of OpenSSL.
# 
#     See also:
# 
#       - https://cve.mitre.org/cgi-bin/cvename.cgi?name=CVE-2014-0160
#       - http://isc.sans.edu/diary/17945
#       - http://seclists.org/fulldisclosure/2014/Apr/91
t/03-version.t ... ok
t/boilerplate.t .. ok
t/manifest.t ..... skipped: Author tests not required for installation
All tests successful.
Files=6, Tests=43,  2 wallclock secs ( 0.08 usr +  0.00 sys =  0.08 CPU)
Result: PASS

------------------------------
PREREQUISITES
------------------------------

Prerequisite modules loaded:

requires:

    Module               Need     Have    
    -------------------- -------- --------
    LWP::Protocol::https 6.02     6.04    
    MIME::Base64         0        3.14    
    perl                 5.006    5.018002

build_requires:

    Module               Need     Have    
    -------------------- -------- --------
    ExtUtils::MakeMaker  0        6.84    
    Test::More           0.19     1.001002
    Try::Tiny            0.19     0.24    

configure_requires:

    Module               Need     Have    
    -------------------- -------- --------
    ExtUtils::CBuilder   0.280205 0.280212
    Getopt::Long         0        2.42    
    Path::Class          0.26     0.36    
    Try::Tiny            0.19     0.24    


------------------------------
ENVIRONMENT AND OTHER CONTEXT
------------------------------

Environment variables:

    COMSPEC = C:\Windows\system32\cmd.exe
    NUMBER_OF_PROCESSORS = 8
    PATH = C:\Program Files (x86)\NVIDIA Corporation\PhysX\Common;C:\PROGRAM FILES\DELL\DW WLAN CARD;C:\Windows\SYSTEM32;C:\Windows;C:\Windows\SYSTEM32\WBEM;C:\Windows\SYSTEM32\WINDOWSPOWERSHELL\V1.0\;C:\STRAWBERRY\C\BIN;C:\STRAWBERRY\PERL\SITE\BIN;C:\STRAWBERRY\PERL\BIN;C:\PROGRAM FILES (X86)\GIT\CMD;C:\Program Files\WIDCOMM\Bluetooth Software\;C:\Program Files\WIDCOMM\Bluetooth Software\syswow64;C:\Users\mauke\bin
    PERL5LIB = 
    PERL5OPT = 
    PERL5_CPANPLUS_IS_RUNNING = 3476
    PERL5_CPAN_IS_RUNNING = 3476
    PROCESSOR_IDENTIFIER = Intel64 Family 6 Model 60 Stepping 3, GenuineIntel
    TEMP = C:\Users\mauke\AppData\Local\Temp
    TERM = dumb

Perl special variables (and OS-specific diagnostics, for MSWin32):

    $^X = C:\STRAWBERRY\PERL\BIN\perl.exe
    $UID/$EUID = 0 / 0
    $GID = 0
    $EGID = 0
    Win32::GetOSName = Win7
    Win32::GetOSVersion = Service Pack 1, 6, 1, 7601, 2, 1, 0, 256, 1
    Win32::FsType = NTFS
    Win32::IsAdminUser = 0

Perl module toolchain versions installed:

    Module              Have    
    ------------------- --------
    CPAN                2.10    
    CPAN::Meta          2.150005
    Cwd                 3.40    
    ExtUtils::CBuilder  0.280212
    ExtUtils::Command   1.18    
    ExtUtils::Install   1.59    
    ExtUtils::MakeMaker 6.84    
    ExtUtils::Manifest  1.63    
    ExtUtils::ParseXS   3.22    
    File::Spec          3.40    
    JSON                2.90    
    JSON::PP            2.27300 
    Module::Build       0.4203  
    Module::Signature   n/a     
    Parse::CPAN::Meta   1.4414  
    Test::Harness       3.30    
    Test::More          1.001002
    YAML                0.88    
    YAML::Syck          n/a     
    version             0.9904  


--

Summary of my perl5 (revision 5 version 18 subversion 2) configuration:
   
  Platform:
    osname=MSWin32, osvers=6.2, archname=MSWin32-x64-multi-thread
    uname='Win32 strawberry-perl 5.18.2.1 #1 Tue Jan  7 22:32:35 2014 x64'
    config_args='undef'
    hint=recommended, useposix=true, d_sigaction=undef
    useithreads=define, usemultiplicity=define
    useperlio=define, d_sfio=undef, uselargefiles=define, usesocks=undef
    use64bitint=define, use64bitall=undef, uselongdouble=undef
    usemymalloc=n, bincompat5005=undef
  Compiler:
    cc='gcc', ccflags =' -s -O2 -DWIN32 -DWIN64 -DCONSERVATIVE  -DPERL_TEXTMODE_SCRIPTS -DPERL_IMPLICIT_CONTEXT -DPERL_IMPLICIT_SYS -DUSE_PERLIO -fno-strict-aliasing -mms-bitfields',
    optimize='-s -O2',
    cppflags='-DWIN32'
    ccversion='', gccversion='4.7.3', gccosandvers=''
    intsize=4, longsize=4, ptrsize=8, doublesize=8, byteorder=12345678
    d_longlong=define, longlongsize=8, d_longdbl=define, longdblsize=12
    ivtype='long long', ivsize=8, nvtype='double', nvsize=8, Off_t='long long', lseeksize=8
    alignbytes=8, prototype=define
  Linker and Libraries:
    ld='g++', ldflags ='-s -L"C:\strawberry\perl\lib\CORE" -L"C:\strawberry\c\lib"'
    libpth=C:\strawberry\c\lib C:\strawberry\c\x86_64-w64-mingw32\lib C:\strawberry\c\lib\gcc\x86_64-w64-mingw32\4.7.3
    libs=-lmoldname -lkernel32 -luser32 -lgdi32 -lwinspool -lcomdlg32 -ladvapi32 -lshell32 -lole32 -loleaut32 -lnetapi32 -luuid -lws2_32 -lmpr -lwinmm -lversion -lodbc32 -lodbccp32 -lcomctl32
    perllibs=-lmoldname -lkernel32 -luser32 -lgdi32 -lwinspool -lcomdlg32 -ladvapi32 -lshell32 -lole32 -loleaut32 -lnetapi32 -luuid -lws2_32 -lmpr -lwinmm -lversion -lodbc32 -lodbccp32 -lcomctl32
    libc=, so=dll, useshrplib=true, libperl=libperl518.a
    gnulibc_version=''
  Dynamic Linking:
    dlsrc=dl_win32.xs, dlext=dll, d_dlsymun=undef, ccdlflags=' '
    cccdlflags=' ', lddlflags='-mdll -s -L"C:\strawberry\perl\lib\CORE" -L"C:\strawberry\c\lib"'


Characteristics of this binary (from libperl): 
  Compile-time options: HAS_TIMES HAVE_INTERP_INTERN MULTIPLICITY
                        PERLIO_LAYERS PERL_DONT_CREATE_GVSV
                        PERL_HASH_FUNC_ONE_AT_A_TIME_HARD
                        PERL_IMPLICIT_CONTEXT PERL_IMPLICIT_SYS
                        PERL_MALLOC_WRAP PERL_PRESERVE_IVUV PERL_SAWAMPERSAND
                        USE_64_BIT_INT USE_ITHREADS USE_LARGE_FILES
                        USE_LOCALE USE_LOCALE_COLLATE USE_LOCALE_CTYPE
                        USE_LOCALE_NUMERIC USE_PERLIO USE_PERL_ATOF
  Built under MSWin32
  Compiled at Jan  7 2014 22:40:30
  %ENV:
    PERL5_CPANPLUS_IS_RUNNING="3476"
    PERL5_CPAN_IS_RUNNING="3476"
  @INC:
    C:/STRAWBERRY/perl/site/lib
    C:/STRAWBERRY/perl/vendor/lib
    C:/STRAWBERRY/perl/lib
    .