HTML-Form v6.04 Perl 5 v5.18.0 i86pc-solaris-thread-multi
- Status
- Pass
- From
- Nigel Horne
- Dist
-
HTML-Form v6.04
- Platform
- Perl 5 v5.18.0 i86pc-solaris-thread-multi
- Date
- 2019-08-28 21:30:33
- ID
- 1117eb1a-c9db-11e9-881a-90886591036d
This distribution has been tested as part of the CPAN Testers
project, supporting the Perl programming language. See
http://wiki.cpantesters.org/ for more information or email
questions to cpan-testers-discuss@perl.org
--
Dear Olaf Alders,
This is a computer-generated report for HTML-Form-6.04
on perl 5.18.0, created by CPAN-Reporter-1.2018.
Thank you for uploading your work to CPAN. Congratulations!
All tests were successful.
Sections of this report:
* Tester comments
* Program output
* Prerequisites
* Environment and other context
------------------------------
TESTER COMMENTS
------------------------------
Additional comments from tester:
this report is from an automated smoke testing program
and was not reviewed by a human for accuracy
------------------------------
PROGRAM OUTPUT
------------------------------
Output from '/usr/bin/make test':
PERL_DL_NONLAZY=1 "/export/home/njh/perl5/perlbrew/perls/perl-5.18.0-thread/bin/perl5.18.0" "-MExtUtils::Command::MM" "-MTest::Harness" "-e" "undef *Test::Harness::Switches; test_harness(0, 'blib/lib', 'blib/arch')" t/*.t
#
# Versions for all modules listed in MYMETA.json (including optional ones):
#
# === Configure Requires ===
#
# Module Want Have
# ------------------- ---- ----
# ExtUtils::MakeMaker any 7.34
#
# === Build Requires ===
#
# Module Want Have
# ------------------- ---- ----
# ExtUtils::MakeMaker any 7.34
#
# === Test Requires ===
#
# Module Want Have
# ------------------- ---- --------
# ExtUtils::MakeMaker any 7.34
# File::Spec any 3.75
# HTTP::Response any 6.18
# Test any 1.26
# Test::More any 1.302140
# lib any 0.63
# warnings any 1.18
#
# === Test Recommends ===
#
# Module Want Have
# ---------- -------- --------
# CPAN::Meta 2.120900 2.150010
#
# === Runtime Requires ===
#
# Module Want Have
# --------------------- ---- ----
# Carp any 1.50
# Encode 2 2.98
# HTML::TokeParser any 3.69
# HTTP::Request 6 6.18
# HTTP::Request::Common 6.03 6.18
# URI 1.10 1.74
# strict any 1.07
# vars any 1.03
#
t/00-report-prereqs.t .. ok
t/autocomplete.t ....... ok
t/form-label.t ......... ok
t/form-maxlength.t ..... ok
t/form-multi-select.t .. ok
t/form-param.t ......... ok
t/form-selector.t ...... ok
t/form-unicode.t ....... ok
t/form.t ............... ok
All tests successful.
Files=9, Tests=198, 1 wallclock secs ( 0.06 usr 0.03 sys + 0.80 cusr 0.15 csys = 1.04 CPU)
Result: PASS
------------------------------
PREREQUISITES
------------------------------
Prerequisite modules loaded:
requires:
Module Need Have
--------------------- -------- --------
Carp 0 1.50
Encode 2 2.98
HTML::TokeParser 0 3.69
HTTP::Request 6 6.18
HTTP::Request::Common 6.03 6.18
perl 5.008001 5.018000
strict 0 1.07
URI 1.10 1.74
vars 0 1.03
build_requires:
Module Need Have
--------------------- -------- --------
ExtUtils::MakeMaker 0 7.34
File::Spec 0 3.75
HTTP::Response 0 6.18
lib 0 0.63
Test 0 1.26
Test::More 0 1.302140
warnings 0 1.18
configure_requires:
Module Need Have
--------------------- -------- --------
ExtUtils::MakeMaker 0 7.34
------------------------------
ENVIRONMENT AND OTHER CONTEXT
------------------------------
Environment variables:
AUTOMATED_TESTING = 1
NONINTERACTIVE_TESTING = 1
PATH = /export/home/njh/perl5/perlbrew/bin:/export/home/njh/perl5/perlbrew/perls/perl-5.18.0-thread/bin:/export/home/njh/src/njh/smoker/bin:/usr/bin
PERL5LIB = /export/home/njh/.cpan/build/Test-MockModule-v0.170.0-7/blib/arch:/export/home/njh/.cpan/build/Test-MockModule-v0.170.0-7/blib/lib:/export/home/njh/.cpan/build/SUPER-1.20190531-7/blib/arch:/export/home/njh/.cpan/build/SUPER-1.20190531-7/blib/lib
PERL5OPT =
PERL5_CPANPLUS_IS_RUNNING = 5839
PERL5_CPAN_IS_RUNNING = 5839
PERL5_CPAN_IS_RUNNING_IN_RECURSION = 5821,5839
PERLBREW_HOME = /export/home/njh/.perlbrew
PERLBREW_MANPATH = /export/home/njh/perl5/perlbrew/perls/perl-5.18.0-thread/man
PERLBREW_PATH = /export/home/njh/perl5/perlbrew/bin:/export/home/njh/perl5/perlbrew/perls/perl-5.18.0-thread/bin
PERLBREW_PERL = perl-5.18.0-thread
PERLBREW_ROOT = /export/home/njh/perl5/perlbrew
PERLBREW_SHELLRC_VERSION = 0.84
PERLBREW_VERSION = 0.84
PERL_MM_USE_DEFAULT = 1
PERL_USE_UNSAFE_INC = 1
SHELL = /usr/bin/bash
TERM = dumb
TMPDIR = /tmp/testwrapper.5825
Perl special variables (and OS-specific diagnostics, for MSWin32):
$^X = /export/home/njh/perl5/perlbrew/perls/perl-5.18.0-thread/bin/perl5.18.0
$UID/$EUID = 101 / 101
$GID = 10 10
$EGID = 10 10
Perl module toolchain versions installed:
Module Have
------------------- --------
CPAN 2.26
CPAN::Meta 2.150010
Cwd 3.75
ExtUtils::CBuilder 0.280230
ExtUtils::Command 7.34
ExtUtils::Install 2.14
ExtUtils::MakeMaker 7.34
ExtUtils::Manifest 1.71
ExtUtils::ParseXS 3.35
File::Spec 3.75
JSON 4.02
JSON::PP 4.03
Module::Build 0.4224
Module::Signature n/a
Parse::CPAN::Meta 2.150010
Test::Harness 3.42
Test::More 1.302140
YAML 1.29
YAML::Syck 1.31
version 0.9924
--
Summary of my perl5 (revision 5 version 18 subversion 0) configuration:
Platform:
osname=solaris, osvers=2.11, archname=i86pc-solaris-thread-multi
uname='sunos vultr1.bandsman.co.uk 5.11 illumos-b075503f22 i86pc i386 i86pc '
config_args='-de -Dprefix=/export/home/njh/perl5/perlbrew/perls/perl-5.18.0-thread -Dusedevel -Dusethreads -Accflags= -Aeval:scriptdir=/export/home/njh/perl5/perlbrew/perls/perl-5.18.0-thread/bin'
hint=recommended, useposix=true, d_sigaction=define
useithreads=define, usemultiplicity=define
useperlio=define, d_sfio=undef, uselargefiles=define, usesocks=undef
use64bitint=undef, use64bitall=undef, uselongdouble=undef
usemymalloc=n, bincompat5005=undef
Compiler:
cc='/opt/SUNWspro/bin/cc', ccflags ='-D_REENTRANT -I/usr/gnu/include -D_LARGEFILE_SOURCE -D_FILE_OFFSET_BITS=64 -DPERL_USE_SAFE_PUTENV',
optimize='-O',
cppflags='-D_REENTRANT -I/usr/gnu/include'
ccversion='Sun C 5.10 SunOS_i386 2009/06/03', gccversion='', gccosandvers=''
intsize=4, longsize=4, ptrsize=4, doublesize=8, byteorder=1234
d_longlong=define, longlongsize=8, d_longdbl=define, longdblsize=12
ivtype='long', ivsize=4, nvtype='double', nvsize=8, Off_t='off_t', lseeksize=8
alignbytes=4, prototype=define
Linker and Libraries:
ld='/opt/SUNWspro/bin/cc', ldflags =' -L/usr/lib -L/usr/ccs/lib -L/opt/sunstudio12.1/prod/lib -L/lib -L/usr/gnu/lib '
libpth=/usr/lib /usr/ccs/lib /opt/sunstudio12.1/prod/lib /lib /usr/gnu/lib
libs=-lsocket -lnsl -lgdbm -ldb -ldl -lm -lpthread -lc
perllibs=-lsocket -lnsl -ldl -lm -lpthread -lc
libc=/lib/libc.so, so=so, useshrplib=true, libperl=libperl.so
gnulibc_version=''
Dynamic Linking:
dlsrc=dl_dlopen.xs, dlext=so, d_dlsymun=undef, ccdlflags=' -R /export/home/njh/perl5/perlbrew/perls/perl-5.18.0-thread/lib/5.18.0/i86pc-solaris-thread-multi/CORE'
cccdlflags='-KPIC', lddlflags='-G -L/usr/lib -L/usr/ccs/lib -L/opt/sunstudio12.1/prod/lib -L/lib -L/usr/gnu/lib'
Characteristics of this binary (from libperl):
Compile-time options: HAS_TIMES MULTIPLICITY PERLIO_LAYERS
PERL_DONT_CREATE_GVSV
PERL_HASH_FUNC_ONE_AT_A_TIME_HARD
PERL_IMPLICIT_CONTEXT PERL_MALLOC_WRAP
PERL_PRESERVE_IVUV PERL_SAWAMPERSAND PERL_USE_DEVEL
PERL_USE_SAFE_PUTENV USE_ITHREADS USE_LARGE_FILES
USE_LOCALE USE_LOCALE_COLLATE USE_LOCALE_CTYPE
USE_LOCALE_NUMERIC USE_PERLIO USE_PERL_ATOF
USE_REENTRANT_API
Locally applied patches:
Devel::PatchPerl 1.52
Built under solaris
Compiled at Sep 18 2018 00:42:48
%ENV:
PERL5LIB="/export/home/njh/.cpan/build/Test-MockModule-v0.170.0-7/blib/arch:/export/home/njh/.cpan/build/Test-MockModule-v0.170.0-7/blib/lib:/export/home/njh/.cpan/build/SUPER-1.20190531-7/blib/arch:/export/home/njh/.cpan/build/SUPER-1.20190531-7/blib/lib"
PERL5OPT=""
PERL5_CPANPLUS_IS_RUNNING="5839"
PERL5_CPAN_IS_RUNNING="5839"
PERL5_CPAN_IS_RUNNING_IN_RECURSION="5821,5839"
PERLBREW_HOME="/export/home/njh/.perlbrew"
PERLBREW_MANPATH="/export/home/njh/perl5/perlbrew/perls/perl-5.18.0-thread/man"
PERLBREW_PATH="/export/home/njh/perl5/perlbrew/bin:/export/home/njh/perl5/perlbrew/perls/perl-5.18.0-thread/bin"
PERLBREW_PERL="perl-5.18.0-thread"
PERLBREW_ROOT="/export/home/njh/perl5/perlbrew"
PERLBREW_SHELLRC_VERSION="0.84"
PERLBREW_VERSION="0.84"
PERL_MM_USE_DEFAULT="1"
PERL_USE_UNSAFE_INC="1"
@INC:
/export/home/njh/.cpan/build/Test-MockModule-v0.170.0-7/blib/arch
/export/home/njh/.cpan/build/Test-MockModule-v0.170.0-7/blib/lib
/export/home/njh/.cpan/build/SUPER-1.20190531-7/blib/arch
/export/home/njh/.cpan/build/SUPER-1.20190531-7/blib/lib
/export/home/njh/perl5/perlbrew/perls/perl-5.18.0-thread/lib/site_perl/5.18.0/i86pc-solaris-thread-multi
/export/home/njh/perl5/perlbrew/perls/perl-5.18.0-thread/lib/site_perl/5.18.0
/export/home/njh/perl5/perlbrew/perls/perl-5.18.0-thread/lib/5.18.0/i86pc-solaris-thread-multi
/export/home/njh/perl5/perlbrew/perls/perl-5.18.0-thread/lib/5.18.0
.