Report for XML-CompileX-Schema-Loader-0.003

Back
From: metabase:user:314402c4-2aae-11df-837a-5e0a49663a4f
Subject: PASS XML-CompileX-Schema-Loader-0.003 v5.18.2 GNU/Linux
Date: 2015-01-07T01:46:58Z

This distribution has been tested as part of the CPAN Testers
project, supporting the Perl programming language.  See
http://wiki.cpantesters.org/ for more information or email
questions to cpan-testers-discuss@perl.org


--
Dear Mark Gardner,

This is a computer-generated report for XML-CompileX-Schema-Loader-0.003
on perl 5.18.2, created by CPAN-Reporter-1.2010.

Thank you for uploading your work to CPAN.  Congratulations!
All tests were successful.

Sections of this report:

    * Tester comments
    * Program output
    * Prerequisites
    * Environment and other context

------------------------------
TESTER COMMENTS
------------------------------

Additional comments from tester:

none provided

------------------------------
PROGRAM OUTPUT
------------------------------

Output from '/usr/bin/make test':

PERL_DL_NONLAZY=1 "/opt/perl-5.18.2/bin/perl5.18.2" "-MExtUtils::Command::MM" "-MTest::Harness" "-e" "undef *Test::Harness::Switches; test_harness(0, 'blib/lib', 'blib/arch')" t/*.t
t/00-compile.t ............... ok
# Testing with Perl 5.018002, /opt/perl-5.18.2/bin/perl5.18.2
#     CHI version is 0.58
#     Carp version is 1.29
#     Const::Fast version is 0.014
#     ExtUtils::MakeMaker version is 7.04
#     File::Spec version is 3.40
#     HTTP::Exception version is 0.04006
#     HTTP::Response version is 6.04
#     HTTP::Status version is 6.03
#     IO::Handle version is 1.34
#     IO::Prompt::Tiny version is 0.002
#     IPC::Open3 version is 1.13
#     LWP::UserAgent version is 6.06
#     List::MoreUtils version is 0.402
#     Modern::Perl version is 1.20140107
#     Moo version is 1.006001
#     MooX::Types::MooseLike::Base version is 0.27
#     Path::Tiny version is 0.061
#     Scalar::Util version is 1.41
#     Test::LWP::UserAgent version is 0.026
#     Test::More version is 1.001014
#     Test::Most version is 0.34
#     Test::TempDir::Tiny version is 0.003
#     URI version is 1.65
#     URI::file version is 4.21
#     WWW::Mechanize::Cached version is 1.44
#     XML::Compile::SOAP11 version is 3.06
#     XML::Compile::SOAP::Util version is 3.06
#     XML::Compile::Transport::SOAPHTTP version is 3.06
#     XML::Compile::Util version is 1.48
#     XML::Compile::WSDL11 version is 3.03
#     XML::LibXML version is 2.0110
#     strict version is 1.07
#     utf8 version is 1.10
#     warnings version is 1.18
t/000-report-versions.t ...... ok
t/author-critic.t ............ skipped: these tests are for testing by the author
t/author-eol.t ............... skipped: these tests are for testing by the author
t/author-no-tabs.t ........... skipped: these tests are for testing by the author
t/netsuite_2014_2_0.t ........ ok
t/release-cpan-changes.t ..... skipped: these tests are for release candidate testing
t/release-dist-manifest.t .... skipped: these tests are for release candidate testing
t/release-distmeta.t ......... skipped: these tests are for release candidate testing
t/release-kwalitee.t ......... skipped: these tests are for release candidate testing
t/release-meta-json.t ........ skipped: these tests are for release candidate testing
t/release-minimum-version.t .. skipped: these tests are for release candidate testing
t/release-mojibake.t ......... skipped: these tests are for release candidate testing
t/release-pod-coverage.t ..... skipped: these tests are for release candidate testing
t/release-pod-linkcheck.t .... skipped: these tests are for release candidate testing
t/release-pod-syntax.t ....... skipped: these tests are for release candidate testing
t/release-portability.t ...... skipped: these tests are for release candidate testing
t/release-synopsis.t ......... skipped: these tests are for release candidate testing
t/release-test-version.t ..... skipped: these tests are for release candidate testing
t/release-unused-vars.t ...... skipped: these tests are for release candidate testing
Use of uninitialized value $ns in hash element at /opt/perl-5.18.2/lib/site_perl/5.18.2/XML/Compile/Cache.pm line 125.
Use of uninitialized value $ns in hash element at /opt/perl-5.18.2/lib/site_perl/5.18.2/XML/Compile/Cache.pm line 134.
Use of uninitialized value $ns in concatenation (.) or string at /opt/perl-5.18.2/lib/site_perl/5.18.2/XML/Compile/Cache.pm line 135.
Use of uninitialized value in string eq at /opt/perl-5.18.2/lib/site_perl/5.18.2/XML/Compile/Cache.pm line 166.
Use of uninitialized value $ns in string eq at /opt/perl-5.18.2/lib/site_perl/5.18.2/XML/Compile/Cache.pm line 166.
Use of uninitialized value in string eq at /opt/perl-5.18.2/lib/site_perl/5.18.2/XML/Compile/Cache.pm line 166.
Use of uninitialized value $ns in string eq at /opt/perl-5.18.2/lib/site_perl/5.18.2/XML/Compile/Cache.pm line 166.
Use of uninitialized value in string eq at /opt/perl-5.18.2/lib/site_perl/5.18.2/XML/Compile/Cache.pm line 166.
Use of uninitialized value $ns in string eq at /opt/perl-5.18.2/lib/site_perl/5.18.2/XML/Compile/Cache.pm line 166.
t/stockquote.t ............... ok
All tests successful.
Files=21, Tests=46,  7 wallclock secs ( 0.15 usr  0.01 sys +  5.17 cusr  0.32 csys =  5.65 CPU)
Result: PASS

------------------------------
PREREQUISITES
------------------------------

Prerequisite modules loaded:

requires:

    Module                            Need  Have      
    --------------------------------- ----- ----------
    HTTP::Exception                   0     0.04006   
    List::MoreUtils                   0     0.402     
    LWP::UserAgent                    0     6.06      
    Modern::Perl                      0     1.20140107
    Moo                               0     1.006001  
    MooX::Types::MooseLike::Base      0     0.27      
    perl                              5.010 5.018002  
    URI                               0     1.65      
    utf8                              0     1.10      
    XML::Compile::SOAP::Util          0     3.06      
    XML::Compile::Util                0     1.48      
    XML::Compile::WSDL11              0     3.03      
    XML::LibXML                       0     2.0110    

build_requires:

    Module                            Need  Have      
    --------------------------------- ----- ----------
    Carp                              0     1.29      
    CHI                               0     0.58      
    Const::Fast                       0     0.014     
    ExtUtils::MakeMaker               0     7.04      
    File::Spec                        0     3.40      
    HTTP::Response                    0     6.04      
    HTTP::Status                      0     6.03      
    IO::Handle                        0     1.34      
    IO::Prompt::Tiny                  0     0.002     
    IPC::Open3                        0     1.13      
    Path::Tiny                        0     0.061     
    Scalar::Util                      0     1.41      
    strict                            0     1.07      
    Test::LWP::UserAgent              0     0.026     
    Test::More                        0.94  1.001014  
    Test::Most                        0     0.34      
    Test::TempDir::Tiny               0     0.003     
    URI::file                         0     4.21      
    warnings                          0     1.18      
    WWW::Mechanize::Cached            0     1.44      
    XML::Compile::SOAP11              0     3.06      
    XML::Compile::Transport::SOAPHTTP 0     3.06      

configure_requires:

    Module                            Need  Have      
    --------------------------------- ----- ----------
    ExtUtils::MakeMaker               0     7.04      


------------------------------
ENVIRONMENT AND OTHER CONTEXT
------------------------------

Environment variables:

    DBIC_NO_WARN_BAD_PERL = 1
    LANG = en_US.UTF-8
    LANGUAGE = en_US:en
    PATH = /usr/local/bin:/usr/bin:/bin:/usr/local/sbin:/usr/sbin:/sbin:/home/cpansand/bin/linux-gnu:/home/cpansand/bin/sh:/home/cpansand/bin:/usr/games:/home/cpansand/devel:/home/eserte/src/srezic-misc/scripts
    PERL5LIB = 
    PERL5OPT = 
    PERL5_CPANPLUS_IS_RUNNING = 4874
    PERL5_CPAN_IS_RUNNING = 4874
    PERL5_CPAN_IS_RUNNING_IN_RECURSION = 4751,4874
    PERLDOC = -MPod::Perldoc::ToTextOverstrike
    PERL_BATCH = yes
    PERL_CPAN_REPORTER_CONFIG = /var/tmp/cpansmoker-1023/1t2yGwWERA_config.ini
    PERL_EXTUTILS_AUTOINSTALL = --defaultdeps
    PERL_HTML_DISPLAY_CLASS = HTML::Display::Mozilla
    SHELL = /bin/zsh
    TERM = screen
    TMPDIR = /var/tmp/cpansmoker-1023

Perl special variables (and OS-specific diagnostics, for MSWin32):

    $^X = /opt/perl-5.18.2/bin/perl5.18.2
    $UID/$EUID = 1023 / 1023
    $GID = 1023 1023
    $EGID = 1023 1023

Perl module toolchain versions installed:

    Module              Have    
    ------------------- --------
    CPAN                2.00    
    CPAN::Meta          2.143240
    Cwd                 3.40    
    ExtUtils::CBuilder  0.280210
    ExtUtils::Command   1.19    
    ExtUtils::Install   1.59    
    ExtUtils::MakeMaker 7.04    
    ExtUtils::Manifest  1.70    
    ExtUtils::ParseXS   3.24    
    File::Spec          3.40    
    JSON                2.90    
    JSON::PP            2.27203 
    Module::Build       0.4210  
    Module::Signature   0.73    
    Parse::CPAN::Meta   1.4414  
    Test::Harness       3.30    
    Test::More          1.001014
    YAML                1.13    
    YAML::Syck          1.29    
    version             0.9909  


--

Summary of my perl5 (revision 5 version 18 subversion 2) configuration:
   
  Platform:
    osname=linux, osvers=3.10-3-amd64, archname=x86_64-linux
    uname='linux cvrsnica-jessie 3.10-3-amd64 #1 smp debian 3.10.11-1 (2013-09-10) x86_64 gnulinux '
    config_args='-ds -e -Dprefix=/opt/perl-5.18.2'
    hint=recommended, useposix=true, d_sigaction=define
    useithreads=undef, usemultiplicity=undef
    useperlio=define, d_sfio=undef, uselargefiles=define, usesocks=undef
    use64bitint=define, use64bitall=define, uselongdouble=undef
    usemymalloc=n, bincompat5005=undef
  Compiler:
    cc='cc', ccflags ='-fno-strict-aliasing -pipe -fstack-protector -I/usr/local/include -D_LARGEFILE_SOURCE -D_FILE_OFFSET_BITS=64',
    optimize='-O2',
    cppflags='-fno-strict-aliasing -pipe -fstack-protector -I/usr/local/include'
    ccversion='', gccversion='4.8.2', gccosandvers=''
    intsize=4, longsize=8, ptrsize=8, doublesize=8, byteorder=12345678
    d_longlong=define, longlongsize=8, d_longdbl=define, longdblsize=16
    ivtype='long', ivsize=8, nvtype='double', nvsize=8, Off_t='off_t', lseeksize=8
    alignbytes=8, prototype=define
  Linker and Libraries:
    ld='cc', ldflags =' -fstack-protector -L/usr/local/lib'
    libpth=/usr/local/lib /lib/x86_64-linux-gnu /lib/../lib /usr/lib/x86_64-linux-gnu /usr/lib/../lib /lib /usr/lib
    libs=-lnsl -lgdbm -ldb -ldl -lm -lcrypt -lutil -lc -lgdbm_compat
    perllibs=-lnsl -ldl -lm -lcrypt -lutil -lc
    libc=, so=so, useshrplib=false, libperl=libperl.a
    gnulibc_version='2.17'
  Dynamic Linking:
    dlsrc=dl_dlopen.xs, dlext=so, d_dlsymun=undef, ccdlflags='-Wl,-E'
    cccdlflags='-fPIC', lddlflags='-shared -O2 -L/usr/local/lib -fstack-protector'


Characteristics of this binary (from libperl): 
  Compile-time options: HAS_TIMES PERLIO_LAYERS PERL_DONT_CREATE_GVSV
                        PERL_HASH_FUNC_ONE_AT_A_TIME_HARD PERL_MALLOC_WRAP
                        PERL_PRESERVE_IVUV PERL_SAWAMPERSAND USE_64_BIT_ALL
                        USE_64_BIT_INT USE_LARGE_FILES USE_LOCALE
                        USE_LOCALE_COLLATE USE_LOCALE_CTYPE
                        USE_LOCALE_NUMERIC USE_PERLIO USE_PERL_ATOF
  Built under linux
  Compiled at Feb 17 2014 21:05:35
  %ENV:
    PERL5LIB=""
    PERL5OPT=""
    PERL5_CPANPLUS_IS_RUNNING="4874"
    PERL5_CPAN_IS_RUNNING="4874"
    PERL5_CPAN_IS_RUNNING_IN_RECURSION="4751,4874"
    PERLDOC="-MPod::Perldoc::ToTextOverstrike"
    PERL_BATCH="yes"
    PERL_CPAN_REPORTER_CONFIG="/var/tmp/cpansmoker-1023/1t2yGwWERA_config.ini"
    PERL_EXTUTILS_AUTOINSTALL="--defaultdeps"
    PERL_HTML_DISPLAY_CLASS="HTML::Display::Mozilla"
  @INC:
    /opt/perl-5.18.2/lib/site_perl/5.18.2/x86_64-linux
    /opt/perl-5.18.2/lib/site_perl/5.18.2
    /opt/perl-5.18.2/lib/5.18.2/x86_64-linux
    /opt/perl-5.18.2/lib/5.18.2
    .