Text-WideChar-Util v0.170 Perl 5 v5.30.2 armv7l-linux-thread-multi

Status
Pass
From
Nigel Horne
Dist
Text-WideChar-Util v0.170
Platform
Perl 5 v5.30.2 armv7l-linux-thread-multi
Date
2020-12-30 12:18:04
ID
112fdaa0-4a99-11eb-b9db-b6c7a8faccfa
This distribution has been tested as part of the CPAN Testers
project, supporting the Perl programming language.  See
http://wiki.cpantesters.org/ for more information or email
questions to cpan-testers-discuss@perl.org


--
Dear perlancar,

This is a computer-generated report for Text-WideChar-Util-0.170
on perl 5.30.2, created by CPAN-Reporter-1.2018.

Thank you for uploading your work to CPAN.  Congratulations!
All tests were successful.

Sections of this report:

    * Tester comments
    * Program output
    * Prerequisites
    * Environment and other context

------------------------------
TESTER COMMENTS
------------------------------

Additional comments from tester:

this report is from an automated smoke testing program
and was not reviewed by a human for accuracy

------------------------------
PROGRAM OUTPUT
------------------------------

Output from '/usr/bin/make test':

PERL_DL_NONLAZY=1 "/home/smoker/perl5/perlbrew/perls/perl-5.30.2-thread/bin/perl5.30.2" "-MExtUtils::Command::MM" "-MTest::Harness" "-e" "undef *Test::Harness::Switches; test_harness(0, 'blib/lib', 'blib/arch')" t/*.t
t/author-critic.t ........ skipped: these tests are for testing by the author
t/author-pod-syntax.t .... skipped: these tests are for testing by the author
t/author-pod-coverage.t .. skipped: these tests are for testing by the author
t/01-basics.t ............ skipped: Chinese locale not supported on this system
t/00-compile.t ........... ok
Wide character (U+5B58) in pattern match (m//) at /tmp/build/Text-WideChar-Util-0.170-0/blib/lib/Text/WideChar/Util.pm line 165.
Wide character (U+5B58) in pattern match (m//) at /tmp/build/Text-WideChar-Util-0.170-0/blib/lib/Text/WideChar/Util.pm line 197.
Wide character (U+5B58) in pattern match (m//) at /tmp/build/Text-WideChar-Util-0.170-0/blib/lib/Text/WideChar/Util.pm line 197.
Wide character (U+5B58) in pattern match (m//) at /tmp/build/Text-WideChar-Util-0.170-0/blib/lib/Text/WideChar/Util.pm line 197.
Wide character (U+5B58) in pattern match (m//) at /tmp/build/Text-WideChar-Util-0.170-0/blib/lib/Text/WideChar/Util.pm line 197.
Wide character (U+5B58) in pattern match (m//) at /tmp/build/Text-WideChar-Util-0.170-0/blib/lib/Text/WideChar/Util.pm line 197.
Wide character (U+5B58) in pattern match (m//) at /tmp/build/Text-WideChar-Util-0.170-0/blib/lib/Text/WideChar/Util.pm line 197.
Wide character (U+5B58) in pattern match (m//) at /tmp/build/Text-WideChar-Util-0.170-0/blib/lib/Text/WideChar/Util.pm line 197.
Wide character (U+5B58) in pattern match (m//) at /tmp/build/Text-WideChar-Util-0.170-0/blib/lib/Text/WideChar/Util.pm line 197.
Wide character (U+50A8) in pattern match (m//) at /tmp/build/Text-WideChar-Util-0.170-0/blib/lib/Text/WideChar/Util.pm line 197.
Wide character (U+50A8) in pattern match (m//) at /tmp/build/Text-WideChar-Util-0.170-0/blib/lib/Text/WideChar/Util.pm line 197.
Wide character (U+50A8) in pattern match (m//) at /tmp/build/Text-WideChar-Util-0.170-0/blib/lib/Text/WideChar/Util.pm line 197.
Wide character (U+50A8) in pattern match (m//) at /tmp/build/Text-WideChar-Util-0.170-0/blib/lib/Text/WideChar/Util.pm line 197.
Wide character (U+50A8) in pattern match (m//) at /tmp/build/Text-WideChar-Util-0.170-0/blib/lib/Text/WideChar/Util.pm line 197.
Wide character (U+50A8) in pattern match (m//) at /tmp/build/Text-WideChar-Util-0.170-0/blib/lib/Text/WideChar/Util.pm line 197.
Wide character (U+50A8) in pattern match (m//) at /tmp/build/Text-WideChar-Util-0.170-0/blib/lib/Text/WideChar/Util.pm line 197.
Wide character (U+50A8) in pattern match (m//) at /tmp/build/Text-WideChar-Util-0.170-0/blib/lib/Text/WideChar/Util.pm line 197.
Wide character (U+548C) in pattern match (m//) at /tmp/build/Text-WideChar-Util-0.170-0/blib/lib/Text/WideChar/Util.pm line 197.
Wide character (U+548C) in pattern match (m//) at /tmp/build/Text-WideChar-Util-0.170-0/blib/lib/Text/WideChar/Util.pm line 197.
Wide character (U+548C) in pattern match (m//) at /tmp/build/Text-WideChar-Util-0.170-0/blib/lib/Text/WideChar/Util.pm line 197.
Wide character (U+548C) in pattern match (m//) at /tmp/build/Text-WideChar-Util-0.170-0/blib/lib/Text/WideChar/Util.pm line 197.
Wide character (U+548C) in pattern match (m//) at /tmp/build/Text-WideChar-Util-0.170-0/blib/lib/Text/WideChar/Util.pm line 197.
Wide character (U+548C) in pattern match (m//) at /tmp/build/Text-WideChar-Util-0.170-0/blib/lib/Text/WideChar/Util.pm line 197.
Wide character (U+548C) in pattern match (m//) at /tmp/build/Text-WideChar-Util-0.170-0/blib/lib/Text/WideChar/Util.pm line 197.
Wide character (U+548C) in pattern match (m//) at /tmp/build/Text-WideChar-Util-0.170-0/blib/lib/Text/WideChar/Util.pm line 197.
Wide character (U+4FE1) in pattern match (m//) at /tmp/build/Text-WideChar-Util-0.170-0/blib/lib/Text/WideChar/Util.pm line 197.
Wide character (U+4FE1) in pattern match (m//) at /tmp/build/Text-WideChar-Util-0.170-0/blib/lib/Text/WideChar/Util.pm line 197.
Wide character (U+4FE1) in pattern match (m//) at /tmp/build/Text-WideChar-Util-0.170-0/blib/lib/Text/WideChar/Util.pm line 197.
Wide character (U+4FE1) in pattern match (m//) at /tmp/build/Text-WideChar-Util-0.170-0/blib/lib/Text/WideChar/Util.pm line 197.
Wide character (U+4FE1) in pattern match (m//) at /tmp/build/Text-WideChar-Util-0.170-0/blib/lib/Text/WideChar/Util.pm line 197.
Wide character (U+4FE1) in pattern match (m//) at /tmp/build/Text-WideChar-Util-0.170-0/blib/lib/Text/WideChar/Util.pm line 197.
Wide character (U+4FE1) in pattern match (m//) at /tmp/build/Text-WideChar-Util-0.170-0/blib/lib/Text/WideChar/Util.pm line 197.
Wide character (U+4FE1) in pattern match (m//) at /tmp/build/Text-WideChar-Util-0.170-0/blib/lib/Text/WideChar/Util.pm line 197.
Wide character (U+606F) in pattern match (m//) at /tmp/build/Text-WideChar-Util-0.170-0/blib/lib/Text/WideChar/Util.pm line 197.
Wide character (U+606F) in pattern match (m//) at /tmp/build/Text-WideChar-Util-0.170-0/blib/lib/Text/WideChar/Util.pm line 197.
Wide character (U+606F) in pattern match (m//) at /tmp/build/Text-WideChar-Util-0.170-0/blib/lib/Text/WideChar/Util.pm line 197.
Wide character (U+606F) in pattern match (m//) at /tmp/build/Text-WideChar-Util-0.170-0/blib/lib/Text/WideChar/Util.pm line 197.
Wide character (U+606F) in pattern match (m//) at /tmp/build/Text-WideChar-Util-0.170-0/blib/lib/Text/WideChar/Util.pm line 197.
Wide character (U+606F) in pattern match (m//) at /tmp/build/Text-WideChar-Util-0.170-0/blib/lib/Text/WideChar/Util.pm line 197.
Wide character (U+606F) in pattern match (m//) at /tmp/build/Text-WideChar-Util-0.170-0/blib/lib/Text/WideChar/Util.pm line 197.
Wide character (U+606F) in pattern match (m//) at /tmp/build/Text-WideChar-Util-0.170-0/blib/lib/Text/WideChar/Util.pm line 197.
Wide character (U+7BA1) in pattern match (m//) at /tmp/build/Text-WideChar-Util-0.170-0/blib/lib/Text/WideChar/Util.pm line 197.
Wide character (U+7BA1) in pattern match (m//) at /tmp/build/Text-WideChar-Util-0.170-0/blib/lib/Text/WideChar/Util.pm line 197.
Wide character (U+7BA1) in pattern match (m//) at /tmp/build/Text-WideChar-Util-0.170-0/blib/lib/Text/WideChar/Util.pm line 197.
Wide character (U+7BA1) in pattern match (m//) at /tmp/build/Text-WideChar-Util-0.170-0/blib/lib/Text/WideChar/Util.pm line 197.
Wide character (U+7BA1) in pattern match (m//) at /tmp/build/Text-WideChar-Util-0.170-0/blib/lib/Text/WideChar/Util.pm line 197.
Wide character (U+7BA1) in pattern match (m//) at /tmp/build/Text-WideChar-Util-0.170-0/blib/lib/Text/WideChar/Util.pm line 197.
Wide character (U+7BA1) in pattern match (m//) at /tmp/build/Text-WideChar-Util-0.170-0/blib/lib/Text/WideChar/Util.pm line 197.
Wide character (U+7BA1) in pattern match (m//) at /tmp/build/Text-WideChar-Util-0.170-0/blib/lib/Text/WideChar/Util.pm line 197.
Wide character (U+7406) in pattern match (m//) at /tmp/build/Text-WideChar-Util-0.170-0/blib/lib/Text/WideChar/Util.pm line 197.
Wide character (U+7406) in pattern match (m//) at /tmp/build/Text-WideChar-Util-0.170-0/blib/lib/Text/WideChar/Util.pm line 197.
Wide character (U+7406) in pattern match (m//) at /tmp/build/Text-WideChar-Util-0.170-0/blib/lib/Text/WideChar/Util.pm line 197.
Wide character (U+7406) in pattern match (m//) at /tmp/build/Text-WideChar-Util-0.170-0/blib/lib/Text/WideChar/Util.pm line 197.
Wide character (U+7406) in pattern match (m//) at /tmp/build/Text-WideChar-Util-0.170-0/blib/lib/Text/WideChar/Util.pm line 197.
Wide character (U+7406) in pattern match (m//) at /tmp/build/Text-WideChar-Util-0.170-0/blib/lib/Text/WideChar/Util.pm line 197.
Wide character (U+7406) in pattern match (m//) at /tmp/build/Text-WideChar-Util-0.170-0/blib/lib/Text/WideChar/Util.pm line 197.
Wide character (U+7406) in pattern match (m//) at /tmp/build/Text-WideChar-Util-0.170-0/blib/lib/Text/WideChar/Util.pm line 197.
Wide character (U+516C) in pattern match (m//) at /tmp/build/Text-WideChar-Util-0.170-0/blib/lib/Text/WideChar/Util.pm line 197.
Wide character (U+516C) in pattern match (m//) at /tmp/build/Text-WideChar-Util-0.170-0/blib/lib/Text/WideChar/Util.pm line 197.
Wide character (U+516C) in pattern match (m//) at /tmp/build/Text-WideChar-Util-0.170-0/blib/lib/Text/WideChar/Util.pm line 197.
Wide character (U+516C) in pattern match (m//) at /tmp/build/Text-WideChar-Util-0.170-0/blib/lib/Text/WideChar/Util.pm line 197.
Wide character (U+516C) in pattern match (m//) at /tmp/build/Text-WideChar-Util-0.170-0/blib/lib/Text/WideChar/Util.pm line 197.
Wide character (U+516C) in pattern match (m//) at /tmp/build/Text-WideChar-Util-0.170-0/blib/lib/Text/WideChar/Util.pm line 197.
Wide character (U+516C) in pattern match (m//) at /tmp/build/Text-WideChar-Util-0.170-0/blib/lib/Text/WideChar/Util.pm line 197.
Wide character (U+516C) in pattern match (m//) at /tmp/build/Text-WideChar-Util-0.170-0/blib/lib/Text/WideChar/Util.pm line 197.
Wide character (U+53F8) in pattern match (m//) at /tmp/build/Text-WideChar-Util-0.170-0/blib/lib/Text/WideChar/Util.pm line 197.
Wide character (U+53F8) in pattern match (m//) at /tmp/build/Text-WideChar-Util-0.170-0/blib/lib/Text/WideChar/Util.pm line 197.
Wide character (U+53F8) in pattern match (m//) at /tmp/build/Text-WideChar-Util-0.170-0/blib/lib/Text/WideChar/Util.pm line 197.
Wide character (U+53F8) in pattern match (m//) at /tmp/build/Text-WideChar-Util-0.170-0/blib/lib/Text/WideChar/Util.pm line 197.
Wide character (U+53F8) in pattern match (m//) at /tmp/build/Text-WideChar-Util-0.170-0/blib/lib/Text/WideChar/Util.pm line 197.
Wide character (U+53F8) in pattern match (m//) at /tmp/build/Text-WideChar-Util-0.170-0/blib/lib/Text/WideChar/Util.pm line 197.
Wide character (U+53F8) in pattern match (m//) at /tmp/build/Text-WideChar-Util-0.170-0/blib/lib/Text/WideChar/Util.pm line 197.
Wide character (U+53F8) in pattern match (m//) at /tmp/build/Text-WideChar-Util-0.170-0/blib/lib/Text/WideChar/Util.pm line 197.
Wide character (U+4F4D) in pattern match (m//) at /tmp/build/Text-WideChar-Util-0.170-0/blib/lib/Text/WideChar/Util.pm line 199.
Wide character (U+4E8E) in pattern match (m//) at /tmp/build/Text-WideChar-Util-0.170-0/blib/lib/Text/WideChar/Util.pm line 199.
Wide character (U+963F) in pattern match (m//) at /tmp/build/Text-WideChar-Util-0.170-0/blib/lib/Text/WideChar/Util.pm line 199.
Wide character (U+6839) in pattern match (m//) at /tmp/build/Text-WideChar-Util-0.170-0/blib/lib/Text/WideChar/Util.pm line 199.
Wide character (U+5EF7) in pattern match (m//) at /tmp/build/Text-WideChar-Util-0.170-0/blib/lib/Text/WideChar/Util.pm line 199.
Wide character (U+9996) in pattern match (m//) at /tmp/build/Text-WideChar-Util-0.170-0/blib/lib/Text/WideChar/Util.pm line 199.
Wide character (U+90FD) in pattern match (m//) at /tmp/build/Text-WideChar-Util-0.170-0/blib/lib/Text/WideChar/Util.pm line 199.
Wide character (U+5E03) in pattern match (m//) at /tmp/build/Text-WideChar-Util-0.170-0/blib/lib/Text/WideChar/Util.pm line 199.
Wide character (U+5B9C) in pattern match (m//) at /tmp/build/Text-WideChar-Util-0.170-0/blib/lib/Text/WideChar/Util.pm line 199.
Wide character (U+8BFA) in pattern match (m//) at /tmp/build/Text-WideChar-Util-0.170-0/blib/lib/Text/WideChar/Util.pm line 199.
Wide character (U+65AF) in pattern match (m//) at /tmp/build/Text-WideChar-Util-0.170-0/blib/lib/Text/WideChar/Util.pm line 199.
Wide character (U+827E) in pattern match (m//) at /tmp/build/Text-WideChar-Util-0.170-0/blib/lib/Text/WideChar/Util.pm line 199.
Wide character (U+5229) in pattern match (m//) at /tmp/build/Text-WideChar-Util-0.170-0/blib/lib/Text/WideChar/Util.pm line 199.
Wide character (U+65AF) in pattern match (m//) at /tmp/build/Text-WideChar-Util-0.170-0/blib/lib/Text/WideChar/Util.pm line 199.
Wide character (U+7684) in pattern match (m//) at /tmp/build/Text-WideChar-Util-0.170-0/blib/lib/Text/WideChar/Util.pm line 199.
Wide character (U+4E00) in pattern match (m//) at /tmp/build/Text-WideChar-Util-0.170-0/blib/lib/Text/WideChar/Util.pm line 199.
Wide character (U+4E2A) in pattern match (m//) at /tmp/build/Text-WideChar-Util-0.170-0/blib/lib/Text/WideChar/Util.pm line 199.
Wide character (U+5927) in pattern match (m//) at /tmp/build/Text-WideChar-Util-0.170-0/blib/lib/Text/WideChar/Util.pm line 199.
Wide character (U+6570) in pattern match (m//) at /tmp/build/Text-WideChar-Util-0.170-0/blib/lib/Text/WideChar/Util.pm line 199.
Wide character (U+636E) in pattern match (m//) at /tmp/build/Text-WideChar-Util-0.170-0/blib/lib/Text/WideChar/Util.pm line 199.
Wide character (U+4E2D) in pattern match (m//) at /tmp/build/Text-WideChar-Util-0.170-0/blib/lib/Text/WideChar/Util.pm line 199.
Wide character (U+5FC3) in pattern match (m//) at /tmp/build/Text-WideChar-Util-0.170-0/blib/lib/Text/WideChar/Util.pm line 199.
Wide character (U+5468) in pattern match (m//) at /tmp/build/Text-WideChar-Util-0.170-0/blib/lib/Text/WideChar/Util.pm line 199.
Wide character (U+4E09) in pattern match (m//) at /tmp/build/Text-WideChar-Util-0.170-0/blib/lib/Text/WideChar/Util.pm line 199.
Wide character (U+906D) in pattern match (m//) at /tmp/build/Text-WideChar-Util-0.170-0/blib/lib/Text/WideChar/Util.pm line 199.
Wide character (U+5927) in pattern match (m//) at /tmp/build/Text-WideChar-Util-0.170-0/blib/lib/Text/WideChar/Util.pm line 199.
Wide character (U+706B) in pattern match (m//) at /tmp/build/Text-WideChar-Util-0.170-0/blib/lib/Text/WideChar/Util.pm line 199.
Wide character (U+70E7) in pattern match (m//) at /tmp/build/Text-WideChar-Util-0.170-0/blib/lib/Text/WideChar/Util.pm line 199.
Wide character (U+6BC1) in pattern match (m//) at /tmp/build/Text-WideChar-Util-0.170-0/blib/lib/Text/WideChar/Util.pm line 199.
Wide character (U+FF0C) in pattern match (m//) at /tmp/build/Text-WideChar-Util-0.170-0/blib/lib/Text/WideChar/Util.pm line 199.
Wide character (U+4E5D) in pattern match (m//) at /tmp/build/Text-WideChar-Util-0.170-0/blib/lib/Text/WideChar/Util.pm line 199.
Wide character (U+540D) in pattern match (m//) at /tmp/build/Text-WideChar-Util-0.170-0/blib/lib/Text/WideChar/Util.pm line 199.
Wide character (U+6D88) in pattern match (m//) at /tmp/build/Text-WideChar-Util-0.170-0/blib/lib/Text/WideChar/Util.pm line 199.
Wide character (U+9632) in pattern match (m//) at /tmp/build/Text-WideChar-Util-0.170-0/blib/lib/Text/WideChar/Util.pm line 199.
Wide character (U+5458) in pattern match (m//) at /tmp/build/Text-WideChar-Util-0.170-0/blib/lib/Text/WideChar/Util.pm line 199.
Wide character (U+5728) in pattern match (m//) at /tmp/build/Text-WideChar-Util-0.170-0/blib/lib/Text/WideChar/Util.pm line 199.
Wide character (U+6551) in pattern match (m//) at /tmp/build/Text-WideChar-Util-0.170-0/blib/lib/Text/WideChar/Util.pm line 199.
Wide character (U+706B) in pattern match (m//) at /tmp/build/Text-WideChar-Util-0.170-0/blib/lib/Text/WideChar/Util.pm line 199.
Wide character (U+4E2D) in pattern match (m//) at /tmp/build/Text-WideChar-Util-0.170-0/blib/lib/Text/WideChar/Util.pm line 199.
Wide character (U+4E27) in pattern match (m//) at /tmp/build/Text-WideChar-Util-0.170-0/blib/lib/Text/WideChar/Util.pm line 199.
Wide character (U+751F) in pattern match (m//) at /tmp/build/Text-WideChar-Util-0.170-0/blib/lib/Text/WideChar/Util.pm line 199.
Wide character (U+FF0C) in pattern match (m//) at /tmp/build/Text-WideChar-Util-0.170-0/blib/lib/Text/WideChar/Util.pm line 199.
Wide character (U+4EBA) in pattern match (m//) at /tmp/build/Text-WideChar-Util-0.170-0/blib/lib/Text/WideChar/Util.pm line 199.
Wide character (U+5931) in pattern match (m//) at /tmp/build/Text-WideChar-Util-0.170-0/blib/lib/Text/WideChar/Util.pm line 199.
Wide character (U+8E2A) in pattern match (m//) at /tmp/build/Text-WideChar-Util-0.170-0/blib/lib/Text/WideChar/Util.pm line 199.
Wide character (U+FF0C) in pattern match (m//) at /tmp/build/Text-WideChar-Util-0.170-0/blib/lib/Text/WideChar/Util.pm line 199.
Wide character (U+4EBA) in pattern match (m//) at /tmp/build/Text-WideChar-Util-0.170-0/blib/lib/Text/WideChar/Util.pm line 199.
Wide character (U+53D7) in pattern match (m//) at /tmp/build/Text-WideChar-Util-0.170-0/blib/lib/Text/WideChar/Util.pm line 199.
Wide character (U+4F24) in pattern match (m//) at /tmp/build/Text-WideChar-Util-0.170-0/blib/lib/Text/WideChar/Util.pm line 199.
Wide character (U+3002) in pattern match (m//) at /tmp/build/Text-WideChar-Util-0.170-0/blib/lib/Text/WideChar/Util.pm line 199.
Wide character (U+6570) in pattern match (m//) at /tmp/build/Text-WideChar-Util-0.170-0/blib/lib/Text/WideChar/Util.pm line 199.
Wide character (U+636E) in pattern match (m//) at /tmp/build/Text-WideChar-Util-0.170-0/blib/lib/Text/WideChar/Util.pm line 199.
Wide character (U+4E2D) in pattern match (m//) at /tmp/build/Text-WideChar-Util-0.170-0/blib/lib/Text/WideChar/Util.pm line 199.
Wide character (U+5FC3) in pattern match (m//) at /tmp/build/Text-WideChar-Util-0.170-0/blib/lib/Text/WideChar/Util.pm line 199.
Wide character (U+50A8) in pattern match (m//) at /tmp/build/Text-WideChar-Util-0.170-0/blib/lib/Text/WideChar/Util.pm line 199.
Wide character (U+5B58) in pattern match (m//) at /tmp/build/Text-WideChar-Util-0.170-0/blib/lib/Text/WideChar/Util.pm line 199.
Wide character (U+4E86) in pattern match (m//) at /tmp/build/Text-WideChar-Util-0.170-0/blib/lib/Text/WideChar/Util.pm line 199.
Wide character (U+963F) in pattern match (m//) at /tmp/build/Text-WideChar-Util-0.170-0/blib/lib/Text/WideChar/Util.pm line 199.
Wide character (U+6839) in pattern match (m//) at /tmp/build/Text-WideChar-Util-0.170-0/blib/lib/Text/WideChar/Util.pm line 199.
Wide character (U+5EF7) in pattern match (m//) at /tmp/build/Text-WideChar-Util-0.170-0/blib/lib/Text/WideChar/Util.pm line 199.
Wide character (U+592E) in pattern match (m//) at /tmp/build/Text-WideChar-Util-0.170-0/blib/lib/Text/WideChar/Util.pm line 199.
Wide character (U+884C) in pattern match (m//) at /tmp/build/Text-WideChar-Util-0.170-0/blib/lib/Text/WideChar/Util.pm line 199.
Wide character (U+548C) in pattern match (m//) at /tmp/build/Text-WideChar-Util-0.170-0/blib/lib/Text/WideChar/Util.pm line 199.
Wide character (U+4F01) in pattern match (m//) at /tmp/build/Text-WideChar-Util-0.170-0/blib/lib/Text/WideChar/Util.pm line 199.
Wide character (U+4E1A) in pattern match (m//) at /tmp/build/Text-WideChar-Util-0.170-0/blib/lib/Text/WideChar/Util.pm line 199.
Wide character (U+6863) in pattern match (m//) at /tmp/build/Text-WideChar-Util-0.170-0/blib/lib/Text/WideChar/Util.pm line 199.
Wide character (U+6848) in pattern match (m//) at /tmp/build/Text-WideChar-Util-0.170-0/blib/lib/Text/WideChar/Util.pm line 199.
Wide character (U+FF0C) in pattern match (m//) at /tmp/build/Text-WideChar-Util-0.170-0/blib/lib/Text/WideChar/Util.pm line 199.
Wide character (U+56E0) in pattern match (m//) at /tmp/build/Text-WideChar-Util-0.170-0/blib/lib/Text/WideChar/Util.pm line 199.
Wide character (U+6B64) in pattern match (m//) at /tmp/build/Text-WideChar-Util-0.170-0/blib/lib/Text/WideChar/Util.pm line 199.
Wide character (U+635F) in pattern match (m//) at /tmp/build/Text-WideChar-Util-0.170-0/blib/lib/Text/WideChar/Util.pm line 199.
Wide character (U+5931) in pattern match (m//) at /tmp/build/Text-WideChar-Util-0.170-0/blib/lib/Text/WideChar/Util.pm line 199.
Wide character (U+53EF) in pattern match (m//) at /tmp/build/Text-WideChar-Util-0.170-0/blib/lib/Text/WideChar/Util.pm line 199.
Wide character (U+80FD) in pattern match (m//) at /tmp/build/Text-WideChar-Util-0.170-0/blib/lib/Text/WideChar/Util.pm line 199.
Wide character (U+975E) in pattern match (m//) at /tmp/build/Text-WideChar-Util-0.170-0/blib/lib/Text/WideChar/Util.pm line 199.
Wide character (U+5E38) in pattern match (m//) at /tmp/build/Text-WideChar-Util-0.170-0/blib/lib/Text/WideChar/Util.pm line 199.
Wide character (U+5DE8) in pattern match (m//) at /tmp/build/Text-WideChar-Util-0.170-0/blib/lib/Text/WideChar/Util.pm line 199.
Wide character (U+5927) in pattern match (m//) at /tmp/build/Text-WideChar-Util-0.170-0/blib/lib/Text/WideChar/Util.pm line 199.
Wide character (U+3002) in pattern match (m//) at /tmp/build/Text-WideChar-Util-0.170-0/blib/lib/Text/WideChar/Util.pm line 199.
Wide character (U+8FD9) in pattern match (m//) at /tmp/build/Text-WideChar-Util-0.170-0/blib/lib/Text/WideChar/Util.pm line 199.
Wide character (U+4E2A) in pattern match (m//) at /tmp/build/Text-WideChar-Util-0.170-0/blib/lib/Text/WideChar/Util.pm line 199.
Wide character (U+6570) in pattern match (m//) at /tmp/build/Text-WideChar-Util-0.170-0/blib/lib/Text/WideChar/Util.pm line 199.
Wide character (U+636E) in pattern match (m//) at /tmp/build/Text-WideChar-Util-0.170-0/blib/lib/Text/WideChar/Util.pm line 199.
Wide character (U+4E2D) in pattern match (m//) at /tmp/build/Text-WideChar-Util-0.170-0/blib/lib/Text/WideChar/Util.pm line 199.
Wide character (U+5FC3) in pattern match (m//) at /tmp/build/Text-WideChar-Util-0.170-0/blib/lib/Text/WideChar/Util.pm line 199.
Wide character (U+914D) in pattern match (m//) at /tmp/build/Text-WideChar-Util-0.170-0/blib/lib/Text/WideChar/Util.pm line 199.
Wide character (U+5907) in pattern match (m//) at /tmp/build/Text-WideChar-Util-0.170-0/blib/lib/Text/WideChar/Util.pm line 199.
Wide character (U+4E86) in pattern match (m//) at /tmp/build/Text-WideChar-Util-0.170-0/blib/lib/Text/WideChar/Util.pm line 199.
Wide character (U+79C1) in pattern match (m//) at /tmp/build/Text-WideChar-Util-0.170-0/blib/lib/Text/WideChar/Util.pm line 199.
Wide character (U+4EBA) in pattern match (m//) at /tmp/build/Text-WideChar-Util-0.170-0/blib/lib/Text/WideChar/Util.pm line 199.
Wide character (U+7684) in pattern match (m//) at /tmp/build/Text-WideChar-Util-0.170-0/blib/lib/Text/WideChar/Util.pm line 199.
Wide character (U+6551) in pattern match (m//) at /tmp/build/Text-WideChar-Util-0.170-0/blib/lib/Text/WideChar/Util.pm line 199.
Wide character (U+706B) in pattern match (m//) at /tmp/build/Text-WideChar-Util-0.170-0/blib/lib/Text/WideChar/Util.pm line 199.
Wide character (U+961F) in pattern match (m//) at /tmp/build/Text-WideChar-Util-0.170-0/blib/lib/Text/WideChar/Util.pm line 199.
Wide character (U+FF0C) in pattern match (m//) at /tmp/build/Text-WideChar-Util-0.170-0/blib/lib/Text/WideChar/Util.pm line 199.
Wide character (U+81EA) in pattern match (m//) at /tmp/build/Text-WideChar-Util-0.170-0/blib/lib/Text/WideChar/Util.pm line 199.
Wide character (U+52A8) in pattern match (m//) at /tmp/build/Text-WideChar-Util-0.170-0/blib/lib/Text/WideChar/Util.pm line 199.
Wide character (U+55B7) in pattern match (m//) at /tmp/build/Text-WideChar-Util-0.170-0/blib/lib/Text/WideChar/Util.pm line 199.
Wide character (U+6C34) in pattern match (m//) at /tmp/build/Text-WideChar-Util-0.170-0/blib/lib/Text/WideChar/Util.pm line 199.
Wide character (U+706D) in pattern match (m//) at /tmp/build/Text-WideChar-Util-0.170-0/blib/lib/Text/WideChar/Util.pm line 199.
Wide character (U+706B) in pattern match (m//) at /tmp/build/Text-WideChar-Util-0.170-0/blib/lib/Text/WideChar/Util.pm line 199.
Wide character (U+7CFB) in pattern match (m//) at /tmp/build/Text-WideChar-Util-0.170-0/blib/lib/Text/WideChar/Util.pm line 199.
Wide character (U+7EDF) in pattern match (m//) at /tmp/build/Text-WideChar-Util-0.170-0/blib/lib/Text/WideChar/Util.pm line 199.
Wide character (U+FF0C) in pattern match (m//) at /tmp/build/Text-WideChar-Util-0.170-0/blib/lib/Text/WideChar/Util.pm line 199.
Wide character (U+706B) in pattern match (m//) at /tmp/build/Text-WideChar-Util-0.170-0/blib/lib/Text/WideChar/Util.pm line 199.
Wide character (U+707E) in pattern match (m//) at /tmp/build/Text-WideChar-Util-0.170-0/blib/lib/Text/WideChar/Util.pm line 199.
Wide character (U+63A7) in pattern match (m//) at /tmp/build/Text-WideChar-Util-0.170-0/blib/lib/Text/WideChar/Util.pm line 199.
Wide character (U+5236) in pattern match (m//) at /tmp/build/Text-WideChar-Util-0.170-0/blib/lib/Text/WideChar/Util.pm line 199.
Wide character (U+7CFB) in pattern match (m//) at /tmp/build/Text-WideChar-Util-0.170-0/blib/lib/Text/WideChar/Util.pm line 199.
Wide character (U+7EDF) in pattern match (m//) at /tmp/build/Text-WideChar-Util-0.170-0/blib/lib/Text/WideChar/Util.pm line 199.
Wide character (U+4EE5) in pattern match (m//) at /tmp/build/Text-WideChar-Util-0.170-0/blib/lib/Text/WideChar/Util.pm line 199.
Wide character (U+53CA) in pattern match (m//) at /tmp/build/Text-WideChar-Util-0.170-0/blib/lib/Text/WideChar/Util.pm line 199.
Wide character (U+5176) in pattern match (m//) at /tmp/build/Text-WideChar-Util-0.170-0/blib/lib/Text/WideChar/Util.pm line 199.
Wide character (U+5B83) in pattern match (m//) at /tmp/build/Text-WideChar-Util-0.170-0/blib/lib/Text/WideChar/Util.pm line 199.
Wide character (U+706B) in pattern match (m//) at /tmp/build/Text-WideChar-Util-0.170-0/blib/lib/Text/WideChar/Util.pm line 199.
Wide character (U+707E) in pattern match (m//) at /tmp/build/Text-WideChar-Util-0.170-0/blib/lib/Text/WideChar/Util.pm line 199.
Wide character (U+9884) in pattern match (m//) at /tmp/build/Text-WideChar-Util-0.170-0/blib/lib/Text/WideChar/Util.pm line 199.
Wide character (U+9632) in pattern match (m//) at /tmp/build/Text-WideChar-Util-0.170-0/blib/lib/Text/WideChar/Util.pm line 199.
Wide character (U+7684) in pattern match (m//) at /tmp/build/Text-WideChar-Util-0.170-0/blib/lib/Text/WideChar/Util.pm line 199.
Wide character (U+63AA) in pattern match (m//) at /tmp/build/Text-WideChar-Util-0.170-0/blib/lib/Text/WideChar/Util.pm line 199.
Wide character (U+65BD) in pattern match (m//) at /tmp/build/Text-WideChar-Util-0.170-0/blib/lib/Text/WideChar/Util.pm line 199.
Wide character (U+3002) in pattern match (m//) at /tmp/build/Text-WideChar-Util-0.170-0/blib/lib/Text/WideChar/Util.pm line 199.
Wide character (U+4F46) in pattern match (m//) at /tmp/build/Text-WideChar-Util-0.170-0/blib/lib/Text/WideChar/Util.pm line 199.
Wide character (U+5373) in pattern match (m//) at /tmp/build/Text-WideChar-Util-0.170-0/blib/lib/Text/WideChar/Util.pm line 199.
Wide character (U+4FBF) in pattern match (m//) at /tmp/build/Text-WideChar-Util-0.170-0/blib/lib/Text/WideChar/Util.pm line 199.
Wide character (U+5982) in pattern match (m//) at /tmp/build/Text-WideChar-Util-0.170-0/blib/lib/Text/WideChar/Util.pm line 199.
Wide character (U+6B64) in pattern match (m//) at /tmp/build/Text-WideChar-Util-0.170-0/blib/lib/Text/WideChar/Util.pm line 199.
Wide character (U+FF0C) in pattern match (m//) at /tmp/build/Text-WideChar-Util-0.170-0/blib/lib/Text/WideChar/Util.pm line 199.
Wide character (U+4ECD) in pattern match (m//) at /tmp/build/Text-WideChar-Util-0.170-0/blib/lib/Text/WideChar/Util.pm line 199.
Wide character (U+7136) in pattern match (m//) at /tmp/build/Text-WideChar-Util-0.170-0/blib/lib/Text/WideChar/Util.pm line 199.
Wide character (U+6CA1) in pattern match (m//) at /tmp/build/Text-WideChar-Util-0.170-0/blib/lib/Text/WideChar/Util.pm line 199.
Wide character (U+6709) in pattern match (m//) at /tmp/build/Text-WideChar-Util-0.170-0/blib/lib/Text/WideChar/Util.pm line 199.
Wide character (U+9884) in pattern match (m//) at /tmp/build/Text-WideChar-Util-0.170-0/blib/lib/Text/WideChar/Util.pm line 199.
Wide character (U+9632) in pattern match (m//) at /tmp/build/Text-WideChar-Util-0.170-0/blib/lib/Text/WideChar/Util.pm line 199.
Wide character (U+707E) in pattern match (m//) at /tmp/build/Text-WideChar-Util-0.170-0/blib/lib/Text/WideChar/Util.pm line 199.
Wide character (U+96BE) in pattern match (m//) at /tmp/build/Text-WideChar-Util-0.170-0/blib/lib/Text/WideChar/Util.pm line 199.
Wide character (U+7684) in pattern match (m//) at /tmp/build/Text-WideChar-Util-0.170-0/blib/lib/Text/WideChar/Util.pm line 199.
Wide character (U+53D1) in pattern match (m//) at /tmp/build/Text-WideChar-Util-0.170-0/blib/lib/Text/WideChar/Util.pm line 199.
Wide character (U+751F) in pattern match (m//) at /tmp/build/Text-WideChar-Util-0.170-0/blib/lib/Text/WideChar/Util.pm line 199.
Wide character (U+3002) in pattern match (m//) at /tmp/build/Text-WideChar-Util-0.170-0/blib/lib/Text/WideChar/Util.pm line 199.
Wide character (U+76EE) in pattern match (m//) at /tmp/build/Text-WideChar-Util-0.170-0/blib/lib/Text/WideChar/Util.pm line 199.
Wide character (U+524D) in pattern match (m//) at /tmp/build/Text-WideChar-Util-0.170-0/blib/lib/Text/WideChar/Util.pm line 199.
Wide character (U+8FD8) in pattern match (m//) at /tmp/build/Text-WideChar-Util-0.170-0/blib/lib/Text/WideChar/Util.pm line 199.
Wide character (U+4E0D) in pattern match (m//) at /tmp/build/Text-WideChar-Util-0.170-0/blib/lib/Text/WideChar/Util.pm line 199.
Wide character (U+6E05) in pattern match (m//) at /tmp/build/Text-WideChar-Util-0.170-0/blib/lib/Text/WideChar/Util.pm line 199.
Wide character (U+695A) in pattern match (m//) at /tmp/build/Text-WideChar-Util-0.170-0/blib/lib/Text/WideChar/Util.pm line 199.
Wide character (U+6570) in pattern match (m//) at /tmp/build/Text-WideChar-Util-0.170-0/blib/lib/Text/WideChar/Util.pm line 199.
Wide character (U+636E) in pattern match (m//) at /tmp/build/Text-WideChar-Util-0.170-0/blib/lib/Text/WideChar/Util.pm line 199.
Wide character (U+4E2D) in pattern match (m//) at /tmp/build/Text-WideChar-Util-0.170-0/blib/lib/Text/WideChar/Util.pm line 199.
Wide character (U+5FC3) in pattern match (m//) at /tmp/build/Text-WideChar-Util-0.170-0/blib/lib/Text/WideChar/Util.pm line 199.
Wide character (U+8D77) in pattern match (m//) at /tmp/build/Text-WideChar-Util-0.170-0/blib/lib/Text/WideChar/Util.pm line 199.
Wide character (U+706B) in pattern match (m//) at /tmp/build/Text-WideChar-Util-0.170-0/blib/lib/Text/WideChar/Util.pm line 199.
Wide character (U+7684) in pattern match (m//) at /tmp/build/Text-WideChar-Util-0.170-0/blib/lib/Text/WideChar/Util.pm line 199.
Wide character (U+539F) in pattern match (m//) at /tmp/build/Text-WideChar-Util-0.170-0/blib/lib/Text/WideChar/Util.pm line 199.
Wide character (U+56E0) in pattern match (m//) at /tmp/build/Text-WideChar-Util-0.170-0/blib/lib/Text/WideChar/Util.pm line 199.
Wide character (U+3002) in pattern match (m//) at /tmp/build/Text-WideChar-Util-0.170-0/blib/lib/Text/WideChar/Util.pm line 199.
Wide character (U+4F4D) in pattern match (m//) at /tmp/build/Text-WideChar-Util-0.170-0/blib/lib/Text/WideChar/Util.pm line 203.
Wide character (U+4F4D) in pattern match (m//) at /tmp/build/Text-WideChar-Util-0.170-0/blib/lib/Text/WideChar/Util.pm line 205.
Wide character (U+4E8E) in pattern match (m//) at /tmp/build/Text-WideChar-Util-0.170-0/blib/lib/Text/WideChar/Util.pm line 205.
Wide character (U+963F) in pattern match (m//) at /tmp/build/Text-WideChar-Util-0.170-0/blib/lib/Text/WideChar/Util.pm line 205.
Wide character (U+6839) in pattern match (m//) at /tmp/build/Text-WideChar-Util-0.170-0/blib/lib/Text/WideChar/Util.pm line 205.
Wide character (U+5EF7) in pattern match (m//) at /tmp/build/Text-WideChar-Util-0.170-0/blib/lib/Text/WideChar/Util.pm line 205.
Wide character (U+9996) in pattern match (m//) at /tmp/build/Text-WideChar-Util-0.170-0/blib/lib/Text/WideChar/Util.pm line 205.
Wide character (U+90FD) in pattern match (m//) at /tmp/build/Text-WideChar-Util-0.170-0/blib/lib/Text/WideChar/Util.pm line 205.
Wide character (U+5E03) in pattern match (m//) at /tmp/build/Text-WideChar-Util-0.170-0/blib/lib/Text/WideChar/Util.pm line 205.
Wide character (U+5B9C) in pattern match (m//) at /tmp/build/Text-WideChar-Util-0.170-0/blib/lib/Text/WideChar/Util.pm line 205.
Wide character (U+8BFA) in pattern match (m//) at /tmp/build/Text-WideChar-Util-0.170-0/blib/lib/Text/WideChar/Util.pm line 205.
Wide character (U+65AF) in pattern match (m//) at /tmp/build/Text-WideChar-Util-0.170-0/blib/lib/Text/WideChar/Util.pm line 205.
Wide character (U+827E) in pattern match (m//) at /tmp/build/Text-WideChar-Util-0.170-0/blib/lib/Text/WideChar/Util.pm line 205.
Wide character (U+5229) in pattern match (m//) at /tmp/build/Text-WideChar-Util-0.170-0/blib/lib/Text/WideChar/Util.pm line 205.
Wide character (U+65AF) in pattern match (m//) at /tmp/build/Text-WideChar-Util-0.170-0/blib/lib/Text/WideChar/Util.pm line 205.
Wide character (U+7684) in pattern match (m//) at /tmp/build/Text-WideChar-Util-0.170-0/blib/lib/Text/WideChar/Util.pm line 205.
Wide character (U+4E00) in pattern match (m//) at /tmp/build/Text-WideChar-Util-0.170-0/blib/lib/Text/WideChar/Util.pm line 205.
Wide character (U+4E2A) in pattern match (m//) at /tmp/build/Text-WideChar-Util-0.170-0/blib/lib/Text/WideChar/Util.pm line 205.
Wide character (U+5927) in pattern match (m//) at /tmp/build/Text-WideChar-Util-0.170-0/blib/lib/Text/WideChar/Util.pm line 205.
Wide character (U+6570) in pattern match (m//) at /tmp/build/Text-WideChar-Util-0.170-0/blib/lib/Text/WideChar/Util.pm line 205.
Wide character (U+636E) in pattern match (m//) at /tmp/build/Text-WideChar-Util-0.170-0/blib/lib/Text/WideChar/Util.pm line 205.
Wide character (U+4E2D) in pattern match (m//) at /tmp/build/Text-WideChar-Util-0.170-0/blib/lib/Text/WideChar/Util.pm line 205.
Wide character (U+5FC3) in pattern match (m//) at /tmp/build/Text-WideChar-Util-0.170-0/blib/lib/Text/WideChar/Util.pm line 205.
Wide character (U+5468) in pattern match (m//) at /tmp/build/Text-WideChar-Util-0.170-0/blib/lib/Text/WideChar/Util.pm line 205.
Wide character (U+4E09) in pattern match (m//) at /tmp/build/Text-WideChar-Util-0.170-0/blib/lib/Text/WideChar/Util.pm line 205.
Wide character (U+906D) in pattern match (m//) at /tmp/build/Text-WideChar-Util-0.170-0/blib/lib/Text/WideChar/Util.pm line 205.
Wide character (U+5927) in pattern match (m//) at /tmp/build/Text-WideChar-Util-0.170-0/blib/lib/Text/WideChar/Util.pm line 205.
Wide character (U+706B) in pattern match (m//) at /tmp/build/Text-WideChar-Util-0.170-0/blib/lib/Text/WideChar/Util.pm line 205.
Wide character (U+70E7) in pattern match (m//) at /tmp/build/Text-WideChar-Util-0.170-0/blib/lib/Text/WideChar/Util.pm line 205.
Wide character (U+6BC1) in pattern match (m//) at /tmp/build/Text-WideChar-Util-0.170-0/blib/lib/Text/WideChar/Util.pm line 205.
Wide character (U+FF0C) in pattern match (m//) at /tmp/build/Text-WideChar-Util-0.170-0/blib/lib/Text/WideChar/Util.pm line 205.
Wide character (U+4E5D) in pattern match (m//) at /tmp/build/Text-WideChar-Util-0.170-0/blib/lib/Text/WideChar/Util.pm line 205.
Wide character (U+540D) in pattern match (m//) at /tmp/build/Text-WideChar-Util-0.170-0/blib/lib/Text/WideChar/Util.pm line 205.
Wide character (U+6D88) in pattern match (m//) at /tmp/build/Text-WideChar-Util-0.170-0/blib/lib/Text/WideChar/Util.pm line 205.
Wide character (U+9632) in pattern match (m//) at /tmp/build/Text-WideChar-Util-0.170-0/blib/lib/Text/WideChar/Util.pm line 205.
Wide character (U+5458) in pattern match (m//) at /tmp/build/Text-WideChar-Util-0.170-0/blib/lib/Text/WideChar/Util.pm line 205.
Wide character (U+5728) in pattern match (m//) at /tmp/build/Text-WideChar-Util-0.170-0/blib/lib/Text/WideChar/Util.pm line 205.
Wide character (U+6551) in pattern match (m//) at /tmp/build/Text-WideChar-Util-0.170-0/blib/lib/Text/WideChar/Util.pm line 205.
Wide character (U+706B) in pattern match (m//) at /tmp/build/Text-WideChar-Util-0.170-0/blib/lib/Text/WideChar/Util.pm line 205.
Wide character (U+4E2D) in pattern match (m//) at /tmp/build/Text-WideChar-Util-0.170-0/blib/lib/Text/WideChar/Util.pm line 205.
Wide character (U+4E27) in pattern match (m//) at /tmp/build/Text-WideChar-Util-0.170-0/blib/lib/Text/WideChar/Util.pm line 205.
Wide character (U+751F) in pattern match (m//) at /tmp/build/Text-WideChar-Util-0.170-0/blib/lib/Text/WideChar/Util.pm line 205.
Wide character (U+FF0C) in pattern match (m//) at /tmp/build/Text-WideChar-Util-0.170-0/blib/lib/Text/WideChar/Util.pm line 205.
Wide character (U+4EBA) in pattern match (m//) at /tmp/build/Text-WideChar-Util-0.170-0/blib/lib/Text/WideChar/Util.pm line 205.
Wide character (U+4EBA) in pattern match (m//) at /tmp/build/Text-WideChar-Util-0.170-0/blib/lib/Text/WideChar/Util.pm line 205.
Wide character (U+5931) in pattern match (m//) at /tmp/build/Text-WideChar-Util-0.170-0/blib/lib/Text/WideChar/Util.pm line 205.
Wide character (U+8E2A) in pattern match (m//) at /tmp/build/Text-WideChar-Util-0.170-0/blib/lib/Text/WideChar/Util.pm line 205.
Wide character (U+FF0C) in pattern match (m//) at /tmp/build/Text-WideChar-Util-0.170-0/blib/lib/Text/WideChar/Util.pm line 205.
Wide character (U+4EBA) in pattern match (m//) at /tmp/build/Text-WideChar-Util-0.170-0/blib/lib/Text/WideChar/Util.pm line 205.
Wide character (U+4EBA) in pattern match (m//) at /tmp/build/Text-WideChar-Util-0.170-0/blib/lib/Text/WideChar/Util.pm line 205.
Wide character (U+53D7) in pattern match (m//) at /tmp/build/Text-WideChar-Util-0.170-0/blib/lib/Text/WideChar/Util.pm line 205.
Wide character (U+4F24) in pattern match (m//) at /tmp/build/Text-WideChar-Util-0.170-0/blib/lib/Text/WideChar/Util.pm line 205.
Wide character (U+3002) in pattern match (m//) at /tmp/build/Text-WideChar-Util-0.170-0/blib/lib/Text/WideChar/Util.pm line 205.
Wide character (U+6570) in pattern match (m//) at /tmp/build/Text-WideChar-Util-0.170-0/blib/lib/Text/WideChar/Util.pm line 205.
Wide character (U+636E) in pattern match (m//) at /tmp/build/Text-WideChar-Util-0.170-0/blib/lib/Text/WideChar/Util.pm line 205.
Wide character (U+4E2D) in pattern match (m//) at /tmp/build/Text-WideChar-Util-0.170-0/blib/lib/Text/WideChar/Util.pm line 205.
Wide character (U+5FC3) in pattern match (m//) at /tmp/build/Text-WideChar-Util-0.170-0/blib/lib/Text/WideChar/Util.pm line 205.
Wide character (U+50A8) in pattern match (m//) at /tmp/build/Text-WideChar-Util-0.170-0/blib/lib/Text/WideChar/Util.pm line 205.
Wide character (U+5B58) in pattern match (m//) at /tmp/build/Text-WideChar-Util-0.170-0/blib/lib/Text/WideChar/Util.pm line 205.
Wide character (U+4E86) in pattern match (m//) at /tmp/build/Text-WideChar-Util-0.170-0/blib/lib/Text/WideChar/Util.pm line 205.
Wide character (U+963F) in pattern match (m//) at /tmp/build/Text-WideChar-Util-0.170-0/blib/lib/Text/WideChar/Util.pm line 205.
Wide character (U+6839) in pattern match (m//) at /tmp/build/Text-WideChar-Util-0.170-0/blib/lib/Text/WideChar/Util.pm line 205.
Wide character (U+5EF7) in pattern match (m//) at /tmp/build/Text-WideChar-Util-0.170-0/blib/lib/Text/WideChar/Util.pm line 205.
Wide character (U+592E) in pattern match (m//) at /tmp/build/Text-WideChar-Util-0.170-0/blib/lib/Text/WideChar/Util.pm line 205.
Wide character (U+884C) in pattern match (m//) at /tmp/build/Text-WideChar-Util-0.170-0/blib/lib/Text/WideChar/Util.pm line 205.
Wide character (U+548C) in pattern match (m//) at /tmp/build/Text-WideChar-Util-0.170-0/blib/lib/Text/WideChar/Util.pm line 205.
Wide character (U+4F01) in pattern match (m//) at /tmp/build/Text-WideChar-Util-0.170-0/blib/lib/Text/WideChar/Util.pm line 205.
Wide character (U+4E1A) in pattern match (m//) at /tmp/build/Text-WideChar-Util-0.170-0/blib/lib/Text/WideChar/Util.pm line 205.
Wide character (U+6863) in pattern match (m//) at /tmp/build/Text-WideChar-Util-0.170-0/blib/lib/Text/WideChar/Util.pm line 205.
Wide character (U+6848) in pattern match (m//) at /tmp/build/Text-WideChar-Util-0.170-0/blib/lib/Text/WideChar/Util.pm line 205.
Wide character (U+FF0C) in pattern match (m//) at /tmp/build/Text-WideChar-Util-0.170-0/blib/lib/Text/WideChar/Util.pm line 205.
Wide character (U+56E0) in pattern match (m//) at /tmp/build/Text-WideChar-Util-0.170-0/blib/lib/Text/WideChar/Util.pm line 205.
Wide character (U+6B64) in pattern match (m//) at /tmp/build/Text-WideChar-Util-0.170-0/blib/lib/Text/WideChar/Util.pm line 205.
Wide character (U+635F) in pattern match (m//) at /tmp/build/Text-WideChar-Util-0.170-0/blib/lib/Text/WideChar/Util.pm line 205.
Wide character (U+5931) in pattern match (m//) at /tmp/build/Text-WideChar-Util-0.170-0/blib/lib/Text/WideChar/Util.pm line 205.
Wide character (U+53EF) in pattern match (m//) at /tmp/build/Text-WideChar-Util-0.170-0/blib/lib/Text/WideChar/Util.pm line 205.
Wide character (U+80FD) in pattern match (m//) at /tmp/build/Text-WideChar-Util-0.170-0/blib/lib/Text/WideChar/Util.pm line 205.
Wide character (U+975E) in pattern match (m//) at /tmp/build/Text-WideChar-Util-0.170-0/blib/lib/Text/WideChar/Util.pm line 205.
Wide character (U+5E38) in pattern match (m//) at /tmp/build/Text-WideChar-Util-0.170-0/blib/lib/Text/WideChar/Util.pm line 205.
Wide character (U+5DE8) in pattern match (m//) at /tmp/build/Text-WideChar-Util-0.170-0/blib/lib/Text/WideChar/Util.pm line 205.
Wide character (U+5927) in pattern match (m//) at /tmp/build/Text-WideChar-Util-0.170-0/blib/lib/Text/WideChar/Util.pm line 205.
Wide character (U+3002) in pattern match (m//) at /tmp/build/Text-WideChar-Util-0.170-0/blib/lib/Text/WideChar/Util.pm line 205.
Wide character (U+8FD9) in pattern match (m//) at /tmp/build/Text-WideChar-Util-0.170-0/blib/lib/Text/WideChar/Util.pm line 205.
Wide character (U+4E2A) in pattern match (m//) at /tmp/build/Text-WideChar-Util-0.170-0/blib/lib/Text/WideChar/Util.pm line 205.
Wide character (U+6570) in pattern match (m//) at /tmp/build/Text-WideChar-Util-0.170-0/blib/lib/Text/WideChar/Util.pm line 205.
Wide character (U+636E) in pattern match (m//) at /tmp/build/Text-WideChar-Util-0.170-0/blib/lib/Text/WideChar/Util.pm line 205.
Wide character (U+4E2D) in pattern match (m//) at /tmp/build/Text-WideChar-Util-0.170-0/blib/lib/Text/WideChar/Util.pm line 205.
Wide character (U+5FC3) in pattern match (m//) at /tmp/build/Text-WideChar-Util-0.170-0/blib/lib/Text/WideChar/Util.pm line 205.
Wide character (U+914D) in pattern match (m//) at /tmp/build/Text-WideChar-Util-0.170-0/blib/lib/Text/WideChar/Util.pm line 205.
Wide character (U+5907) in pattern match (m//) at /tmp/build/Text-WideChar-Util-0.170-0/blib/lib/Text/WideChar/Util.pm line 205.
Wide character (U+4E86) in pattern match (m//) at /tmp/build/Text-WideChar-Util-0.170-0/blib/lib/Text/WideChar/Util.pm line 205.
Wide character (U+79C1) in pattern match (m//) at /tmp/build/Text-WideChar-Util-0.170-0/blib/lib/Text/WideChar/Util.pm line 205.
Wide character (U+4EBA) in pattern match (m//) at /tmp/build/Text-WideChar-Util-0.170-0/blib/lib/Text/WideChar/Util.pm line 205.
Wide character (U+7684) in pattern match (m//) at /tmp/build/Text-WideChar-Util-0.170-0/blib/lib/Text/WideChar/Util.pm line 205.
Wide character (U+6551) in pattern match (m//) at /tmp/build/Text-WideChar-Util-0.170-0/blib/lib/Text/WideChar/Util.pm line 205.
Wide character (U+706B) in pattern match (m//) at /tmp/build/Text-WideChar-Util-0.170-0/blib/lib/Text/WideChar/Util.pm line 205.
Wide character (U+961F) in pattern match (m//) at /tmp/build/Text-WideChar-Util-0.170-0/blib/lib/Text/WideChar/Util.pm line 205.
Wide character (U+FF0C) in pattern match (m//) at /tmp/build/Text-WideChar-Util-0.170-0/blib/lib/Text/WideChar/Util.pm line 205.
Wide character (U+81EA) in pattern match (m//) at /tmp/build/Text-WideChar-Util-0.170-0/blib/lib/Text/WideChar/Util.pm line 205.
Wide character (U+52A8) in pattern match (m//) at /tmp/build/Text-WideChar-Util-0.170-0/blib/lib/Text/WideChar/Util.pm line 205.
Wide character (U+55B7) in pattern match (m//) at /tmp/build/Text-WideChar-Util-0.170-0/blib/lib/Text/WideChar/Util.pm line 205.
Wide character (U+6C34) in pattern match (m//) at /tmp/build/Text-WideChar-Util-0.170-0/blib/lib/Text/WideChar/Util.pm line 205.
Wide character (U+706D) in pattern match (m//) at /tmp/build/Text-WideChar-Util-0.170-0/blib/lib/Text/WideChar/Util.pm line 205.
Wide character (U+706B) in pattern match (m//) at /tmp/build/Text-WideChar-Util-0.170-0/blib/lib/Text/WideChar/Util.pm line 205.
Wide character (U+7CFB) in pattern match (m//) at /tmp/build/Text-WideChar-Util-0.170-0/blib/lib/Text/WideChar/Util.pm line 205.
Wide character (U+7EDF) in pattern match (m//) at /tmp/build/Text-WideChar-Util-0.170-0/blib/lib/Text/WideChar/Util.pm line 205.
Wide character (U+FF0C) in pattern match (m//) at /tmp/build/Text-WideChar-Util-0.170-0/blib/lib/Text/WideChar/Util.pm line 205.
Wide character (U+706B) in pattern match (m//) at /tmp/build/Text-WideChar-Util-0.170-0/blib/lib/Text/WideChar/Util.pm line 205.
Wide character (U+707E) in pattern match (m//) at /tmp/build/Text-WideChar-Util-0.170-0/blib/lib/Text/WideChar/Util.pm line 205.
Wide character (U+63A7) in pattern match (m//) at /tmp/build/Text-WideChar-Util-0.170-0/blib/lib/Text/WideChar/Util.pm line 205.
Wide character (U+5236) in pattern match (m//) at /tmp/build/Text-WideChar-Util-0.170-0/blib/lib/Text/WideChar/Util.pm line 205.
Wide character (U+7CFB) in pattern match (m//) at /tmp/build/Text-WideChar-Util-0.170-0/blib/lib/Text/WideChar/Util.pm line 205.
Wide character (U+7EDF) in pattern match (m//) at /tmp/build/Text-WideChar-Util-0.170-0/blib/lib/Text/WideChar/Util.pm line 205.
Wide character (U+4EE5) in pattern match (m//) at /tmp/build/Text-WideChar-Util-0.170-0/blib/lib/Text/WideChar/Util.pm line 205.
Wide character (U+53CA) in pattern match (m//) at /tmp/build/Text-WideChar-Util-0.170-0/blib/lib/Text/WideChar/Util.pm line 205.
Wide character (U+5176) in pattern match (m//) at /tmp/build/Text-WideChar-Util-0.170-0/blib/lib/Text/WideChar/Util.pm line 205.
Wide character (U+5B83) in pattern match (m//) at /tmp/build/Text-WideChar-Util-0.170-0/blib/lib/Text/WideChar/Util.pm line 205.
Wide character (U+706B) in pattern match (m//) at /tmp/build/Text-WideChar-Util-0.170-0/blib/lib/Text/WideChar/Util.pm line 205.
Wide character (U+707E) in pattern match (m//) at /tmp/build/Text-WideChar-Util-0.170-0/blib/lib/Text/WideChar/Util.pm line 205.
Wide character (U+9884) in pattern match (m//) at /tmp/build/Text-WideChar-Util-0.170-0/blib/lib/Text/WideChar/Util.pm line 205.
Wide character (U+9632) in pattern match (m//) at /tmp/build/Text-WideChar-Util-0.170-0/blib/lib/Text/WideChar/Util.pm line 205.
Wide character (U+7684) in pattern match (m//) at /tmp/build/Text-WideChar-Util-0.170-0/blib/lib/Text/WideChar/Util.pm line 205.
Wide character (U+63AA) in pattern match (m//) at /tmp/build/Text-WideChar-Util-0.170-0/blib/lib/Text/WideChar/Util.pm line 205.
Wide character (U+65BD) in pattern match (m//) at /tmp/build/Text-WideChar-Util-0.170-0/blib/lib/Text/WideChar/Util.pm line 205.
Wide character (U+3002) in pattern match (m//) at /tmp/build/Text-WideChar-Util-0.170-0/blib/lib/Text/WideChar/Util.pm line 205.
Wide character (U+4F46) in pattern match (m//) at /tmp/build/Text-WideChar-Util-0.170-0/blib/lib/Text/WideChar/Util.pm line 205.
Wide character (U+5373) in pattern match (m//) at /tmp/build/Text-WideChar-Util-0.170-0/blib/lib/Text/WideChar/Util.pm line 205.
Wide character (U+4FBF) in pattern match (m//) at /tmp/build/Text-WideChar-Util-0.170-0/blib/lib/Text/WideChar/Util.pm line 205.
Wide character (U+5982) in pattern match (m//) at /tmp/build/Text-WideChar-Util-0.170-0/blib/lib/Text/WideChar/Util.pm line 205.
Wide character (U+6B64) in pattern match (m//) at /tmp/build/Text-WideChar-Util-0.170-0/blib/lib/Text/WideChar/Util.pm line 205.
Wide character (U+FF0C) in pattern match (m//) at /tmp/build/Text-WideChar-Util-0.170-0/blib/lib/Text/WideChar/Util.pm line 205.
Wide character (U+4ECD) in pattern match (m//) at /tmp/build/Text-WideChar-Util-0.170-0/blib/lib/Text/WideChar/Util.pm line 205.
Wide character (U+7136) in pattern match (m//) at /tmp/build/Text-WideChar-Util-0.170-0/blib/lib/Text/WideChar/Util.pm line 205.
Wide character (U+6CA1) in pattern match (m//) at /tmp/build/Text-WideChar-Util-0.170-0/blib/lib/Text/WideChar/Util.pm line 205.
Wide character (U+6709) in pattern match (m//) at /tmp/build/Text-WideChar-Util-0.170-0/blib/lib/Text/WideChar/Util.pm line 205.
Wide character (U+9884) in pattern match (m//) at /tmp/build/Text-WideChar-Util-0.170-0/blib/lib/Text/WideChar/Util.pm line 205.
Wide character (U+9632) in pattern match (m//) at /tmp/build/Text-WideChar-Util-0.170-0/blib/lib/Text/WideChar/Util.pm line 205.
Wide character (U+707E) in pattern match (m//) at /tmp/build/Text-WideChar-Util-0.170-0/blib/lib/Text/WideChar/Util.pm line 205.
Wide character (U+96BE) in pattern match (m//) at /tmp/build/Text-WideChar-Util-0.170-0/blib/lib/Text/WideChar/Util.pm line 205.
Wide character (U+7684) in pattern match (m//) at /tmp/build/Text-WideChar-Util-0.170-0/blib/lib/Text/WideChar/Util.pm line 205.
Wide character (U+53D1) in pattern match (m//) at /tmp/build/Text-WideChar-Util-0.170-0/blib/lib/Text/WideChar/Util.pm line 205.
Wide character (U+751F) in pattern match (m//) at /tmp/build/Text-WideChar-Util-0.170-0/blib/lib/Text/WideChar/Util.pm line 205.
Wide character (U+3002) in pattern match (m//) at /tmp/build/Text-WideChar-Util-0.170-0/blib/lib/Text/WideChar/Util.pm line 205.
Wide character (U+76EE) in pattern match (m//) at /tmp/build/Text-WideChar-Util-0.170-0/blib/lib/Text/WideChar/Util.pm line 205.
Wide character (U+524D) in pattern match (m//) at /tmp/build/Text-WideChar-Util-0.170-0/blib/lib/Text/WideChar/Util.pm line 205.
Wide character (U+8FD8) in pattern match (m//) at /tmp/build/Text-WideChar-Util-0.170-0/blib/lib/Text/WideChar/Util.pm line 205.
Wide character (U+4E0D) in pattern match (m//) at /tmp/build/Text-WideChar-Util-0.170-0/blib/lib/Text/WideChar/Util.pm line 205.
Wide character (U+6E05) in pattern match (m//) at /tmp/build/Text-WideChar-Util-0.170-0/blib/lib/Text/WideChar/Util.pm line 205.
Wide character (U+695A) in pattern match (m//) at /tmp/build/Text-WideChar-Util-0.170-0/blib/lib/Text/WideChar/Util.pm line 205.
Wide character (U+6570) in pattern match (m//) at /tmp/build/Text-WideChar-Util-0.170-0/blib/lib/Text/WideChar/Util.pm line 205.
Wide character (U+636E) in pattern match (m//) at /tmp/build/Text-WideChar-Util-0.170-0/blib/lib/Text/WideChar/Util.pm line 205.
Wide character (U+4E2D) in pattern match (m//) at /tmp/build/Text-WideChar-Util-0.170-0/blib/lib/Text/WideChar/Util.pm line 205.
Wide character (U+5FC3) in pattern match (m//) at /tmp/build/Text-WideChar-Util-0.170-0/blib/lib/Text/WideChar/Util.pm line 205.
Wide character (U+8D77) in pattern match (m//) at /tmp/build/Text-WideChar-Util-0.170-0/blib/lib/Text/WideChar/Util.pm line 205.
Wide character (U+706B) in pattern match (m//) at /tmp/build/Text-WideChar-Util-0.170-0/blib/lib/Text/WideChar/Util.pm line 205.
Wide character (U+7684) in pattern match (m//) at /tmp/build/Text-WideChar-Util-0.170-0/blib/lib/Text/WideChar/Util.pm line 205.
Wide character (U+539F) in pattern match (m//) at /tmp/build/Text-WideChar-Util-0.170-0/blib/lib/Text/WideChar/Util.pm line 205.
Wide character (U+56E0) in pattern match (m//) at /tmp/build/Text-WideChar-Util-0.170-0/blib/lib/Text/WideChar/Util.pm line 205.
Wide character (U+3002) in pattern match (m//) at /tmp/build/Text-WideChar-Util-0.170-0/blib/lib/Text/WideChar/Util.pm line 205.
Wide character (U+5403) in pattern match (m//) at /tmp/build/Text-WideChar-Util-0.170-0/blib/lib/Text/WideChar/Util.pm line 199.
Wide character (U+5403) in pattern match (m//) at /tmp/build/Text-WideChar-Util-0.170-0/blib/lib/Text/WideChar/Util.pm line 199.
Wide character (U+5403) in pattern match (m//) at /tmp/build/Text-WideChar-Util-0.170-0/blib/lib/Text/WideChar/Util.pm line 199.
Wide character (U+5403) in pattern match (m//) at /tmp/build/Text-WideChar-Util-0.170-0/blib/lib/Text/WideChar/Util.pm line 199.
Wide character (U+5403) in pattern match (m//) at /tmp/build/Text-WideChar-Util-0.170-0/blib/lib/Text/WideChar/Util.pm line 199.
Wide character (U+5403) in pattern match (m//) at /tmp/build/Text-WideChar-Util-0.170-0/blib/lib/Text/WideChar/Util.pm line 199.
Wide character (U+5403) in pattern match (m//) at /tmp/build/Text-WideChar-Util-0.170-0/blib/lib/Text/WideChar/Util.pm line 199.
Wide character (U+5403) in pattern match (m//) at /tmp/build/Text-WideChar-Util-0.170-0/blib/lib/Text/WideChar/Util.pm line 199.
Wide character (U+5403) in pattern match (m//) at /tmp/build/Text-WideChar-Util-0.170-0/blib/lib/Text/WideChar/Util.pm line 199.
Wide character (U+996D) in pattern match (m//) at /tmp/build/Text-WideChar-Util-0.170-0/blib/lib/Text/WideChar/Util.pm line 199.
Wide character (U+996D) in pattern match (m//) at /tmp/build/Text-WideChar-Util-0.170-0/blib/lib/Text/WideChar/Util.pm line 199.
Wide character (U+996D) in pattern match (m//) at /tmp/build/Text-WideChar-Util-0.170-0/blib/lib/Text/WideChar/Util.pm line 199.
Wide character (U+996D) in pattern match (m//) at /tmp/build/Text-WideChar-Util-0.170-0/blib/lib/Text/WideChar/Util.pm line 199.
Wide character (U+996D) in pattern match (m//) at /tmp/build/Text-WideChar-Util-0.170-0/blib/lib/Text/WideChar/Util.pm line 199.
Wide character (U+996D) in pattern match (m//) at /tmp/build/Text-WideChar-Util-0.170-0/blib/lib/Text/WideChar/Util.pm line 199.
Wide character (U+996D) in pattern match (m//) at /tmp/build/Text-WideChar-Util-0.170-0/blib/lib/Text/WideChar/Util.pm line 199.
Wide character (U+996D) in pattern match (m//) at /tmp/build/Text-WideChar-Util-0.170-0/blib/lib/Text/WideChar/Util.pm line 199.
Wide character (U+5403) in pattern match (m//) at /tmp/build/Text-WideChar-Util-0.170-0/blib/lib/Text/WideChar/Util.pm line 199.
Wide character (U+5403) in pattern match (m//) at /tmp/build/Text-WideChar-Util-0.170-0/blib/lib/Text/WideChar/Util.pm line 199.
Wide character (U+5403) in pattern match (m//) at /tmp/build/Text-WideChar-Util-0.170-0/blib/lib/Text/WideChar/Util.pm line 199.
Wide character (U+5403) in pattern match (m//) at /tmp/build/Text-WideChar-Util-0.170-0/blib/lib/Text/WideChar/Util.pm line 199.
Wide character (U+5403) in pattern match (m//) at /tmp/build/Text-WideChar-Util-0.170-0/blib/lib/Text/WideChar/Util.pm line 199.
Wide character (U+5403) in pattern match (m//) at /tmp/build/Text-WideChar-Util-0.170-0/blib/lib/Text/WideChar/Util.pm line 199.
Wide character (U+5403) in pattern match (m//) at /tmp/build/Text-WideChar-Util-0.170-0/blib/lib/Text/WideChar/Util.pm line 199.
Wide character (U+5403) in pattern match (m//) at /tmp/build/Text-WideChar-Util-0.170-0/blib/lib/Text/WideChar/Util.pm line 199.
Wide character (U+996D) in pattern match (m//) at /tmp/build/Text-WideChar-Util-0.170-0/blib/lib/Text/WideChar/Util.pm line 199.
Wide character (U+996D) in pattern match (m//) at /tmp/build/Text-WideChar-Util-0.170-0/blib/lib/Text/WideChar/Util.pm line 199.
Wide character (U+996D) in pattern match (m//) at /tmp/build/Text-WideChar-Util-0.170-0/blib/lib/Text/WideChar/Util.pm line 199.
Wide character (U+996D) in pattern match (m//) at /tmp/build/Text-WideChar-Util-0.170-0/blib/lib/Text/WideChar/Util.pm line 199.
Wide character (U+996D) in pattern match (m//) at /tmp/build/Text-WideChar-Util-0.170-0/blib/lib/Text/WideChar/Util.pm line 199.
Wide character (U+996D) in pattern match (m//) at /tmp/build/Text-WideChar-Util-0.170-0/blib/lib/Text/WideChar/Util.pm line 199.
Wide character (U+996D) in pattern match (m//) at /tmp/build/Text-WideChar-Util-0.170-0/blib/lib/Text/WideChar/Util.pm line 199.
Wide character (U+996D) in pattern match (m//) at /tmp/build/Text-WideChar-Util-0.170-0/blib/lib/Text/WideChar/Util.pm line 199.
Wide character (U+5403) in pattern match (m//) at /tmp/build/Text-WideChar-Util-0.170-0/blib/lib/Text/WideChar/Util.pm line 199.
Wide character (U+5403) in pattern match (m//) at /tmp/build/Text-WideChar-Util-0.170-0/blib/lib/Text/WideChar/Util.pm line 199.
Wide character (U+5403) in pattern match (m//) at /tmp/build/Text-WideChar-Util-0.170-0/blib/lib/Text/WideChar/Util.pm line 199.
Wide character (U+5403) in pattern match (m//) at /tmp/build/Text-WideChar-Util-0.170-0/blib/lib/Text/WideChar/Util.pm line 199.
Wide character (U+5403) in pattern match (m//) at /tmp/build/Text-WideChar-Util-0.170-0/blib/lib/Text/WideChar/Util.pm line 199.
Wide character (U+5403) in pattern match (m//) at /tmp/build/Text-WideChar-Util-0.170-0/blib/lib/Text/WideChar/Util.pm line 199.
Wide character (U+5403) in pattern match (m//) at /tmp/build/Text-WideChar-Util-0.170-0/blib/lib/Text/WideChar/Util.pm line 199.
Wide character (U+5403) in pattern match (m//) at /tmp/build/Text-WideChar-Util-0.170-0/blib/lib/Text/WideChar/Util.pm line 199.
Wide character (U+996D) in pattern match (m//) at /tmp/build/Text-WideChar-Util-0.170-0/blib/lib/Text/WideChar/Util.pm line 199.
Wide character (U+996D) in pattern match (m//) at /tmp/build/Text-WideChar-Util-0.170-0/blib/lib/Text/WideChar/Util.pm line 199.
Wide character (U+996D) in pattern match (m//) at /tmp/build/Text-WideChar-Util-0.170-0/blib/lib/Text/WideChar/Util.pm line 199.
Wide character (U+996D) in pattern match (m//) at /tmp/build/Text-WideChar-Util-0.170-0/blib/lib/Text/WideChar/Util.pm line 199.
Wide character (U+996D) in pattern match (m//) at /tmp/build/Text-WideChar-Util-0.170-0/blib/lib/Text/WideChar/Util.pm line 199.
Wide character (U+996D) in pattern match (m//) at /tmp/build/Text-WideChar-Util-0.170-0/blib/lib/Text/WideChar/Util.pm line 199.
Wide character (U+996D) in pattern match (m//) at /tmp/build/Text-WideChar-Util-0.170-0/blib/lib/Text/WideChar/Util.pm line 199.
Wide character (U+996D) in pattern match (m//) at /tmp/build/Text-WideChar-Util-0.170-0/blib/lib/Text/WideChar/Util.pm line 199.
Wide character (U+5403) in pattern match (m//) at /tmp/build/Text-WideChar-Util-0.170-0/blib/lib/Text/WideChar/Util.pm line 199.
Wide character (U+5403) in pattern match (m//) at /tmp/build/Text-WideChar-Util-0.170-0/blib/lib/Text/WideChar/Util.pm line 199.
Wide character (U+5403) in pattern match (m//) at /tmp/build/Text-WideChar-Util-0.170-0/blib/lib/Text/WideChar/Util.pm line 199.
Wide character (U+5403) in pattern match (m//) at /tmp/build/Text-WideChar-Util-0.170-0/blib/lib/Text/WideChar/Util.pm line 199.
Wide character (U+5403) in pattern match (m//) at /tmp/build/Text-WideChar-Util-0.170-0/blib/lib/Text/WideChar/Util.pm line 199.
Wide character (U+5403) in pattern match (m//) at /tmp/build/Text-WideChar-Util-0.170-0/blib/lib/Text/WideChar/Util.pm line 199.
Wide character (U+5403) in pattern match (m//) at /tmp/build/Text-WideChar-Util-0.170-0/blib/lib/Text/WideChar/Util.pm line 199.
Wide character (U+5403) in pattern match (m//) at /tmp/build/Text-WideChar-Util-0.170-0/blib/lib/Text/WideChar/Util.pm line 199.
Wide character (U+996D) in pattern match (m//) at /tmp/build/Text-WideChar-Util-0.170-0/blib/lib/Text/WideChar/Util.pm line 199.
Wide character (U+996D) in pattern match (m//) at /tmp/build/Text-WideChar-Util-0.170-0/blib/lib/Text/WideChar/Util.pm line 199.
Wide character (U+996D) in pattern match (m//) at /tmp/build/Text-WideChar-Util-0.170-0/blib/lib/Text/WideChar/Util.pm line 199.
Wide character (U+996D) in pattern match (m//) at /tmp/build/Text-WideChar-Util-0.170-0/blib/lib/Text/WideChar/Util.pm line 199.
Wide character (U+996D) in pattern match (m//) at /tmp/build/Text-WideChar-Util-0.170-0/blib/lib/Text/WideChar/Util.pm line 199.
Wide character (U+996D) in pattern match (m//) at /tmp/build/Text-WideChar-Util-0.170-0/blib/lib/Text/WideChar/Util.pm line 199.
Wide character (U+996D) in pattern match (m//) at /tmp/build/Text-WideChar-Util-0.170-0/blib/lib/Text/WideChar/Util.pm line 199.
Wide character (U+996D) in pattern match (m//) at /tmp/build/Text-WideChar-Util-0.170-0/blib/lib/Text/WideChar/Util.pm line 199.
Wide character (U+5403) in pattern match (m//) at /tmp/build/Text-WideChar-Util-0.170-0/blib/lib/Text/WideChar/Util.pm line 199.
Wide character (U+5403) in pattern match (m//) at /tmp/build/Text-WideChar-Util-0.170-0/blib/lib/Text/WideChar/Util.pm line 199.
Wide character (U+5403) in pattern match (m//) at /tmp/build/Text-WideChar-Util-0.170-0/blib/lib/Text/WideChar/Util.pm line 199.
Wide character (U+5403) in pattern match (m//) at /tmp/build/Text-WideChar-Util-0.170-0/blib/lib/Text/WideChar/Util.pm line 199.
Wide character (U+5403) in pattern match (m//) at /tmp/build/Text-WideChar-Util-0.170-0/blib/lib/Text/WideChar/Util.pm line 199.
Wide character (U+5403) in pattern match (m//) at /tmp/build/Text-WideChar-Util-0.170-0/blib/lib/Text/WideChar/Util.pm line 199.
Wide character (U+5403) in pattern match (m//) at /tmp/build/Text-WideChar-Util-0.170-0/blib/lib/Text/WideChar/Util.pm line 199.
Wide character (U+5403) in pattern match (m//) at /tmp/build/Text-WideChar-Util-0.170-0/blib/lib/Text/WideChar/Util.pm line 199.
Wide character (U+5403) in pattern match (m//) at /tmp/build/Text-WideChar-Util-0.170-0/blib/lib/Text/WideChar/Util.pm line 199.
Wide character (U+996D) in pattern match (m//) at /tmp/build/Text-WideChar-Util-0.170-0/blib/lib/Text/WideChar/Util.pm line 199.
Wide character (U+996D) in pattern match (m//) at /tmp/build/Text-WideChar-Util-0.170-0/blib/lib/Text/WideChar/Util.pm line 199.
Wide character (U+996D) in pattern match (m//) at /tmp/build/Text-WideChar-Util-0.170-0/blib/lib/Text/WideChar/Util.pm line 199.
Wide character (U+996D) in pattern match (m//) at /tmp/build/Text-WideChar-Util-0.170-0/blib/lib/Text/WideChar/Util.pm line 199.
Wide character (U+996D) in pattern match (m//) at /tmp/build/Text-WideChar-Util-0.170-0/blib/lib/Text/WideChar/Util.pm line 199.
Wide character (U+996D) in pattern match (m//) at /tmp/build/Text-WideChar-Util-0.170-0/blib/lib/Text/WideChar/Util.pm line 199.
Wide character (U+996D) in pattern match (m//) at /tmp/build/Text-WideChar-Util-0.170-0/blib/lib/Text/WideChar/Util.pm line 199.
Wide character (U+996D) in pattern match (m//) at /tmp/build/Text-WideChar-Util-0.170-0/blib/lib/Text/WideChar/Util.pm line 199.
Wide character (U+5403) in pattern match (m//) at /tmp/build/Text-WideChar-Util-0.170-0/blib/lib/Text/WideChar/Util.pm line 199.
Wide character (U+5403) in pattern match (m//) at /tmp/build/Text-WideChar-Util-0.170-0/blib/lib/Text/WideChar/Util.pm line 199.
Wide character (U+5403) in pattern match (m//) at /tmp/build/Text-WideChar-Util-0.170-0/blib/lib/Text/WideChar/Util.pm line 199.
Wide character (U+5403) in pattern match (m//) at /tmp/build/Text-WideChar-Util-0.170-0/blib/lib/Text/WideChar/Util.pm line 199.
Wide character (U+5403) in pattern match (m//) at /tmp/build/Text-WideChar-Util-0.170-0/blib/lib/Text/WideChar/Util.pm line 199.
Wide character (U+5403) in pattern match (m//) at /tmp/build/Text-WideChar-Util-0.170-0/blib/lib/Text/WideChar/Util.pm line 199.
Wide character (U+5403) in pattern match (m//) at /tmp/build/Text-WideChar-Util-0.170-0/blib/lib/Text/WideChar/Util.pm line 199.
Wide character (U+5403) in pattern match (m//) at /tmp/build/Text-WideChar-Util-0.170-0/blib/lib/Text/WideChar/Util.pm line 199.
Wide character (U+996D) in pattern match (m//) at /tmp/build/Text-WideChar-Util-0.170-0/blib/lib/Text/WideChar/Util.pm line 199.
Wide character (U+996D) in pattern match (m//) at /tmp/build/Text-WideChar-Util-0.170-0/blib/lib/Text/WideChar/Util.pm line 199.
Wide character (U+996D) in pattern match (m//) at /tmp/build/Text-WideChar-Util-0.170-0/blib/lib/Text/WideChar/Util.pm line 199.
Wide character (U+996D) in pattern match (m//) at /tmp/build/Text-WideChar-Util-0.170-0/blib/lib/Text/WideChar/Util.pm line 199.
Wide character (U+996D) in pattern match (m//) at /tmp/build/Text-WideChar-Util-0.170-0/blib/lib/Text/WideChar/Util.pm line 199.
Wide character (U+996D) in pattern match (m//) at /tmp/build/Text-WideChar-Util-0.170-0/blib/lib/Text/WideChar/Util.pm line 199.
Wide character (U+996D) in pattern match (m//) at /tmp/build/Text-WideChar-Util-0.170-0/blib/lib/Text/WideChar/Util.pm line 199.
Wide character (U+996D) in pattern match (m//) at /tmp/build/Text-WideChar-Util-0.170-0/blib/lib/Text/WideChar/Util.pm line 199.
Wide character (U+5403) in pattern match (m//) at /tmp/build/Text-WideChar-Util-0.170-0/blib/lib/Text/WideChar/Util.pm line 199.
Wide character (U+5403) in pattern match (m//) at /tmp/build/Text-WideChar-Util-0.170-0/blib/lib/Text/WideChar/Util.pm line 199.
Wide character (U+5403) in pattern match (m//) at /tmp/build/Text-WideChar-Util-0.170-0/blib/lib/Text/WideChar/Util.pm line 199.
Wide character (U+5403) in pattern match (m//) at /tmp/build/Text-WideChar-Util-0.170-0/blib/lib/Text/WideChar/Util.pm line 199.
Wide character (U+5403) in pattern match (m//) at /tmp/build/Text-WideChar-Util-0.170-0/blib/lib/Text/WideChar/Util.pm line 199.
Wide character (U+5403) in pattern match (m//) at /tmp/build/Text-WideChar-Util-0.170-0/blib/lib/Text/WideChar/Util.pm line 199.
Wide character (U+5403) in pattern match (m//) at /tmp/build/Text-WideChar-Util-0.170-0/blib/lib/Text/WideChar/Util.pm line 199.
Wide character (U+5403) in pattern match (m//) at /tmp/build/Text-WideChar-Util-0.170-0/blib/lib/Text/WideChar/Util.pm line 199.
Wide character (U+996D) in pattern match (m//) at /tmp/build/Text-WideChar-Util-0.170-0/blib/lib/Text/WideChar/Util.pm line 199.
Wide character (U+996D) in pattern match (m//) at /tmp/build/Text-WideChar-Util-0.170-0/blib/lib/Text/WideChar/Util.pm line 199.
Wide character (U+996D) in pattern match (m//) at /tmp/build/Text-WideChar-Util-0.170-0/blib/lib/Text/WideChar/Util.pm line 199.
Wide character (U+996D) in pattern match (m//) at /tmp/build/Text-WideChar-Util-0.170-0/blib/lib/Text/WideChar/Util.pm line 199.
Wide character (U+996D) in pattern match (m//) at /tmp/build/Text-WideChar-Util-0.170-0/blib/lib/Text/WideChar/Util.pm line 199.
Wide character (U+996D) in pattern match (m//) at /tmp/build/Text-WideChar-Util-0.170-0/blib/lib/Text/WideChar/Util.pm line 199.
Wide character (U+996D) in pattern match (m//) at /tmp/build/Text-WideChar-Util-0.170-0/blib/lib/Text/WideChar/Util.pm line 199.
Wide character (U+996D) in pattern match (m//) at /tmp/build/Text-WideChar-Util-0.170-0/blib/lib/Text/WideChar/Util.pm line 199.
Wide character (U+5403) in pattern match (m//) at /tmp/build/Text-WideChar-Util-0.170-0/blib/lib/Text/WideChar/Util.pm line 199.
Wide character (U+5403) in pattern match (m//) at /tmp/build/Text-WideChar-Util-0.170-0/blib/lib/Text/WideChar/Util.pm line 199.
Wide character (U+5403) in pattern match (m//) at /tmp/build/Text-WideChar-Util-0.170-0/blib/lib/Text/WideChar/Util.pm line 199.
Wide character (U+5403) in pattern match (m//) at /tmp/build/Text-WideChar-Util-0.170-0/blib/lib/Text/WideChar/Util.pm line 199.
Wide character (U+5403) in pattern match (m//) at /tmp/build/Text-WideChar-Util-0.170-0/blib/lib/Text/WideChar/Util.pm line 199.
Wide character (U+5403) in pattern match (m//) at /tmp/build/Text-WideChar-Util-0.170-0/blib/lib/Text/WideChar/Util.pm line 199.
Wide character (U+5403) in pattern match (m//) at /tmp/build/Text-WideChar-Util-0.170-0/blib/lib/Text/WideChar/Util.pm line 199.
Wide character (U+5403) in pattern match (m//) at /tmp/build/Text-WideChar-Util-0.170-0/blib/lib/Text/WideChar/Util.pm line 199.
Wide character (U+996D) in pattern match (m//) at /tmp/build/Text-WideChar-Util-0.170-0/blib/lib/Text/WideChar/Util.pm line 199.
Wide character (U+996D) in pattern match (m//) at /tmp/build/Text-WideChar-Util-0.170-0/blib/lib/Text/WideChar/Util.pm line 199.
Wide character (U+996D) in pattern match (m//) at /tmp/build/Text-WideChar-Util-0.170-0/blib/lib/Text/WideChar/Util.pm line 199.
Wide character (U+996D) in pattern match (m//) at /tmp/build/Text-WideChar-Util-0.170-0/blib/lib/Text/WideChar/Util.pm line 199.
Wide character (U+996D) in pattern match (m//) at /tmp/build/Text-WideChar-Util-0.170-0/blib/lib/Text/WideChar/Util.pm line 199.
Wide character (U+996D) in pattern match (m//) at /tmp/build/Text-WideChar-Util-0.170-0/blib/lib/Text/WideChar/Util.pm line 199.
Wide character (U+996D) in pattern match (m//) at /tmp/build/Text-WideChar-Util-0.170-0/blib/lib/Text/WideChar/Util.pm line 199.
Wide character (U+996D) in pattern match (m//) at /tmp/build/Text-WideChar-Util-0.170-0/blib/lib/Text/WideChar/Util.pm line 199.
t/wrap.t ................. ok
All tests successful.
Files=6, Tests=14,  1 wallclock secs ( 0.06 usr  0.10 sys +  0.86 cusr  1.21 csys =  2.23 CPU)
Result: PASS

------------------------------
PREREQUISITES
------------------------------

Prerequisite modules loaded:

requires:

    Module              Need     Have    
    ------------------- -------- --------
    Exporter            5.57     5.73    
    locale              0        1.09    
    perl                5.010001 5.030002
    strict              0        1.11    
    Unicode::GCString   0        2013.10 
    utf8                0        1.22    
    warnings            0        1.44    

build_requires:

    Module              Need     Have    
    ------------------- -------- --------
    constant            0        1.33    
    ExtUtils::MakeMaker 0        7.44    
    File::Spec          0        3.78    
    IO::Handle          0        1.40    
    IPC::Open3          0        1.20    
    POSIX               0        1.88    
    Test::More          0.98     1.302162

configure_requires:

    Module              Need     Have    
    ------------------- -------- --------
    ExtUtils::MakeMaker 0        7.44    


------------------------------
ENVIRONMENT AND OTHER CONTEXT
------------------------------

Environment variables:

    AUTOMATED_TESTING = 1
    HARNESS_OPTIONS = j4
    NONINTERACTIVE_TESTING = 1
    PATH = /home/smoker/perl5/perlbrew/bin:/home/smoker/perl5/perlbrew/perls/perl-5.30.2-thread/bin:/usr/local/sbin:/usr/local/bin:/usr/sbin:/usr/bin:/sbin:/bin
    PERL5LIB = /tmp/build/Unicode-LineBreak-2019.001-0/blib/arch:/tmp/build/Unicode-LineBreak-2019.001-0/blib/lib:/tmp/build/MIME-Charset-1.012.2-0/blib/arch:/tmp/build/MIME-Charset-1.012.2-0/blib/lib:/tmp/build/Text-ANSI-Util-0.230-0/blib/arch:/tmp/build/Text-ANSI-Util-0.230-0/blib/lib:/tmp/build/Data-Dump-1.23-0/blib/arch:/tmp/build/Data-Dump-1.23-0/blib/lib:/tmp/build/Syntax-Feature-EachOnArray-0.04-0/blib/arch:/tmp/build/Syntax-Feature-EachOnArray-0.04-0/blib/lib:/tmp/build/syntax-0.004-0/blib/arch:/tmp/build/syntax-0.004-0/blib/lib:/tmp/build/namespace-clean-0.27-0/blib/arch:/tmp/build/namespace-clean-0.27-0/blib/lib:/tmp/build/B-Hooks-EndOfScope-0.24-0/blib/arch:/tmp/build/B-Hooks-EndOfScope-0.24-0/blib/lib:/tmp/build/Variable-Magic-0.62-0/blib/arch:/tmp/build/Variable-Magic-0.62-0/blib/lib:/tmp/build/Sub-Exporter-Progressive-0.001013-0/blib/arch:/tmp/build/Sub-Exporter-Progressive-0.001013-0/blib/lib:/tmp/build/Devel-Hide-0.0013-0/blib/arch:/tmp/build/Devel-Hide-0.0013-0/blib/lib:/tmp/build/Data-OptList-0.110-0/blib/arch:/tmp/build/Data-OptList-0.110-0/blib/lib:/tmp/build/Sub-Install-0.928-0/blib/arch:/tmp/build/Sub-Install-0.928-0/blib/lib:/tmp/build/Params-Util-1.102-0/blib/arch:/tmp/build/Params-Util-1.102-0/blib/lib:/tmp/build/Hash-FieldHash-0.15-0/blib/arch:/tmp/build/Hash-FieldHash-0.15-0/blib/lib:/tmp/build/Test-LeakTrace-0.16-0/blib/arch:/tmp/build/Test-LeakTrace-0.16-0/blib/lib:/tmp/build/String-ShellQuote-1.04-0/blib/arch:/tmp/build/String-ShellQuote-1.04-0/blib/lib:/tmp/build/String-Pad-0.020-0/blib/arch:/tmp/build/String-Pad-0.020-0/blib/lib:/tmp/build/Sort-Sub-0.120-0/blib/arch:/tmp/build/Sort-Sub-0.120-0/blib/lib:/tmp/build/Sort-Naturally-1.03-0/blib/arch:/tmp/build/Sort-Naturally-1.03-0/blib/lib:/tmp/build/Complete-Sequence-0.002-0/blib/arch:/tmp/build/Complete-Sequence-0.002-0/blib/lib:/tmp/build/Set-CrossProduct-2.003-0/blib/arch:/tmp/build/Set-CrossProduct-2.003-0/blib/lib:/tmp/build/Complete-Sah-0.007-0/blib/arch:/tmp/build/Complete-Sah-0.007-0/blib/lib:/tmp/build/Sah-Schemas-Int-0.075-0/blib/arch:/tmp/build/Sah-Schemas-Int-0.075-0/blib/lib:/tmp/build/Module-Installed-Tiny-0.004-0/blib/arch:/tmp/build/Module-Installed-Tiny-0.004-0/blib/lib:/tmp/build/Data-Sah-Normalize-0.050-0/blib/arch:/tmp/build/Data-Sah-Normalize-0.050-0/blib/lib:/tmp/build/Complete-Util-0.611-0/blib/arch:/tmp/build/Complete-Util-0.611-0/blib/lib:/tmp/build/Complete-Common-0.22-0/blib/arch:/tmp/build/Complete-Common-0.22-0/blib/lib:/tmp/build/Number-Format-Metric-0.60-0/blib/arch:/tmp/build/Number-Format-Metric-0.60-0/blib/lib:/tmp/build/Number-Format-1.75-0/blib/arch:/tmp/build/Number-Format-1.75-0/blib/lib:/tmp/build/JSON-MaybeXS-1.004003-0/blib/arch:/tmp/build/JSON-MaybeXS-1.004003-0/blib/lib:/tmp/build/Cpanel-JSON-XS-4.25-0/blib/arch:/tmp/build/Cpanel-JSON-XS-4.25-0/blib/lib:/tmp/build/ColorThemes-Standard-0.002-0/blib/arch:/tmp/build/ColorThemes-Standard-0.002-0/blib/lib:/tmp/build/ColorThemeBase-Static-0.008-0/blib/arch:/tmp/build/ColorThemeBase-Static-0.008-0/blib/lib:/tmp/build/Color-RGB-Util-0.601-0/blib/arch:/tmp/build/Color-RGB-Util-0.601-0/blib/lib:/tmp/build/Test-RandomResult-0.001-0/blib/arch:/tmp/build/Test-RandomResult-0.001-0/blib/lib
    PERL5OPT = 
    PERL5_CPANPLUS_IS_RUNNING = 559
    PERL5_CPAN_IS_RUNNING = 559
    PERLBREW_HOME = /home/smoker/.perlbrew
    PERLBREW_MANPATH = /home/smoker/perl5/perlbrew/perls/perl-5.30.2-thread/man
    PERLBREW_PATH = /home/smoker/perl5/perlbrew/bin:/home/smoker/perl5/perlbrew/perls/perl-5.30.2-thread/bin
    PERLBREW_PERL = perl-5.30.2-thread
    PERLBREW_ROOT = /home/smoker/perl5/perlbrew
    PERLBREW_SHELLRC_VERSION = 0.88
    PERLBREW_VERSION = 0.88
    PERL_MM_USE_DEFAULT = 1
    PERL_USE_UNSAFE_INC = 1
    SHELL = /bin/bash
    TERM = xterm
    TMPDIR = /tmp/testwrapper.548

Perl special variables (and OS-specific diagnostics, for MSWin32):

    $^X = /home/smoker/perl5/perlbrew/perls/perl-5.30.2-thread/bin/perl5.30.2
    $UID/$EUID = 1000 / 1000
    $GID = 1000
    $EGID = 1000

Perl module toolchain versions installed:

    Module              Have    
    ------------------- --------
    CPAN                2.27    
    CPAN::Meta          2.150010
    Cwd                 3.78    
    ExtUtils::CBuilder  0.280231
    ExtUtils::Command   7.44    
    ExtUtils::Install   2.14    
    ExtUtils::MakeMaker 7.44    
    ExtUtils::Manifest  1.72    
    ExtUtils::ParseXS   3.40    
    File::Spec          3.78    
    JSON                4.02    
    JSON::PP            4.02    
    Module::Build       0.4231  
    Module::Signature   n/a     
    Parse::CPAN::Meta   2.150010
    Test::Harness       3.42    
    Test::More          1.302162
    YAML                1.30    
    YAML::Syck          1.32    
    version             0.9924  


--

Summary of my perl5 (revision 5 version 30 subversion 2) configuration:
   
  Platform:
    osname=linux
    osvers=4.19.97-v7l+
    archname=armv7l-linux-thread-multi
    uname='linux b9a8560151d5 4.19.97-v7l+ #1294 smp thu jan 30 13:21:14 gmt 2020 armv7l gnulinux '
    config_args='-de -Dprefix=/home/smoker/perl5/perlbrew/perls/perl-5.30.2-thread -Dusedevel -Dusethreads -Accflags=-O2 -pipe -Wall -Wextra -mtune=native -march=native -Aeval:scriptdir=/home/smoker/perl5/perlbrew/perls/perl-5.30.2-thread/bin'
    hint=recommended
    useposix=true
    d_sigaction=define
    useithreads=define
    usemultiplicity=define
    use64bitint=undef
    use64bitall=undef
    uselongdouble=undef
    usemymalloc=n
    default_inc_excludes_dot=define
    bincompat5005=undef
  Compiler:
    cc='cc'
    ccflags ='-D_REENTRANT -D_GNU_SOURCE -O2 -pipe -Wall -Wextra -mtune=native -march=native -fwrapv -fno-strict-aliasing -fstack-protector-strong -I/usr/local/include -D_LARGEFILE_SOURCE -D_FILE_OFFSET_BITS=64 -D_FORTIFY_SOURCE=2'
    optimize='-O2'
    cppflags='-D_REENTRANT -D_GNU_SOURCE -O2 -pipe -Wall -Wextra -mtune=native -march=native -fwrapv -fno-strict-aliasing -fstack-protector-strong -I/usr/local/include'
    ccversion=''
    gccversion='8.3.0'
    gccosandvers=''
    intsize=4
    longsize=4
    ptrsize=4
    doublesize=8
    byteorder=1234
    doublekind=3
    d_longlong=define
    longlongsize=8
    d_longdbl=define
    longdblsize=8
    longdblkind=0
    ivtype='long'
    ivsize=4
    nvtype='double'
    nvsize=8
    Off_t='off_t'
    lseeksize=8
    alignbytes=8
    prototype=define
  Linker and Libraries:
    ld='cc'
    ldflags =' -fstack-protector-strong -L/usr/local/lib'
    libpth=/usr/local/lib /usr/lib/gcc/arm-linux-gnueabihf/8/include-fixed /usr/include/arm-linux-gnueabihf /usr/lib /lib/arm-linux-gnueabihf /lib /usr/lib/arm-linux-gnueabihf
    libs=-lpthread -lnsl -ldl -lm -lcrypt -lutil -lc
    perllibs=-lpthread -lnsl -ldl -lm -lcrypt -lutil -lc
    libc=libc-2.28.so
    so=so
    useshrplib=false
    libperl=libperl.a
    gnulibc_version='2.28'
  Dynamic Linking:
    dlsrc=dl_dlopen.xs
    dlext=so
    d_dlsymun=undef
    ccdlflags='-Wl,-E'
    cccdlflags='-fPIC'
    lddlflags='-shared -O2 -L/usr/local/lib -fstack-protector-strong'


Characteristics of this binary (from libperl): 
  Compile-time options:
    HAS_TIMES
    MULTIPLICITY
    PERLIO_LAYERS
    PERL_COPY_ON_WRITE
    PERL_DONT_CREATE_GVSV
    PERL_IMPLICIT_CONTEXT
    PERL_MALLOC_WRAP
    PERL_OP_PARENT
    PERL_PRESERVE_IVUV
    PERL_USE_DEVEL
    USE_ITHREADS
    USE_LARGE_FILES
    USE_LOCALE
    USE_LOCALE_COLLATE
    USE_LOCALE_CTYPE
    USE_LOCALE_NUMERIC
    USE_LOCALE_TIME
    USE_PERLIO
    USE_PERL_ATOF
    USE_REENTRANT_API
    USE_THREAD_SAFE_LOCALE
  Locally applied patches:
    Devel::PatchPerl 1.90
  Built under linux
  Compiled at Apr 16 2020 02:34:30
  %ENV:
    PERL5LIB="/tmp/build/Unicode-LineBreak-2019.001-0/blib/arch:/tmp/build/Unicode-LineBreak-2019.001-0/blib/lib:/tmp/build/MIME-Charset-1.012.2-0/blib/arch:/tmp/build/MIME-Charset-1.012.2-0/blib/lib:/tmp/build/Text-ANSI-Util-0.230-0/blib/arch:/tmp/build/Text-ANSI-Util-0.230-0/blib/lib:/tmp/build/Data-Dump-1.23-0/blib/arch:/tmp/build/Data-Dump-1.23-0/blib/lib:/tmp/build/Syntax-Feature-EachOnArray-0.04-0/blib/arch:/tmp/build/Syntax-Feature-EachOnArray-0.04-0/blib/lib:/tmp/build/syntax-0.004-0/blib/arch:/tmp/build/syntax-0.004-0/blib/lib:/tmp/build/namespace-clean-0.27-0/blib/arch:/tmp/build/namespace-clean-0.27-0/blib/lib:/tmp/build/B-Hooks-EndOfScope-0.24-0/blib/arch:/tmp/build/B-Hooks-EndOfScope-0.24-0/blib/lib:/tmp/build/Variable-Magic-0.62-0/blib/arch:/tmp/build/Variable-Magic-0.62-0/blib/lib:/tmp/build/Sub-Exporter-Progressive-0.001013-0/blib/arch:/tmp/build/Sub-Exporter-Progressive-0.001013-0/blib/lib:/tmp/build/Devel-Hide-0.0013-0/blib/arch:/tmp/build/Devel-Hide-0.0013-0/blib/lib:/tmp/build/Data-OptList-0.110-0/blib/arch:/tmp/build/Data-OptList-0.110-0/blib/lib:/tmp/build/Sub-Install-0.928-0/blib/arch:/tmp/build/Sub-Install-0.928-0/blib/lib:/tmp/build/Params-Util-1.102-0/blib/arch:/tmp/build/Params-Util-1.102-0/blib/lib:/tmp/build/Hash-FieldHash-0.15-0/blib/arch:/tmp/build/Hash-FieldHash-0.15-0/blib/lib:/tmp/build/Test-LeakTrace-0.16-0/blib/arch:/tmp/build/Test-LeakTrace-0.16-0/blib/lib:/tmp/build/String-ShellQuote-1.04-0/blib/arch:/tmp/build/String-ShellQuote-1.04-0/blib/lib:/tmp/build/String-Pad-0.020-0/blib/arch:/tmp/build/String-Pad-0.020-0/blib/lib:/tmp/build/Sort-Sub-0.120-0/blib/arch:/tmp/build/Sort-Sub-0.120-0/blib/lib:/tmp/build/Sort-Naturally-1.03-0/blib/arch:/tmp/build/Sort-Naturally-1.03-0/blib/lib:/tmp/build/Complete-Sequence-0.002-0/blib/arch:/tmp/build/Complete-Sequence-0.002-0/blib/lib:/tmp/build/Set-CrossProduct-2.003-0/blib/arch:/tmp/build/Set-CrossProduct-2.003-0/blib/lib:/tmp/build/Complete-Sah-0.007-0/blib/arch:/tmp/build/Complete-Sah-0.007-0/blib/lib:/tmp/build/Sah-Schemas-Int-0.075-0/blib/arch:/tmp/build/Sah-Schemas-Int-0.075-0/blib/lib:/tmp/build/Module-Installed-Tiny-0.004-0/blib/arch:/tmp/build/Module-Installed-Tiny-0.004-0/blib/lib:/tmp/build/Data-Sah-Normalize-0.050-0/blib/arch:/tmp/build/Data-Sah-Normalize-0.050-0/blib/lib:/tmp/build/Complete-Util-0.611-0/blib/arch:/tmp/build/Complete-Util-0.611-0/blib/lib:/tmp/build/Complete-Common-0.22-0/blib/arch:/tmp/build/Complete-Common-0.22-0/blib/lib:/tmp/build/Number-Format-Metric-0.60-0/blib/arch:/tmp/build/Number-Format-Metric-0.60-0/blib/lib:/tmp/build/Number-Format-1.75-0/blib/arch:/tmp/build/Number-Format-1.75-0/blib/lib:/tmp/build/JSON-MaybeXS-1.004003-0/blib/arch:/tmp/build/JSON-MaybeXS-1.004003-0/blib/lib:/tmp/build/Cpanel-JSON-XS-4.25-0/blib/arch:/tmp/build/Cpanel-JSON-XS-4.25-0/blib/lib:/tmp/build/ColorThemes-Standard-0.002-0/blib/arch:/tmp/build/ColorThemes-Standard-0.002-0/blib/lib:/tmp/build/ColorThemeBase-Static-0.008-0/blib/arch:/tmp/build/ColorThemeBase-Static-0.008-0/blib/lib:/tmp/build/Color-RGB-Util-0.601-0/blib/arch:/tmp/build/Color-RGB-Util-0.601-0/blib/lib:/tmp/build/Test-RandomResult-0.001-0/blib/arch:/tmp/build/Test-RandomResult-0.001-0/blib/lib"
    PERL5OPT=""
    PERL5_CPANPLUS_IS_RUNNING="559"
    PERL5_CPAN_IS_RUNNING="559"
    PERLBREW_HOME="/home/smoker/.perlbrew"
    PERLBREW_MANPATH="/home/smoker/perl5/perlbrew/perls/perl-5.30.2-thread/man"
    PERLBREW_PATH="/home/smoker/perl5/perlbrew/bin:/home/smoker/perl5/perlbrew/perls/perl-5.30.2-thread/bin"
    PERLBREW_PERL="perl-5.30.2-thread"
    PERLBREW_ROOT="/home/smoker/perl5/perlbrew"
    PERLBREW_SHELLRC_VERSION="0.88"
    PERLBREW_VERSION="0.88"
    PERL_MM_USE_DEFAULT="1"
    PERL_USE_UNSAFE_INC="1"
  @INC:
    /tmp/build/Unicode-LineBreak-2019.001-0/blib/arch
    /tmp/build/Unicode-LineBreak-2019.001-0/blib/lib
    /tmp/build/MIME-Charset-1.012.2-0/blib/arch
    /tmp/build/MIME-Charset-1.012.2-0/blib/lib
    /tmp/build/Text-ANSI-Util-0.230-0/blib/arch
    /tmp/build/Text-ANSI-Util-0.230-0/blib/lib
    /tmp/build/Data-Dump-1.23-0/blib/arch
    /tmp/build/Data-Dump-1.23-0/blib/lib
    /tmp/build/Syntax-Feature-EachOnArray-0.04-0/blib/arch
    /tmp/build/Syntax-Feature-EachOnArray-0.04-0/blib/lib
    /tmp/build/syntax-0.004-0/blib/arch
    /tmp/build/syntax-0.004-0/blib/lib
    /tmp/build/namespace-clean-0.27-0/blib/arch
    /tmp/build/namespace-clean-0.27-0/blib/lib
    /tmp/build/B-Hooks-EndOfScope-0.24-0/blib/arch
    /tmp/build/B-Hooks-EndOfScope-0.24-0/blib/lib
    /tmp/build/Variable-Magic-0.62-0/blib/arch
    /tmp/build/Variable-Magic-0.62-0/blib/lib
    /tmp/build/Sub-Exporter-Progressive-0.001013-0/blib/arch
    /tmp/build/Sub-Exporter-Progressive-0.001013-0/blib/lib
    /tmp/build/Devel-Hide-0.0013-0/blib/arch
    /tmp/build/Devel-Hide-0.0013-0/blib/lib
    /tmp/build/Data-OptList-0.110-0/blib/arch
    /tmp/build/Data-OptList-0.110-0/blib/lib
    /tmp/build/Sub-Install-0.928-0/blib/arch
    /tmp/build/Sub-Install-0.928-0/blib/lib
    /tmp/build/Params-Util-1.102-0/blib/arch
    /tmp/build/Params-Util-1.102-0/blib/lib
    /tmp/build/Hash-FieldHash-0.15-0/blib/arch
    /tmp/build/Hash-FieldHash-0.15-0/blib/lib
    /tmp/build/Test-LeakTrace-0.16-0/blib/arch
    /tmp/build/Test-LeakTrace-0.16-0/blib/lib
    /tmp/build/String-ShellQuote-1.04-0/blib/arch
    /tmp/build/String-ShellQuote-1.04-0/blib/lib
    /tmp/build/String-Pad-0.020-0/blib/arch
    /tmp/build/String-Pad-0.020-0/blib/lib
    /tmp/build/Sort-Sub-0.120-0/blib/arch
    /tmp/build/Sort-Sub-0.120-0/blib/lib
    /tmp/build/Sort-Naturally-1.03-0/blib/arch
    /tmp/build/Sort-Naturally-1.03-0/blib/lib
    /tmp/build/Complete-Sequence-0.002-0/blib/arch
    /tmp/build/Complete-Sequence-0.002-0/blib/lib
    /tmp/build/Set-CrossProduct-2.003-0/blib/arch
    /tmp/build/Set-CrossProduct-2.003-0/blib/lib
    /tmp/build/Complete-Sah-0.007-0/blib/arch
    /tmp/build/Complete-Sah-0.007-0/blib/lib
    /tmp/build/Sah-Schemas-Int-0.075-0/blib/arch
    /tmp/build/Sah-Schemas-Int-0.075-0/blib/lib
    /tmp/build/Module-Installed-Tiny-0.004-0/blib/arch
    /tmp/build/Module-Installed-Tiny-0.004-0/blib/lib
    /tmp/build/Data-Sah-Normalize-0.050-0/blib/arch
    /tmp/build/Data-Sah-Normalize-0.050-0/blib/lib
    /tmp/build/Complete-Util-0.611-0/blib/arch
    /tmp/build/Complete-Util-0.611-0/blib/lib
    /tmp/build/Complete-Common-0.22-0/blib/arch
    /tmp/build/Complete-Common-0.22-0/blib/lib
    /tmp/build/Number-Format-Metric-0.60-0/blib/arch
    /tmp/build/Number-Format-Metric-0.60-0/blib/lib
    /tmp/build/Number-Format-1.75-0/blib/arch
    /tmp/build/Number-Format-1.75-0/blib/lib
    /tmp/build/JSON-MaybeXS-1.004003-0/blib/arch
    /tmp/build/JSON-MaybeXS-1.004003-0/blib/lib
    /tmp/build/Cpanel-JSON-XS-4.25-0/blib/arch
    /tmp/build/Cpanel-JSON-XS-4.25-0/blib/lib
    /tmp/build/ColorThemes-Standard-0.002-0/blib/arch
    /tmp/build/ColorThemes-Standard-0.002-0/blib/lib
    /tmp/build/ColorThemeBase-Static-0.008-0/blib/arch
    /tmp/build/ColorThemeBase-Static-0.008-0/blib/lib
    /tmp/build/Color-RGB-Util-0.601-0/blib/arch
    /tmp/build/Color-RGB-Util-0.601-0/blib/lib
    /tmp/build/Test-RandomResult-0.001-0/blib/arch
    /tmp/build/Test-RandomResult-0.001-0/blib/lib
    /home/smoker/perl5/perlbrew/perls/perl-5.30.2-thread/lib/site_perl/5.30.2/armv7l-linux-thread-multi
    /home/smoker/perl5/perlbrew/perls/perl-5.30.2-thread/lib/site_perl/5.30.2
    /home/smoker/perl5/perlbrew/perls/perl-5.30.2-thread/lib/5.30.2/armv7l-linux-thread-multi
    /home/smoker/perl5/perlbrew/perls/perl-5.30.2-thread/lib/5.30.2
    .