Dist-Zilla-Plugin-CopyFilesFromBuild v0.170880 Perl 5 v5.36.1 darwin-2level
- Status
- Pass
- From
- David Cantrell (DCANTRELL)
- Dist
-
Dist-Zilla-Plugin-CopyFilesFromBuild v0.170880
- Platform
- Perl 5 v5.36.1 darwin-2level
- Date
- 2023-06-07 01:24:37
- ID
- 1167ea6c-04d2-11ee-942c-1f6cad9adbc8
This distribution has been tested as part of the CPAN Testers
project, supporting the Perl programming language. See
http://wiki.cpantesters.org/ for more information or email
questions to cpan-testers-discuss@perl.org
--
Dear Ryan C. Thompson,
This is a computer-generated report for Dist-Zilla-Plugin-CopyFilesFromBuild-0.170880
on perl 5.36.1, created by CPAN-Reporter-1.2019.
Thank you for uploading your work to CPAN. Congratulations!
All tests were successful.
Sections of this report:
* Tester comments
* Program output
* Prerequisites
* Environment and other context
------------------------------
TESTER COMMENTS
------------------------------
Additional comments from tester:
this report is from an automated smoke testing program
and was not reviewed by a human for accuracy
------------------------------
PROGRAM OUTPUT
------------------------------
Output from '/usr/bin/make test':
PERL_DL_NONLAZY=1 "/Users/cpantesting/cpantesting/perl-5.36.1/bin/perl" "-MExtUtils::Command::MM" "-MTest::Harness" "-e" "undef *Test::Harness::Switches; test_harness(0, 'blib/lib', 'blib/arch')" t/*.t
t/00-compile.t ........... ok
# Testing with Perl 5.036001, /Users/cpantesting/cpantesting/perl-5.36.1/bin/perl
# Carp version is 1.52
# Dist::Zilla::Plugin::ReadmeAnyFromPod version is 0.163250
# Dist::Zilla::Role::AfterBuild version is 6.030
# ExtUtils::MakeMaker version is 7.70
# File::Copy version is 2.39
# File::Spec version is 3.84
# IO::File version is 1.48
# IO::Handle version is 1.48
# IPC::Open3 version is 1.22
# List::Util version is 1.62
# Moose version is 2.2203
# MooseX::Has::Sugar version is 1.000006
# Path::Tiny version is 0.144
# Scalar::Util version is 1.62
# Set::Scalar version is 1.29
# Test::DZil version is 6.030
# Test::Exception version is 0.43
# Test::More version is 1.302195
# Test::Most version is 0.38
# autodie version is 2.34
# blib version is 1.07
# strict version is 1.12
# utf8 version is 1.24
# warnings version is 1.58
t/000-report-versions.t .. ok
t/author-critic.t ........ skipped: these tests are for testing by the author
t/author-pod-coverage.t .. skipped: these tests are for testing by the author
t/author-pod-syntax.t .... skipped: these tests are for testing by the author
t/basic.t ................ ok
t/release-has-version.t .. skipped: these tests are for release candidate testing
t/release-kwalitee.t ..... skipped: these tests are for release candidate testing
t/release-portability.t .. skipped: these tests are for release candidate testing
t/release-unused-vars.t .. skipped: these tests are for release candidate testing
All tests successful.
Files=10, Tests=34, 6 wallclock secs ( 0.09 usr 0.06 sys + 4.60 cusr 0.53 csys = 5.28 CPU)
Result: PASS
------------------------------
PREREQUISITES
------------------------------
Prerequisite modules loaded:
requires:
Module Need Have
------------------------------------- ----- --------
Dist::Zilla::Role::AfterBuild 0 6.030
File::Copy 0 2.39
IO::File 0 1.48
List::Util 1.33 1.62
Moose 0 2.2203
MooseX::Has::Sugar 0 1.000006
Path::Tiny 0 0.144
perl 5.008 5.036001
Set::Scalar 0 1.29
strict 0 1.12
utf8 0 1.24
warnings 0 1.58
build_requires:
Module Need Have
------------------------------------- ----- --------
autodie 0 2.34
blib 1.01 1.07
Carp 0 1.52
Dist::Zilla::Plugin::ReadmeAnyFromPod 0 0.163250
ExtUtils::MakeMaker 0 7.70
File::Spec 0 3.84
IO::Handle 0 1.48
IPC::Open3 0 1.22
Scalar::Util 0 1.62
Test::DZil 0 6.030
Test::Exception 0 0.43
Test::More 0.94 1.302195
Test::Most 0 0.38
configure_requires:
Module Need Have
------------------------------------- ----- --------
ExtUtils::MakeMaker 0 7.70
perl 5.008 5.036001
------------------------------
ENVIRONMENT AND OTHER CONTEXT
------------------------------
Environment variables:
AUTOMATED_TESTING = 1
NONINTERACTIVE_TESTING = 1
PATH = /Users/cpantesting/perl5/perlbrew/bin:/Users/cpantesting/perl5/perlbrew/perls/perl-5.32.0/bin:/usr/local/bin:/usr/bin:/bin:/usr/sbin:/sbin:/Library/Apple/usr/bin:/Users/cpantesting/.cargo/bin
PERL = 5.36.1
PERL5LIB =
PERL5OPT =
PERL5_CPANPLUS_IS_RUNNING = 41543
PERL5_CPAN_IS_RUNNING = 41543
PERLBREW_HOME = /Users/cpantesting/.perlbrew
PERLBREW_MANPATH = /Users/cpantesting/perl5/perlbrew/perls/perl-5.32.0/man
PERLBREW_PATH = /Users/cpantesting/perl5/perlbrew/bin:/Users/cpantesting/perl5/perlbrew/perls/perl-5.32.0/bin
PERLBREW_PERL = perl-5.32.0
PERLBREW_ROOT = /Users/cpantesting/perl5/perlbrew
PERLBREW_SHELLRC_VERSION = 0.94
PERLBREW_VERSION = 0.94
PERLVER = 5.36.1
PERL_INLINE_DIRECTORY = /Users/cpantesting/.Inline-5.36.1
PERL_MM_USE_DEFAULT = 1
PERL_USE_UNSAFE_INC = 0
SHELL = /bin/bash
TERM = screen
Perl special variables (and OS-specific diagnostics, for MSWin32):
$^X = /Users/cpantesting/cpantesting/perl-5.36.1/bin/perl
$UID/$EUID = 503 / 503
$GID = 20 20 12 61 703 702 701 100
$EGID = 20 20 12 61 703 702 701 100
Perl module toolchain versions installed:
Module Have
------------------- --------
CPAN 2.33
CPAN::Meta 2.150010
Cwd 3.84
ExtUtils::CBuilder 0.280236
ExtUtils::Command 7.70
ExtUtils::Install 2.20
ExtUtils::MakeMaker 7.70
ExtUtils::Manifest 1.73
ExtUtils::ParseXS 3.45
File::Spec 3.84
JSON 4.10
JSON::PP 4.07
Module::Build 0.4232
Module::Signature n/a
Parse::CPAN::Meta 2.150010
Test2 1.302195
Test::Harness 3.44
Test::More 1.302195
YAML 1.30
YAML::Syck 1.34
version 0.9929
--
Summary of my perl5 (revision 5 version 36 subversion 1) configuration:
Platform:
osname=darwin
osvers=21.6.0
archname=darwin-2level
uname='darwin harrow.local 21.6.0 darwin kernel version 21.6.0: mon aug 22 20:17:10 pdt 2022; root:xnu-8020.140.49~2release_x86_64 x86_64 '
config_args='-de -Dprefix=/Users/cpantesting/cpantesting/perl-5.36.1'
hint=recommended
useposix=true
d_sigaction=define
useithreads=undef
usemultiplicity=undef
use64bitint=define
use64bitall=define
uselongdouble=undef
usemymalloc=n
default_inc_excludes_dot=define
Compiler:
cc='cc'
ccflags ='-fno-common -DPERL_DARWIN -mmacosx-version-min=12.6 -fno-strict-aliasing -pipe -fstack-protector-strong -I/usr/local/include -DPERL_USE_SAFE_PUTENV'
optimize='-O3'
cppflags='-fno-common -DPERL_DARWIN -mmacosx-version-min=12.6 -fno-strict-aliasing -pipe -fstack-protector-strong -I/usr/local/include'
ccversion=''
gccversion='Apple LLVM 14.0.0 (clang-1400.0.29.202)'
gccosandvers=''
intsize=4
longsize=8
ptrsize=8
doublesize=8
byteorder=12345678
doublekind=3
d_longlong=define
longlongsize=8
d_longdbl=define
longdblsize=16
longdblkind=3
ivtype='long'
ivsize=8
nvtype='double'
nvsize=8
Off_t='off_t'
lseeksize=8
alignbytes=8
prototype=define
Linker and Libraries:
ld='cc'
ldflags =' -mmacosx-version-min=12.6 -fstack-protector-strong -L/usr/local/lib'
libpth=/usr/local/lib /Applications/Xcode.app/Contents/Developer/Toolchains/XcodeDefault.xctoolchain/usr/lib/clang/14.0.0/lib /Applications/Xcode.app/Contents/Developer/Platforms/MacOSX.platform/Developer/SDKs/MacOSX.sdk/usr/lib /Applications/Xcode.app/Contents/Developer/Toolchains/XcodeDefault.xctoolchain/usr/lib /usr/lib
libs=-lgdbm
perllibs=
libc=
so=dylib
useshrplib=false
libperl=libperl.a
gnulibc_version=''
Dynamic Linking:
dlsrc=dl_dlopen.xs
dlext=bundle
d_dlsymun=undef
ccdlflags=' '
cccdlflags=' '
lddlflags=' -mmacosx-version-min=12.6 -bundle -undefined dynamic_lookup -L/usr/local/lib -fstack-protector-strong'
Characteristics of this binary (from libperl):
Compile-time options:
HAS_TIMES
PERLIO_LAYERS
PERL_COPY_ON_WRITE
PERL_DONT_CREATE_GVSV
PERL_MALLOC_WRAP
PERL_OP_PARENT
PERL_PRESERVE_IVUV
PERL_USE_SAFE_PUTENV
USE_64_BIT_ALL
USE_64_BIT_INT
USE_LARGE_FILES
USE_LOCALE
USE_LOCALE_COLLATE
USE_LOCALE_CTYPE
USE_LOCALE_NUMERIC
USE_LOCALE_TIME
USE_PERLIO
USE_PERL_ATOF
Built under darwin
Compiled at Apr 23 2023 16:37:45
%ENV:
PERL="5.36.1"
PERL5LIB=""
PERL5OPT=""
PERL5_CPANPLUS_IS_RUNNING="41543"
PERL5_CPAN_IS_RUNNING="41543"
PERLBREW_HOME="/Users/cpantesting/.perlbrew"
PERLBREW_MANPATH="/Users/cpantesting/perl5/perlbrew/perls/perl-5.32.0/man"
PERLBREW_PATH="/Users/cpantesting/perl5/perlbrew/bin:/Users/cpantesting/perl5/perlbrew/perls/perl-5.32.0/bin"
PERLBREW_PERL="perl-5.32.0"
PERLBREW_ROOT="/Users/cpantesting/perl5/perlbrew"
PERLBREW_SHELLRC_VERSION="0.94"
PERLBREW_VERSION="0.94"
PERLVER="5.36.1"
PERL_INLINE_DIRECTORY="/Users/cpantesting/.Inline-5.36.1"
PERL_MM_USE_DEFAULT="1"
PERL_USE_UNSAFE_INC="0"
@INC:
/Users/cpantesting/cpantesting/perl-5.36.1/lib/site_perl/5.36.1/darwin-2level
/Users/cpantesting/cpantesting/perl-5.36.1/lib/site_perl/5.36.1
/Users/cpantesting/cpantesting/perl-5.36.1/lib/5.36.1/darwin-2level
/Users/cpantesting/cpantesting/perl-5.36.1/lib/5.36.1