Back
From: metabase:user:9820532a-708b-1014-9a05-b18a96298da1
Subject: PASS Dist-Zilla-Plugin-SpellingCommonMistakesTests-1.001000 v5.15.3 FreeBSD
Date: 2011-10-01T12:51:23Z
This distribution has been tested as part of the CPAN Testers
project, supporting the Perl programming language. See
http://wiki.cpantesters.org/ for more information or email
questions to cpan-testers-discuss@perl.org
--
Dear Adam Lesperance,
This is a computer-generated report for Dist-Zilla-Plugin-SpellingCommonMistakesTests-1.001000
on perl 5.15.3, created by CPAN-Reporter-1.2002.
Thank you for uploading your work to CPAN. Congratulations!
All tests were successful.
Sections of this report:
* Tester comments
* Program output
* Prerequisites
* Environment and other context
------------------------------
TESTER COMMENTS
------------------------------
Additional comments from tester:
this report is from an automated smoke testing program
and was not reviewed by a human for accuracy
------------------------------
PROGRAM OUTPUT
------------------------------
Output from './Build test':
t/00-compile.t .................. ok
#
[Bootstrap::lib] lib added to @INC at (eval 4) line 1
#
# perl: v5.15.3 (wanted 5.008) on freebsd from /home/test/perl5/perlbrew/perls/perl-5.15.3/bin/perl5.15.3
#
# Dist::Zilla::Plugin::Bootstrap::lib => 0.01023600 (want any version)
# Dist::Zilla::Plugin::InlineFiles => 4.300002 (want any version)
# English => 1.04 (want any version)
# File::Find => 1.20 (want any version)
# File::Temp => 0.22 (want any version)
# Module::Build => 0.3901 (want 0.3601)
# Moose => 2.0300 (want any version)
# Pod::Spell::CommonMistakes => 1.000 (want any version)
# Test::More => 0.98 (want 0.88)
# Test::Pod::Spelling::CommonMistakes => 1.000 (want any version)
# utf8 => 1.09 (want any version)
#
# Thanks for using my code. I hope it works for you.
# If not, please try and include this output in the bug report.
# That will help me reproduce the issue and solve you problem.
#
t/000-report-versions-tiny.t .... ok
t/author-critic.t ............... skipped: these tests are for testing by the author
t/release-common_spelling.t ..... skipped: these tests are for release candidate testing
t/release-consistent-version.t .. skipped: these tests are for release candidate testing
t/release-cpan-changes.t ........ skipped: these tests are for release candidate testing
t/release-dist-manifest.t ....... skipped: these tests are for release candidate testing
t/release-distmeta.t ............ skipped: these tests are for release candidate testing
t/release-eol.t ................. skipped: these tests are for release candidate testing
t/release-has-version.t ......... skipped: these tests are for release candidate testing
t/release-kwalitee.t ............ skipped: these tests are for release candidate testing
t/release-minimum-version.t ..... skipped: these tests are for release candidate testing
t/release-no-tabs.t ............. skipped: these tests are for release candidate testing
t/release-pod-coverage.t ........ skipped: these tests are for release candidate testing
t/release-pod-syntax.t .......... skipped: these tests are for release candidate testing
t/release-portability.t ......... skipped: these tests are for release candidate testing
t/release-unused-vars.t ......... skipped: these tests are for release candidate testing
All tests successful.
Files=17, Tests=2, 3 wallclock secs ( 0.09 usr 0.46 sys + 1.14 cusr 0.52 csys = 2.22 CPU)
Result: PASS
------------------------------
PREREQUISITES
------------------------------
Prerequisite modules loaded:
requires:
Module Need Have
----------------------------------- ------ ----------
Dist::Zilla::Plugin::InlineFiles 0 4.300002
Moose 0 2.0300
perl 5.008 5.015003
Pod::Spell::CommonMistakes 0 1.000
Test::Pod::Spelling::CommonMistakes 0 1.000
utf8 0 1.09
build_requires:
Module Need Have
----------------------------------- ------ ----------
Dist::Zilla::Plugin::Bootstrap::lib 0 0.01023600
English 0 1.04
File::Find 0 1.20
File::Temp 0 0.22
Module::Build 0.3601 0.39_01
Test::More 0.88 0.98
configure_requires:
Module Need Have
----------------------------------- ------ ----------
Module::Build 0.3601 0.39_01
------------------------------
ENVIRONMENT AND OTHER CONTEXT
------------------------------
Environment variables:
AUTOMATED_TESTING = 1
LANG = C
LC_ALL = C
PATH = /home/test/perl5/perlbrew/bin:/home/test/perl5/perlbrew/perls/perl-5.15.3/bin:~/bin:/sbin:/bin:/usr/sbin:/usr/bin:/usr/games:/usr/local/sbin:/usr/local/bin:/home/test/bin
PATH_WITHOUT_PERLBREW = ~/bin:/sbin:/bin:/usr/sbin:/usr/bin:/usr/games:/usr/local/sbin:/usr/local/bin:/home/test/bin
PERL5LIB =
PERL5OPT =
PERL5_CPANPLUS_IS_RUNNING = 58399
PERL5_CPAN_IS_RUNNING = 58399
PERL5_CPAN_IS_RUNNING_IN_RECURSION = 1037,58399
PERLBREW_HOME = /home/test/.perlbrew
PERLBREW_PATH = /home/test/perl5/perlbrew/bin:/home/test/perl5/perlbrew/perls/perl-5.15.3/bin
PERLBREW_PERL = perl-5.15.3
PERLBREW_ROOT = /home/test/perl5/perlbrew
PERLBREW_VERSION = 0.29
PERL_CPANM_OPT = --prompt --mirror http://172.16.1.3/cpan/
PERL_CR_SMOKER_CURRENT = Dist-Zilla-PluginBundle-Author-LESPEA-1.004000
PERL_EXTUTILS_AUTOINSTALL = --defaultdeps
PERL_MM_USE_DEFAULT = 1
SHELL = /usr/local/bin/bash
TERM = linux
Perl special variables (and OS-specific diagnostics, for MSWin32):
$^X = /home/test/perl5/perlbrew/perls/perl-5.15.3/bin/perl5.15.3
$UID/$EUID = 1002 / 1002
$GID = 1002 1002
$EGID = 1002 1002
Perl module toolchain versions installed:
Module Have
------------------- --------
CPAN 1.9800
CPAN::Meta 2.112621
Cwd 3.37
ExtUtils::CBuilder 0.280204
ExtUtils::Command 1.17
ExtUtils::Install 1.57
ExtUtils::MakeMaker 6.61_01
ExtUtils::Manifest 1.60
ExtUtils::ParseXS 3.04_04
File::Spec 3.34
JSON 2.53
JSON::PP 2.27200
Module::Build 0.39_01
Module::Signature n/a
Parse::CPAN::Meta 1.4401
Test::Harness 3.23
Test::More 0.98
YAML 0.77
YAML::Syck n/a
version 0.94
--
Summary of my perl5 (revision 5 version 15 subversion 3) configuration:
Platform:
osname=freebsd, osvers=8.1-release, archname=amd64-freebsd-thread-multi
uname='freebsd fbsd.local 8.1-release freebsd 8.1-release #0: mon jul 19 02:36:49 utc 2010 root@mason.cse.buffalo.edu:usrobjusrsrcsysgeneric amd64 '
config_args='-de -Dprefix=/home/test/perl5/perlbrew/perls/perl-5.15.3 -Dusethreads -Dusedevel'
hint=recommended, useposix=true, d_sigaction=define
useithreads=define, usemultiplicity=define
useperlio=define, d_sfio=undef, uselargefiles=define, usesocks=undef
use64bitint=define, use64bitall=define, uselongdouble=undef
usemymalloc=n, bincompat5005=undef
Compiler:
cc='cc', ccflags ='-DHAS_FPSETMASK -DHAS_FLOATINGPOINT_H -fno-strict-aliasing -pipe -fstack-protector -I/usr/local/include',
optimize='-O',
cppflags='-DHAS_FPSETMASK -DHAS_FLOATINGPOINT_H -fno-strict-aliasing -pipe -fstack-protector -I/usr/local/include'
ccversion='', gccversion='4.2.1 20070719 [FreeBSD]', gccosandvers=''
intsize=4, longsize=8, ptrsize=8, doublesize=8, byteorder=12345678
d_longlong=define, longlongsize=8, d_longdbl=define, longdblsize=16
ivtype='long', ivsize=8, nvtype='double', nvsize=8, Off_t='off_t', lseeksize=8
alignbytes=8, prototype=define
Linker and Libraries:
ld='cc', ldflags ='-pthread -Wl,-E -fstack-protector -L/usr/local/lib'
libpth=/usr/lib /usr/local/lib
libs=-lm -lcrypt
perllibs=-lm -lcrypt
libc=, so=so, useshrplib=false, libperl=libperl.a
gnulibc_version=''
Dynamic Linking:
dlsrc=dl_dlopen.xs, dlext=so, d_dlsymun=undef, ccdlflags=' '
cccdlflags='-DPIC -fPIC', lddlflags='-shared -L/usr/local/lib -fstack-protector'
Characteristics of this binary (from libperl):
Compile-time options: HAS_TIMES MULTIPLICITY PERLIO_LAYERS
PERL_DONT_CREATE_GVSV PERL_IMPLICIT_CONTEXT
PERL_MALLOC_WRAP PERL_PRESERVE_IVUV PERL_USE_DEVEL
USE_64_BIT_ALL USE_64_BIT_INT USE_ITHREADS
USE_LARGE_FILES USE_LOCALE USE_LOCALE_COLLATE
USE_LOCALE_CTYPE USE_LOCALE_NUMERIC USE_PERLIO
USE_PERL_ATOF USE_REENTRANT_API
Built under freebsd
Compiled at Sep 30 2011 20:30:40
%ENV:
PERL5LIB=""
PERL5OPT=""
PERL5_CPANPLUS_IS_RUNNING="58399"
PERL5_CPAN_IS_RUNNING="58399"
PERL5_CPAN_IS_RUNNING_IN_RECURSION="1037,58399"
PERLBREW_HOME="/home/test/.perlbrew"
PERLBREW_PATH="/home/test/perl5/perlbrew/bin:/home/test/perl5/perlbrew/perls/perl-5.15.3/bin"
PERLBREW_PERL="perl-5.15.3"
PERLBREW_ROOT="/home/test/perl5/perlbrew"
PERLBREW_VERSION="0.29"
PERL_CPANM_OPT="--prompt --mirror http://172.16.1.3/cpan/"
PERL_CR_SMOKER_CURRENT="Dist-Zilla-PluginBundle-Author-LESPEA-1.004000"
PERL_EXTUTILS_AUTOINSTALL="--defaultdeps"
PERL_MM_USE_DEFAULT="1"
@INC:
/home/test/perl5/perlbrew/perls/perl-5.15.3/lib/site_perl/5.15.3/amd64-freebsd-thread-multi
/home/test/perl5/perlbrew/perls/perl-5.15.3/lib/site_perl/5.15.3
/home/test/perl5/perlbrew/perls/perl-5.15.3/lib/5.15.3/amd64-freebsd-thread-multi
/home/test/perl5/perlbrew/perls/perl-5.15.3/lib/5.15.3
.