MooseX-Types-Structured v0.36 Perl 5 v5.27.4 x86_64-linux-ld

Status
Pass
From
Andreas J. König (ANDK)
Dist
MooseX-Types-Structured v0.36
Platform
Perl 5 v5.27.4 x86_64-linux-ld
Date
2017-10-08 03:02:07
ID
11aa25a0-abd5-11e7-b65c-935f3ebaf0d4
This distribution has been tested as part of the CPAN Testers
project, supporting the Perl programming language.  See
http://wiki.cpantesters.org/ for more information or email
questions to cpan-testers-discuss@perl.org


--
Dear Karen Etheridge,

This is a computer-generated report for MooseX-Types-Structured-0.36
on perl 5.27.4, created by CPAN-Reporter-1.2018.

Thank you for uploading your work to CPAN.  Congratulations!
All tests were successful.

Sections of this report:

    * Tester comments
    * Program output
    * Prerequisites
    * Environment and other context

------------------------------
TESTER COMMENTS
------------------------------

Additional comments from tester:

this report is from an automated smoke testing program
and was not reviewed by a human for accuracy

------------------------------
PROGRAM OUTPUT
------------------------------

Output from '/usr/bin/make test':

PERL_DL_NONLAZY=1 "/home/sand/src/perl/repoperls/installed-perls/host/k93msid/v5.27.4/0a29/bin/perl" "-MExtUtils::Command::MM" "-MTest::Harness" "-e" "undef *Test::Harness::Switches; test_harness(0, 'blib/lib', 'blib/arch')" t/*.t t/regressions/*.t
t/00-load.t .................... ok
# 
# Versions for all modules listed in MYMETA.json (including optional ones):
# 
# === Configure Requires ===
# 
#     Module               Want  Have
#     ------------------- ----- -----
#     Module::Build::Tiny 0.034 0.039
# 
# === Configure Suggests ===
# 
#     Module      Want Have
#     -------- ------- ----
#     JSON::PP 2.27300 2.94
# 
# === Build Requires ===
# 
#     Module              Want Have
#     ------------------- ---- ----
#     ExtUtils::MakeMaker  any 7.30
# 
# === Test Requires ===
# 
#     Module               Want     Have
#     -------------------- ---- --------
#     Data::Dumper          any 2.167_02
#     DateTime              any     1.44
#     File::Spec            any     3.68
#     Module::Metadata      any 1.000033
#     MooseX::Types::Moose  any     0.50
#     Test::Fatal           any    0.014
#     Test::More           0.88 1.302097
#     Test::Needs           any 0.002005
#     strict                any     1.11
#     warnings              any     1.37
# 
# === Test Recommends ===
# 
#     Module         Want     Have
#     ---------- -------- --------
#     CPAN::Meta 2.120900 2.150010
# 
# === Test Suggests ===
# 
#     Module                  Want    Have
#     ----------------------- ---- -------
#     MooseX::Types::DateTime  any missing
# 
# === Runtime Requires ===
# 
#     Module                                        Want   Have
#     -------------------------------------------- ----- ------
#     Devel::PartialDump                            0.13   0.20
#     Moose                                          any 2.2006
#     Moose::Meta::TypeCoercion                      any 2.2006
#     Moose::Meta::TypeConstraint                    any 2.2006
#     Moose::Meta::TypeConstraint::Parameterizable   any 2.2006
#     Moose::Util::TypeConstraints                  1.06 2.2006
#     MooseX::Types                                 0.22   0.50
#     Scalar::Util                                   any   1.48
#     Sub::Exporter                                0.982  0.987
#     if                                             any 0.0607
#     namespace::clean                              0.19   0.27
#     overload                                       any   1.28
# 
# === Other Modules ===
# 
#     Module               Have
#     -------------------- ----
#     Dist::CheckConflicts 0.11
#     JSON::PP             2.94
#     Sub::Name            0.21
#     YAML                 1.23
#     autodie              2.29
# 
t/00-report-prereqs.t .......... ok
t/01-basic.t ................... ok
t/02-tuple.t ................... ok
t/03-dict.t .................... ok
t/04-combined.t ................ ok
t/04-map.t ..................... ok
t/05-advanced.t ................ ok
t/06-api.t ..................... ok
t/07-coerce.t .................. ok
t/08-examples.t ................ skipped: Need MooseX::Types::DateTime
t/09-optional.t ................ ok
t/10-recursion.t ............... ok
t/11-overflow.t ................ ok
t/12-error.t ................... ok
t/13-deeper_error.t ............ ok
t/14-fully-qualified.t ......... ok
t/bug-incorrect-message.t ...... ok
t/bug-is-subtype.t ............. ok
t/bug-mixed-stringy.t .......... ok
t/bug-optional.t ............... ok
t/regressions/01-is_type_of.t .. ok
t/zzz-check-breaks.t ........... ok
All tests successful.
Files=23, Tests=352, 28 wallclock secs ( 0.09 usr  0.15 sys +  9.60 cusr  1.66 csys = 11.50 CPU)
Result: PASS

------------------------------
PREREQUISITES
------------------------------

Prerequisite modules loaded:

requires:

    Module                                       Need  Have    
    -------------------------------------------- ----- --------
    Devel::PartialDump                           0.13  0.20    
    if                                           0     0.0607  
    Moose                                        0     2.2006  
    Moose::Meta::TypeCoercion                    0     2.2006  
    Moose::Meta::TypeConstraint                  0     2.2006  
    Moose::Meta::TypeConstraint::Parameterizable 0     2.2006  
    Moose::Util::TypeConstraints                 1.06  2.2006  
    MooseX::Types                                0.22  0.50    
    namespace::clean                             0.19  0.27    
    overload                                     0     1.28    
    perl                                         5.008 5.027004
    Scalar::Util                                 0     1.48    
    Sub::Exporter                                0.982 0.987   

build_requires:

    Module                                       Need  Have    
    -------------------------------------------- ----- --------
    Data::Dumper                                 0     2.167_02
    DateTime                                     0     1.44    
    ExtUtils::MakeMaker                          0     7.30    
    File::Spec                                   0     3.68    
    Module::Metadata                             0     1.000033
    MooseX::Types::Moose                         0     0.50    
    strict                                       0     1.11    
    Test::Fatal                                  0     0.014   
    Test::More                                   0.88  1.302097
    Test::Needs                                  0     0.002005
    warnings                                     0     1.37    

configure_requires:

    Module                                       Need  Have    
    -------------------------------------------- ----- --------
    Module::Build::Tiny                          0.034 0.039   
    perl                                         5.008 5.027004


------------------------------
ENVIRONMENT AND OTHER CONTEXT
------------------------------

Environment variables:

    AUTOMATED_TESTING = 1
    LANG = en_US.UTF-8
    PATH = /home/sand/bin:/usr/local/bin:/usr/bin:/bin:/usr/games:/usr/local/perl/bin:/usr/X11/bin:/sbin:/usr/sbin
    PERL5LIB = /tmp/loop_over_bdir-18446-9VZIa4/Devel-PartialDump-0.20-0/blib/arch:/tmp/loop_over_bdir-18446-9VZIa4/Devel-PartialDump-0.20-0/blib/lib:/tmp/loop_over_bdir-18446-9VZIa4/MooseX-Meta-TypeConstraint-ForceCoercion-0.01-0/blib/arch:/tmp/loop_over_bdir-18446-9VZIa4/MooseX-Meta-TypeConstraint-ForceCoercion-0.01-0/blib/lib:/tmp/loop_over_bdir-18446-9VZIa4/Devel-Declare-0.006019-0/blib/arch:/tmp/loop_over_bdir-18446-9VZIa4/Devel-Declare-0.006019-0/blib/lib:/tmp/loop_over_bdir-18446-9VZIa4/Graph-Easy-0.76-0/blib/arch:/tmp/loop_over_bdir-18446-9VZIa4/Graph-Easy-0.76-0/blib/lib:/tmp/loop_over_bdir-18446-9VZIa4/Forest-0.10-0/blib/arch:/tmp/loop_over_bdir-18446-9VZIa4/Forest-0.10-0/blib/lib:/tmp/loop_over_bdir-18446-9VZIa4/Digest-MD4-1.9-0/blib/arch:/tmp/loop_over_bdir-18446-9VZIa4/Digest-MD4-1.9-0/blib/lib:/tmp/loop_over_bdir-18446-9VZIa4/Bread-Board-0.36-0/blib/arch:/tmp/loop_over_bdir-18446-9VZIa4/Bread-Board-0.36-0/blib/lib:/tmp/loop_over_bdir-18446-9VZIa4/MooseX-Params-Validate-0.21-0/blib/arch:/tmp/loop_over_bdir-18446-9VZIa4/MooseX-Params-Validate-0.21-0/blib/lib:/tmp/loop_over_bdir-18446-9VZIa4/MooseX-Clone-0.06-0/blib/arch:/tmp/loop_over_bdir-18446-9VZIa4/MooseX-Clone-0.06-0/blib/lib
    PERL5OPT = 
    PERL5_CPANPLUS_IS_RUNNING = 18452
    PERL5_CPAN_IS_RUNNING = 18452
    PERL5_CPAN_IS_RUNNING_IN_RECURSION = 6645,18452
    PERL_CANARY_STABILITY_NOPROMPT = 1
    PERL_MM_USE_DEFAULT = 1
    PERL_USE_UNSAFE_INC = 1
    SHELL = /usr/bin/zsh
    TERM = screen

Perl special variables (and OS-specific diagnostics, for MSWin32):

    $^X = /home/sand/src/perl/repoperls/installed-perls/host/k93msid/v5.27.4/0a29/bin/perl
    $UID/$EUID = 1005 / 1005
    $GID = 1005 1005
    $EGID = 1005 1005

Perl module toolchain versions installed:

    Module              Have    
    ------------------- --------
    CPAN                2.18    
    CPAN::Meta          2.150010
    Cwd                 3.68    
    ExtUtils::CBuilder  0.280228
    ExtUtils::Command   7.30    
    ExtUtils::Install   2.14    
    ExtUtils::MakeMaker 7.30    
    ExtUtils::Manifest  1.70    
    ExtUtils::ParseXS   3.35    
    File::Spec          3.68    
    JSON                2.94    
    JSON::PP            2.94    
    Module::Build       0.4224  
    Module::Signature   0.81    
    Parse::CPAN::Meta   2.150010
    Test::Harness       3.39    
    Test::More          1.302097
    YAML                1.23    
    YAML::Syck          1.30    
    version             0.9918  


--

Summary of my perl5 (revision 5 version 27 subversion 4) configuration:
  Commit id: a8b7548118623521a01940403176f14c40bf1320
  Platform:
    osname=linux
    osvers=4.12.0-2-amd64
    archname=x86_64-linux-ld
    uname='linux k93msid 4.12.0-2-amd64 #1 smp debian 4.12.13-1 (2017-09-19) x86_64 gnulinux '
    config_args='-Dprefix=/home/sand/src/perl/repoperls/installed-perls/host/k93msid/v5.27.4/0a29 -Dmyhostname=k93msid -Dinstallusrbinperl=n -Uversiononly -Dusedevel -des -Ui_db -Dlibswanted=cl pthread socket inet nsl gdbm dbm malloc dl ld sun m crypt sec util c cposix posix ucb BSD gdbm_compat -Uuseithreads -Duselongdouble -DDEBUGGING=both'
    hint=recommended
    useposix=true
    d_sigaction=define
    useithreads=undef
    usemultiplicity=undef
    use64bitint=define
    use64bitall=define
    uselongdouble=define
    usemymalloc=n
    default_inc_excludes_dot=define
    bincompat5005=undef
  Compiler:
    cc='cc'
    ccflags ='-fwrapv -DDEBUGGING -fno-strict-aliasing -pipe -fstack-protector-strong -I/usr/local/include -D_LARGEFILE_SOURCE -D_FILE_OFFSET_BITS=64 -D_FORTIFY_SOURCE=2'
    optimize='-O2 -g'
    cppflags='-fwrapv -DDEBUGGING -fno-strict-aliasing -pipe -fstack-protector-strong -I/usr/local/include'
    ccversion=''
    gccversion='7.2.0'
    gccosandvers=''
    intsize=4
    longsize=8
    ptrsize=8
    doublesize=8
    byteorder=12345678
    doublekind=3
    d_longlong=define
    longlongsize=8
    d_longdbl=define
    longdblsize=16
    longdblkind=3
    ivtype='long'
    ivsize=8
    nvtype='long double'
    nvsize=16
    Off_t='off_t'
    lseeksize=8
    alignbytes=16
    prototype=define
  Linker and Libraries:
    ld='cc'
    ldflags =' -fstack-protector-strong -L/usr/local/lib'
    libpth=/usr/local/lib /usr/lib/gcc/x86_64-linux-gnu/7/include-fixed /usr/include/x86_64-linux-gnu /usr/lib /lib/x86_64-linux-gnu /lib/../lib /usr/lib/x86_64-linux-gnu /usr/lib/../lib /lib
    libs=-lpthread -lnsl -ldl -lm -lcrypt -lutil -lc
    perllibs=-lpthread -lnsl -ldl -lm -lcrypt -lutil -lc
    libc=libc-2.24.so
    so=so
    useshrplib=false
    libperl=libperl.a
    gnulibc_version='2.24'
  Dynamic Linking:
    dlsrc=dl_dlopen.xs
    dlext=so
    d_dlsymun=undef
    ccdlflags='-Wl,-E'
    cccdlflags='-fPIC'
    lddlflags='-shared -O2 -g -L/usr/local/lib -fstack-protector-strong'


Characteristics of this binary (from libperl): 
  Compile-time options:
    DEBUGGING
    HAS_TIMES
    PERLIO_LAYERS
    PERL_COPY_ON_WRITE
    PERL_DONT_CREATE_GVSV
    PERL_MALLOC_WRAP
    PERL_OP_PARENT
    PERL_PRESERVE_IVUV
    PERL_USE_DEVEL
    USE_64_BIT_ALL
    USE_64_BIT_INT
    USE_LARGE_FILES
    USE_LOCALE
    USE_LOCALE_COLLATE
    USE_LOCALE_CTYPE
    USE_LOCALE_NUMERIC
    USE_LOCALE_TIME
    USE_LONG_DOUBLE
    USE_PERLIO
    USE_PERL_ATOF
  Built under linux
  Compiled at Oct  1 2017 21:52:15
  %ENV:
    PERL5LIB="/tmp/loop_over_bdir-18446-9VZIa4/Devel-PartialDump-0.20-0/blib/arch:/tmp/loop_over_bdir-18446-9VZIa4/Devel-PartialDump-0.20-0/blib/lib:/tmp/loop_over_bdir-18446-9VZIa4/MooseX-Meta-TypeConstraint-ForceCoercion-0.01-0/blib/arch:/tmp/loop_over_bdir-18446-9VZIa4/MooseX-Meta-TypeConstraint-ForceCoercion-0.01-0/blib/lib:/tmp/loop_over_bdir-18446-9VZIa4/Devel-Declare-0.006019-0/blib/arch:/tmp/loop_over_bdir-18446-9VZIa4/Devel-Declare-0.006019-0/blib/lib:/tmp/loop_over_bdir-18446-9VZIa4/Graph-Easy-0.76-0/blib/arch:/tmp/loop_over_bdir-18446-9VZIa4/Graph-Easy-0.76-0/blib/lib:/tmp/loop_over_bdir-18446-9VZIa4/Forest-0.10-0/blib/arch:/tmp/loop_over_bdir-18446-9VZIa4/Forest-0.10-0/blib/lib:/tmp/loop_over_bdir-18446-9VZIa4/Digest-MD4-1.9-0/blib/arch:/tmp/loop_over_bdir-18446-9VZIa4/Digest-MD4-1.9-0/blib/lib:/tmp/loop_over_bdir-18446-9VZIa4/Bread-Board-0.36-0/blib/arch:/tmp/loop_over_bdir-18446-9VZIa4/Bread-Board-0.36-0/blib/lib:/tmp/loop_over_bdir-18446-9VZIa4/MooseX-Params-Validate-0.21-0/blib/arch:/tmp/loop_over_bdir-18446-9VZIa4/MooseX-Params-Validate-0.21-0/blib/lib:/tmp/loop_over_bdir-18446-9VZIa4/MooseX-Clone-0.06-0/blib/arch:/tmp/loop_over_bdir-18446-9VZIa4/MooseX-Clone-0.06-0/blib/lib"
    PERL5OPT=""
    PERL5_CPANPLUS_IS_RUNNING="18452"
    PERL5_CPAN_IS_RUNNING="18452"
    PERL5_CPAN_IS_RUNNING_IN_RECURSION="6645,18452"
    PERL_CANARY_STABILITY_NOPROMPT="1"
    PERL_MM_USE_DEFAULT="1"
    PERL_USE_UNSAFE_INC="1"
  @INC:
    /tmp/loop_over_bdir-18446-9VZIa4/Devel-PartialDump-0.20-0/blib/arch
    /tmp/loop_over_bdir-18446-9VZIa4/Devel-PartialDump-0.20-0/blib/lib
    /tmp/loop_over_bdir-18446-9VZIa4/MooseX-Meta-TypeConstraint-ForceCoercion-0.01-0/blib/arch
    /tmp/loop_over_bdir-18446-9VZIa4/MooseX-Meta-TypeConstraint-ForceCoercion-0.01-0/blib/lib
    /tmp/loop_over_bdir-18446-9VZIa4/Devel-Declare-0.006019-0/blib/arch
    /tmp/loop_over_bdir-18446-9VZIa4/Devel-Declare-0.006019-0/blib/lib
    /tmp/loop_over_bdir-18446-9VZIa4/Graph-Easy-0.76-0/blib/arch
    /tmp/loop_over_bdir-18446-9VZIa4/Graph-Easy-0.76-0/blib/lib
    /tmp/loop_over_bdir-18446-9VZIa4/Forest-0.10-0/blib/arch
    /tmp/loop_over_bdir-18446-9VZIa4/Forest-0.10-0/blib/lib
    /tmp/loop_over_bdir-18446-9VZIa4/Digest-MD4-1.9-0/blib/arch
    /tmp/loop_over_bdir-18446-9VZIa4/Digest-MD4-1.9-0/blib/lib
    /tmp/loop_over_bdir-18446-9VZIa4/Bread-Board-0.36-0/blib/arch
    /tmp/loop_over_bdir-18446-9VZIa4/Bread-Board-0.36-0/blib/lib
    /tmp/loop_over_bdir-18446-9VZIa4/MooseX-Params-Validate-0.21-0/blib/arch
    /tmp/loop_over_bdir-18446-9VZIa4/MooseX-Params-Validate-0.21-0/blib/lib
    /tmp/loop_over_bdir-18446-9VZIa4/MooseX-Clone-0.06-0/blib/arch
    /tmp/loop_over_bdir-18446-9VZIa4/MooseX-Clone-0.06-0/blib/lib
    /home/sand/src/perl/repoperls/installed-perls/host/k93msid/v5.27.4/0a29/lib/site_perl/5.27.4/x86_64-linux-ld
    /home/sand/src/perl/repoperls/installed-perls/host/k93msid/v5.27.4/0a29/lib/site_perl/5.27.4
    /home/sand/src/perl/repoperls/installed-perls/host/k93msid/v5.27.4/0a29/lib/5.27.4/x86_64-linux-ld
    /home/sand/src/perl/repoperls/installed-perls/host/k93msid/v5.27.4/0a29/lib/5.27.4
    .