DBD-SQLite v1.76 Perl 5 v5.41.6 MSWin32-x64-multi-thread

Status
Pass
From
twata
Dist
DBD-SQLite v1.76
Platform
Perl 5 v5.41.6 MSWin32-x64-multi-thread
Date
2024-12-01 04:43:33
ID
11b14a08-72b1-1014-a33c-a0b86e2aa524
This distribution has been tested as part of the CPAN Testers
project, supporting the Perl programming language.  See
http://wiki.cpantesters.org/ for more information or email
questions to cpan-testers-discuss@perl.org


--
Dear Kenichi Ishigaki,

This is a computer-generated report for DBD-SQLite-1.76
on perl 5.41.6, created by CPAN-Reporter-1.2020.

Thank you for uploading your work to CPAN.  Congratulations!
All tests were successful.

Sections of this report:

    * Tester comments
    * Program output
    * Prerequisites
    * Environment and other context

------------------------------
TESTER COMMENTS
------------------------------

Additional comments from tester:

none provided

------------------------------
PROGRAM OUTPUT
------------------------------

Output from '"C:\Program Files\Microsoft Visual Studio\2022\Community\VC\Tools\MSVC\14.33.31629\bin\Hostx64\x64\nmake.exe" test':


Microsoft (R) Program Maintenance Utility Version 14.33.31630.0
Copyright (C) Microsoft Corporation.  All rights reserved.

	"C:\perl64\5.41.6\bin\perl.exe" -MExtUtils::Command::MM -e cp_nonempty -- SQLite.bs blib\arch\auto\DBD\SQLite\SQLite.bs 644
	"C:\perl64\5.41.6\bin\perl.exe" "-MExtUtils::Command::MM" "-MTest::Harness" "-e" "undef *Test::Harness::Switches; test_harness(0, 'blib\lib', 'blib\arch')" t\*.t t\*\*.t
# $DBI::VERSION=1.644
# Compile Options:
#   ATOMIC_INTRINSICS=0
#   COMPILER=msvc-1933
#   DEFAULT_AUTOVACUUM
#   DEFAULT_CACHE_SIZE=-2000
#   DEFAULT_FILE_FORMAT=4
#   DEFAULT_JOURNAL_SIZE_LIMIT=-1
#   DEFAULT_MMAP_SIZE=0
#   DEFAULT_PAGE_SIZE=4096
#   DEFAULT_PCACHE_INITSZ=20
#   DEFAULT_RECURSIVE_TRIGGERS
#   DEFAULT_SECTOR_SIZE=4096
#   DEFAULT_SYNCHRONOUS=2
#   DEFAULT_WAL_AUTOCHECKPOINT=1000
#   DEFAULT_WAL_SYNCHRONOUS=2
#   DEFAULT_WORKER_THREADS=0
#   DIRECT_OVERFLOW_READ
#   ENABLE_COLUMN_METADATA
#   ENABLE_FTS3
#   ENABLE_FTS3_PARENTHESIS
#   ENABLE_FTS4
#   ENABLE_FTS5
#   ENABLE_MATH_FUNCTIONS
#   ENABLE_RTREE
#   MALLOC_SOFT_LIMIT=1024
#   MAX_ATTACHED=10
#   MAX_COLUMN=2000
#   MAX_COMPOUND_SELECT=500
#   MAX_DEFAULT_PAGE_SIZE=8192
#   MAX_EXPR_DEPTH=1000
#   MAX_FUNCTION_ARG=127
#   MAX_LENGTH=1000000000
#   MAX_LIKE_PATTERN_LENGTH=50000
#   MAX_MMAP_SIZE=0x7fff0000
#   MAX_PAGE_COUNT=0xfffffffe
#   MAX_PAGE_SIZE=65536
#   MAX_SQL_LENGTH=1000000000
#   MAX_TRIGGER_DEPTH=1000
#   MAX_VARIABLE_NUMBER=32766
#   MAX_VDBE_OP=250000000
#   MAX_WORKER_THREADS=8
#   MUTEX_W32
#   SYSTEM_MALLOC
#   TEMP_STORE=1
#   THREADSAFE=1
t\01_compile.t ........................................ ok
# sqlite_version=3.46.1
t\02_logon.t .......................................... ok
t\03_create_table.t ................................... ok
t\04_insert.t ......................................... ok
t\05_select.t ......................................... ok
t\06_tran.t ........................................... ok
t\07_error.t .......................................... ok
t\08_busy.t ........................................... ok
t\09_create_function.t ................................ ok
t\10_create_aggregate.t ............................... ok
t\11_get_info.t ....................................... ok
t\12_unicode.t ........................................ ok
t\13_create_collation.t ............................... ok
t\14_progress_handler.t ............................... ok
t\15_ak_dbd.t ......................................... ok
t\16_column_info.t .................................... ok
t\17_createdrop.t ..................................... ok
t\18_insertfetch.t .................................... ok
t\19_bindparam.t ...................................... ok
t\20_blobs.t .......................................... ok
t\21_blobtext.t ....................................... ok
t\22_listfields.t ..................................... ok
t\23_nulls.t .......................................... ok
t\24_numrows.t ........................................ ok
t\25_chopblanks.t ..................................... ok
t\26_commit.t ......................................... ok
t\27_metadata.t ....................................... ok
t\28_schemachange.t ................................... ok
t\30_auto_rollback.t .................................. ok
t\31_bind_weird_number_param.t ........................ ok
t\32_inactive_error.t ................................. ok
t\33_non_latin_path.t ................................. ok
t\34_online_backup.t .................................. ok
t\35_table_info.t ..................................... ok
t\36_hooks.t .......................................... ok
t\37_regexp.t ......................................... ok
t\38_empty_statement.t ................................ ok
t\39_foreign_keys.t ................................... ok
t\40_multiple_statements.t ............................ ok
t\41_placeholders.t ................................... ok
t\42_primary_key_info.t ............................... ok
t\43_fts3.t ........................................... ok
t\44_rtree.t .......................................... ok
t\45_savepoints.t ..................................... ok
t\46_mod_perl.t ....................................... skipped: requires APR::Table
t\47_execute.t ........................................ ok
t\48_bind_param_is_sticky.t ........................... ok
t\49_trace_and_profile.t .............................. ok
t\50_foreign_key_info.t ............................... ok
t\51_table_column_metadata.t .......................... ok
t\52_db_filename.t .................................... ok
t\53_status.t ......................................... ok
t\54_literal_txn.t .................................... ok
t\55_statistics_info.t ................................ ok
t\56_open_flags.t ..................................... ok
t\57_uri_filename.t ................................... ok
t\58_see_if_its_a_number_and_explicit_binding.t ....... ok
t\59_extended_result_codes.t .......................... ok
t\60_readonly.t ....................................... ok
t\61_strlike.t ........................................ ok
t\62_regexp_multibyte_char_class.t .................... ok
t\63_param_values.t ................................... ok
t\64_limit.t .......................................... ok
t\65_db_config.t ...................................... ok
t\66_get_autocommit.t ................................. ok
t\cookbook_variance.t ................................. ok
t\rt_106151_outermost_savepoint.t ..................... ok
t\rt_106950_extra_warnings_with_savepoints.t .......... ok
t\rt_115465_column_info_with_spaces.t ................. ok
t\rt_124227_index_regression.t ........................ ok
t\rt_15186_prepcached.t ............................... ok
t\rt_21406_auto_finish.t .............................. ok
t\rt_25371_asymmetric_unicode.t ....................... ok
t\rt_25460_numeric_aggregate.t ........................ ok
t\rt_25924_user_defined_func_unicode.t ................ ok
t\rt_26775_distinct.t ................................. ok
t\rt_27553_prepared_cache_and_analyze.t ............... ok
t\rt_29058_group_by.t ................................. ok
t\rt_29629_sqlite_where_length.t ...................... ok
t\rt_31324_full_names.t ............................... ok
t\rt_32889_prepare_cached_reexecute.t ................. ok
t\rt_36836_duplicate_key.t ............................ ok
t\rt_36838_unique_and_bus_error.t ..................... ok
t\rt_40594_nullable.t ................................. ok
t\rt_48393_debug_panic_with_commit.t .................. skipped: set $ENV{TEST_DBD_SQLITE_WITH_DEBUGGER} to enable this test
t\rt_50503_fts3.t ..................................... ok
t\rt_52573_manual_exclusive_lock.t .................... ok
t\rt_53235_icu_compatibility.t ........................ skipped: requires SQLite ICU plugin to be enabled
t\rt_62370_diconnected_handles_operation.t ............ ok
t\rt_64177_ping_wipes_out_the_errstr.t ................ ok
t\rt_67581_bind_params_mismatch.t ..................... ok
t\rt_71311_bind_col_and_unicode.t ..................... ok
t\rt_73159_fts_tokenizer_segfault.t ................... ok
t\rt_73787_exponential_buffer_overflow.t .............. ok
t\rt_76395_int_overflow.t ............................. ok
t\rt_77724_primary_key_with_a_whitespace.t ............ ok
t\rt_78833_utf8_flag_for_column_names.t ............... ok
t\rt_81536_multi_column_primary_key_info.t ............ ok
t\rt_88228_sqlite_3_8_0_crash.t ....................... ok
t\rt_96050_db_filename_for_a_closed_database.t ........ ok
t\rt_96877_unicode_statements.t ....................... ok
t\rt_96878_fts_contentless_table.t .................... ok
t\rt_97598_crash_on_disconnect_with_virtual_tables.t .. ok
t\virtual_table\00_base.t ............................. ok
t\virtual_table\01_destroy.t .......................... ok
t\virtual_table\02_find_function.t .................... ok
t\virtual_table\10_filecontent.t ...................... ok
t\virtual_table\11_filecontent_fulltext.t ............. ok
t\virtual_table\20_perldata.t ......................... ok
t\virtual_table\21_perldata_charinfo.t ................ ok
t\virtual_table\rt_124941.t ........................... ok
t\virtual_table\rt_99748.t ............................ ok
t\virtual_table\unknown_op.t .......................... ok
All tests successful.
Files=113, Tests=3880, 104 wallclock secs ( 0.84 usr +  0.20 sys =  1.05 CPU)
Result: PASS

------------------------------
PREREQUISITES
------------------------------

Prerequisite modules loaded:

requires:

    Module              Need  Have    
    ------------------- ----- --------
    DBI                 1.57  1.644   
    File::Spec          3.27  3.93    
    perl                5.006 5.041006
    Test::More          0.88  1.302204
    Tie::Hash           0     1.06    
    Win32               0.30  0.59_01 

build_requires:

    Module              Need  Have    
    ------------------- ----- --------
    ExtUtils::MakeMaker 0     7.70    

configure_requires:

    Module              Need  Have    
    ------------------- ----- --------
    DBI                 1.57  1.644   
    ExtUtils::MakeMaker 6.48  7.70    
    File::Spec          0.82  3.93    


------------------------------
ENVIRONMENT AND OTHER CONTEXT
------------------------------

Environment variables:

    COMSPEC = C:\WINDOWS\system32\cmd.exe
    INCLUDE = C:\Program Files\Microsoft Visual Studio\2022\Community\VC\Tools\MSVC\14.33.31629\include;C:\Program Files\Microsoft Visual Studio\2022\Community\VC\Tools\MSVC\14.33.31629\ATLMFC\include;C:\Program Files\Microsoft Visual Studio\2022\Community\VC\Auxiliary\VS\include;C:\Program Files (x86)\Windows Kits\10\include\10.0.19041.0\ucrt;C:\Program Files (x86)\Windows Kits\10\\include\10.0.19041.0\\um;C:\Program Files (x86)\Windows Kits\10\\include\10.0.19041.0\\shared;C:\Program Files (x86)\Windows Kits\10\\include\10.0.19041.0\\winrt;C:\Program Files (x86)\Windows Kits\10\\include\10.0.19041.0\\cppwinrt;C:\ext\include;C:\perl64\local\include
    LC_ALL = C
    LIB = C:\Program Files\Microsoft Visual Studio\2022\Community\VC\Tools\MSVC\14.33.31629\ATLMFC\lib\x64;C:\Program Files\Microsoft Visual Studio\2022\Community\VC\Tools\MSVC\14.33.31629\lib\x64;C:\Program Files (x86)\Windows Kits\10\lib\10.0.19041.0\ucrt\x64;C:\Program Files (x86)\Windows Kits\10\\lib\10.0.19041.0\\um\x64;C:\ext\lib
    NONINTERACTIVE_TESTING = 1
    NUMBER_OF_PROCESSORS = 4
    PATH = C:\home\oat5416\perl5\bin;C:\perl64\5.41.6\bin;C:\build-openssl\bin;C:\ext\bin;C:\Program Files\Microsoft Visual Studio\2022\Community\VC\Tools\MSVC\14.33.31629\bin\HostX64\x64;C:\Program Files\Microsoft Visual Studio\2022\Community\Common7\IDE\VC\VCPackages;C:\Program Files\Microsoft Visual Studio\2022\Community\Common7\IDE\CommonExtensions\Microsoft\TestWindow;C:\Program Files\Microsoft Visual Studio\2022\Community\Common7\IDE\CommonExtensions\Microsoft\TeamFoundation\Team Explorer;C:\Program Files\Microsoft Visual Studio\2022\Community\MSBuild\Current\bin\Roslyn;C:\Program Files\Microsoft Visual Studio\2022\Community\Team Tools\Performance Tools\x64;C:\Program Files\Microsoft Visual Studio\2022\Community\Team Tools\Performance Tools;C:\Program Files (x86)\Windows Kits\10\bin\10.0.19041.0\\x64;C:\Program Files (x86)\Windows Kits\10\bin\\x64;C:\Program Files\Microsoft Visual Studio\2022\Community\\MSBuild\Current\Bin\amd64;C:\Windows\Microsoft.NET\Framework64\v4.0.30319;C:\Program Files\Microsoft Visual Studio\2022\Community\Common7\IDE\;C:\Program Files\Microsoft Visual Studio\2022\Community\Common7\Tools\;C:\Program Files (x86)\Windows Resource Kits\Tools\;C:\WINDOWS\system32;C:\WINDOWS;C:\WINDOWS\System32\Wbem;C:\WINDOWS\System32\WindowsPowerShell\v1.0\;C:\Program Files\Microsoft Visual Studio\2022\Community\Common7\IDE\CommonExtensions\Microsoft\CMake\CMake\bin;C:\Program Files\Microsoft Visual Studio\2022\Community\Common7\IDE\CommonExtensions\Microsoft\CMake\Ninja;C:\Program Files\Microsoft Visual Studio\2022\Community\Common7\IDE\VC\Linux\bin\ConnectionManagerExe
    PERL5LIB = C:\home\oat5416\perl5\lib\perl5
    PERL5OPT = 
    PERL5_CPANPLUS_IS_RUNNING = 3964
    PERL5_CPAN_IS_RUNNING = 3964
    PERL_LOCAL_LIB_ROOT = C:\home\oat5416\perl5
    PERL_MB_OPT = --install_base "C:\\home\\oat5416\\perl5"
    PERL_MM_OPT = INSTALL_BASE=C:\\home\\oat5416\\perl5
    PERL_MM_USE_DEFAULT = 1
    PERL_USE_UNSAFE_INC = 1
    PROCESSOR_IDENTIFIER = Intel64 Family 6 Model 58 Stepping 9, GenuineIntel
    TEMP = C:\Users\USER\AppData\Local\Temp
    TERM = dumb

Perl special variables (and OS-specific diagnostics, for MSWin32):

    $^X = C:\perl64\5.41.6\bin\perl.exe
    $UID/$EUID = 0 / 0
    $GID = 0
    $EGID = 0
    Win32::GetOSName = Win8.1
    Win32::GetOSVersion = , 6, 3, 9600, 2, 0, 0, 256, 1
    Win32::FsType = NTFS
    Win32::IsAdminUser = 0

Perl module toolchain versions installed:

    Module              Have    
    ------------------- --------
    CPAN                2.38    
    CPAN::Meta          2.150010
    Cwd                 3.92    
    ExtUtils::CBuilder  0.280240
    ExtUtils::Command   7.70    
    ExtUtils::Install   2.22    
    ExtUtils::MakeMaker 7.70    
    ExtUtils::Manifest  1.75    
    ExtUtils::ParseXS   3.56    
    File::Spec          3.93    
    JSON                4.10    
    JSON::PP            4.16    
    Module::Build       0.4234  
    Module::Signature   n/a     
    Parse::CPAN::Meta   2.150010
    Test2               1.302204
    Test::Harness       3.50    
    Test::More          1.302204
    YAML                n/a     
    YAML::Syck          n/a     
    version             0.9933  


--

Summary of my perl5 (revision 5 version 41 subversion 6) configuration:
   
  Platform:
    osname=MSWin32
    osvers=6.3.9600
    archname=MSWin32-x64-multi-thread
    uname=''
    config_args='undef'
    hint=recommended
    useposix=true
    d_sigaction=undef
    useithreads=define
    usemultiplicity=define
    use64bitint=define
    use64bitall=undef
    uselongdouble=undef
    usemymalloc=n
    default_inc_excludes_dot=define
  Compiler:
    cc='cl'
    ccflags ='-nologo -GF -W3 -MD -DWIN32 -D_CONSOLE -DNO_STRICT -DWIN64 -D_CRT_SECURE_NO_DEPRECATE  -D_CRT_NONSTDC_NO_DEPRECATE -D_WINSOCK_DEPRECATED_NO_WARNINGS  -DPERL_TEXTMODE_SCRIPTS -DMULTIPLICITY -DPERL_IMPLICIT_SYS'
    optimize='-O1 -Zi -GL -fp:precise'
    cppflags='-DWIN32'
    ccversion='19.33.31630'
    gccversion=''
    gccosandvers=''
    intsize=4
    longsize=4
    ptrsize=8
    doublesize=8
    byteorder=12345678
    doublekind=3
    d_longlong=undef
    longlongsize=8
    d_longdbl=define
    longdblsize=8
    longdblkind=0
    ivtype='__int64'
    ivsize=8
    nvtype='double'
    nvsize=8
    Off_t='__int64'
    lseeksize=8
    alignbytes=8
    prototype=define
  Linker and Libraries:
    ld='link'
    ldflags ='-nologo -nodefaultlib -debug -opt:ref,icf -ltcg  -libpath:"c:\perl64\5.41.6\lib\CORE"  -machine:AMD64 -subsystem:console,"5.02"'
    libpth="C:\Program Files\Microsoft Visual Studio\2022\Community\VC\Tools\MSVC\14.33.31629\\lib\x64"
    libs=oldnames.lib kernel32.lib user32.lib gdi32.lib winspool.lib  comdlg32.lib advapi32.lib shell32.lib ole32.lib oleaut32.lib  netapi32.lib uuid.lib ws2_32.lib mpr.lib winmm.lib  version.lib odbc32.lib odbccp32.lib comctl32.lib msvcrt.lib vcruntime.lib ucrt.lib
    perllibs=oldnames.lib kernel32.lib user32.lib gdi32.lib winspool.lib  comdlg32.lib advapi32.lib shell32.lib ole32.lib oleaut32.lib  netapi32.lib uuid.lib ws2_32.lib mpr.lib winmm.lib  version.lib odbc32.lib odbccp32.lib comctl32.lib msvcrt.lib vcruntime.lib ucrt.lib
    libc=ucrt.lib
    so=dll
    useshrplib=true
    libperl=perl541.lib
    gnulibc_version=''
  Dynamic Linking:
    dlsrc=dl_win32.xs
    dlext=dll
    d_dlsymun=undef
    ccdlflags=' '
    cccdlflags=' '
    lddlflags='-dll -nologo -nodefaultlib -debug -opt:ref,icf -ltcg  -libpath:"c:\perl64\5.41.6\lib\CORE"  -machine:AMD64 -subsystem:console,"5.02"'


Characteristics of this binary (from libperl): 
  Compile-time options:
    HAS_LONG_DOUBLE
    HAS_TIMES
    HAVE_INTERP_INTERN
    MULTIPLICITY
    PERLIO_LAYERS
    PERL_COPY_ON_WRITE
    PERL_DONT_CREATE_GVSV
    PERL_HASH_FUNC_SIPHASH13
    PERL_HASH_USE_SBOX32
    PERL_IMPLICIT_SYS
    PERL_MALLOC_WRAP
    PERL_OP_PARENT
    PERL_PRESERVE_IVUV
    PERL_USE_SAFE_PUTENV
    USE_64_BIT_INT
    USE_ITHREADS
    USE_LARGE_FILES
    USE_LOCALE
    USE_LOCALE_COLLATE
    USE_LOCALE_CTYPE
    USE_LOCALE_NUMERIC
    USE_LOCALE_TIME
    USE_PERLIO
    USE_PERL_ATOF
    USE_THREAD_SAFE_LOCALE
  Built under MSWin32
  Compiled at Dec  1 2024 01:07:18
  %ENV:
    PERL5LIB="C:\home\oat5416\perl5\lib\perl5"
    PERL5_CPANPLUS_IS_RUNNING="3964"
    PERL5_CPAN_IS_RUNNING="3964"
    PERL_LOCAL_LIB_ROOT="C:\home\oat5416\perl5"
    PERL_MB_OPT="--install_base "C:\\home\\oat5416\\perl5""
    PERL_MM_OPT="INSTALL_BASE=C:\\home\\oat5416\\perl5"
    PERL_MM_USE_DEFAULT="1"
    PERL_USE_UNSAFE_INC="1"
  @INC:
    C:\home\oat5416\perl5\lib\perl5/MSWin32-x64-multi-thread
    C:\home\oat5416\perl5\lib\perl5
    C:/perl64/site/5.41.6/lib
    C:/perl64/5.41.6/lib
    .