Time-Zone-Olson v0.46 Perl 5 v5.39.4 amd64-freebsd
- Status
- Pass
- From
- Carlos Guevara
- Dist
-
Time-Zone-Olson v0.46
- Platform
- Perl 5 v5.39.4 amd64-freebsd
- Date
- 2023-10-03 07:40:05
- ID
- 11bd0c7c-61c0-11ee-bae6-b6d12b852659
This distribution has been tested as part of the CPAN Testers
project, supporting the Perl programming language. See
http://wiki.cpantesters.org/ for more information or email
questions to cpan-testers-discuss@perl.org
--
Dear David Dick,
This is a computer-generated report for Time-Zone-Olson-0.46
on perl 5.39.4, created by CPAN-Reporter-1.2019.
Thank you for uploading your work to CPAN. Congratulations!
All tests were successful.
Sections of this report:
* Tester comments
* Program output
* Prerequisites
* Environment and other context
------------------------------
TESTER COMMENTS
------------------------------
Additional comments from tester:
this report is from an automated smoke testing program
and was not reviewed by a human for accuracy
------------------------------
PROGRAM OUTPUT
------------------------------
Output from '/usr/bin/make test':
PERL_DL_NONLAZY=1 "/usr/home/cpan/bin/perl/bin/perl5.39.4" "-MExtUtils::Command::MM" "-MTest::Harness" "-e" "undef *Test::Harness::Switches; test_harness(0, 'blib/lib', 'blib/arch')" t/*.t
# Testing Time::Zone::Olson 0.46, Perl 5.039004, /usr/home/cpan/bin/perl/bin/perl5.39.4
t/00-load.t ........... ok
t/boilerplate.t ....... ok
t/manifest.t .......... skipped: Author tests not required for installation
t/pod-coverage.t ...... ok
t/pod.t ............... ok
# Checking https://raw.githubusercontent.com/unicode-org/cldr/master/common/supplemental/windowsZones.xml
t/windows_zones.t ..... ok
# Olson tz directory is /usr/share/zoneinfo for freebsd
# Local timezone has been determined to be America/New_York
# Local timezone was determined using /var/db/zoneinfo
# -rw-r--r-- 1 root wheel 17 Sep 6 23:56 /var/db/zoneinfo
# Comment for 'Australia/Melbourne' is 'Victoria'
# /usr/share/zoneinfo/America/New_York Sun Nov 5 06:00:00 2023 UT = Sun Nov 5 01:00:00 2023 EST isdst=0 gmtoff=-18000
# /usr/share/zoneinfo/America/New_York Sun Mar 10 06:59:59 2024 UT = Sun Mar 10 01:59:59 2024 EST isdst=0 gmtoff=-18000
# /usr/share/zoneinfo/America/New_York Sun Mar 10 07:00:00 2024 UT = Sun Mar 10 03:00:00 2024 EDT isdst=1 gmtoff=-14400
# /usr/share/zoneinfo/America/New_York Sun Nov 3 05:59:59 2024 UT = Sun Nov 3 01:59:59 2024 EDT isdst=1 gmtoff=-14400
# /usr/share/zoneinfo/America/New_York Sun Nov 3 06:00:00 2024 UT = Sun Nov 3 01:00:00 2024 EST isdst=0 gmtoff=-18000
# /usr/share/zoneinfo/America/New_York Wed Dec 31 23:59:59 2147485547 UT = Wed Dec 31 18:59:59 2147485547 EST isdst=0 gmtoff=-18000
# /usr/share/zoneinfo/America/New_York 67768036191676800 (gmtime failed) = Wed Dec 31 19:00:00 2147485547 EST isdst=0 gmtoff=-18000
# /usr/share/zoneinfo/America/New_York 67768036191694799 (gmtime failed) = Wed Dec 31 23:59:59 2147485547 EST isdst=0 gmtoff=-18000
# /usr/share/zoneinfo/America/New_York 67768036191694800 (gmtime failed) = 67768036191694800 (localtime failed)
# /usr/share/zoneinfo/America/New_York 9223372036854775807 (gmtime failed) = 9223372036854775807 (localtime failed)
# bsd test of early date:1901/03/01 09:59:59 AEST
t/zoneinfo_all.t ...... ok
# Determined timezone is America/New_York
# TZDIR has not been set
# Output of gnu date command:date: illegal option -- d
# usage: date [-jnRu] [-I[date|hours|minutes|seconds]] [-f input_fmt]
# [-r filename|seconds] [-v[+|-]val[y|m|w|d|H|M|S]]
# [[[[[[cc]yy]mm]dd]HH]MM[.SS] | new_date] [+output_fmt]
# Output of bsd date command:2015/02/28 11:00:00
# Results of unpack:
# Local timezone has been determined to be America/New_York
t/zoneinfo_current.t .. ok
t/zoneinfo_taint.t .... ok
t/zoneinfo_tz_env.t ... ok
All tests successful.
Files=10, Tests=4183, 7 wallclock secs ( 0.38 usr 0.02 sys + 3.52 cusr 3.09 csys = 7.02 CPU)
Result: PASS
------------------------------
PREREQUISITES
------------------------------
Prerequisite modules loaded:
requires:
Module Need Have
-------------------- ----- --------
Carp 0 1.54
Config 0 5.039004
Digest::SHA 0 6.04
DirHandle 0 1.05
Encode 0 3.19
English 0 1.11
File::Find 0 1.43
File::Spec 0 3.90
FileHandle 0 2.05
perl 5.006 5.039004
POSIX 0 2.15
strict 0 1.13
warnings 0 1.67
build_requires:
Module Need Have
-------------------- ----- --------
ExtUtils::MakeMaker 0 7.70
Fcntl 0 1.15
File::Temp 0 0.2311
HTTP::Request 0 6.45
LWP::Protocol::https 6.06 6.11
LWP::UserAgent 0 6.72
Test::More 0 1.302195
Time::Local 0 1.35
XML::LibXML 0 2.0209
configure_requires:
Module Need Have
-------------------- ----- --------
ExtUtils::MakeMaker 0 7.70
------------------------------
ENVIRONMENT AND OTHER CONTEXT
------------------------------
Environment variables:
AUTOMATED_TESTING = 1
DATE_MANIP_TEST_DM5 = 1
LANG = C.UTF-8
LC_ALL = C
NONINTERACTIVE_TESTING = 1
NO_NETWORK_TESTING = 1
PATH = /home/cpan/bin/perl/bin:/home/cpan/bin:/sbin:/bin:/usr/sbin:/usr/bin:/usr/local/sbin:/usr/local/bin:/home/cpan/bin
PERL5LIB =
PERL5OPT =
PERL5_CPANPLUS_IS_RUNNING = 85534
PERL5_CPAN_IS_RUNNING = 85534
PERL_MM_USE_DEFAULT = 1
PERL_USE_UNSAFE_INC = 1
SHELL = /usr/local/bin/bash
TERM = screen
TMPDIR = /home/cpan/tmp
Perl special variables (and OS-specific diagnostics, for MSWin32):
$^X = /usr/home/cpan/bin/perl/bin/perl5.39.4
$UID/$EUID = 1002 / 1002
$GID = 1002 1002
$EGID = 1002 1002
Perl module toolchain versions installed:
Module Have
------------------- --------
CPAN 2.36
CPAN::Meta 2.150010
Cwd 3.90
ExtUtils::CBuilder 0.280240
ExtUtils::Command 7.70
ExtUtils::Install 2.22
ExtUtils::MakeMaker 7.70
ExtUtils::Manifest 1.75
ExtUtils::ParseXS 3.51
File::Spec 3.90
JSON 4.10
JSON::PP 4.16
Module::Build 0.4234
Module::Signature n/a
Parse::CPAN::Meta 2.150010
Test2 1.302195
Test::Harness 3.48
Test::More 1.302195
YAML 1.30
YAML::Syck 1.34
version 0.9930
--
Summary of my perl5 (revision 5 version 39 subversion 4) configuration:
Commit id: 922e8c46512ec446e49a3b89d167175d29385408
Platform:
osname=freebsd
osvers=13.2-release-p3
archname=amd64-freebsd
uname='freebsd cjg-freebsd13 13.2-release-p3 freebsd 13.2-release-p3 generic amd64 '
config_args='-des -Dprefix=/home/cpan/bin/perl -Dscriptdir=/home/cpan/bin/perl/bin -Dusedevel -Duse64bitall'
hint=recommended
useposix=true
d_sigaction=define
useithreads=undef
usemultiplicity=undef
use64bitint=define
use64bitall=define
uselongdouble=undef
usemymalloc=n
default_inc_excludes_dot=define
Compiler:
cc='cc'
ccflags ='-DHAS_FPSETMASK -DHAS_FLOATINGPOINT_H -fno-strict-aliasing -pipe -fstack-protector-strong -I/usr/local/include'
optimize='-O2'
cppflags='-DHAS_FPSETMASK -DHAS_FLOATINGPOINT_H -fno-strict-aliasing -pipe -fstack-protector-strong -I/usr/local/include'
ccversion=''
gccversion='FreeBSD Clang 14.0.5 (https://github.com/llvm/llvm-project.git llvmorg-14.0.5-0-gc12386ae247c)'
gccosandvers=''
intsize=4
longsize=8
ptrsize=8
doublesize=8
byteorder=12345678
doublekind=3
d_longlong=define
longlongsize=8
d_longdbl=define
longdblsize=16
longdblkind=3
ivtype='long'
ivsize=8
nvtype='double'
nvsize=8
Off_t='off_t'
lseeksize=8
alignbytes=8
prototype=define
Linker and Libraries:
ld='cc'
ldflags ='-Wl,-E -fstack-protector-strong -L/usr/local/lib'
libpth=/usr/lib /usr/local/lib /usr/lib/clang/14.0.5/lib
libs=-lpthread -ldl -lm -lcrypt -lutil -lc
perllibs=-lpthread -ldl -lm -lcrypt -lutil -lc
libc=
so=so
useshrplib=false
libperl=libperl.a
gnulibc_version=''
Dynamic Linking:
dlsrc=dl_dlopen.xs
dlext=so
d_dlsymun=undef
ccdlflags=' '
cccdlflags='-DPIC -fPIC'
lddlflags='-shared -L/usr/local/lib -fstack-protector-strong'
Characteristics of this binary (from libperl):
Compile-time options:
HAS_LONG_DOUBLE
HAS_STRTOLD
HAS_TIMES
PERLIO_LAYERS
PERL_COPY_ON_WRITE
PERL_DONT_CREATE_GVSV
PERL_HASH_FUNC_SIPHASH13
PERL_HASH_USE_SBOX32
PERL_MALLOC_WRAP
PERL_OP_PARENT
PERL_PRESERVE_IVUV
PERL_USE_DEVEL
PERL_USE_SAFE_PUTENV
USE_64_BIT_ALL
USE_64_BIT_INT
USE_LARGE_FILES
USE_LOCALE
USE_LOCALE_COLLATE
USE_LOCALE_CTYPE
USE_LOCALE_NUMERIC
USE_LOCALE_TIME
USE_PERLIO
USE_PERL_ATOF
Built under freebsd
Compiled at Oct 2 2023 22:15:32
%ENV:
PERL5LIB=""
PERL5OPT=""
PERL5_CPANPLUS_IS_RUNNING="85534"
PERL5_CPAN_IS_RUNNING="85534"
PERL_MM_USE_DEFAULT="1"
PERL_USE_UNSAFE_INC="1"
@INC:
/home/cpan/bin/perl/lib/site_perl/5.39.4/amd64-freebsd
/home/cpan/bin/perl/lib/site_perl/5.39.4
/home/cpan/bin/perl/lib/5.39.4/amd64-freebsd
/home/cpan/bin/perl/lib/5.39.4
.