Report for Dist-Zilla-Plugin-Test-Version-1.09

Back
From: metabase:user:314402c4-2aae-11df-837a-5e0a49663a4f
Subject: PASS Dist-Zilla-Plugin-Test-Version-1.09 v5.25.3 FreeBSD
Date: 2016-08-04T02:28:03Z

This distribution has been tested as part of the CPAN Testers
project, supporting the Perl programming language.  See
http://wiki.cpantesters.org/ for more information or email
questions to cpan-testers-discuss@perl.org


--
Dear Graham Ollis,

This is a computer-generated report for Dist-Zilla-Plugin-Test-Version-1.09
on perl 5.25.3, created by CPAN-Reporter-1.2018.

Thank you for uploading your work to CPAN.  Congratulations!
All tests were successful.

Sections of this report:

    * Tester comments
    * Program output
    * Prerequisites
    * Environment and other context

------------------------------
TESTER COMMENTS
------------------------------

Additional comments from tester:

none provided

------------------------------
PROGRAM OUTPUT
------------------------------

Output from '/usr/bin/make test':

PERL_DL_NONLAZY=1 "/usr/perl5.25.3p/bin/perl5.25.3" "-MExtUtils::Command::MM" "-MTest::Harness" "-e" "undef *Test::Harness::Switches; test_harness(0, 'blib/lib', 'blib/arch')" t/*.t
t/00-compile.t ......... ok
# 
# Versions for all modules listed in MYMETA.json (including optional ones):
# 
# === Configure Requires ===
# 
#     Module              Want Have
#     ------------------- ---- ----
#     ExtUtils::MakeMaker  any 7.18
# 
# === Build Requires ===
# 
#     Module              Want Have
#     ------------------- ---- ----
#     ExtUtils::MakeMaker  any 7.18
# 
# === Test Requires ===
# 
#     Module               Want     Have
#     ------------------- ----- --------
#     Dist::Zilla         5.036    6.006
#     ExtUtils::MakeMaker   any     7.18
#     File::Spec            any     3.64
#     File::chdir           any   0.1010
#     IO::Handle            any     1.36
#     IPC::Open3            any     1.20
#     Path::Tiny            any    0.096
#     Test::DZil            any    6.006
#     Test::EOL             any      1.6
#     Test::More            any 1.302049
#     Test::NoTabs          any      1.4
#     Test::Script         1.12     1.12
#     Test::Version           1     2.04
#     blib                 1.01     1.06
#     strict                any     1.11
#     warnings              any     1.37
# 
# === Test Recommends ===
# 
#     Module         Want     Have
#     ---------- -------- --------
#     CPAN::Meta 2.120900 2.150005
# 
# === Runtime Requires ===
# 
#     Module                             Want     Have
#     --------------------------------- ----- --------
#     Data::Section                     0.004 0.200006
#     Dist::Zilla::File::InMemory         any    6.006
#     Dist::Zilla::Role::FileFinderUser   any    6.006
#     Dist::Zilla::Role::FileGatherer     any    6.006
#     Dist::Zilla::Role::FileMunger       any    6.006
#     Dist::Zilla::Role::PrereqSource     any    6.006
#     Dist::Zilla::Role::TextTemplate     any    6.006
#     Moose                               any   2.1804
#     Moose::Util::TypeConstraints        any   2.1804
#     Sub::Exporter::ForMethods           any 0.100052
#     Test::Version                         1     2.04
#     namespace::autoclean                any     0.28
# 
t/00-report-prereqs.t .. ok
t/adaptive.t ........... ok
t/file.t ............... ok
t/filename_match.t ..... ok
t/finder.t ............. ok
All tests successful.
Files=6, Tests=22,  3 wallclock secs ( 0.01 usr  0.04 sys +  2.62 cusr  0.20 csys =  2.87 CPU)
Result: PASS

------------------------------
PREREQUISITES
------------------------------

Prerequisite modules loaded:

requires:

    Module                            Need  Have    
    --------------------------------- ----- --------
    Data::Section                     0.004 0.200006
    Dist::Zilla::File::InMemory       0     6.006   
    Dist::Zilla::Role::FileFinderUser 0     6.006   
    Dist::Zilla::Role::FileGatherer   0     6.006   
    Dist::Zilla::Role::FileMunger     0     6.006   
    Dist::Zilla::Role::PrereqSource   0     6.006   
    Dist::Zilla::Role::TextTemplate   0     6.006   
    Moose                             0     2.1804  
    Moose::Util::TypeConstraints      0     2.1804  
    namespace::autoclean              0     0.28    
    perl                              5.006 5.025003
    Sub::Exporter::ForMethods         0     0.100052
    Test::Version                     1     2.04    

build_requires:

    Module                            Need  Have    
    --------------------------------- ----- --------
    blib                              1.01  1.06    
    Dist::Zilla                       5.036 6.006   
    ExtUtils::MakeMaker               0     7.18    
    File::chdir                       0     0.1010  
    File::Spec                        0     3.64    
    IO::Handle                        0     1.36    
    IPC::Open3                        0     1.20    
    Path::Tiny                        0     0.096   
    strict                            0     1.11    
    Test::DZil                        0     6.006   
    Test::EOL                         0     1.6     
    Test::More                        0     1.302049
    Test::NoTabs                      0     1.4     
    Test::Script                      1.12  1.12    
    Test::Version                     1     2.04    
    warnings                          0     1.37    

configure_requires:

    Module                            Need  Have    
    --------------------------------- ----- --------
    ExtUtils::MakeMaker               0     7.18    


------------------------------
ENVIRONMENT AND OTHER CONTEXT
------------------------------

Environment variables:

    LC_ALL = de_DE.ISO8859-1
    PATH = /usr/local/bin:/usr/bin:/bin:/usr/local/sbin:/usr/sbin:/sbin:/home/cpansand/bin/freebsd10.1:/home/cpansand/bin/sh:/home/cpansand/bin:/usr/games:/home/cpansand/devel:/home/eserte/src/srezic-misc/scripts
    PERL5LIB = 
    PERL5OPT = 
    PERL5_CPANPLUS_IS_RUNNING = 92577
    PERL5_CPAN_IS_RUNNING = 92577
    PERL5_CPAN_IS_RUNNING_IN_RECURSION = 48083,92577
    PERLDOC = -MPod::Perldoc::ToTextOverstrike
    PERL_BATCH = yes
    PERL_CANARY_STABILITY_NOPROMPT = 1
    PERL_CPAN_REPORTER_CONFIG = /var/tmp/cpansmoker-1023/2016080400/cpanreporter_000_config.ini
    PERL_EXTUTILS_AUTOINSTALL = --defaultdeps
    SHELL = /usr/local/bin/zsh
    TERM = screen
    TMPDIR = /var/tmp/cpansmoker-1023/2016080400

Perl special variables (and OS-specific diagnostics, for MSWin32):

    $^X = /usr/perl5.25.3p/bin/perl5.25.3
    $UID/$EUID = 1023 / 1023
    $GID = 1023 1023
    $EGID = 1023 1023

Perl module toolchain versions installed:

    Module              Have    
    ------------------- --------
    CPAN                2.14    
    CPAN::Meta          2.150005
    Cwd                 3.64    
    ExtUtils::CBuilder  0.280225
    ExtUtils::Command   7.18    
    ExtUtils::Install   2.04    
    ExtUtils::MakeMaker 7.18    
    ExtUtils::Manifest  1.70    
    ExtUtils::ParseXS   3.33    
    File::Spec          3.64    
    JSON                2.90    
    JSON::PP            2.27400 
    Module::Build       0.4218  
    Module::Signature   n/a     
    Parse::CPAN::Meta   1.4422  
    Test::Harness       3.36    
    Test::More          1.302049
    YAML                1.18    
    YAML::Syck          1.29    
    version             0.9917  


--

Summary of my perl5 (revision 5 version 25 subversion 3) configuration:
   
  Platform:
    osname=freebsd
    osvers=10.1-release
    archname=amd64-freebsd
    uname='freebsd cvrsnica-freebsd-101.herceg.de 10.1-release freebsd 10.1-release #0 r274401: tue nov 11 21:02:49 utc 2014 root@releng1.nyi.freebsd.org:usrobjusrsrcsysgeneric amd64 '
    config_args='-ds -e -Dprefix=/usr/perl5.25.3p -Dusedevel -Dusemallocwrap=no -Dcf_email=srezic@cpan.org -Doptimize=-O2 -pipe'
    hint=recommended
    useposix=true
    d_sigaction=define
    useithreads=undef
    usemultiplicity=undef
    use64bitint=define
    use64bitall=define
    uselongdouble=undef
    usemymalloc=n
    bincompat5005=undef
  Compiler:
    cc='cc'
    ccflags ='-DHAS_FPSETMASK -DHAS_FLOATINGPOINT_H -fno-strict-aliasing -pipe -fstack-protector -I/usr/local/include -D_FORTIFY_SOURCE=2'
    optimize='-O2 -pipe'
    cppflags='-DHAS_FPSETMASK -DHAS_FLOATINGPOINT_H -fno-strict-aliasing -pipe -fstack-protector -I/usr/local/include'
    ccversion=''
    gccversion='4.2.1 Compatible FreeBSD Clang 3.4.1 (tags/RELEASE_34/dot1-final 208032)'
    gccosandvers=''
    intsize=4
    longsize=8
    ptrsize=8
    doublesize=8
    byteorder=12345678
    doublekind=3
    d_longlong=define
    longlongsize=8
    d_longdbl=define
    longdblsize=16
    longdblkind=3
    ivtype='long'
    ivsize=8
    nvtype='double'
    nvsize=8
    Off_t='off_t'
    lseeksize=8
    alignbytes=8
    prototype=define
  Linker and Libraries:
    ld='cc'
    ldflags ='-pthread -Wl,-E  -fstack-protector -L/usr/local/lib'
    libpth=/usr/lib /usr/local/lib /usr/include/clang/3.4.1 /usr/lib
    libs=-lpthread -lgdbm -lm -lcrypt -lutil -lc
    perllibs=-lpthread -lm -lcrypt -lutil -lc
    libc=
    so=so
    useshrplib=false
    libperl=libperl.a
    gnulibc_version=''
  Dynamic Linking:
    dlsrc=dl_dlopen.xs
    dlext=so
    d_dlsymun=undef
    ccdlflags=' '
    cccdlflags='-DPIC -fPIC'
    lddlflags='-shared  -L/usr/local/lib -fstack-protector'


Characteristics of this binary (from libperl): 
  Compile-time options:
    HAS_TIMES
    PERLIO_LAYERS
    PERL_COPY_ON_WRITE
    PERL_DONT_CREATE_GVSV
    PERL_HASH_FUNC_ONE_AT_A_TIME_HARD
    PERL_OP_PARENT
    PERL_PRESERVE_IVUV
    PERL_USE_DEVEL
    USE_64_BIT_ALL
    USE_64_BIT_INT
    USE_LARGE_FILES
    USE_LOCALE
    USE_LOCALE_COLLATE
    USE_LOCALE_CTYPE
    USE_LOCALE_NUMERIC
    USE_LOCALE_TIME
    USE_PERLIO
    USE_PERL_ATOF
  Built under freebsd
  Compiled at Aug  2 2016 20:41:22
  %ENV:
    PERL5LIB=""
    PERL5OPT=""
    PERL5_CPANPLUS_IS_RUNNING="92577"
    PERL5_CPAN_IS_RUNNING="92577"
    PERL5_CPAN_IS_RUNNING_IN_RECURSION="48083,92577"
    PERLDOC="-MPod::Perldoc::ToTextOverstrike"
    PERL_BATCH="yes"
    PERL_CANARY_STABILITY_NOPROMPT="1"
    PERL_CPAN_REPORTER_CONFIG="/var/tmp/cpansmoker-1023/2016080400/cpanreporter_000_config.ini"
    PERL_EXTUTILS_AUTOINSTALL="--defaultdeps"
  @INC:
    /usr/perl5.25.3p/lib/site_perl/5.25.3/amd64-freebsd
    /usr/perl5.25.3p/lib/site_perl/5.25.3
    /usr/perl5.25.3p/lib/5.25.3/amd64-freebsd
    /usr/perl5.25.3p/lib/5.25.3
    .