WebService-Pokemon v0.11 Perl 5 v5.26.2 x86_64-linux-thread-multi
- Status
- Pass
- From
- Slaven Rezić (SREZIC)
- Dist
-
WebService-Pokemon v0.11
- Platform
- Perl 5 v5.26.2 x86_64-linux-thread-multi
- Date
- 2019-05-03 10:34:46
- ID
- 12331c48-6d8f-11e9-8a71-92201f24ea8f
This distribution has been tested as part of the CPAN Testers
project, supporting the Perl programming language. See
http://wiki.cpantesters.org/ for more information or email
questions to cpan-testers-discuss@perl.org
--
Dear Kian Meng, Ang,
This is a computer-generated report for WebService-Pokemon-0.11
on perl 5.26.2, created by CPAN-Reporter-1.2018.
Thank you for uploading your work to CPAN. Congratulations!
All tests were successful.
Sections of this report:
* Tester comments
* Program output
* Prerequisites
* Environment and other context
------------------------------
TESTER COMMENTS
------------------------------
Additional comments from tester:
none provided
------------------------------
PROGRAM OUTPUT
------------------------------
Output from './Build test':
t/00-compile.t .............. ok
# Testing with Perl 5.026002, /opt/perl-5.26.2t/bin/perl
# Carp version is 1.50
# Dist::Zilla::App::Command::cover version is 1.101001
# File::Find version is 1.34
# File::Spec version is 3.75
# File::Temp version is 0.2308
# IO::Handle version is 1.39
# IPC::Open3 version is 1.20
# JSON version is 4.02
# Module::Build version is 0.4229
# Module::Build::Tiny version is 0.039
# Moo version is 2.003004
# REST::Client version is 273
# Role::REST::Client version is 0.23
# Scalar::Util version is 1.5
# Test::More version is 1.302164
# Types::Standard version is 1.004004
# URI::Fast version is 0.45
# namespace::clean version is 0.27
# strictures version is 2.000006
# utf8 version is 1.19
t/000-report-versions.t ..... ok
t/00_load.t ................. ok
t/02_request.t .............. skipped: $ENV{POKEAPI_LIVE} not set, skipping live tests
t/03_resource.t ............. skipped: $ENV{POKEAPI_LIVE} not set, skipping live tests
t/04_resource_by_url.t ...... skipped: $ENV{POKEAPI_LIVE} not set, skipping live tests
t/06_named_api_resource.t ... skipped: $ENV{POKEAPI_LIVE} not set, skipping live tests
t/author-eol.t .............. skipped: these tests are for testing by the author
t/author-minimum-version.t .. skipped: these tests are for testing by the author
t/author-pod-coverage.t ..... skipped: these tests are for testing by the author
t/author-pod-syntax.t ....... skipped: these tests are for testing by the author
t/release-distmeta.t ........ skipped: these tests are for release candidate testing
t/release-has-version.t ..... skipped: these tests are for release candidate testing
t/release-kwalitee.t ........ skipped: these tests are for release candidate testing
t/release-unused-vars.t ..... skipped: these tests are for release candidate testing
All tests successful.
Files=15, Tests=26, 2 wallclock secs ( 0.03 usr 0.09 sys + 1.36 cusr 0.17 csys = 1.65 CPU)
Result: PASS
------------------------------
PREREQUISITES
------------------------------
Prerequisite modules loaded:
requires:
Module Need Have
-------------------------------- ----- --------
JSON 0 4.02
Moo 0 2.003004
namespace::clean 0 0.27
REST::Client 0 273
Role::REST::Client 0 0.23
strictures 2 2.000006
Types::Standard 0 1.004004
URI::Fast 0 0.45
utf8 0 1.19
build_requires:
Module Need Have
-------------------------------- ----- --------
Carp 0 1.50
Dist::Zilla::App::Command::cover 0 1.101001
File::Find 0 1.34
File::Spec 0 3.75
File::Temp 0 0.2308
IO::Handle 0 1.39
IPC::Open3 0 1.20
Module::Build 0.28 0.4229
Scalar::Util 0 1.50
Test::More 0.94 1.302164
configure_requires:
Module Need Have
-------------------------------- ----- --------
Module::Build::Tiny 0.034 0.039
------------------------------
ENVIRONMENT AND OTHER CONTEXT
------------------------------
Environment variables:
LANG = C
PATH = /usr/local/bin:/usr/bin:/bin:/usr/local/sbin:/usr/sbin:/sbin:/home/cpansand/bin/linux-gnu:/home/cpansand/bin/sh:/home/cpansand/bin:/usr/games:/home/cpansand/devel:/home/eserte/src/srezic-misc/scripts
PERL5LIB =
PERL5OPT =
PERL5_CPANPLUS_IS_RUNNING = 16177
PERL5_CPAN_IS_RUNNING = 16177
PERL5_CPAN_IS_RUNNING_IN_RECURSION = 25469,16177
PERLDOC = -MPod::Perldoc::ToTextOverstrike
PERL_BATCH = yes
PERL_CANARY_STABILITY_NOPROMPT = 1
PERL_CPAN_REPORTER_CONFIG = /var/tmp/cpansmoker-1023/2019050310/cpanreporter_000_config.ini
PERL_EXTUTILS_AUTOINSTALL = --defaultdeps
PERL_USE_UNSAFE_INC = 1
SHELL = /usr/bin/zsh
TERM = screen
TMPDIR = /var/tmp/cpansmoker-1023/2019050310
Perl special variables (and OS-specific diagnostics, for MSWin32):
$^X = /opt/perl-5.26.2t/bin/perl
$UID/$EUID = 1023 / 1023
$GID = 1023 1023
$EGID = 1023 1023
Perl module toolchain versions installed:
Module Have
------------------- --------
CPAN 2.26
CPAN::Meta 2.150010
Cwd 3.75
ExtUtils::CBuilder 0.280231
ExtUtils::Command 7.36
ExtUtils::Install 2.14
ExtUtils::MakeMaker 7.36
ExtUtils::Manifest 1.72
ExtUtils::ParseXS 3.35
File::Spec 3.75
JSON 4.02
JSON::PP 4.02
Module::Build 0.4229
Module::Signature 0.83
Parse::CPAN::Meta 2.150010
Test::Harness 3.42
Test::More 1.302164
YAML 1.28
YAML::Syck 1.31
version 0.9924
--
Summary of my perl5 (revision 5 version 26 subversion 2) configuration:
Platform:
osname=linux
osvers=3.16.0-5-amd64
archname=x86_64-linux-thread-multi
uname='linux debian8 3.16.0-5-amd64 #1 smp debian 3.16.51-3+deb8u1 (2018-01-08) x86_64 gnulinux '
config_args='-ds -e -Dprefix=/opt/perl-5.26.2t -Dusethreads -Dcf_email=srezic@cpan.org'
hint=recommended
useposix=true
d_sigaction=define
useithreads=define
usemultiplicity=define
use64bitint=define
use64bitall=define
uselongdouble=undef
usemymalloc=n
default_inc_excludes_dot=define
bincompat5005=undef
Compiler:
cc='cc'
ccflags ='-D_REENTRANT -D_GNU_SOURCE -fwrapv -fno-strict-aliasing -pipe -fstack-protector-strong -I/usr/local/include -D_LARGEFILE_SOURCE -D_FILE_OFFSET_BITS=64 -D_FORTIFY_SOURCE=2'
optimize='-O2'
cppflags='-D_REENTRANT -D_GNU_SOURCE -fwrapv -fno-strict-aliasing -pipe -fstack-protector-strong -I/usr/local/include'
ccversion=''
gccversion='4.9.2'
gccosandvers=''
intsize=4
longsize=8
ptrsize=8
doublesize=8
byteorder=12345678
doublekind=3
d_longlong=define
longlongsize=8
d_longdbl=define
longdblsize=16
longdblkind=3
ivtype='long'
ivsize=8
nvtype='double'
nvsize=8
Off_t='off_t'
lseeksize=8
alignbytes=8
prototype=define
Linker and Libraries:
ld='cc'
ldflags =' -fstack-protector-strong -L/usr/local/lib'
libpth=/usr/local/lib /usr/lib/gcc/x86_64-linux-gnu/4.9/include-fixed /usr/include/x86_64-linux-gnu /usr/lib /lib/x86_64-linux-gnu /lib/../lib /usr/lib/x86_64-linux-gnu /usr/lib/../lib /lib
libs=-lpthread -lnsl -lgdbm -ldb -ldl -lm -lcrypt -lutil -lc -lgdbm_compat
perllibs=-lpthread -lnsl -ldl -lm -lcrypt -lutil -lc
libc=libc-2.19.so
so=so
useshrplib=false
libperl=libperl.a
gnulibc_version='2.19'
Dynamic Linking:
dlsrc=dl_dlopen.xs
dlext=so
d_dlsymun=undef
ccdlflags='-Wl,-E'
cccdlflags='-fPIC'
lddlflags='-shared -O2 -L/usr/local/lib -fstack-protector-strong'
Characteristics of this binary (from libperl):
Compile-time options:
HAS_TIMES
MULTIPLICITY
PERLIO_LAYERS
PERL_COPY_ON_WRITE
PERL_DONT_CREATE_GVSV
PERL_IMPLICIT_CONTEXT
PERL_MALLOC_WRAP
PERL_OP_PARENT
PERL_PRESERVE_IVUV
USE_64_BIT_ALL
USE_64_BIT_INT
USE_ITHREADS
USE_LARGE_FILES
USE_LOCALE
USE_LOCALE_COLLATE
USE_LOCALE_CTYPE
USE_LOCALE_NUMERIC
USE_LOCALE_TIME
USE_PERLIO
USE_PERL_ATOF
USE_REENTRANT_API
Built under linux
Compiled at Apr 17 2018 05:14:42
%ENV:
PERL5LIB=""
PERL5OPT=""
PERL5_CPANPLUS_IS_RUNNING="16177"
PERL5_CPAN_IS_RUNNING="16177"
PERL5_CPAN_IS_RUNNING_IN_RECURSION="25469,16177"
PERLDOC="-MPod::Perldoc::ToTextOverstrike"
PERL_BATCH="yes"
PERL_CANARY_STABILITY_NOPROMPT="1"
PERL_CPAN_REPORTER_CONFIG="/var/tmp/cpansmoker-1023/2019050310/cpanreporter_000_config.ini"
PERL_EXTUTILS_AUTOINSTALL="--defaultdeps"
PERL_USE_UNSAFE_INC="1"
@INC:
/opt/perl-5.26.2t/lib/site_perl/5.26.2/x86_64-linux-thread-multi
/opt/perl-5.26.2t/lib/site_perl/5.26.2
/opt/perl-5.26.2t/lib/5.26.2/x86_64-linux-thread-multi
/opt/perl-5.26.2t/lib/5.26.2
.