CPP-panda-lib v1.3.1 Perl 5 v5.28.1 x86_64-linux

Status
Pass
From
Slaven Rezić (SREZIC)
Dist
CPP-panda-lib v1.3.1
Platform
Perl 5 v5.28.1 x86_64-linux
Date
2019-12-31 11:38:31
ID
124dfca6-2bc2-11ea-81db-9f341f24ea8f
This distribution has been tested as part of the CPAN Testers
project, supporting the Perl programming language.  See
http://wiki.cpantesters.org/ for more information or email
questions to cpan-testers-discuss@perl.org


--
Dear Oleg Pronin,

This is a computer-generated report for CPP-panda-lib-1.3.1
on perl 5.28.1, created by CPAN-Reporter-1.2018.

Thank you for uploading your work to CPAN.  Congratulations!
All tests were successful.

Sections of this report:

    * Tester comments
    * Program output
    * Prerequisites
    * Environment and other context

------------------------------
TESTER COMMENTS
------------------------------

Additional comments from tester:

none provided

------------------------------
PROGRAM OUTPUT
------------------------------

Output from '/usr/bin/make test':

"/data/perl/perl-5.28.1/bin/perl5.28.1" -MExtUtils::Command::MM -e 'cp_nonempty' -- lib.bs blib/arch/auto/CPP/panda/lib/lib.bs 644
c++ -c  -Isrc -I/data/home/cpansand/.cpan/build/2019123111/XS-Install-1.2.12-1/blib/lib/XS/Install.x/i -I/data/home/cpansand/.cpan/build/2019123111/CPP-catch-1.0.8-0/blib/lib/CPP/catch.x/i -fwrapv -fno-strict-aliasing -pipe -fstack-protector-strong -I/usr/local/include -D_LARGEFILE_SOURCE -D_FILE_OFFSET_BITS=64 -D_FORTIFY_SOURCE=2 -Wall -Wextra -std=c++14 -o t/bench.o -O0   -DVERSION=\"0.0.0\" -DXS_VERSION=\"0.0.0\" -fPIC "-I/opt/perl-5.28.1/lib/5.28.1/x86_64-linux/CORE"   t/bench.cc
c++ -c  -Isrc -I/data/home/cpansand/.cpan/build/2019123111/XS-Install-1.2.12-1/blib/lib/XS/Install.x/i -I/data/home/cpansand/.cpan/build/2019123111/CPP-catch-1.0.8-0/blib/lib/CPP/catch.x/i -fwrapv -fno-strict-aliasing -pipe -fstack-protector-strong -I/usr/local/include -D_LARGEFILE_SOURCE -D_FILE_OFFSET_BITS=64 -D_FORTIFY_SOURCE=2 -Wall -Wextra -std=c++14 -o t/dispatcher.o -O0   -DVERSION=\"0.0.0\" -DXS_VERSION=\"0.0.0\" -fPIC "-I/opt/perl-5.28.1/lib/5.28.1/x86_64-linux/CORE"   t/dispatcher.cc
c++ -c  -Isrc -I/data/home/cpansand/.cpan/build/2019123111/XS-Install-1.2.12-1/blib/lib/XS/Install.x/i -I/data/home/cpansand/.cpan/build/2019123111/CPP-catch-1.0.8-0/blib/lib/CPP/catch.x/i -fwrapv -fno-strict-aliasing -pipe -fstack-protector-strong -I/usr/local/include -D_LARGEFILE_SOURCE -D_FILE_OFFSET_BITS=64 -D_FORTIFY_SOURCE=2 -Wall -Wextra -std=c++14 -o t/endian.o -O0   -DVERSION=\"0.0.0\" -DXS_VERSION=\"0.0.0\" -fPIC "-I/opt/perl-5.28.1/lib/5.28.1/x86_64-linux/CORE"   t/endian.cc
c++ -c  -Isrc -I/data/home/cpansand/.cpan/build/2019123111/XS-Install-1.2.12-1/blib/lib/XS/Install.x/i -I/data/home/cpansand/.cpan/build/2019123111/CPP-catch-1.0.8-0/blib/lib/CPP/catch.x/i -fwrapv -fno-strict-aliasing -pipe -fstack-protector-strong -I/usr/local/include -D_LARGEFILE_SOURCE -D_FILE_OFFSET_BITS=64 -D_FORTIFY_SOURCE=2 -Wall -Wextra -std=c++14 -o t/error.o -O0   -DVERSION=\"0.0.0\" -DXS_VERSION=\"0.0.0\" -fPIC "-I/opt/perl-5.28.1/lib/5.28.1/x86_64-linux/CORE"   t/error.cc
c++ -c  -Isrc -I/data/home/cpansand/.cpan/build/2019123111/XS-Install-1.2.12-1/blib/lib/XS/Install.x/i -I/data/home/cpansand/.cpan/build/2019123111/CPP-catch-1.0.8-0/blib/lib/CPP/catch.x/i -fwrapv -fno-strict-aliasing -pipe -fstack-protector-strong -I/usr/local/include -D_LARGEFILE_SOURCE -D_FILE_OFFSET_BITS=64 -D_FORTIFY_SOURCE=2 -Wall -Wextra -std=c++14 -o t/excepted.o -O0   -DVERSION=\"0.0.0\" -DXS_VERSION=\"0.0.0\" -fPIC "-I/opt/perl-5.28.1/lib/5.28.1/x86_64-linux/CORE"   t/excepted.cc
c++ -c  -Isrc -I/data/home/cpansand/.cpan/build/2019123111/XS-Install-1.2.12-1/blib/lib/XS/Install.x/i -I/data/home/cpansand/.cpan/build/2019123111/CPP-catch-1.0.8-0/blib/lib/CPP/catch.x/i -fwrapv -fno-strict-aliasing -pipe -fstack-protector-strong -I/usr/local/include -D_LARGEFILE_SOURCE -D_FILE_OFFSET_BITS=64 -D_FORTIFY_SOURCE=2 -Wall -Wextra -std=c++14 -o t/exception.o -O0   -DVERSION=\"0.0.0\" -DXS_VERSION=\"0.0.0\" -fPIC "-I/opt/perl-5.28.1/lib/5.28.1/x86_64-linux/CORE"   t/exception.cc
c++ -c  -Isrc -I/data/home/cpansand/.cpan/build/2019123111/XS-Install-1.2.12-1/blib/lib/XS/Install.x/i -I/data/home/cpansand/.cpan/build/2019123111/CPP-catch-1.0.8-0/blib/lib/CPP/catch.x/i -fwrapv -fno-strict-aliasing -pipe -fstack-protector-strong -I/usr/local/include -D_LARGEFILE_SOURCE -D_FILE_OFFSET_BITS=64 -D_FORTIFY_SOURCE=2 -Wall -Wextra -std=c++14 -o t/from_chars.o -O0   -DVERSION=\"0.0.0\" -DXS_VERSION=\"0.0.0\" -fPIC "-I/opt/perl-5.28.1/lib/5.28.1/x86_64-linux/CORE"   t/from_chars.cc
c++ -c  -Isrc -I/data/home/cpansand/.cpan/build/2019123111/XS-Install-1.2.12-1/blib/lib/XS/Install.x/i -I/data/home/cpansand/.cpan/build/2019123111/CPP-catch-1.0.8-0/blib/lib/CPP/catch.x/i -fwrapv -fno-strict-aliasing -pipe -fstack-protector-strong -I/usr/local/include -D_LARGEFILE_SOURCE -D_FILE_OFFSET_BITS=64 -D_FORTIFY_SOURCE=2 -Wall -Wextra -std=c++14 -o t/function.o -O0   -DVERSION=\"0.0.0\" -DXS_VERSION=\"0.0.0\" -fPIC "-I/opt/perl-5.28.1/lib/5.28.1/x86_64-linux/CORE"   t/function.cc
c++ -c  -Isrc -I/data/home/cpansand/.cpan/build/2019123111/XS-Install-1.2.12-1/blib/lib/XS/Install.x/i -I/data/home/cpansand/.cpan/build/2019123111/CPP-catch-1.0.8-0/blib/lib/CPP/catch.x/i -fwrapv -fno-strict-aliasing -pipe -fstack-protector-strong -I/usr/local/include -D_LARGEFILE_SOURCE -D_FILE_OFFSET_BITS=64 -D_FORTIFY_SOURCE=2 -Wall -Wextra -std=c++14 -o t/intrusive_chain.o -O0   -DVERSION=\"0.0.0\" -DXS_VERSION=\"0.0.0\" -fPIC "-I/opt/perl-5.28.1/lib/5.28.1/x86_64-linux/CORE"   t/intrusive_chain.cc
c++ -c  -Isrc -I/data/home/cpansand/.cpan/build/2019123111/XS-Install-1.2.12-1/blib/lib/XS/Install.x/i -I/data/home/cpansand/.cpan/build/2019123111/CPP-catch-1.0.8-0/blib/lib/CPP/catch.x/i -fwrapv -fno-strict-aliasing -pipe -fstack-protector-strong -I/usr/local/include -D_LARGEFILE_SOURCE -D_FILE_OFFSET_BITS=64 -D_FORTIFY_SOURCE=2 -Wall -Wextra -std=c++14 -o t/iptr.o -O0   -DVERSION=\"0.0.0\" -DXS_VERSION=\"0.0.0\" -fPIC "-I/opt/perl-5.28.1/lib/5.28.1/x86_64-linux/CORE"   t/iptr.cc
c++ -c  -Isrc -I/data/home/cpansand/.cpan/build/2019123111/XS-Install-1.2.12-1/blib/lib/XS/Install.x/i -I/data/home/cpansand/.cpan/build/2019123111/CPP-catch-1.0.8-0/blib/lib/CPP/catch.x/i -fwrapv -fno-strict-aliasing -pipe -fstack-protector-strong -I/usr/local/include -D_LARGEFILE_SOURCE -D_FILE_OFFSET_BITS=64 -D_FORTIFY_SOURCE=2 -Wall -Wextra -std=c++14 -o t/owning_list.o -O0   -DVERSION=\"0.0.0\" -DXS_VERSION=\"0.0.0\" -fPIC "-I/opt/perl-5.28.1/lib/5.28.1/x86_64-linux/CORE"   t/owning_list.cc
c++ -c  -Isrc -I/data/home/cpansand/.cpan/build/2019123111/XS-Install-1.2.12-1/blib/lib/XS/Install.x/i -I/data/home/cpansand/.cpan/build/2019123111/CPP-catch-1.0.8-0/blib/lib/CPP/catch.x/i -fwrapv -fno-strict-aliasing -pipe -fstack-protector-strong -I/usr/local/include -D_LARGEFILE_SOURCE -D_FILE_OFFSET_BITS=64 -D_FORTIFY_SOURCE=2 -Wall -Wextra -std=c++14 -o t/string_char.o -O0   -DVERSION=\"0.0.0\" -DXS_VERSION=\"0.0.0\" -fPIC "-I/opt/perl-5.28.1/lib/5.28.1/x86_64-linux/CORE"   t/string_char.cc
c++ -c  -Isrc -I/data/home/cpansand/.cpan/build/2019123111/XS-Install-1.2.12-1/blib/lib/XS/Install.x/i -I/data/home/cpansand/.cpan/build/2019123111/CPP-catch-1.0.8-0/blib/lib/CPP/catch.x/i -fwrapv -fno-strict-aliasing -pipe -fstack-protector-strong -I/usr/local/include -D_LARGEFILE_SOURCE -D_FILE_OFFSET_BITS=64 -D_FORTIFY_SOURCE=2 -Wall -Wextra -std=c++14 -o t/string_char16.o -O0   -DVERSION=\"0.0.0\" -DXS_VERSION=\"0.0.0\" -fPIC "-I/opt/perl-5.28.1/lib/5.28.1/x86_64-linux/CORE"   t/string_char16.cc
c++ -c  -Isrc -I/data/home/cpansand/.cpan/build/2019123111/XS-Install-1.2.12-1/blib/lib/XS/Install.x/i -I/data/home/cpansand/.cpan/build/2019123111/CPP-catch-1.0.8-0/blib/lib/CPP/catch.x/i -fwrapv -fno-strict-aliasing -pipe -fstack-protector-strong -I/usr/local/include -D_LARGEFILE_SOURCE -D_FILE_OFFSET_BITS=64 -D_FORTIFY_SOURCE=2 -Wall -Wextra -std=c++14 -o t/string_char32.o -O0   -DVERSION=\"0.0.0\" -DXS_VERSION=\"0.0.0\" -fPIC "-I/opt/perl-5.28.1/lib/5.28.1/x86_64-linux/CORE"   t/string_char32.cc
c++ -c  -Isrc -I/data/home/cpansand/.cpan/build/2019123111/XS-Install-1.2.12-1/blib/lib/XS/Install.x/i -I/data/home/cpansand/.cpan/build/2019123111/CPP-catch-1.0.8-0/blib/lib/CPP/catch.x/i -fwrapv -fno-strict-aliasing -pipe -fstack-protector-strong -I/usr/local/include -D_LARGEFILE_SOURCE -D_FILE_OFFSET_BITS=64 -D_FORTIFY_SOURCE=2 -Wall -Wextra -std=c++14 -o t/string_containers.o -O0   -DVERSION=\"0.0.0\" -DXS_VERSION=\"0.0.0\" -fPIC "-I/opt/perl-5.28.1/lib/5.28.1/x86_64-linux/CORE"   t/string_containers.cc
c++ -c  -Isrc -I/data/home/cpansand/.cpan/build/2019123111/XS-Install-1.2.12-1/blib/lib/XS/Install.x/i -I/data/home/cpansand/.cpan/build/2019123111/CPP-catch-1.0.8-0/blib/lib/CPP/catch.x/i -fwrapv -fno-strict-aliasing -pipe -fstack-protector-strong -I/usr/local/include -D_LARGEFILE_SOURCE -D_FILE_OFFSET_BITS=64 -D_FORTIFY_SOURCE=2 -Wall -Wextra -std=c++14 -o t/string_wchar.o -O0   -DVERSION=\"0.0.0\" -DXS_VERSION=\"0.0.0\" -fPIC "-I/opt/perl-5.28.1/lib/5.28.1/x86_64-linux/CORE"   t/string_wchar.cc
c++ -c  -Isrc -I/data/home/cpansand/.cpan/build/2019123111/XS-Install-1.2.12-1/blib/lib/XS/Install.x/i -I/data/home/cpansand/.cpan/build/2019123111/CPP-catch-1.0.8-0/blib/lib/CPP/catch.x/i -fwrapv -fno-strict-aliasing -pipe -fstack-protector-strong -I/usr/local/include -D_LARGEFILE_SOURCE -D_FILE_OFFSET_BITS=64 -D_FORTIFY_SOURCE=2 -Wall -Wextra -std=c++14 -o t/test.o -O0   -DVERSION=\"0.0.0\" -DXS_VERSION=\"0.0.0\" -fPIC "-I/opt/perl-5.28.1/lib/5.28.1/x86_64-linux/CORE"   t/test.cc
c++ -c  -Isrc -I/data/home/cpansand/.cpan/build/2019123111/XS-Install-1.2.12-1/blib/lib/XS/Install.x/i -I/data/home/cpansand/.cpan/build/2019123111/CPP-catch-1.0.8-0/blib/lib/CPP/catch.x/i -fwrapv -fno-strict-aliasing -pipe -fstack-protector-strong -I/usr/local/include -D_LARGEFILE_SOURCE -D_FILE_OFFSET_BITS=64 -D_FORTIFY_SOURCE=2 -Wall -Wextra -std=c++14 -o t/to_chars.o -O0   -DVERSION=\"0.0.0\" -DXS_VERSION=\"0.0.0\" -fPIC "-I/opt/perl-5.28.1/lib/5.28.1/x86_64-linux/CORE"   t/to_chars.cc
c++ -c  -Isrc -I/data/home/cpansand/.cpan/build/2019123111/XS-Install-1.2.12-1/blib/lib/XS/Install.x/i -I/data/home/cpansand/.cpan/build/2019123111/CPP-catch-1.0.8-0/blib/lib/CPP/catch.x/i -fwrapv -fno-strict-aliasing -pipe -fstack-protector-strong -I/usr/local/include -D_LARGEFILE_SOURCE -D_FILE_OFFSET_BITS=64 -D_FORTIFY_SOURCE=2 -Wall -Wextra -std=c++14 -o t/traits.o -O0   -DVERSION=\"0.0.0\" -DXS_VERSION=\"0.0.0\" -fPIC "-I/opt/perl-5.28.1/lib/5.28.1/x86_64-linux/CORE"   t/traits.cc
c++ -c  -Isrc -I/data/home/cpansand/.cpan/build/2019123111/XS-Install-1.2.12-1/blib/lib/XS/Install.x/i -I/data/home/cpansand/.cpan/build/2019123111/CPP-catch-1.0.8-0/blib/lib/CPP/catch.x/i -fwrapv -fno-strict-aliasing -pipe -fstack-protector-strong -I/usr/local/include -D_LARGEFILE_SOURCE -D_FILE_OFFSET_BITS=64 -D_FORTIFY_SOURCE=2 -Wall -Wextra -std=c++14 -o t/varint.o -O0   -DVERSION=\"0.0.0\" -DXS_VERSION=\"0.0.0\" -fPIC "-I/opt/perl-5.28.1/lib/5.28.1/x86_64-linux/CORE"   t/varint.cc
Running Mkbootstrap for MyTest ()
chmod 644 "MyTest.bs"
"/data/perl/perl-5.28.1/bin/perl5.28.1" -MExtUtils::Command::MM -e 'cp_nonempty' -- MyTest.bs blib/arch/auto/MyTest/MyTest.bs 644
rm -f blib/arch/auto/MyTest/MyTest.so
c++  -shared -O2 -L/usr/local/lib -fstack-protector-strong  t/bench.o t/dispatcher.o t/endian.o t/error.o t/excepted.o t/exception.o t/from_chars.o t/function.o t/intrusive_chain.o t/iptr.o t/owning_list.o t/string_char.o t/string_char16.o t/string_char32.o t/string_containers.o t/string_wchar.o t/test.o t/to_chars.o t/traits.o t/varint.o blib/arch/auto/CPP/panda/lib/lib.so  -o blib/arch/auto/MyTest/MyTest.so  \
      \
  
chmod 755 blib/arch/auto/MyTest/MyTest.so
Manifying 1 pod document
PERL_DL_NONLAZY=1 "/data/perl/perl-5.28.1/bin/perl5.28.1" "-MExtUtils::Command::MM" "-MTest::Harness" "-e" "undef *Test::Harness::Switches; test_harness(0, 'blib/lib', 'blib/arch')" t/*.t
t/dispatcher.t ......... ok
t/endian.t ............. ok
t/error.t .............. ok
t/excepted.t ........... ok
t/exception.t .......... skipped: set TEST_FULL=1 to enable this test
t/from_chars.t ......... ok
t/function.t ........... ok
t/intrusive_chain.t .... ok
t/iptr.t ............... ok
t/owning_list.t ........ ok
t/string_char.t ........ ok
t/string_char16.t ...... ok
t/string_char32.t ...... ok
t/string_containers.t .. ok
t/string_wchar.t ....... ok
t/to_chars.t ........... ok
t/traits.t ............. ok
t/varint.t ............. ok
All tests successful.
Files=18, Tests=103,  2 wallclock secs ( 0.53 usr  0.13 sys +  1.43 cusr  0.56 csys =  2.65 CPU)
Result: PASS

------------------------------
PREREQUISITES
------------------------------

Prerequisite modules loaded:

requires:

    Module       Need     Have    
    ------------ -------- --------
    perl         5.012000 5.028001
    XS::Install  v1.2.12  1.2.12  

build_requires:

    Module       Need     Have    
    ------------ -------- --------
    CPP::catch   v1.0.8   1.0.8   
    Test::Catch  v1.0.10  1.0.10  
    Test::Deep   0        1.128   
    Test::More   0        1.302160
    Test::Simple 0.96     1.302160

configure_requires:

    Module       Need     Have    
    ------------ -------- --------
    CPP::catch   v1.0.8   1.0.8   
    Test::Catch  v1.0.10  1.0.10  
    XS::Install  v1.2.12  1.2.12  


------------------------------
ENVIRONMENT AND OTHER CONTEXT
------------------------------

Environment variables:

    LANG = C
    PATH = /usr/local/bin:/usr/bin:/bin:/usr/local/sbin:/usr/sbin:/sbin:/home/cpansand/bin/linux-gnu:/home/cpansand/bin/sh:/home/cpansand/bin:/usr/games:/home/cpansand/devel:/home/eserte/src/srezic-misc/scripts
    PERL5LIB = /home/cpansand/.cpan/build/2019123111/Test-Catch-1.0.10-0/blib/arch:/home/cpansand/.cpan/build/2019123111/Test-Catch-1.0.10-0/blib/lib:/home/cpansand/.cpan/build/2019123111/CPP-catch-1.0.8-0/blib/arch:/home/cpansand/.cpan/build/2019123111/CPP-catch-1.0.8-0/blib/lib:/home/cpansand/.cpan/build/2019123111/XS-Install-1.2.12-1/blib/arch:/home/cpansand/.cpan/build/2019123111/XS-Install-1.2.12-1/blib/lib
    PERL5OPT = 
    PERL5_CPANPLUS_IS_RUNNING = 32509
    PERL5_CPAN_IS_RUNNING = 32509
    PERL5_CPAN_IS_RUNNING_IN_RECURSION = 6243,32509
    PERLDOC = -MPod::Perldoc::ToTextOverstrike
    PERL_BATCH = yes
    PERL_CANARY_STABILITY_NOPROMPT = 1
    PERL_CPAN_REPORTER_CONFIG = /var/tmp/cpansmoker-1023/2019123106/cpanreporter_000_config.ini
    PERL_EXTUTILS_AUTOINSTALL = --defaultdeps
    PERL_USE_UNSAFE_INC = 1
    SHELL = /usr/bin/zsh
    TERM = screen
    TMPDIR = /var/tmp/cpansmoker-1023/2019123106

Perl special variables (and OS-specific diagnostics, for MSWin32):

    $^X = /data/perl/perl-5.28.1/bin/perl5.28.1
    $UID/$EUID = 1023 / 1023
    $GID = 1023 1023
    $EGID = 1023 1023

Perl module toolchain versions installed:

    Module              Have    
    ------------------- --------
    CPAN                2.20    
    CPAN::Meta          2.150010
    Cwd                 3.74    
    ExtUtils::CBuilder  0.280230
    ExtUtils::Command   7.34    
    ExtUtils::Install   2.14    
    ExtUtils::MakeMaker 7.34    
    ExtUtils::Manifest  1.70    
    ExtUtils::ParseXS   3.39    
    File::Spec          3.74    
    JSON                n/a     
    JSON::PP            2.97001 
    Module::Build       0.4224  
    Module::Signature   n/a     
    Parse::CPAN::Meta   2.150010
    Test::Harness       3.42    
    Test::More          1.302160
    YAML                1.27    
    YAML::Syck          1.31    
    version             0.9923  


--

Summary of my perl5 (revision 5 version 28 subversion 1) configuration:
   
  Platform:
    osname=linux
    osvers=4.9.0-8-amd64
    archname=x86_64-linux
    uname='linux eserte 4.9.0-8-amd64 #1 smp debian 4.9.130-2 (2018-10-27) x86_64 gnulinux '
    config_args='-ds -e -Dprefix=/opt/perl-5.28.1 -Dcf_email=srezic@cpan.org'
    hint=recommended
    useposix=true
    d_sigaction=define
    useithreads=undef
    usemultiplicity=undef
    use64bitint=define
    use64bitall=define
    uselongdouble=undef
    usemymalloc=n
    default_inc_excludes_dot=define
    bincompat5005=undef
  Compiler:
    cc='cc'
    ccflags ='-fwrapv -fno-strict-aliasing -pipe -fstack-protector-strong -I/usr/local/include -D_LARGEFILE_SOURCE -D_FILE_OFFSET_BITS=64 -D_FORTIFY_SOURCE=2'
    optimize='-O2'
    cppflags='-fwrapv -fno-strict-aliasing -pipe -fstack-protector-strong -I/usr/local/include'
    ccversion=''
    gccversion='6.3.0 20170516'
    gccosandvers=''
    intsize=4
    longsize=8
    ptrsize=8
    doublesize=8
    byteorder=12345678
    doublekind=3
    d_longlong=define
    longlongsize=8
    d_longdbl=define
    longdblsize=16
    longdblkind=3
    ivtype='long'
    ivsize=8
    nvtype='double'
    nvsize=8
    Off_t='off_t'
    lseeksize=8
    alignbytes=8
    prototype=define
  Linker and Libraries:
    ld='cc'
    ldflags =' -fstack-protector-strong -L/usr/local/lib'
    libpth=/usr/local/lib /usr/lib/gcc/x86_64-linux-gnu/6/include-fixed /usr/include/x86_64-linux-gnu /usr/lib /lib/x86_64-linux-gnu /lib/../lib /usr/lib/x86_64-linux-gnu /usr/lib/../lib /lib
    libs=-lpthread -lnsl -ldb -ldl -lm -lcrypt -lutil -lc
    perllibs=-lpthread -lnsl -ldl -lm -lcrypt -lutil -lc
    libc=libc-2.24.so
    so=so
    useshrplib=false
    libperl=libperl.a
    gnulibc_version='2.24'
  Dynamic Linking:
    dlsrc=dl_dlopen.xs
    dlext=so
    d_dlsymun=undef
    ccdlflags='-Wl,-E'
    cccdlflags='-fPIC'
    lddlflags='-shared -O2 -L/usr/local/lib -fstack-protector-strong'


Characteristics of this binary (from libperl): 
  Compile-time options:
    HAS_TIMES
    PERLIO_LAYERS
    PERL_COPY_ON_WRITE
    PERL_DONT_CREATE_GVSV
    PERL_MALLOC_WRAP
    PERL_OP_PARENT
    PERL_PRESERVE_IVUV
    USE_64_BIT_ALL
    USE_64_BIT_INT
    USE_LARGE_FILES
    USE_LOCALE
    USE_LOCALE_COLLATE
    USE_LOCALE_CTYPE
    USE_LOCALE_NUMERIC
    USE_LOCALE_TIME
    USE_PERLIO
    USE_PERL_ATOF
  Locally applied patches:
    Devel::PatchPerl 1.46
  Built under linux
  Compiled at Jan  5 2019 17:20:50
  %ENV:
    PERL5LIB="/home/cpansand/.cpan/build/2019123111/Test-Catch-1.0.10-0/blib/arch:/home/cpansand/.cpan/build/2019123111/Test-Catch-1.0.10-0/blib/lib:/home/cpansand/.cpan/build/2019123111/CPP-catch-1.0.8-0/blib/arch:/home/cpansand/.cpan/build/2019123111/CPP-catch-1.0.8-0/blib/lib:/home/cpansand/.cpan/build/2019123111/XS-Install-1.2.12-1/blib/arch:/home/cpansand/.cpan/build/2019123111/XS-Install-1.2.12-1/blib/lib"
    PERL5OPT=""
    PERL5_CPANPLUS_IS_RUNNING="32509"
    PERL5_CPAN_IS_RUNNING="32509"
    PERL5_CPAN_IS_RUNNING_IN_RECURSION="6243,32509"
    PERLDOC="-MPod::Perldoc::ToTextOverstrike"
    PERL_BATCH="yes"
    PERL_CANARY_STABILITY_NOPROMPT="1"
    PERL_CPAN_REPORTER_CONFIG="/var/tmp/cpansmoker-1023/2019123106/cpanreporter_000_config.ini"
    PERL_EXTUTILS_AUTOINSTALL="--defaultdeps"
    PERL_USE_UNSAFE_INC="1"
  @INC:
    /home/cpansand/.cpan/build/2019123111/Test-Catch-1.0.10-0/blib/arch
    /home/cpansand/.cpan/build/2019123111/Test-Catch-1.0.10-0/blib/lib
    /home/cpansand/.cpan/build/2019123111/CPP-catch-1.0.8-0/blib/arch
    /home/cpansand/.cpan/build/2019123111/CPP-catch-1.0.8-0/blib/lib
    /home/cpansand/.cpan/build/2019123111/XS-Install-1.2.12-1/blib/arch
    /home/cpansand/.cpan/build/2019123111/XS-Install-1.2.12-1/blib/lib
    /opt/perl-5.28.1/lib/site_perl/5.28.1/x86_64-linux
    /opt/perl-5.28.1/lib/site_perl/5.28.1
    /opt/perl-5.28.1/lib/5.28.1/x86_64-linux
    /opt/perl-5.28.1/lib/5.28.1
    .