LINE-Bot-API v1.21 Perl 5 v5.41.10 x86_64-linux
- Status
- Pass
- From
- Andreas J. König (ANDK)
- Dist
-
LINE-Bot-API v1.21
- Platform
- Perl 5 v5.41.10 x86_64-linux
- Date
- 2025-03-29 17:48:49
- ID
- 125ab1ae-0cc6-11f0-83c9-d6c20ea3904f
This distribution has been tested as part of the CPAN Testers
project, supporting the Perl programming language. See
http://wiki.cpantesters.org/ for more information or email
questions to cpan-testers-discuss@perl.org
--
Dear Liu Kang Min,
This is a computer-generated report for LINE-Bot-API-1.21
on perl 5.41.10, created by CPAN-Reporter-1.2020.
Thank you for uploading your work to CPAN. Congratulations!
All tests were successful.
Sections of this report:
* Tester comments
* Program output
* Prerequisites
* Environment and other context
------------------------------
TESTER COMMENTS
------------------------------
Additional comments from tester:
this report is from an automated smoke testing program
and was not reviewed by a human for accuracy
------------------------------
PROGRAM OUTPUT
------------------------------
Output from '/usr/bin/make test':
PERL_DL_NONLAZY=1 "/tmp/basesmoker-reloperl-Gztk/bin/perl" "-MExtUtils::Command::MM" "-MTest::Harness" "-e" "undef *Test::Harness::Switches; test_harness(0, 'blib/lib', 'blib/arch')" t/*.t
t/00_compile.t ........................................... ok
t/00_send_message_response.t ............................. ok
t/01_check_sender.t ...................................... ok
t/01_send_text-with-emoji.t .............................. ok
t/01_send_text.t ......................................... ok
t/02_send_image.t ........................................ ok
t/03_send_video.t ........................................ ok
t/04_send_audio.t ........................................ ok
t/05_send_location.t ..................................... ok
t/06_send_sticker.t ...................................... ok
t/07_send_imagemap.t ..................................... ok
t/08_send_template.t ..................................... ok
t/11_send_multiple.t ..................................... ok
t/12_get_number_of_send_messages.t ....................... ok
t/12_multicast.t ......................................... ok
t/13_broadcast.t ......................................... ok
t/14_get_friend_demographics.t ........................... ok
t/14_get_number_of_message_deliveries.t .................. ok
t/14_get_number_of_messages_sent_this_month.t ............ ok
t/14_get_user_interaction_statistics.t ................... ok
t/15_get_target_limit_for_additional_messages.t .......... ok
t/16_create_audience_for_click_based_retargeting.t ....... ok
t/16_create_audience_for_impression_based_retargeting.t .. ok
t/16_create_audience_for_uploading.t ..................... ok
t/16_delete_audience.t ................................... ok
t/16_get_audience_data.t ................................. ok
t/16_get_authority_level.t ............................... ok
t/16_get_data_for_multiple_audience.t .................... ok
t/16_rename_audience.t ................................... ok
t/16_update_authority_level.t ............................ ok
t/17_get_narrowcast_message_status.t ..................... ok
t/17_send_message.t ...................................... ok
t/21_get_profile.t ....................................... ok
t/22_get_group_member_profile.t .......................... ok
t/22_get_group_summary.t ................................. ok
t/22_get_member_in_group_count.t ......................... ok
t/22_get_member_in_room_count.t .......................... ok
t/22_get_room_member_profile.t ........................... ok
"my" variable $parse_event_json masks earlier declaration in same scope at t/41_event.t line 62.
Unsupported event type: foobarunknown, parse as unknown event at t/41_event.t line 563.
t/41_event.t ............................................. ok
t/42_create_events_by_api.t .............................. ok
t/51_issue_link_token.t .................................. ok
t/52_download_rich_menu_image.t .......................... ok
t/52_rich_menu.t ......................................... ok
t/52_rich_menu_response.t ................................ ok
t/52_upload_rich_menu_image.t ............................ ok
t/53-retry_key.t ......................................... ok
t/54-get_bot_info.t ...................................... ok
t/55-get-webhook-endpoint-information.t .................. ok
t/55-set-webhook-url.t ................................... ok
t/55-test-webhook.t ...................................... ok
t/56_get_followers.t ..................................... ok
t/57_validate_message_objects.t .......................... ok
t/author-critic.t ........................................ skipped: these tests are for testing by the author
t/author-pod-syntax.t .................................... skipped: these tests are for testing by the author
t/oauth.t ................................................ ok
t/PR75-get-number-of-followers.t ......................... ok
t/types-validate-examples.t .............................. ok
All tests successful.
Files=57, Tests=619, 8 wallclock secs ( 0.26 usr 0.10 sys + 6.89 cusr 1.38 csys = 8.63 CPU)
Result: PASS
------------------------------
PREREQUISITES
------------------------------
Prerequisite modules loaded:
requires:
Module Need Have
------------------- -------- --------
Digest::SHA 0 6.04
Furl 0 3.14
IO::Socket::SSL 2.060 2.089
JSON::XS 0 4.03
MIME::Base64 0 3.16_01
parent 0 0.244
perl 5.014000 5.041010
Type::Tiny 1.004000 2.006000
URI 0 5.31
URI::QueryParam 0 5.31
build_requires:
Module Need Have
------------------- -------- --------
App::Yath 0 1.000156
ExtUtils::MakeMaker 0 7.72
Test2::V0 0 1.302209
Test::More 0 1.302209
configure_requires:
Module Need Have
------------------- -------- --------
ExtUtils::MakeMaker 0 7.72
------------------------------
ENVIRONMENT AND OTHER CONTEXT
------------------------------
Environment variables:
AUTOMATED_TESTING = 1
LANG = en_US.UTF-8
PATH = /home/sand/bin:/usr/local/bin:/usr/local/sbin:/usr/sbin:/usr/bin:/sbin:/bin:/usr/games:/usr/local/games:/snap/bin:/usr/local/perl/bin:/usr/X11/bin
PERL = /tmp/basesmoker-reloperl-Gztk/bin/perl
PERL5LIB = /tmp/loop_over_bdir-3237158-bqKOOm/Net-ISP-Balance-1.31-0/blib/arch:/tmp/loop_over_bdir-3237158-bqKOOm/Net-ISP-Balance-1.31-0/blib/lib:/tmp/loop_over_bdir-3237158-bqKOOm/Devel-Required-0.16-0/blib/arch:/tmp/loop_over_bdir-3237158-bqKOOm/Devel-Required-0.16-0/blib/lib:/tmp/loop_over_bdir-3237158-bqKOOm/App-nrun-v1.1.2-0/blib/arch:/tmp/loop_over_bdir-3237158-bqKOOm/App-nrun-v1.1.2-0/blib/lib:/tmp/loop_over_bdir-3237158-bqKOOm/Module-ScanDeps-Static-1.7.2-0/blib/arch:/tmp/loop_over_bdir-3237158-bqKOOm/Module-ScanDeps-Static-1.7.2-0/blib/lib:/tmp/loop_over_bdir-3237158-bqKOOm/shishi-0.0.1-0/blib/arch:/tmp/loop_over_bdir-3237158-bqKOOm/shishi-0.0.1-0/blib/lib:/tmp/loop_over_bdir-3237158-bqKOOm/Sysync-0.38-0/blib/arch:/tmp/loop_over_bdir-3237158-bqKOOm/Sysync-0.38-0/blib/lib:/tmp/loop_over_bdir-3237158-bqKOOm/DBIx-Migration-Directories-0.12-0/blib/arch:/tmp/loop_over_bdir-3237158-bqKOOm/DBIx-Migration-Directories-0.12-0/blib/lib:/tmp/loop_over_bdir-3237158-bqKOOm/Lingua-BioYaTeA-0.11-0/blib/arch:/tmp/loop_over_bdir-3237158-bqKOOm/Lingua-BioYaTeA-0.11-0/blib/lib:/tmp/loop_over_bdir-3237158-bqKOOm/Lingua-YaTeA-0.626-0/blib/arch:/tmp/loop_over_bdir-3237158-bqKOOm/Lingua-YaTeA-0.626-0/blib/lib:/tmp/loop_over_bdir-3237158-bqKOOm/HTML-Menu-TreeView-1.22-0/blib/arch:/tmp/loop_over_bdir-3237158-bqKOOm/HTML-Menu-TreeView-1.22-0/blib/lib
PERL5OPT =
PERL5_CPANPLUS_IS_RUNNING = 3237166
PERL5_CPAN_IS_RUNNING = 3237166
PERL_CANARY_STABILITY_NOPROMPT = 1
PERL_MM_USE_DEFAULT = 1
PERL_USE_UNSAFE_INC = 1
SHELL = /usr/bin/zsh
TERM = screen
Perl special variables (and OS-specific diagnostics, for MSWin32):
$^X = /tmp/basesmoker-reloperl-Gztk/bin/perl
$UID/$EUID = 1005 / 1005
$GID = 1005 1005
$EGID = 1005 1005
Perl module toolchain versions installed:
Module Have
------------------- --------
CPAN 2.38
CPAN::Meta 2.150010
Cwd 3.92
ExtUtils::CBuilder 0.280240
ExtUtils::Command 7.72
ExtUtils::Install 2.22
ExtUtils::MakeMaker 7.72
ExtUtils::Manifest 1.75
ExtUtils::ParseXS 3.57
File::Spec 3.93
JSON 4.10
JSON::PP 4.16
Module::Build 0.4234
Module::Signature 0.89
Parse::CPAN::Meta 2.150010
Test2 1.302209
Test::Harness 3.50
Test::More 1.302209
YAML 1.31
YAML::Syck 1.34
version 0.9933
--
Summary of my perl5 (revision 5 version 41 subversion 10) configuration:
Commit id: 6a1cf63fc3f0e8d25b8f3837f9ca46b3bbc65885
Platform:
osname=linux
osvers=5.4.0-208-generic
archname=x86_64-linux
uname='linux k93focal 5.4.0-208-generic #228-ubuntu smp fri feb 7 19:41:33 utc 2025 x86_64 x86_64 x86_64 gnulinux '
config_args='-Dprefix=/home/sand/src/perl/repoperls/installed-perls/host/k93focal/v5.41.10/b254 -Dmyhostname=k93focal -Dinstallusrbinperl=n -Uversiononly -Dusedevel -des -Ui_db -Dlibswanted=cl pthread socket inet nsl gdbm dbm malloc dl ld sun m crypt sec util c cposix posix ucb BSD gdbm_compat -Uuseithreads -Uuselongdouble -DEBUGGING=both'
hint=recommended
useposix=true
d_sigaction=define
useithreads=undef
usemultiplicity=undef
use64bitint=define
use64bitall=define
uselongdouble=undef
usemymalloc=n
default_inc_excludes_dot=define
Compiler:
cc='cc'
ccflags ='-fwrapv -DDEBUGGING -fno-strict-aliasing -pipe -fstack-protector-strong -I/usr/local/include -D_LARGEFILE_SOURCE -D_FILE_OFFSET_BITS=64'
optimize='-O2 -g'
cppflags='-fwrapv -DDEBUGGING -fno-strict-aliasing -pipe -fstack-protector-strong -I/usr/local/include'
ccversion=''
gccversion='9.4.0'
gccosandvers=''
intsize=4
longsize=8
ptrsize=8
doublesize=8
byteorder=12345678
doublekind=3
d_longlong=define
longlongsize=8
d_longdbl=define
longdblsize=16
longdblkind=3
ivtype='long'
ivsize=8
nvtype='double'
nvsize=8
Off_t='off_t'
lseeksize=8
alignbytes=8
prototype=define
Linker and Libraries:
ld='cc'
ldflags =' -fstack-protector-strong -L/usr/local/lib'
libpth=/usr/local/lib /usr/lib/x86_64-linux-gnu /usr/lib /usr/lib64
libs=-lpthread -lnsl -ldl -lm -lcrypt -lutil -lc
perllibs=-lpthread -lnsl -ldl -lm -lcrypt -lutil -lc
libc=libc-2.31.so
so=so
useshrplib=false
libperl=libperl.a
gnulibc_version='2.31'
Dynamic Linking:
dlsrc=dl_dlopen.xs
dlext=so
d_dlsymun=undef
ccdlflags='-Wl,-E'
cccdlflags='-fPIC'
lddlflags='-shared -O2 -g -L/usr/local/lib -fstack-protector-strong'
Characteristics of this binary (from libperl):
Compile-time options:
DEBUGGING
HAS_LONG_DOUBLE
HAS_STRTOLD
HAS_TIMES
PERLIO_LAYERS
PERL_COPY_ON_WRITE
PERL_DONT_CREATE_GVSV
PERL_HASH_FUNC_SIPHASH13
PERL_HASH_USE_SBOX32
PERL_MALLOC_WRAP
PERL_OP_PARENT
PERL_PRESERVE_IVUV
PERL_USE_DEVEL
PERL_USE_SAFE_PUTENV
USE_64_BIT_ALL
USE_64_BIT_INT
USE_LARGE_FILES
USE_LOCALE
USE_LOCALE_COLLATE
USE_LOCALE_CTYPE
USE_LOCALE_NUMERIC
USE_LOCALE_TIME
USE_PERLIO
USE_PERL_ATOF
Built under linux
Compiled at Mar 25 2025 15:42:57
%ENV:
PERL="/tmp/basesmoker-reloperl-Gztk/bin/perl"
PERL5LIB="/tmp/loop_over_bdir-3237158-bqKOOm/Net-ISP-Balance-1.31-0/blib/arch:/tmp/loop_over_bdir-3237158-bqKOOm/Net-ISP-Balance-1.31-0/blib/lib:/tmp/loop_over_bdir-3237158-bqKOOm/Devel-Required-0.16-0/blib/arch:/tmp/loop_over_bdir-3237158-bqKOOm/Devel-Required-0.16-0/blib/lib:/tmp/loop_over_bdir-3237158-bqKOOm/App-nrun-v1.1.2-0/blib/arch:/tmp/loop_over_bdir-3237158-bqKOOm/App-nrun-v1.1.2-0/blib/lib:/tmp/loop_over_bdir-3237158-bqKOOm/Module-ScanDeps-Static-1.7.2-0/blib/arch:/tmp/loop_over_bdir-3237158-bqKOOm/Module-ScanDeps-Static-1.7.2-0/blib/lib:/tmp/loop_over_bdir-3237158-bqKOOm/shishi-0.0.1-0/blib/arch:/tmp/loop_over_bdir-3237158-bqKOOm/shishi-0.0.1-0/blib/lib:/tmp/loop_over_bdir-3237158-bqKOOm/Sysync-0.38-0/blib/arch:/tmp/loop_over_bdir-3237158-bqKOOm/Sysync-0.38-0/blib/lib:/tmp/loop_over_bdir-3237158-bqKOOm/DBIx-Migration-Directories-0.12-0/blib/arch:/tmp/loop_over_bdir-3237158-bqKOOm/DBIx-Migration-Directories-0.12-0/blib/lib:/tmp/loop_over_bdir-3237158-bqKOOm/Lingua-BioYaTeA-0.11-0/blib/arch:/tmp/loop_over_bdir-3237158-bqKOOm/Lingua-BioYaTeA-0.11-0/blib/lib:/tmp/loop_over_bdir-3237158-bqKOOm/Lingua-YaTeA-0.626-0/blib/arch:/tmp/loop_over_bdir-3237158-bqKOOm/Lingua-YaTeA-0.626-0/blib/lib:/tmp/loop_over_bdir-3237158-bqKOOm/HTML-Menu-TreeView-1.22-0/blib/arch:/tmp/loop_over_bdir-3237158-bqKOOm/HTML-Menu-TreeView-1.22-0/blib/lib"
PERL5OPT=""
PERL5_CPANPLUS_IS_RUNNING="3237166"
PERL5_CPAN_IS_RUNNING="3237166"
PERL_CANARY_STABILITY_NOPROMPT="1"
PERL_MM_USE_DEFAULT="1"
PERL_USE_UNSAFE_INC="1"
@INC:
/tmp/loop_over_bdir-3237158-bqKOOm/Net-ISP-Balance-1.31-0/blib/arch
/tmp/loop_over_bdir-3237158-bqKOOm/Net-ISP-Balance-1.31-0/blib/lib
/tmp/loop_over_bdir-3237158-bqKOOm/Devel-Required-0.16-0/blib/arch
/tmp/loop_over_bdir-3237158-bqKOOm/Devel-Required-0.16-0/blib/lib
/tmp/loop_over_bdir-3237158-bqKOOm/App-nrun-v1.1.2-0/blib/arch
/tmp/loop_over_bdir-3237158-bqKOOm/App-nrun-v1.1.2-0/blib/lib
/tmp/loop_over_bdir-3237158-bqKOOm/Module-ScanDeps-Static-1.7.2-0/blib/arch
/tmp/loop_over_bdir-3237158-bqKOOm/Module-ScanDeps-Static-1.7.2-0/blib/lib
/tmp/loop_over_bdir-3237158-bqKOOm/shishi-0.0.1-0/blib/arch
/tmp/loop_over_bdir-3237158-bqKOOm/shishi-0.0.1-0/blib/lib
/tmp/loop_over_bdir-3237158-bqKOOm/Sysync-0.38-0/blib/arch
/tmp/loop_over_bdir-3237158-bqKOOm/Sysync-0.38-0/blib/lib
/tmp/loop_over_bdir-3237158-bqKOOm/DBIx-Migration-Directories-0.12-0/blib/arch
/tmp/loop_over_bdir-3237158-bqKOOm/DBIx-Migration-Directories-0.12-0/blib/lib
/tmp/loop_over_bdir-3237158-bqKOOm/Lingua-BioYaTeA-0.11-0/blib/arch
/tmp/loop_over_bdir-3237158-bqKOOm/Lingua-BioYaTeA-0.11-0/blib/lib
/tmp/loop_over_bdir-3237158-bqKOOm/Lingua-YaTeA-0.626-0/blib/arch
/tmp/loop_over_bdir-3237158-bqKOOm/Lingua-YaTeA-0.626-0/blib/lib
/tmp/loop_over_bdir-3237158-bqKOOm/HTML-Menu-TreeView-1.22-0/blib/arch
/tmp/loop_over_bdir-3237158-bqKOOm/HTML-Menu-TreeView-1.22-0/blib/lib
/home/sand/src/perl/repoperls/installed-perls/host/k93focal/v5.41.10/b254/lib/site_perl/5.41.10/x86_64-linux
/home/sand/src/perl/repoperls/installed-perls/host/k93focal/v5.41.10/b254/lib/site_perl/5.41.10
/home/sand/src/perl/repoperls/installed-perls/host/k93focal/v5.41.10/b254/lib/5.41.10/x86_64-linux
/home/sand/src/perl/repoperls/installed-perls/host/k93focal/v5.41.10/b254/lib/5.41.10
.