File-KDBX v0.906 Perl 5 v5.14.2 i386-freebsd-thread-multi-64int
- Status
- Pass
- From
- Chris Williams (BINGOS)
- Dist
-
File-KDBX v0.906
- Platform
- Perl 5 v5.14.2 i386-freebsd-thread-multi-64int
- Date
- 2022-08-22 13:48:15
- ID
- 125f6894-2221-11ed-8f4e-c962458f5e5b
This distribution has been tested as part of the CPAN Testers
project, supporting the Perl programming language. See
http://wiki.cpantesters.org/ for more information or email
questions to cpan-testers-discuss@perl.org
--
Dear CCM,
This is a computer-generated error report created automatically by
CPANPLUS, version 0.9914. Testers personal comments may appear
at the end of this report.
Thank you for uploading your work to CPAN. Congratulations!
All tests were successful.
TEST RESULTS:
Below is the error stack from stage 'make test':
PERL_DL_NONLAZY=1 "/usr/home/cpan/pit/rel/perl-5.14.2/bin/perl" "-MExtUtils::Command::MM" "-MTest::Harness" "-e" "undef *Test::Harness::Switches; test_harness(0, 'blib/lib', 'blib/arch')" t/*.t
t/00-compile.t ......... ok
#
# Versions for all modules listed in MYMETA.json (including optional ones):
#
# === Configure Requires ===
#
# Module Want Have
# ------------------- ---- ----
# ExtUtils::MakeMaker any 7.64
#
# === Build Requires ===
#
# Module Want Have
# ------------------- ---- ----
# ExtUtils::MakeMaker any 7.64
#
# === Test Requires ===
#
# Module Want Have
# ------------------- ------------ --------
# ExtUtils::MakeMaker any 7.64
# File::Spec any 3.75
# FindBin any 1.50
# Getopt::Std any 1.06
# IO::Handle any 1.31
# IPC::Open3 any 1.09
# Math::BigInt 1.993 1.994
# Test::Deep any 1.130
# Test::Fatal any 0.016
# Test::More 1.001004_001 1.302190
# Test::Warnings any 0.031
# lib any 0.63
# utf8 any 1.09
#
# === Test Recommends ===
#
# Module Want Have
# ---------- -------- --------
# CPAN::Meta 2.120900 2.150010
# Pass::OTP any missing
#
# === Test Suggests ===
#
# Module Want Have
# ----------- ---- -------
# POSIX::1003 any missing
#
# === Runtime Requires ===
#
# Module Want Have
# ------------------------ ----- --------
# Carp any 1.20
# Crypt::Argon2 any 0.012
# Crypt::Cipher any 0.077
# Crypt::Cipher::AES any 0.077
# Crypt::Digest any 0.077
# Crypt::Mac::HMAC any 0.077
# Crypt::Misc 0.049 0.077
# Crypt::Mode::CBC any 0.077
# Crypt::PRNG any 0.077
# Crypt::Stream::ChaCha 0.048 0.077
# Crypt::Stream::Salsa20 0.055 0.077
# Data::Dumper any 2.130_02
# Devel::GlobalDestruction any 0.14
# Encode any 2.42_01
# Exporter any 5.64_03
# File::Temp any 0.2311
# Hash::Util::FieldHash any 1.09
# IO::Handle any 1.31
# IPC::Cmd 0.84 1.04
# Iterator::Simple any 0.07
# List::Util 1.33 1.63
# Math::BigInt 1.993 1.994
# Module::Load any 0.36
# Module::Loaded any 0.08
# POSIX any 1.24
# Ref::Util any 0.204
# Scalar::Util any 1.63
# Scope::Guard any 0.21
# Storable any 3.25
# Symbol any 1.07
# Text::ParseWords any 3.27
# Time::Local 1.19 1.2000
# Time::Piece 1.33 1.3401
# XML::LibXML any 2.0207
# XML::LibXML::Reader any 2.0207
# boolean any 0.46
# namespace::clean any 0.27
# overload any 1.13
# strict any 1.04
# warnings any 1.12
#
# === Runtime Recommends ===
#
# Module Want Have
# ---------------------- ---- -------
# Compress::Raw::Zlib any 2.105
# File::KDBX::XS any missing
# File::Spec any 3.75
# IO::Compress::Gzip any 2.106
# IO::Uncompress::Gunzip any 2.106
# Pass::OTP any missing
#
# === Runtime Suggests ===
#
# Module Want Have
# ---------------------- ----- -------
# Crypt::Stream::Serpent 0.055 missing
# Crypt::Stream::Twofish any missing
#
t/00-report-prereqs.t .. ok
t/crypt.t .............. ok
t/database.t ........... ok
t/entry.t .............. ok
t/erase.t .............. ok
t/error.t .............. ok
t/group.t .............. ok
t/hash-block.t ......... ok
t/hmac-block.t ......... ok
t/iterator.t ........... ok
t/kdb.t ................ skipped: File::KeePass and File::KeePass::KDBX required to test KDB files
t/kdbx2.t .............. ok
t/kdbx3.t .............. ok
t/kdbx4.t .............. ok
t/kdf-aes-pp.t ......... ok
t/kdf.t ................ ok
t/keys.t ............... ok
t/memory-protection.t .. skipped: AUTHOR_TESTING required to test memory protection
t/object.t ............. ok
t/otp.t ................ skipped: Pass::OTP required to test one-time-passwords
t/placeholders.t ....... ok
t/query.t .............. ok
t/references.t ......... ok
t/safe.t ............... ok
t/util.t ............... ok
t/yubikey.t ............ ok
All tests successful.
Files=27, Tests=193, 26 wallclock secs ( 0.24 usr 0.13 sys + 15.21 cusr 5.78 csys = 21.37 CPU)
Result: PASS
PREREQUISITES:
Here is a list of prerequisites you specified and versions we
managed to load:
Module Name Have Want
Carp 1.20 0
Crypt::Argon2 0.012 0
Crypt::Cipher 0.077 0
Crypt::Cipher::AES 0.077 0
Crypt::Digest 0.077 0
Crypt::Mac::HMAC 0.077 0
Crypt::Misc 0.077 0.049
Crypt::Mode::CBC 0.077 0
Crypt::PRNG 0.077 0
Crypt::Stream::ChaCha 0.077 0.048
Crypt::Stream::Salsa20 0.077 0.055
Data::Dumper 2.130_02 0
Devel::GlobalDestruction 0.14 0
Encode 2.42_01 0
Exporter 5.64_03 0
ExtUtils::MakeMaker 7.64 0
File::Spec 3.75 0
File::Temp 0.2311 0
FindBin 1.50 0
Getopt::Std 1.06 0
Hash::Util::FieldHash 1.09 0
IO::Handle 1.31 0
IPC::Cmd 1.04 0.84
IPC::Open3 1.09 0
Iterator::Simple 0.07 0
List::Util 1.63 1.33
Math::BigInt 1.994 1.993
Module::Load 0.36 0
Module::Loaded 0.08 0
POSIX 1.24 0
Ref::Util 0.204 0
Scalar::Util 1.63 0
Scope::Guard 0.21 0
Storable 3.25 0
Symbol 1.07 0
Test::Deep 1.130 0
Test::Fatal 0.016 0
Test::More 1.302190 1.001004_001
Test::Warnings 0.031 0
Text::ParseWords 3.27 0
Time::Local 1.2000 1.19
Time::Piece 1.3401 1.33
XML::LibXML 2.0207 0
XML::LibXML::Reader 2.0207 0
boolean 0.46 0
lib 0.63 0
namespace::clean 0.27 0
overload 1.13 0
strict 1.04 0
utf8 1.09 0
warnings 1.12 0
Perl module toolchain versions installed:
Module Name Have
CPANPLUS 0.9914
CPANPLUS::Dist::Build 0.90
Cwd 3.75
ExtUtils::CBuilder 0.280236
ExtUtils::Command 7.64
ExtUtils::Install 2.20
ExtUtils::MakeMaker 7.64
ExtUtils::Manifest 1.73
ExtUtils::ParseXS 3.44
File::Spec 3.75
Module::Build 0.4231
Pod::Parser 1.37
Pod::Simple 3.16
Test2 1.302190
Test::Harness 3.44
Test::More 1.302190
version 0.9929
******************************** NOTE ********************************
The comments above are created mechanically, possibly without manual
checking by the sender. As there are many people performing automatic
tests on each upload to CPAN, it is likely that you will receive
identical messages about the same problem.
If you believe that the message is mistaken, please reply to the first
one with correction and/or additional informations, and do not take
it personally. We appreciate your patience. :)
**********************************************************************
Additional comments:
This report was machine-generated by CPANPLUS::Dist::YACSmoke 1.08.
Powered by minismokebox version 0.68
CPANPLUS is prefering Build.PL
------------------------------
ENVIRONMENT AND OTHER CONTEXT
------------------------------
Environment variables:
AUTOMATED_TESTING = 1
NONINTERACTIVE_TESTING = 1
PATH = /sbin:/bin:/usr/sbin:/usr/bin:/usr/local/sbin:/usr/local/bin:/home/cpan/bin
PERL5LIB = /usr/home/cpan/pit/jail/Cjjc4hxBBI/lib/perl5:/usr/home/cpan/pit/rel/conf/perl-5.14.2/.cpanplus/5.14.2/build/jU7Fw84z1B/File-KDBX-0.906/blib/lib:/usr/home/cpan/pit/rel/conf/perl-5.14.2/.cpanplus/5.14.2/build/jU7Fw84z1B/File-KDBX-0.906/blib/arch
PERL5_CPANPLUS_IS_RUNNING = 75538
PERL5_CPANPLUS_IS_VERSION = 0.9914
PERL5_MINISMOKEBOX = 0.68
PERL5_YACSMOKE_BASE = /usr/home/cpan/pit/rel/conf/perl-5.14.2
PERL_EXTUTILS_AUTOINSTALL = --defaultdeps
PERL_LOCAL_LIB_ROOT = /usr/home/cpan/pit/jail/Cjjc4hxBBI
PERL_MB_OPT = --install_base "/usr/home/cpan/pit/jail/Cjjc4hxBBI"
PERL_MM_OPT = INSTALL_BASE=/usr/home/cpan/pit/jail/Cjjc4hxBBI
PERL_MM_USE_DEFAULT = 1
SHELL = /usr/local/bin/bash
TERM = screen
Perl special variables (and OS-specific diagnostics, for MSWin32):
Perl: $^X = /usr/home/cpan/pit/rel/perl-5.14.2/bin/perl
UID: $< = 1002
EUID: $> = 1002
GID: $( = 1002 1002
EGID: $) = 1002 1002
-------------------------------
--
Summary of my perl5 (revision 5 version 14 subversion 2) configuration:
Platform:
osname=freebsd, osvers=12.3-release, archname=i386-freebsd-thread-multi-64int
uname='freebsd ffyrc 12.3-release freebsd 12.3-release r371126 generic i386 '
config_args='-des -Dprefix=/usr/home/cpan/pit/rel/perl-5.14.2 -Dusethreads -Duse64bitint'
hint=recommended, useposix=true, d_sigaction=define
useithreads=define, usemultiplicity=define
useperlio=define, d_sfio=undef, uselargefiles=define, usesocks=undef
use64bitint=define, use64bitall=undef, uselongdouble=undef
usemymalloc=n, bincompat5005=undef
Compiler:
cc='cc', ccflags ='-DHAS_FPSETMASK -DHAS_FLOATINGPOINT_H -fno-strict-aliasing -pipe -fstack-protector -I/usr/local/include',
optimize='-O2',
cppflags='-DHAS_FPSETMASK -DHAS_FLOATINGPOINT_H -fno-strict-aliasing -pipe -fstack-protector -I/usr/local/include'
ccversion='', gccversion='FreeBSD Clang 10.0.1 (git@github.com:llvm/llvm-project.git llvmorg-10.0.1-0-gef32c611aa2)', gccosandvers=''
intsize=4, longsize=4, ptrsize=4, doublesize=8, byteorder=12345678
d_longlong=define, longlongsize=8, d_longdbl=define, longdblsize=12
ivtype='long long', ivsize=8, nvtype='double', nvsize=8, Off_t='off_t', lseeksize=8
alignbytes=4, prototype=define
Linker and Libraries:
ld='cc', ldflags ='-pthread -Wl,-E -fstack-protector -L/usr/local/lib'
libpth=/usr/lib /usr/local/lib
libs=-lgdbm -ldl -lm -lcrypt -lutil
perllibs=-ldl -lm -lcrypt -lutil
libc=, so=so, useshrplib=false, libperl=libperl.a
gnulibc_version=''
Dynamic Linking:
dlsrc=dl_dlopen.xs, dlext=so, d_dlsymun=undef, ccdlflags=' '
cccdlflags='-DPIC -fPIC', lddlflags='-shared -L/usr/local/lib -fstack-protector'
Characteristics of this binary (from libperl):
Compile-time options: MULTIPLICITY PERL_DONT_CREATE_GVSV
PERL_IMPLICIT_CONTEXT PERL_MALLOC_WRAP
PERL_PRESERVE_IVUV USE_64_BIT_INT USE_ITHREADS
USE_LARGE_FILES USE_PERLIO USE_PERL_ATOF
USE_REENTRANT_API
Locally applied patches:
Devel::PatchPerl 2.08
Built under freebsd
Compiled at Dec 13 2021 13:34:19
%ENV:
PERL5LIB="/usr/home/cpan/pit/jail/Cjjc4hxBBI/lib/perl5:/usr/home/cpan/pit/rel/conf/perl-5.14.2/.cpanplus/5.14.2/build/jU7Fw84z1B/File-KDBX-0.906/blib/lib:/usr/home/cpan/pit/rel/conf/perl-5.14.2/.cpanplus/5.14.2/build/jU7Fw84z1B/File-KDBX-0.906/blib/arch"
PERL5_CPANPLUS_IS_RUNNING="75538"
PERL5_CPANPLUS_IS_VERSION="0.9914"
PERL5_MINISMOKEBOX="0.68"
PERL5_YACSMOKE_BASE="/usr/home/cpan/pit/rel/conf/perl-5.14.2"
PERL_EXTUTILS_AUTOINSTALL="--defaultdeps"
PERL_LOCAL_LIB_ROOT="/usr/home/cpan/pit/jail/Cjjc4hxBBI"
PERL_MB_OPT="--install_base "/usr/home/cpan/pit/jail/Cjjc4hxBBI""
PERL_MM_OPT="INSTALL_BASE=/usr/home/cpan/pit/jail/Cjjc4hxBBI"
PERL_MM_USE_DEFAULT="1"
@INC:
/usr/home/cpan/pit/jail/Cjjc4hxBBI/lib/perl5/5.14.2/i386-freebsd-thread-multi-64int
/usr/home/cpan/pit/jail/Cjjc4hxBBI/lib/perl5/5.14.2
/usr/home/cpan/pit/jail/Cjjc4hxBBI/lib/perl5/i386-freebsd-thread-multi-64int
/usr/home/cpan/pit/jail/Cjjc4hxBBI/lib/perl5
/usr/home/cpan/pit/rel/conf/perl-5.14.2/.cpanplus/5.14.2/build/jU7Fw84z1B/File-KDBX-0.906/blib/lib
/usr/home/cpan/pit/rel/conf/perl-5.14.2/.cpanplus/5.14.2/build/jU7Fw84z1B/File-KDBX-0.906/blib/arch
/usr/home/cpan/pit/rel/perl-5.14.2/lib/site_perl/5.14.2/i386-freebsd-thread-multi-64int
/usr/home/cpan/pit/rel/perl-5.14.2/lib/site_perl/5.14.2
/usr/home/cpan/pit/rel/perl-5.14.2/lib/5.14.2/i386-freebsd-thread-multi-64int
/usr/home/cpan/pit/rel/perl-5.14.2/lib/5.14.2
.