Back
From: metabase:user:322078bc-2aae-11df-837a-5e0a49663a4f
Subject: PASS Gtk2-1.245 v5.8.9 NetBSD
Date: 2012-08-08T14:19:32Z
This distribution has been tested as part of the CPAN Testers
project, supporting the Perl programming language. See
http://wiki.cpantesters.org/ for more information or email
questions to cpan-testers-discuss@perl.org
--
Dear TSCH,
This is a computer-generated error report created automatically by
CPANPLUS, version 0.9130. Testers personal comments may appear
at the end of this report.
Thank you for uploading your work to CPAN. Congratulations!
All tests were successful.
TEST RESULTS:
Below is the error stack from stage 'make test':
PERL_DL_NONLAZY=1 /home/cpan/pit/64bit/perl-5.8.9/bin/perl "-MExtUtils::Command::MM" "-e" "test_harness(0, 'blib/lib', 'blib/arch')" t/*.t
# Testing Gtk2 1.245
# Running against gtk+ 2.24.10
# Compiled against gtk+ 2.24.10
# and pango 1.29.4
t/00.Gtk2.t ........................ ok
t/01.GtkWindow.t ................... skipped: Gtk2->init_check failed, probably unable to open DISPLAY
t/02.GtkContainer.t ................ skipped: Gtk2->init_check failed, probably unable to open DISPLAY
t/Gdk.t ............................ skipped: Gtk2->init_check failed, probably unable to open DISPLAY
t/GdkCairo.t ....................... skipped: Gtk2->init_check failed, probably unable to open DISPLAY
t/GdkColor.t ....................... skipped: Gtk2->init_check failed, probably unable to open DISPLAY
t/GdkCursor.t ...................... skipped: Gtk2->init_check failed, probably unable to open DISPLAY
t/GdkDisplay.t ..................... skipped: Gtk2->init_check failed, probably unable to open DISPLAY
t/GdkDisplayManager.t .............. skipped: Gtk2->init_check failed, probably unable to open DISPLAY
t/GdkDnd.t ......................... skipped: Gtk2->init_check failed, probably unable to open DISPLAY
t/GdkDrawable.t .................... skipped: Gtk2->init_check failed, probably unable to open DISPLAY
t/GdkEvent.t ....................... skipped: Gtk2->init_check failed, probably unable to open DISPLAY
t/GdkGC.t .......................... skipped: Gtk2->init_check failed, probably unable to open DISPLAY
t/GdkImage.t ....................... skipped: Gtk2->init_check failed, probably unable to open DISPLAY
t/GdkInput.t ....................... skipped: Gtk2->init_check failed, probably unable to open DISPLAY
t/GdkKeys.t ........................ skipped: Gtk2->init_check failed, probably unable to open DISPLAY
t/GdkPango.t ....................... skipped: Gtk2->init_check failed, probably unable to open DISPLAY
t/GdkPixbuf.t ...................... ok
t/GdkPixbufLoader.t ................ ok
t/GdkPixbufSimpleAnim.t ............ ok
t/GdkPixmap.t ...................... skipped: Gtk2->init_check failed, probably unable to open DISPLAY
t/GdkProperty.t .................... skipped: Gtk2->init_check failed, probably unable to open DISPLAY
t/GdkRegion.t ...................... ok
t/GdkRgb.t ......................... skipped: Gtk2->init_check failed, probably unable to open DISPLAY
t/GdkScreen.t ...................... skipped: Gtk2->init_check failed, probably unable to open DISPLAY
t/GdkSelection.t ................... skipped: Gtk2->init_check failed, probably unable to open DISPLAY
t/GdkVisual.t ...................... skipped: Gtk2->init_check failed, probably unable to open DISPLAY
t/GdkWindow.t ...................... skipped: Gtk2->init_check failed, probably unable to open DISPLAY
t/GdkX11.t ......................... skipped: Gtk2->init_check failed, probably unable to open DISPLAY
t/GtkAboutDialog.t ................. skipped: Gtk2->init_check failed, probably unable to open DISPLAY
t/GtkAccelGroup.t .................. skipped: Gtk2->init_check failed, probably unable to open DISPLAY
t/GtkAccelLabel.t .................. skipped: Gtk2->init_check failed, probably unable to open DISPLAY
t/GtkAccelMap.t .................... skipped: Gtk2->init_check failed, probably unable to open DISPLAY
t/GtkAction.t ...................... skipped: Gtk2->init_check failed, probably unable to open DISPLAY
t/GtkActionGroup.t ................. skipped: Gtk2->init_check failed, probably unable to open DISPLAY
t/GtkActivatable.t ................. skipped: Gtk2->init_check failed, probably unable to open DISPLAY
t/GtkAdjustment.t .................. ok
t/GtkAlignment.t ................... ok
t/GtkArrow.t ....................... ok
t/GtkAspectFrame.t ................. ok
t/GtkAssistant.t ................... skipped: Gtk2->init_check failed, probably unable to open DISPLAY
t/GtkBin.t ......................... skipped: Gtk2->init_check failed, probably unable to open DISPLAY
t/GtkBindings.t .................... skipped: Gtk2->init_check failed, probably unable to open DISPLAY
t/GtkBox.t ......................... skipped: Gtk2->init_check failed, probably unable to open DISPLAY
t/GtkBuildable.t ................... skipped: Gtk2->init_check failed, probably unable to open DISPLAY
t/GtkBuildableIface.t .............. skipped: Gtk2->init_check failed, probably unable to open DISPLAY
t/GtkBuilder.t ..................... skipped: Gtk2->init_check failed, probably unable to open DISPLAY
t/GtkButton.t ...................... skipped: Gtk2->init_check failed, probably unable to open DISPLAY
t/GtkButtonBox.t ................... skipped: Gtk2->init_check failed, probably unable to open DISPLAY
t/GtkCalendar.t .................... skipped: Gtk2->init_check failed, probably unable to open DISPLAY
t/GtkCellEditable.t ................ skipped: Gtk2->init_check failed, probably unable to open DISPLAY
t/GtkCellLayout.t .................. skipped: Gtk2->init_check failed, probably unable to open DISPLAY
t/GtkCellLayoutIface.t ............. skipped: Gtk2->init_check failed, probably unable to open DISPLAY
t/GtkCellRenderer.t ................ skipped: Gtk2->init_check failed, probably unable to open DISPLAY
t/GtkCellRendererAccel.t ........... ok
t/GtkCellRendererCombo.t ........... ok
t/GtkCellRendererIface-Chaining.t .. skipped: Gtk2->init_check failed, probably unable to open DISPLAY
t/GtkCellRendererPixbuf.t .......... ok
t/GtkCellRendererProgress.t ........ ok
t/GtkCellRendererSpin.t ............ ok
t/GtkCellRendererSpinner.t ......... ok
t/GtkCellRendererText.t ............ ok
t/GtkCellRendererToggle.t .......... ok
t/GtkCellView.t .................... skipped: Gtk2->init_check failed, probably unable to open DISPLAY
t/GtkCheckButton.t ................. skipped: Gtk2->init_check failed, probably unable to open DISPLAY
t/GtkCheckMenuItem.t ............... skipped: Gtk2->init_check failed, probably unable to open DISPLAY
t/GtkClipboard.t ................... skipped: Gtk2->init_check failed, probably unable to open DISPLAY
t/GtkColorButton.t ................. skipped: Gtk2->init_check failed, probably unable to open DISPLAY
t/GtkColorSelection.t .............. skipped: Gtk2->init_check failed, probably unable to open DISPLAY
t/GtkColorSelectionDialog.t ........ skipped: Gtk2->init_check failed, probably unable to open DISPLAY
t/GtkCombo.t ....................... skipped: Gtk2->init_check failed, probably unable to open DISPLAY
t/GtkComboBox.t .................... skipped: Gtk2->init_check failed, probably unable to open DISPLAY
t/GtkComboBoxEntry.t ............... skipped: Gtk2->init_check failed, probably unable to open DISPLAY
t/GtkCurve.t ....................... skipped: Gtk2->init_check failed, probably unable to open DISPLAY
t/GtkDialog.t ...................... skipped: Gtk2->init_check failed, probably unable to open DISPLAY
t/GtkDnd.t ......................... skipped: Gtk2->init_check failed, probably unable to open DISPLAY
t/GtkDrawingArea.t ................. ok
t/GtkEditable.t .................... skipped: Gtk2->init_check failed, probably unable to open DISPLAY
t/GtkEntry.t ....................... skipped: Gtk2->init_check failed, probably unable to open DISPLAY
t/GtkEntryBuffer.t ................. skipped: Gtk2->init_check failed, probably unable to open DISPLAY
t/GtkEntryCompletion.t ............. skipped: Gtk2->init_check failed, probably unable to open DISPLAY
t/GtkEventBox.t .................... ok
t/GtkExpander.t .................... skipped: Gtk2->init_check failed, probably unable to open DISPLAY
t/GtkFileChooser.t ................. skipped: this test is unreliable
t/GtkFileChooserButton.t ........... skipped: Gtk2->init_check failed, probably unable to open DISPLAY
t/GtkFileChooserDialog.t ........... skipped: Gtk2->init_check failed, probably unable to open DISPLAY
t/GtkFileChooserWidget.t ........... skipped: Gtk2->init_check failed, probably unable to open DISPLAY
t/GtkFileFilter.t .................. ok
t/GtkFileSelection.t ............... skipped: Gtk2->init_check failed, probably unable to open DISPLAY
t/GtkFixed.t ....................... ok
t/GtkFontButton.t .................. skipped: Gtk2->init_check failed, probably unable to open DISPLAY
t/GtkFontSelection.t ............... skipped: Gtk2->init_check failed, probably unable to open DISPLAY
t/GtkFrame.t ....................... ok
t/GtkGammaCurve.t .................. skipped: Gtk2->init_check failed, probably unable to open DISPLAY
t/GtkGC.t .......................... skipped: Gtk2->init_check failed, probably unable to open DISPLAY
t/GtkHandleBox.t ................... ok
t/GtkHBox.t ........................ ok
t/GtkHButtonBox.t .................. ok
t/GtkHPaned.t ...................... ok
t/GtkHRuler.t ...................... ok
t/GtkHScale.t ...................... skipped: Gtk2->init_check failed, probably unable to open DISPLAY
t/GtkHScrollbar.t .................. ok
t/GtkHSeparator.t .................. ok
t/GtkHSV.t ......................... ok
t/GtkIconFactory.t ................. skipped: Gtk2->init_check failed, probably unable to open DISPLAY
t/GtkIconTheme.t ................... skipped: Gtk2->init_check failed, probably unable to open DISPLAY
t/GtkIconView.t .................... skipped: Gtk2->init_check failed, probably unable to open DISPLAY
t/GtkImage.t ....................... skipped: Gtk2->init_check failed, probably unable to open DISPLAY
t/GtkImageMenuItem.t ............... skipped: Gtk2->init_check failed, probably unable to open DISPLAY
t/GtkIMContext.t ................... skipped: Gtk2->init_check failed, probably unable to open DISPLAY
t/GtkInfoBar.t ..................... skipped: Gtk2->init_check failed, probably unable to open DISPLAY
t/GtkInputDialog.t ................. skipped: Gtk2->init_check failed, probably unable to open DISPLAY
t/GtkInvisible.t ................... skipped: Gtk2->init_check failed, probably unable to open DISPLAY
t/GtkItemFactory.t ................. skipped: Gtk2->init_check failed, probably unable to open DISPLAY
t/GtkLabel.t ....................... skipped: Gtk2->init_check failed, probably unable to open DISPLAY
t/GtkLayout.t ...................... skipped: Gtk2->init_check failed, probably unable to open DISPLAY
t/GtkLinkButton.t .................. skipped: Gtk2->init_check failed, probably unable to open DISPLAY
t/GtkListStore.t ................... skipped: Gtk2->init_check failed, probably unable to open DISPLAY
t/GtkMenu.t ........................ skipped: Gtk2->init_check failed, probably unable to open DISPLAY
t/GtkMenuBar.t ..................... ok
t/GtkMenuItem.t .................... skipped: Gtk2->init_check failed, probably unable to open DISPLAY
t/GtkMenuShell.t ................... skipped: Gtk2->init_check failed, probably unable to open DISPLAY
t/GtkMenuToolButton.t .............. skipped: Gtk2->init_check failed, probably unable to open DISPLAY
t/GtkMessageDialog.t ............... skipped: Gtk2->init_check failed, probably unable to open DISPLAY
t/GtkMisc.t ........................ ok
t/GtkNotebook.t .................... skipped: Gtk2->init_check failed, probably unable to open DISPLAY
t/GtkObject.t ...................... ok
t/GtkOffscreenWindow.t ............. skipped: Gtk2->init_check failed, probably unable to open DISPLAY
t/GtkOptionMenu.t .................. skipped: Gtk2->init_check failed, probably unable to open DISPLAY
t/GtkOrientable.t .................. skipped: Gtk2->init_check failed, probably unable to open DISPLAY
t/GtkPageSetup.t ................... skipped: Gtk2->init_check failed, probably unable to open DISPLAY
t/GtkPaned.t ....................... skipped: Gtk2->init_check failed, probably unable to open DISPLAY
t/GtkPaperSize.t ................... skipped: Gtk2->init_check failed, probably unable to open DISPLAY
t/GtkPrintContext.t ................ skipped: Gtk2->init_check failed, probably unable to open DISPLAY
t/GtkPrintOperation.t .............. skipped: Gtk2->init_check failed, probably unable to open DISPLAY
t/GtkPrintOperationPreview.t ....... skipped: Gtk2->init_check failed, probably unable to open DISPLAY
t/GtkPrintSettings.t ............... skipped: Gtk2->init_check failed, probably unable to open DISPLAY
t/GtkProgressBar.t ................. ok
t/GtkRadioAction.t ................. ok
t/GtkRadioButton.t ................. skipped: Gtk2->init_check failed, probably unable to open DISPLAY
t/GtkRadioMenuItem.t ............... skipped: Gtk2->init_check failed, probably unable to open DISPLAY
t/GtkRadioToolButton.t ............. skipped: Gtk2->init_check failed, probably unable to open DISPLAY
t/GtkRange.t ....................... skipped: Gtk2->init_check failed, probably unable to open DISPLAY
t/GtkRc.t .......................... skipped: Gtk2->init_check failed, probably unable to open DISPLAY
t/GtkRecentAction.t ................ skipped: Gtk2->init_check failed, probably unable to open DISPLAY
t/GtkRecentChooser.t ............... skipped: Gtk2->init_check failed, probably unable to open DISPLAY
t/GtkRecentChooserDialog.t ......... skipped: Gtk2->init_check failed, probably unable to open DISPLAY
t/GtkRecentChooserMenu.t ........... skipped: Gtk2->init_check failed, probably unable to open DISPLAY
t/GtkRecentChooserWidget.t ......... skipped: Gtk2->init_check failed, probably unable to open DISPLAY
t/GtkRecentFilter.t ................ skipped: Gtk2->init_check failed, probably unable to open DISPLAY
t/GtkRecentManager.t ............... skipped: Gtk2->init_check failed, probably unable to open DISPLAY
t/GtkRuler.t ....................... ok
t/GtkScale.t ....................... skipped: Gtk2->init_check failed, probably unable to open DISPLAY
t/GtkScaleButton.t ................. skipped: Gtk2->init_check failed, probably unable to open DISPLAY
t/GtkScrolledWindow.t .............. skipped: Gtk2->init_check failed, probably unable to open DISPLAY
t/GtkSelection.t ................... skipped: Gtk2->init_check failed, probably unable to open DISPLAY
t/GtkSeparatorMenuItem.t ........... ok
t/GtkSeparatorToolItem.t ........... skipped: Gtk2->init_check failed, probably unable to open DISPLAY
t/GtkShow.t ........................ skipped: can only test interactively
t/GtkSimpleList.t .................. skipped: Gtk2->init_check failed, probably unable to open DISPLAY
t/GtkSimpleMenu.t .................. skipped: Gtk2->init_check failed, probably unable to open DISPLAY
t/GtkSizeGroup.t ................... ok
t/GtkSocket-GtkPlug.t .............. skipped: Gtk2->init_check failed, probably unable to open DISPLAY
t/GtkSpinButton.t .................. skipped: Gtk2->init_check failed, probably unable to open DISPLAY
t/GtkSpinner.t ..................... ok
t/GtkStatusbar.t ................... ok
t/GtkStatusIcon.t .................. skipped: Gtk2->init_check failed, probably unable to open DISPLAY
t/GtkStock.t ....................... ok
t/GtkStyle.t ....................... skipped: Gtk2->init_check failed, probably unable to open DISPLAY
t/GtkTable.t ....................... skipped: Gtk2->init_check failed, probably unable to open DISPLAY
t/GtkTearoffMenuItem.t ............. ok
t/GtkTextBuffer.t .................. skipped: Gtk2->init_check failed, probably unable to open DISPLAY
t/GtkTextBufferRichText.t .......... skipped: Gtk2->init_check failed, probably unable to open DISPLAY
t/GtkTextChildAnchor.t ............. skipped: Gtk2->init_check failed, probably unable to open DISPLAY
t/GtkTextIter.t .................... ok
t/GtkTextMark.t .................... ok
t/GtkTextTag.t ..................... skipped: Gtk2->init_check failed, probably unable to open DISPLAY
t/GtkTextTagTable.t ................ ok
t/GtkTextView.t .................... skipped: Gtk2->init_check failed, probably unable to open DISPLAY
t/GtkToggleAction.t ................ skipped: Gtk2->init_check failed, probably unable to open DISPLAY
t/GtkToggleButton.t ................ skipped: Gtk2->init_check failed, probably unable to open DISPLAY
t/GtkToggleToolButton.t ............ skipped: Gtk2->init_check failed, probably unable to open DISPLAY
t/GtkToolbar.t ..................... skipped: Gtk2->init_check failed, probably unable to open DISPLAY
t/GtkToolButton.t .................. skipped: Gtk2->init_check failed, probably unable to open DISPLAY
t/GtkToolItem.t .................... skipped: Gtk2->init_check failed, probably unable to open DISPLAY
t/GtkToolItemGroup.t ............... skipped: Gtk2->init_check failed, probably unable to open DISPLAY
t/GtkToolPalette.t ................. skipped: Gtk2->init_check failed, probably unable to open DISPLAY
t/GtkToolShell.t ................... skipped: Gtk2->init_check failed, probably unable to open DISPLAY
t/GtkTooltip.t ..................... skipped: Gtk2->init_check failed, probably unable to open DISPLAY
t/GtkTooltips.t .................... skipped: Gtk2->init_check failed, probably unable to open DISPLAY
t/GtkTreeDnd.t ..................... ok
t/GtkTreeModel.t ................... ok
t/GtkTreeModelFilter.t ............. ok
t/GtkTreeModelIface.t .............. ok
t/GtkTreeModelSort.t ............... ok
t/GtkTreeSelection.t ............... skipped: Gtk2->init_check failed, probably unable to open DISPLAY
t/GtkTreeSortable.t ................ ok
t/GtkTreeStore.t ................... ok
t/GtkTreeView-Dnd.t ................ skipped: this test is interactive
t/GtkTreeView.t .................... skipped: Gtk2->init_check failed, probably unable to open DISPLAY
t/GtkUIManager.t ................... skipped: Gtk2->init_check failed, probably unable to open DISPLAY
t/GtkVBox.t ........................ ok
t/GtkVButtonBox.t .................. ok
t/GtkViewport.t .................... skipped: Gtk2->init_check failed, probably unable to open DISPLAY
t/GtkVolumeButton.t ................ skipped: Gtk2->init_check failed, probably unable to open DISPLAY
t/GtkVPaned.t ...................... ok
t/GtkVRuler.t ...................... ok
t/GtkVScale.t ...................... skipped: Gtk2->init_check failed, probably unable to open DISPLAY
t/GtkVScrollbar.t .................. ok
t/GtkVSeparator.t .................. ok
t/GtkWidget.t ...................... skipped: Gtk2->init_check failed, probably unable to open DISPLAY
t/pango-compat.t ................... skipped: Gtk2->init_check failed, probably unable to open DISPLAY
t/PangoAttributes.t ................ skipped: Gtk2->init_check failed, probably unable to open DISPLAY
t/PangoCairo.t ..................... ok
t/PangoContext.t ................... skipped: Gtk2->init_check failed, probably unable to open DISPLAY
t/PangoFont.t ...................... skipped: Gtk2->init_check failed, probably unable to open DISPLAY
t/PangoFontMap.t ................... skipped: Gtk2->init_check failed, probably unable to open DISPLAY
t/PangoFontset.t ................... skipped: Gtk2->init_check failed, probably unable to open DISPLAY
t/PangoGravity.t ................... ok
t/PangoLayout.t .................... skipped: Gtk2->init_check failed, probably unable to open DISPLAY
t/PangoMatrix.t .................... ok
t/PangoRenderer.t .................. skipped: Gtk2->init_check failed, probably unable to open DISPLAY
t/PangoScript.t .................... skipped: Gtk2->init_check failed, probably unable to open DISPLAY
t/PangoTabs.t ...................... ok
t/PangoTypes.t ..................... ok
t/set-scroll-adjustments-signal.t .. skipped: Gtk2->init_check failed, probably unable to open DISPLAY
t/signal-chaining.t ................ skipped: Gtk2->init_check failed, probably unable to open DISPLAY
t/tied-objects.t ................... skipped: Gtk2->init_check failed, probably unable to open DISPLAY
t/version-checks.t ................. ok
All tests successful.
Files=229, Tests=1094, 86 wallclock secs ( 1.77 usr 5.26 sys + 50.63 cusr 26.90 csys = 84.56 CPU)
Result: PASS
PREREQUISITES:
Here is a list of prerequisites you specified and versions we
managed to load:
Module Name Have Want
Cairo 1.101 1.000
ExtUtils::Depends 0.304 0.300
ExtUtils::MakeMaker 6.62 0
ExtUtils::PkgConfig 1.13 1.030
Glib 1.262 1.240
Pango 1.223 1.220
Perl module toolchain versions installed:
Module Name Have
CPANPLUS 0.9130
CPANPLUS::Dist::Build 0.62
Cwd 3.33
ExtUtils::CBuilder 0.280205
ExtUtils::Command 1.16
ExtUtils::Install 1.54
ExtUtils::MakeMaker 6.62
ExtUtils::Manifest 1.60
ExtUtils::ParseXS 3.15
File::Spec 3.33
Module::Build 0.4002
Test::Harness 3.25
Test::More 0.98
version 0.99
******************************** NOTE ********************************
The comments above are created mechanically, possibly without manual
checking by the sender. As there are many people performing automatic
tests on each upload to CPAN, it is likely that you will receive
identical messages about the same problem.
If you believe that the message is mistaken, please reply to the first
one with correction and/or additional informations, and do not take
it personally. We appreciate your patience. :)
**********************************************************************
Additional comments:
This report was machine-generated by CPANPLUS::Dist::YACSmoke 0.84.
Powered by minismokebox version 0.54
------------------------------
ENVIRONMENT AND OTHER CONTEXT
------------------------------
Environment variables:
AUTOMATED_TESTING = 1
PATH = /home/cpan/bin:/bin:/sbin:/usr/bin:/usr/sbin:/usr/X11R7/bin:/usr/X11R6/bin:/usr/pkg/bin:/usr/pkg/sbin:/usr/games:/usr/local/bin:/usr/local/sbin
PERL5LIB = :/home/cpan/pit/64bit/conf/perl-5.8.9/.cpanplus/5.8.9/build/ExtUtils-Depends-0.304/blib/lib:/home/cpan/pit/64bit/conf/perl-5.8.9/.cpanplus/5.8.9/build/ExtUtils-Depends-0.304/blib/arch:/home/cpan/pit/64bit/conf/perl-5.8.9/.cpanplus/5.8.9/build/ExtUtils-PkgConfig-1.13/blib/lib:/home/cpan/pit/64bit/conf/perl-5.8.9/.cpanplus/5.8.9/build/ExtUtils-PkgConfig-1.13/blib/arch:/home/cpan/pit/64bit/conf/perl-5.8.9/.cpanplus/5.8.9/build/Cairo-1.101/blib/lib:/home/cpan/pit/64bit/conf/perl-5.8.9/.cpanplus/5.8.9/build/Cairo-1.101/blib/arch:/home/cpan/pit/64bit/conf/perl-5.8.9/.cpanplus/5.8.9/build/Glib-1.262/blib/lib:/home/cpan/pit/64bit/conf/perl-5.8.9/.cpanplus/5.8.9/build/Glib-1.262/blib/arch:/home/cpan/pit/64bit/conf/perl-5.8.9/.cpanplus/5.8.9/build/Pango-1.223/blib/lib:/home/cpan/pit/64bit/conf/perl-5.8.9/.cpanplus/5.8.9/build/Pango-1.223/blib/arch:/home/cpan/pit/64bit/conf/perl-5.8.9/.cpanplus/5.8.9/build/Gtk2-1.245/blib/lib:/home/cpan/pit/64bit/conf/perl-5.8.9/.cpanplus/5.8.9/build/Gtk2-1.245/blib/arch
PERL5_CPANPLUS_IS_RUNNING = 27600
PERL5_CPANPLUS_IS_VERSION = 0.9130
PERL5_MINISMOKEBOX = 0.54
PERL5_YACSMOKE_BASE = /home/cpan/pit/64bit/conf/perl-5.8.9
PERL_EXTUTILS_AUTOINSTALL = --defaultdeps
PERL_MM_USE_DEFAULT = 1
SHELL = /usr/pkg/bin/bash
TERM = screen
Perl special variables (and OS-specific diagnostics, for MSWin32):
Perl: $^X = /home/cpan/pit/64bit/perl-5.8.9/bin/perl
UID: $< = 1001
EUID: $> = 1001
GID: $( = 100 100
EGID: $) = 100 100
-------------------------------
--
Summary of my perl5 (revision 5 version 8 subversion 9) configuration:
Platform:
osname=netbsd, osvers=5.1.2, archname=i386-netbsd-64int
uname='netbsd nitzer.bingosnet.co.uk 5.1.2 netbsd 5.1.2 (generic) #0: thu feb 2 17:22:10 utc 2012 builds@b6.netbsd.org:homebuildsabnetbsd-5-1-2-releasei386201202021012z-objhomebuildsabnetbsd-5-1-2-releasesrcsysarchi386compilegeneric i386 '
config_args='-des -Dprefix=/home/cpan/pit/64bit/perl-5.8.9 -Duse64bitint'
hint=recommended, useposix=true, d_sigaction=define
usethreads=undef use5005threads=undef useithreads=undef usemultiplicity=undef
useperlio=define d_sfio=undef uselargefiles=define usesocks=undef
use64bitint=define use64bitall=undef uselongdouble=undef
usemymalloc=n, bincompat5005=undef
Compiler:
cc='cc', ccflags ='-fno-strict-aliasing -pipe -I/usr/pkg/include',
optimize='-O',
cppflags='-fno-strict-aliasing -pipe -I/usr/pkg/include'
ccversion='', gccversion='4.1.3 20080704 prerelease (NetBSD nb2 20081120)', gccosandvers=''
intsize=4, longsize=4, ptrsize=4, doublesize=8, byteorder=12345678
d_longlong=define, longlongsize=8, d_longdbl=define, longdblsize=12
ivtype='long long', ivsize=8, nvtype='double', nvsize=8, Off_t='off_t', lseeksize=8
alignbytes=4, prototype=define
Linker and Libraries:
ld='cc', ldflags =' -Wl,-rpath,/usr/pkg/lib -Wl,-rpath,/usr/local/lib -L/usr/pkg/lib'
libpth=/usr/pkg/lib /lib /usr/lib
libs=-lgdbm -lm -lcrypt -lutil -lc -lposix
perllibs=-lm -lcrypt -lutil -lc -lposix
libc=/lib/libc.so, so=so, useshrplib=false, libperl=libperl.a
gnulibc_version=''
Dynamic Linking:
dlsrc=dl_dlopen.xs, dlext=so, d_dlsymun=undef, ccdlflags='-Wl,-E '
cccdlflags='-DPIC -fPIC ', lddlflags='--whole-archive -shared -L/usr/pkg/lib'
Characteristics of this binary (from libperl):
Compile-time options: PERL_MALLOC_WRAP USE_64_BIT_INT USE_FAST_STDIO
USE_LARGE_FILES USE_PERLIO
Built under netbsd
Compiled at Feb 23 2012 23:58:58
%ENV:
PERL5LIB=":/home/cpan/pit/64bit/conf/perl-5.8.9/.cpanplus/5.8.9/build/ExtUtils-Depends-0.304/blib/lib:/home/cpan/pit/64bit/conf/perl-5.8.9/.cpanplus/5.8.9/build/ExtUtils-Depends-0.304/blib/arch:/home/cpan/pit/64bit/conf/perl-5.8.9/.cpanplus/5.8.9/build/ExtUtils-PkgConfig-1.13/blib/lib:/home/cpan/pit/64bit/conf/perl-5.8.9/.cpanplus/5.8.9/build/ExtUtils-PkgConfig-1.13/blib/arch:/home/cpan/pit/64bit/conf/perl-5.8.9/.cpanplus/5.8.9/build/Cairo-1.101/blib/lib:/home/cpan/pit/64bit/conf/perl-5.8.9/.cpanplus/5.8.9/build/Cairo-1.101/blib/arch:/home/cpan/pit/64bit/conf/perl-5.8.9/.cpanplus/5.8.9/build/Glib-1.262/blib/lib:/home/cpan/pit/64bit/conf/perl-5.8.9/.cpanplus/5.8.9/build/Glib-1.262/blib/arch:/home/cpan/pit/64bit/conf/perl-5.8.9/.cpanplus/5.8.9/build/Pango-1.223/blib/lib:/home/cpan/pit/64bit/conf/perl-5.8.9/.cpanplus/5.8.9/build/Pango-1.223/blib/arch:/home/cpan/pit/64bit/conf/perl-5.8.9/.cpanplus/5.8.9/build/Gtk2-1.245/blib/lib:/home/cpan/pit/64bit/conf/perl-5.8.9/.cpanplus/5.8.9/build/Gtk2-1.245/blib/arch"
PERL5_CPANPLUS_IS_RUNNING="27600"
PERL5_CPANPLUS_IS_VERSION="0.9130"
PERL5_MINISMOKEBOX="0.54"
PERL5_YACSMOKE_BASE="/home/cpan/pit/64bit/conf/perl-5.8.9"
PERL_EXTUTILS_AUTOINSTALL="--defaultdeps"
PERL_MM_USE_DEFAULT="1"
@INC:
/home/cpan/pit/64bit/conf/perl-5.8.9/.cpanplus/5.8.9/build/ExtUtils-Depends-0.304/blib/lib
/home/cpan/pit/64bit/conf/perl-5.8.9/.cpanplus/5.8.9/build/ExtUtils-Depends-0.304/blib/arch
/home/cpan/pit/64bit/conf/perl-5.8.9/.cpanplus/5.8.9/build/ExtUtils-PkgConfig-1.13/blib/lib
/home/cpan/pit/64bit/conf/perl-5.8.9/.cpanplus/5.8.9/build/ExtUtils-PkgConfig-1.13/blib/arch
/home/cpan/pit/64bit/conf/perl-5.8.9/.cpanplus/5.8.9/build/Cairo-1.101/blib/lib
/home/cpan/pit/64bit/conf/perl-5.8.9/.cpanplus/5.8.9/build/Cairo-1.101/blib/arch
/home/cpan/pit/64bit/conf/perl-5.8.9/.cpanplus/5.8.9/build/Glib-1.262/blib/lib
/home/cpan/pit/64bit/conf/perl-5.8.9/.cpanplus/5.8.9/build/Glib-1.262/blib/arch
/home/cpan/pit/64bit/conf/perl-5.8.9/.cpanplus/5.8.9/build/Pango-1.223/blib/lib
/home/cpan/pit/64bit/conf/perl-5.8.9/.cpanplus/5.8.9/build/Pango-1.223/blib/arch
/home/cpan/pit/64bit/conf/perl-5.8.9/.cpanplus/5.8.9/build/Gtk2-1.245/blib/lib
/home/cpan/pit/64bit/conf/perl-5.8.9/.cpanplus/5.8.9/build/Gtk2-1.245/blib/arch
/home/cpan/pit/64bit/perl-5.8.9/lib/5.8.9/i386-netbsd-64int
/home/cpan/pit/64bit/perl-5.8.9/lib/5.8.9
/home/cpan/pit/64bit/perl-5.8.9/lib/site_perl/5.8.9/i386-netbsd-64int
/home/cpan/pit/64bit/perl-5.8.9/lib/site_perl/5.8.9
.