MarpaX-Languages-IDL-AST v0.007 Perl 5 v5.27.5 x86_64-linux

Status
Pass
From
Andreas J. König (ANDK)
Dist
MarpaX-Languages-IDL-AST v0.007
Platform
Perl 5 v5.27.5 x86_64-linux
Date
2017-12-22 08:42:41
ID
1273f09c-e6f4-11e7-b56c-f52958f8a7fe
This distribution has been tested as part of the CPAN Testers
project, supporting the Perl programming language.  See
http://wiki.cpantesters.org/ for more information or email
questions to cpan-testers-discuss@perl.org


--
Dear Jean-Damien Durand,

This is a computer-generated report for MarpaX-Languages-IDL-AST-0.007
on perl 5.27.5, created by CPAN-Reporter-1.2018.

Thank you for uploading your work to CPAN.  Congratulations!
All tests were successful.

Sections of this report:

    * Tester comments
    * Program output
    * Prerequisites
    * Environment and other context

------------------------------
TESTER COMMENTS
------------------------------

Additional comments from tester:

this report is from an automated smoke testing program
and was not reviewed by a human for accuracy

------------------------------
PROGRAM OUTPUT
------------------------------

Output from '/usr/bin/make test':

Skip blib/lib/auto/share/dist/MarpaX-Languages-IDL-AST/perl5/style/Moose/import.tt2 (unchanged)
Skip blib/lib/auto/share/dist/MarpaX-Languages-IDL-AST/perl5/style/Moose/namespace.tt2 (unchanged)
Skip blib/lib/auto/share/dist/MarpaX-Languages-IDL-AST/perl5/style/Moose/token.tt2 (unchanged)
Skip blib/lib/auto/share/dist/MarpaX-Languages-IDL-AST/perl5/style/Moose/useSpecializedType.tt2 (unchanged)
Skip blib/lib/auto/share/dist/MarpaX-Languages-IDL-AST/perl5/style/Moose/useClassAttribute.tt2 (unchanged)
Skip blib/lib/auto/share/dist/MarpaX-Languages-IDL-AST/perl5/style/Moose/posValidatedList.tt2 (unchanged)
Skip blib/lib/auto/share/dist/MarpaX-Languages-IDL-AST/perl5/style/Moose/bottom.tt2 (unchanged)
Skip blib/lib/auto/share/dist/MarpaX-Languages-IDL-AST/perl5/style/Moose/top.tt2 (unchanged)
Skip blib/lib/auto/share/dist/MarpaX-Languages-IDL-AST/perl5/style/Moose/useBaseTypes.tt2 (unchanged)
Skip blib/lib/auto/share/dist/MarpaX-Languages-IDL-AST/perl5/style/Moose/initNameSpace.tt2 (unchanged)
Skip blib/lib/auto/share/dist/MarpaX-Languages-IDL-AST/perl5.tt2 (unchanged)
Skip blib/lib/auto/share/dist/MarpaX-Languages-IDL-AST/perl5/style/Moose/op.tt2 (unchanged)
Skip blib/lib/auto/share/dist/MarpaX-Languages-IDL-AST/perl5/style/Moose/initGlobalVariables.tt2 (unchanged)
PERL_DL_NONLAZY=1 "/home/sand/src/perl/repoperls/installed-perls/host/k93msid/v5.27.5/89ad/bin/perl" "-MExtUtils::Command::MM" "-MTest::Harness" "-e" "undef *Test::Harness::Switches; test_harness(0, 'blib/lib', 'blib/arch')" t/*.t
t/00-compile.t ......... ok
# 
# Versions for all modules listed in MYMETA.json (including optional ones):
# 
# === Configure Requires ===
# 
#     Module                  Want Have
#     ----------------------- ---- ----
#     ExtUtils::MakeMaker      any 7.30
#     File::ShareDir::Install 0.06 0.11
# 
# === Build Requires ===
# 
#     Module              Want Have
#     ------------------- ---- ----
#     ExtUtils::MakeMaker  any 7.30
# 
# === Test Requires ===
# 
#     Module              Want     Have
#     ------------------- ---- --------
#     ExtUtils::MakeMaker  any     7.30
#     File::Spec           any     3.68
#     File::Temp           any   0.2304
#     IO::Handle           any     1.36
#     IPC::Open3           any     1.20
#     Test::More           any 1.302120
#     blib                1.01     1.06
# 
# === Test Recommends ===
# 
#     Module         Want     Have
#     ---------- -------- --------
#     CPAN::Meta 2.120900 2.150010
# 
# === Runtime Requires ===
# 
#     Module                       Want     Have
#     ---------------------------- ---- --------
#     Carp                          any     1.43
#     Data::Dumper                  any 2.167_02
#     Data::Scan                    any    0.008
#     Data::Scan::Role::Consumer    any    0.008
#     Encode                        any     2.93
#     File::BOM                     any     0.15
#     File::Basename                any     2.85
#     File::ShareDir                any    1.104
#     File::Spec::Functions         any     3.68
#     Getopt::Long                  any      2.5
#     IO::String                    any     1.08
#     MRO::Compat                   any     0.13
#     Marpa::R2                     any 4.000000
#     Math::BigFloat                any 1.999811
#     Moo                           any 2.003002
#     Moo::Role                     any 2.003002
#     MooX::Role::Logger            any    0.005
#     Moose                         any   2.2007
#     MooseX::ClassAttribute        any     0.29
#     MooseX::Params::Validate      any     0.21
#     MooseX::Types                 any     0.50
#     MooseX::Types::Moose          any     0.50
#     MooseX::Types::Structured     any     0.36
#     POSIX                         any     1.78
#     Pod::Usage                    any     1.69
#     Scalar::Util                  any     1.49
#     Template                      any     2.27
#     Template::Constants           any     2.75
#     Template::Plugin::PerlTidy    any     0.03
#     Template::Plugin::ScalarUtil  any 1.121160
#     Type::Library                 any 1.002001
#     Type::Utils                   any 1.002001
#     Types::Common::Numeric        any 1.002001
#     Types::Standard               any 1.002001
#     constant                      any     1.33
#     diagnostics                   any     1.36
#     namespace::sweep              any    0.006
#     strict                        any     1.11
#     warnings                      any     1.37
# 
t/00-report-prereqs.t .. ok
t/domLevel3.t .......... ok
All tests successful.
Files=3, Tests=13, 14 wallclock secs ( 0.03 usr  0.02 sys +  6.68 cusr  0.48 csys =  7.21 CPU)
Result: PASS

------------------------------
PREREQUISITES
------------------------------

Prerequisite modules loaded:

requires:

    Module                       Need  Have    
    ---------------------------- ----- --------
    Carp                         0     1.43    
    constant                     0     1.33    
    Data::Dumper                 0     2.167_02
    Data::Scan                   0     0.008   
    Data::Scan::Role::Consumer   0     0.008   
    diagnostics                  0     1.36    
    Encode                       0     2.93    
    File::Basename               0     2.85    
    File::BOM                    0     0.15    
    File::ShareDir               0     1.104   
    File::Spec::Functions        0     3.68    
    Getopt::Long                 0     2.5     
    IO::String                   0     1.08    
    Marpa::R2                    0     4.000000
    Math::BigFloat               0     1.999811
    Moo                          0     2.003002
    Moo::Role                    0     2.003002
    Moose                        0     2.2007  
    MooseX::ClassAttribute       0     0.29    
    MooseX::Params::Validate     0     0.21    
    MooseX::Types                0     0.50    
    MooseX::Types::Moose         0     0.50    
    MooseX::Types::Structured    0     0.36    
    MooX::Role::Logger           0     0.005   
    MRO::Compat                  0     0.13    
    namespace::sweep             0     0.006   
    perl                         5.010 5.027005
    Pod::Usage                   0     1.69    
    POSIX                        0     1.78    
    Scalar::Util                 0     1.49    
    strict                       0     1.11    
    Template                     0     2.27    
    Template::Constants          0     2.75    
    Template::Plugin::PerlTidy   0     0.03    
    Template::Plugin::ScalarUtil 0     1.121160
    Type::Library                0     1.002001
    Type::Utils                  0     1.002001
    Types::Common::Numeric       0     1.002001
    Types::Standard              0     1.002001
    warnings                     0     1.37    

build_requires:

    Module                       Need  Have    
    ---------------------------- ----- --------
    blib                         1.01  1.06    
    ExtUtils::MakeMaker          0     7.30    
    File::Spec                   0     3.68    
    File::Temp                   0     0.2304  
    IO::Handle                   0     1.36    
    IPC::Open3                   0     1.20    
    Test::More                   0     1.302120

configure_requires:

    Module                       Need  Have    
    ---------------------------- ----- --------
    ExtUtils::MakeMaker          0     7.30    
    File::ShareDir::Install      0.06  0.11    
    perl                         5.010 5.027005


------------------------------
ENVIRONMENT AND OTHER CONTEXT
------------------------------

Environment variables:

    AUTOMATED_TESTING = 1
    LANG = en_US.UTF-8
    PATH = /home/sand/bin:/usr/local/bin:/usr/bin:/bin:/usr/games:/usr/local/perl/bin:/usr/X11/bin:/sbin:/usr/sbin
    PERL5LIB = /tmp/loop_over_bdir-2636-eqZYM5/Template-Plugin-ScalarUtil-1.121160-0/blib/arch:/tmp/loop_over_bdir-2636-eqZYM5/Template-Plugin-ScalarUtil-1.121160-0/blib/lib:/tmp/loop_over_bdir-2636-eqZYM5/Template-Plugin-PerlTidy-0.03-0/blib/arch:/tmp/loop_over_bdir-2636-eqZYM5/Template-Plugin-PerlTidy-0.03-0/blib/lib:/tmp/loop_over_bdir-2636-eqZYM5/Marpa-R2-4.000000-0/blib/arch:/tmp/loop_over_bdir-2636-eqZYM5/Marpa-R2-4.000000-0/blib/lib:/tmp/loop_over_bdir-2636-eqZYM5/Data-Scan-0.008-0/blib/arch:/tmp/loop_over_bdir-2636-eqZYM5/Data-Scan-0.008-0/blib/lib
    PERL5OPT = 
    PERL5_CPANPLUS_IS_RUNNING = 2647
    PERL5_CPAN_IS_RUNNING = 2647
    PERL5_CPAN_IS_RUNNING_IN_RECURSION = 2891,2647
    PERL_CANARY_STABILITY_NOPROMPT = 1
    PERL_MM_USE_DEFAULT = 1
    PERL_USE_UNSAFE_INC = 1
    SHELL = /usr/bin/zsh
    TERM = screen

Perl special variables (and OS-specific diagnostics, for MSWin32):

    $^X = /home/sand/src/perl/repoperls/installed-perls/host/k93msid/v5.27.5/89ad/bin/perl
    $UID/$EUID = 1005 / 1005
    $GID = 1005 1005
    $EGID = 1005 1005

Perl module toolchain versions installed:

    Module              Have    
    ------------------- --------
    CPAN                2.18    
    CPAN::Meta          2.150010
    Cwd                 3.68    
    ExtUtils::CBuilder  0.280229
    ExtUtils::Command   7.30    
    ExtUtils::Install   2.14    
    ExtUtils::MakeMaker 7.30    
    ExtUtils::Manifest  1.70    
    ExtUtils::ParseXS   3.36_03 
    File::Spec          3.68    
    JSON                2.95    
    JSON::PP            2.97001 
    Module::Build       0.4224  
    Module::Signature   0.81    
    Parse::CPAN::Meta   2.150010
    Test::Harness       3.39    
    Test::More          1.302120
    YAML                1.23    
    YAML::Syck          1.30    
    version             0.9918  


--

Summary of my perl5 (revision 5 version 27 subversion 5) configuration:
  Commit id: 3c675937046386c0f536bcf1409bcbb3af65588c
  Platform:
    osname=linux
    osvers=4.12.0-2-amd64
    archname=x86_64-linux
    uname='linux k93msid 4.12.0-2-amd64 #1 smp debian 4.12.13-1 (2017-09-19) x86_64 gnulinux '
    config_args='-Dprefix=/home/sand/src/perl/repoperls/installed-perls/host/k93msid/v5.27.5/89ad -Dmyhostname=k93msid -Dinstallusrbinperl=n -Uversiononly -Dusedevel -des -Ui_db -Dlibswanted=cl pthread socket inet nsl gdbm dbm malloc dl ld sun m crypt sec util c cposix posix ucb BSD gdbm_compat -Uuseithreads -Uuselongdouble -DDEBUGGING=-g'
    hint=recommended
    useposix=true
    d_sigaction=define
    useithreads=undef
    usemultiplicity=undef
    use64bitint=define
    use64bitall=define
    uselongdouble=undef
    usemymalloc=n
    default_inc_excludes_dot=define
    bincompat5005=undef
  Compiler:
    cc='cc'
    ccflags ='-fwrapv -fno-strict-aliasing -pipe -fstack-protector-strong -I/usr/local/include -D_LARGEFILE_SOURCE -D_FILE_OFFSET_BITS=64 -D_FORTIFY_SOURCE=2'
    optimize='-O2 -g'
    cppflags='-fwrapv -fno-strict-aliasing -pipe -fstack-protector-strong -I/usr/local/include'
    ccversion=''
    gccversion='7.2.0'
    gccosandvers=''
    intsize=4
    longsize=8
    ptrsize=8
    doublesize=8
    byteorder=12345678
    doublekind=3
    d_longlong=define
    longlongsize=8
    d_longdbl=define
    longdblsize=16
    longdblkind=3
    ivtype='long'
    ivsize=8
    nvtype='double'
    nvsize=8
    Off_t='off_t'
    lseeksize=8
    alignbytes=8
    prototype=define
  Linker and Libraries:
    ld='cc'
    ldflags =' -fstack-protector-strong -L/usr/local/lib'
    libpth=/usr/local/lib /usr/lib/gcc/x86_64-linux-gnu/7/include-fixed /usr/include/x86_64-linux-gnu /usr/lib /lib/x86_64-linux-gnu /lib/../lib /usr/lib/x86_64-linux-gnu /usr/lib/../lib /lib
    libs=-lpthread -lnsl -ldl -lm -lcrypt -lutil -lc
    perllibs=-lpthread -lnsl -ldl -lm -lcrypt -lutil -lc
    libc=libc-2.24.so
    so=so
    useshrplib=false
    libperl=libperl.a
    gnulibc_version='2.24'
  Dynamic Linking:
    dlsrc=dl_dlopen.xs
    dlext=so
    d_dlsymun=undef
    ccdlflags='-Wl,-E'
    cccdlflags='-fPIC'
    lddlflags='-shared -O2 -g -L/usr/local/lib -fstack-protector-strong'


Characteristics of this binary (from libperl): 
  Compile-time options:
    HAS_TIMES
    PERLIO_LAYERS
    PERL_COPY_ON_WRITE
    PERL_DONT_CREATE_GVSV
    PERL_MALLOC_WRAP
    PERL_OP_PARENT
    PERL_PRESERVE_IVUV
    PERL_USE_DEVEL
    USE_64_BIT_ALL
    USE_64_BIT_INT
    USE_LARGE_FILES
    USE_LOCALE
    USE_LOCALE_COLLATE
    USE_LOCALE_CTYPE
    USE_LOCALE_NUMERIC
    USE_LOCALE_TIME
    USE_PERLIO
    USE_PERL_ATOF
  Built under linux
  Compiled at Oct 21 2017 03:45:19
  %ENV:
    PERL5LIB="/tmp/loop_over_bdir-2636-eqZYM5/Template-Plugin-ScalarUtil-1.121160-0/blib/arch:/tmp/loop_over_bdir-2636-eqZYM5/Template-Plugin-ScalarUtil-1.121160-0/blib/lib:/tmp/loop_over_bdir-2636-eqZYM5/Template-Plugin-PerlTidy-0.03-0/blib/arch:/tmp/loop_over_bdir-2636-eqZYM5/Template-Plugin-PerlTidy-0.03-0/blib/lib:/tmp/loop_over_bdir-2636-eqZYM5/Marpa-R2-4.000000-0/blib/arch:/tmp/loop_over_bdir-2636-eqZYM5/Marpa-R2-4.000000-0/blib/lib:/tmp/loop_over_bdir-2636-eqZYM5/Data-Scan-0.008-0/blib/arch:/tmp/loop_over_bdir-2636-eqZYM5/Data-Scan-0.008-0/blib/lib"
    PERL5OPT=""
    PERL5_CPANPLUS_IS_RUNNING="2647"
    PERL5_CPAN_IS_RUNNING="2647"
    PERL5_CPAN_IS_RUNNING_IN_RECURSION="2891,2647"
    PERL_CANARY_STABILITY_NOPROMPT="1"
    PERL_MM_USE_DEFAULT="1"
    PERL_USE_UNSAFE_INC="1"
  @INC:
    /tmp/loop_over_bdir-2636-eqZYM5/Template-Plugin-ScalarUtil-1.121160-0/blib/arch
    /tmp/loop_over_bdir-2636-eqZYM5/Template-Plugin-ScalarUtil-1.121160-0/blib/lib
    /tmp/loop_over_bdir-2636-eqZYM5/Template-Plugin-PerlTidy-0.03-0/blib/arch
    /tmp/loop_over_bdir-2636-eqZYM5/Template-Plugin-PerlTidy-0.03-0/blib/lib
    /tmp/loop_over_bdir-2636-eqZYM5/Marpa-R2-4.000000-0/blib/arch
    /tmp/loop_over_bdir-2636-eqZYM5/Marpa-R2-4.000000-0/blib/lib
    /tmp/loop_over_bdir-2636-eqZYM5/Data-Scan-0.008-0/blib/arch
    /tmp/loop_over_bdir-2636-eqZYM5/Data-Scan-0.008-0/blib/lib
    /home/sand/src/perl/repoperls/installed-perls/host/k93msid/v5.27.5/89ad/lib/site_perl/5.27.5/x86_64-linux
    /home/sand/src/perl/repoperls/installed-perls/host/k93msid/v5.27.5/89ad/lib/site_perl/5.27.5
    /home/sand/src/perl/repoperls/installed-perls/host/k93msid/v5.27.5/89ad/lib/5.27.5/x86_64-linux
    /home/sand/src/perl/repoperls/installed-perls/host/k93msid/v5.27.5/89ad/lib/5.27.5
    .