Pinto v0.14 Perl 5 v5.31.11 x86_64-linux
- Status
- Pass
- From
- John SJ Anderson
- Dist
-
Pinto v0.14
- Platform
- Perl 5 v5.31.11 x86_64-linux
- Date
- 2020-04-29 05:55:47
- ID
- 1275e840-89de-11ea-8379-801650baf6e2
This distribution has been tested as part of the CPAN Testers
project, supporting the Perl programming language. See
http://wiki.cpantesters.org/ for more information or email
questions to cpan-testers-discuss@perl.org
--
Dear THALJEF,
This is a computer-generated report for Pinto-0.14
on perl 5.31.11, created by App::cpanminus::reporter 0.17 (1.7044).
Thank you for uploading your work to CPAN. Congratulations!
All tests were successful.
Sections of this report:
* Tester comments
* Program output
* Prerequisites
* Environment and other context
------------------------------
TESTER COMMENTS
------------------------------
Additional comments from tester:
none provided
------------------------------
PROGRAM OUTPUT
------------------------------
Output from '':
Running Makefile.PL
Warning: prerequisite Apache::Htpasswd 0 not found.
Warning: prerequisite Archive::Extract 0.68 not found.
Warning: prerequisite Authen::Simple::Passwd 0 not found.
Warning: prerequisite CPAN::Checksums 0 not found.
Warning: prerequisite Cwd::Guard 0 not found.
Warning: prerequisite Dist::Metadata 0.926 not found.
Warning: prerequisite File::NFSLock 0 not found.
Warning: prerequisite IO::Prompt 0 not found.
Warning: prerequisite Module::Faker::Dist 0.014 not found.
Warning: prerequisite MooseX::Aliases 0 not found.
Warning: prerequisite MooseX::ClassAttribute 0.27 not found.
Warning: prerequisite MooseX::Configuration 0 not found.
Warning: prerequisite MooseX::StrictConstructor 0 not found.
Warning: prerequisite Proc::Fork 0 not found.
Warning: prerequisite Proc::Terminator 0 not found.
Warning: prerequisite Router::Simple 0 not found.
Checking if your kit is complete...
Looks good
Generating a Unix-style Makefile
Writing Makefile for Pinto
Writing MYMETA.yml and MYMETA.json
-> OK
Checking dependencies from MYMETA.json ...
Checking if you have Moose 0 ... Yes (2.2012)
Checking if you have DBD::SQLite 1.33 ... Yes (1.64)
Checking if you have Devel::StackTrace 0 ... Yes (2.04)
Checking if you have Try::Tiny 0 ... Yes (0.30)
Checking if you have Module::Faker::Dist 0.014 ... No
Checking if you have MooseX::Configuration 0 ... No
Checking if you have HTTP::Status 0 ... Yes (6.22)
Checking if you have blib 1.01 ... Yes (1.07)
Checking if you have Path::Class::Dir 0 ... Yes (0.37)
Checking if you have DateTime 0 ... Yes (1.52)
Checking if you have Plack::Response 0 ... Yes (1.0047)
Checking if you have FindBin 0 ... Yes (1.51)
Checking if you have Plack::Runner 0 ... Yes (undef)
Checking if you have DBIx::Class::Core 0 ... Yes (undef)
Checking if you have Variable::Magic 0.57 ... Yes (0.62)
Checking if you have base 0 ... Yes (2.27)
Checking if you have Plack::MIME 0 ... Yes (undef)
Checking if you have Throwable::Error 0.200005 ... Yes (0.200013)
Checking if you have ExtUtils::MakeMaker 0 ... Yes (7.44)
Checking if you have Moose::Role 0 ... Yes (2.2012)
Checking if you have CPAN::Checksums 0 ... No
Checking if you have File::Find 0 ... Yes (1.37)
Checking if you have MooseX::StrictConstructor 0 ... No
Checking if you have Pod::Usage 0 ... Yes (1.69)
Checking if you have Test::File 0 ... Yes (1.443)
Checking if you have DateTime::TimeZone 0 ... Yes (2.39)
Checking if you have Term::ANSIColor 2.02 ... Yes (5.01)
Checking if you have App::Cmd::Command::help 0 ... Yes (0.331)
Checking if you have HTTP::Server::PSGI 0 ... Yes (undef)
Checking if you have Archive::Extract 0.68 ... No
Checking if you have warnings 0 ... Yes (1.47)
Checking if you have Readonly 0 ... Yes (2.05)
Checking if you have Proc::Fork 0 ... No
Checking if you have IO::Prompt 0 ... No
Checking if you have HTTP::Date 0 ... Yes (6.05)
Checking if you have URI::file 0 ... Yes (4.21)
Checking if you have CPAN::Meta::Requirements 0 ... Yes (2.140)
Checking if you have Test::More 0.96 ... Yes (1.302175)
Checking if you have strict 0 ... Yes (1.11)
Checking if you have UUID::Tiny 0 ... Yes (1.04)
Checking if you have Capture::Tiny 0 ... Yes (0.48)
Checking if you have Archive::Tar 0 ... Yes (2.36)
Checking if you have Proc::Terminator 0 ... No
Checking if you have File::NFSLock 0 ... No
Checking if you have Module::CoreList 5.20170720 ... Yes (5.20200428)
Checking if you have Module::Metadata 1.000031 ... Yes (1.000037)
Checking if you have DateTime::TimeZone::Local::Unix 0 ... Yes (2.39)
Checking if you have MooseX::SetOnce 0 ... Yes (0.200002)
Checking if you have HTTP::Request::Common 0 ... Yes (6.22)
Checking if you have File::Which 0 ... Yes (1.23)
Checking if you have Scalar::Util 0 ... Yes (1.53)
Checking if you have Plack::Middleware::Auth::Basic 0 ... Yes (undef)
Checking if you have IO::Select 0 ... Yes (1.42)
Checking if you have DBIx::Class::ResultSet 0 ... Yes (undef)
Checking if you have Cwd::Guard 0 ... No
Checking if you have DBIx::Class::Schema 0 ... Yes (undef)
Checking if you have IO::String 0 ... Yes (1.08)
Checking if you have List::MoreUtils 0 ... Yes (0.428)
Checking if you have CPAN::Meta 0 ... Yes (2.150010)
Checking if you have Getopt::Long 0 ... Yes (2.51)
Checking if you have Authen::Simple::Passwd 0 ... No
Checking if you have Test::LWP::UserAgent 0.018 ... Yes (0.034)
Checking if you have File::Copy 0 ... Yes (2.34)
Checking if you have MooseX::Types::Moose 0 ... Yes (0.50)
Checking if you have Path::Class::File 0 ... Yes (0.37)
Checking if you have Test::Builder::Module 0 ... Yes (1.302175)
Checking if you have File::HomeDir 0 ... Yes (1.004)
Checking if you have JSON 0 ... Yes (4.02)
Checking if you have LWP::UserAgent 0 ... Yes (6.44)
Checking if you have MooseX::Types 0 ... Yes (0.50)
Checking if you have Starman 0.3014 ... Yes (0.4015)
Checking if you have Cwd 0 ... Yes (3.78)
Checking if you have IO::Handle 0 ... Yes (1.42)
Checking if you have IO::Interactive 0 ... Yes (1.022)
Checking if you have MooseX::MarkAsMethods 0 ... Yes (0.15)
Checking if you have Dist::Metadata 0.926 ... No
Checking if you have Digest::SHA 0 ... Yes (6.02)
Checking if you have File::Temp 0 ... Yes (0.2309)
Checking if you have URI::Escape 3.31 ... Yes (3.31)
Checking if you have HTTP::Body 0 ... Yes (1.22)
Checking if you have CPAN::DistnameInfo 0 ... Yes (0.12)
Checking if you have Test::TCP 0 ... Yes (2.22)
Checking if you have Exporter 0 ... Yes (5.74)
Checking if you have version 0 ... Yes (0.9924)
Checking if you have IPC::Open3 0 ... Yes (1.21)
Checking if you have Plack 1.0028 ... Yes (1.0047)
Checking if you have IO::Pipe 0 ... Yes (1.41)
Checking if you have IO::Zlib 0 ... Yes (1.10)
Checking if you have List::Util 0 ... Yes (1.53)
Checking if you have Test::Exception 0 ... Yes (0.43)
Checking if you have HTTP::Response 0 ... Yes (6.22)
Checking if you have Encode 0 ... Yes (3.04)
Checking if you have MooseX::NonMoose 0 ... Yes (0.26)
Checking if you have lib 0 ... Yes (0.65)
Checking if you have App::Cmd 0.323 ... Yes (0.331)
Checking if you have Class::Load 0 ... Yes (0.25)
Checking if you have String::Format 0 ... Yes (1.18)
Checking if you have DateTime::TimeZone::OffsetOnly 0 ... Yes (2.39)
Checking if you have Digest::MD5 0 ... Yes (2.55_01)
Checking if you have App::Cmd::Setup 0 ... Yes (0.331)
Checking if you have IO::File 0 ... Yes (1.41)
Checking if you have JSON::PP 2.27103 ... Yes (4.04)
Checking if you have DBIx::Class 0.08200 ... Yes (0.082841)
Checking if you have Path::Class 0 ... Yes (0.37)
Checking if you have Apache::Htpasswd 0 ... No
Checking if you have File::Spec 0 ... Yes (3.78)
Checking if you have URI 0 ... Yes (1.76)
Checking if you have utf8 0 ... Yes (1.22)
Checking if you have Router::Simple 0 ... No
Checking if you have Carp 0 ... Yes (1.50)
Checking if you have Plack::Request 0 ... Yes (1.0047)
Checking if you have overload 0 ... Yes (1.31)
Checking if you have MooseX::ClassAttribute 0.27 ... No
Checking if you have Plack::Test 0 ... Yes (undef)
Checking if you have MooseX::Aliases 0 ... No
==> Found dependencies: Module::Faker::Dist, MooseX::Configuration, CPAN::Checksums, MooseX::StrictConstructor, Archive::Extract, Proc::Fork, IO::Prompt, Proc::Terminator, File::NFSLock, Cwd::Guard, Authen::Simple::Passwd, Dist::Metadata, Apache::Htpasswd, Router::Simple, MooseX::ClassAttribute, MooseX::Aliases
Searching Module::Faker::Dist (0.014) on cpanmetadb ...
--> Working on Module::Faker::Dist
Fetching http://www.cpan.org/authors/id/R/RJ/RJBS/Module-Faker-0.022.tar.gz
-> OK
Unpacking Module-Faker-0.022.tar.gz
Manifying 1 pod document
Manifying 7 pod documents
Installing /opt/plenv/versions/5.31.11/lib/perl5/site_perl/5.31.11/Module/Faker.pm
Installing /opt/plenv/versions/5.31.11/lib/perl5/site_perl/5.31.11/Module/Faker/Package.pm
Installing /opt/plenv/versions/5.31.11/lib/perl5/site_perl/5.31.11/Module/Faker/File.pm
Installing /opt/plenv/versions/5.31.11/lib/perl5/site_perl/5.31.11/Module/Faker/Appendix.pm
Installing /opt/plenv/versions/5.31.11/lib/perl5/site_perl/5.31.11/Module/Faker/Heavy.pm
Installing /opt/plenv/versions/5.31.11/lib/perl5/site_perl/5.31.11/Module/Faker/Module.pm
Installing /opt/plenv/versions/5.31.11/lib/perl5/site_perl/5.31.11/Module/Faker/Dist.pm
Installing /opt/plenv/versions/5.31.11/man/man1/module-faker.1
Installing /opt/plenv/versions/5.31.11/man/man3/Module::Faker::File.3
Installing /opt/plenv/versions/5.31.11/man/man3/Module::Faker::Appendix.3
Installing /opt/plenv/versions/5.31.11/man/man3/Module::Faker::Heavy.3
Installing /opt/plenv/versions/5.31.11/man/man3/Module::Faker::Package.3
Installing /opt/plenv/versions/5.31.11/man/man3/Module::Faker::Module.3
Installing /opt/plenv/versions/5.31.11/man/man3/Module::Faker.3
Installing /opt/plenv/versions/5.31.11/man/man3/Module::Faker::Dist.3
Installing /opt/plenv/versions/5.31.11/bin/module-faker
Appending installation info to /opt/plenv/versions/5.31.11/lib/perl5/5.31.11/x86_64-linux/perllocal.pod
-> OK
Successfully installed Module-Faker-0.022
Installing /opt/plenv/versions/5.31.11/lib/perl5/site_perl/5.31.11/x86_64-linux/.meta/Module-Faker-0.022/install.json
Installing /opt/plenv/versions/5.31.11/lib/perl5/site_perl/5.31.11/x86_64-linux/.meta/Module-Faker-0.022/MYMETA.json
Searching MooseX::Configuration (0) on cpanmetadb ...
--> Working on MooseX::Configuration
Fetching http://www.cpan.org/authors/id/D/DR/DROLSKY/MooseX-Configuration-0.02.tar.gz
-> OK
Unpacking MooseX-Configuration-0.02.tar.gz
Manifying 1 pod document
Installing /opt/plenv/versions/5.31.11/lib/perl5/site_perl/5.31.11/MooseX/Configuration.pm
Installing /opt/plenv/versions/5.31.11/lib/perl5/site_perl/5.31.11/MooseX/Configuration/Trait/Attribute.pm
Installing /opt/plenv/versions/5.31.11/lib/perl5/site_perl/5.31.11/MooseX/Configuration/Trait/Object.pm
Installing /opt/plenv/versions/5.31.11/lib/perl5/site_perl/5.31.11/MooseX/Configuration/Trait/Attribute/ConfigKey.pm
Installing /opt/plenv/versions/5.31.11/man/man3/MooseX::Configuration.3
Appending installation info to /opt/plenv/versions/5.31.11/lib/perl5/5.31.11/x86_64-linux/perllocal.pod
-> OK
Successfully installed MooseX-Configuration-0.02
Installing /opt/plenv/versions/5.31.11/lib/perl5/site_perl/5.31.11/x86_64-linux/.meta/MooseX-Configuration-0.02/install.json
Installing /opt/plenv/versions/5.31.11/lib/perl5/site_perl/5.31.11/x86_64-linux/.meta/MooseX-Configuration-0.02/MYMETA.json
Searching CPAN::Checksums (0) on cpanmetadb ...
--> Working on CPAN::Checksums
Fetching http://www.cpan.org/authors/id/A/AN/ANDK/CPAN-Checksums-2.12.tar.gz
-> OK
Unpacking CPAN-Checksums-2.12.tar.gz
make[1]: Entering directory '/home/genehack/.cpanm/work/1588119015.24609/Compress-Bzip2-2.26/bzlib-src'
make[1]: Nothing to be done for 'all'.
make[1]: Leaving directory '/home/genehack/.cpanm/work/1588119015.24609/Compress-Bzip2-2.26/bzlib-src'
"/opt/plenv/versions/5.31.11/bin/perl5.31.11" -MExtUtils::Command::MM -e 'cp_nonempty' -- Bzip2.bs blib/arch/auto/Compress/Bzip2/Bzip2.bs 644
Manifying 1 pod document
Files found in blib/arch: installing files in blib/lib into architecture dependent library tree
Installing /opt/plenv/versions/5.31.11/lib/perl5/site_perl/5.31.11/x86_64-linux/auto/Compress/Bzip2/Bzip2.so
Installing /opt/plenv/versions/5.31.11/lib/perl5/site_perl/5.31.11/x86_64-linux/auto/Compress/Bzip2/autosplit.ix
Installing /opt/plenv/versions/5.31.11/lib/perl5/site_perl/5.31.11/x86_64-linux/Compress/Bzip2.pm
Installing /opt/plenv/versions/5.31.11/man/man3/Compress::Bzip2.3
Appending installation info to /opt/plenv/versions/5.31.11/lib/perl5/5.31.11/x86_64-linux/perllocal.pod
-> OK
Successfully installed Compress-Bzip2-2.26
Installing /opt/plenv/versions/5.31.11/lib/perl5/site_perl/5.31.11/x86_64-linux/.meta/Compress-Bzip2-2.26/install.json
Installing /opt/plenv/versions/5.31.11/lib/perl5/site_perl/5.31.11/x86_64-linux/.meta/Compress-Bzip2-2.26/MYMETA.json
Building and testing CPAN-Checksums-2.12
cp lib/CPAN/Checksums.pm blib/lib/CPAN/Checksums.pm
Manifying 1 pod document
PERL_DL_NONLAZY=1 "/opt/plenv/versions/5.31.11/bin/perl5.31.11" "-MExtUtils::Command::MM" "-MTest::Harness" "-e" "undef *Test::Harness::Switches; test_harness(0, 'blib/lib', 'blib/arch')" t/*.t
t/00signature.t .. skipped: No Module::Signature found [INC = /home/genehack/.cpanm/work/1588119015.24609/CPAN-Checksums-2.12/blib/lib /home/genehack/.cpanm/work/1588119015.24609/CPAN-Checksums-2.12/blib/arch /opt/plenv/versions/5.31.11/lib/perl5/site_perl/5.31.11/x86_64-linux /opt/plenv/versions/5.31.11/lib/perl5/site_perl/5.31.11 /opt/plenv/versions/5.31.11/lib/perl5/5.31.11/x86_64-linux /opt/plenv/versions/5.31.11/lib/perl5/5.31.11 .]
t/52podcover.t ... ok
t/pod.t .......... ok
t/updatedir.t .... ok
All tests successful.
Files=4, Tests=23, 3 wallclock secs ( 0.03 usr 0.00 sys + 0.52 cusr 0.08 csys = 0.63 CPU)
Result: PASS
------------------------------
PREREQUISITES
------------------------------
Prerequisite modules loaded:
No requirements found
------------------------------
ENVIRONMENT AND OTHER CONTEXT
------------------------------
Environment variables:
LANG = en_US.UTF-8
LC_ALL = en_US.UTF-8
LC_TERMINAL = iTerm2
LC_TERMINAL_VERSION = 3.3.9
PATH = /opt/plenv/versions/5.31.11/bin:/opt/plenv/libexec:/opt/plenv/plugins/perl-build/bin:/opt/plenv/shims:/opt/nvm/versions/node/v12.16.2/bin:/opt/git/bin:/opt/emacs/bin:/opt/plenv/shims:/opt/plenv/bin:/home/genehack/bin:/usr/local/bin:/usr/bin:/bin:/usr/games
PERL_CPANM_OPT = --skip-installed --prompt
SHELL = /bin/zsh
TERM = screen-256color
Perl special variables (and OS-specific diagnostics, for MSWin32):
EGID = 1001 1001
EUID = 1001
EXECUTABLE_NAME = /opt/plenv/versions/5.31.11/bin/perl5.31.11
GID = 1001 1001
UID = 1001
Perl module toolchain versions installed:
Module Have
------------------- --------
CPAN 2.27
CPAN::Meta 2.150010
Cwd 3.78
ExtUtils::CBuilder 0.280234
ExtUtils::Command 7.44
ExtUtils::Install 2.14
ExtUtils::MakeMaker 7.44
ExtUtils::Manifest 1.72
ExtUtils::ParseXS 3.40
File::Spec 3.78
JSON 4.02
JSON::PP 4.04
Module::Build 0.4231
Module::Signature n/a
Parse::CPAN::Meta 2.150010
Test::Harness 3.42
Test::More 1.302175
YAML 1.30
YAML::Syck n/a
version 0.9924
--
Summary of my perl5 (revision 5 version 31 subversion 11) configuration:
Platform:
osname=linux
osvers=4.19.0-8-amd64
archname=x86_64-linux
uname='linux doof 4.19.0-8-amd64 #1 smp debian 4.19.98-1 (2020-01-26) x86_64 gnulinux '
config_args='-Dprefix=/opt/plenv/versions/5.31.11 -de -Dversiononly -Dusedevel -A'eval:scriptdir=/opt/plenv/versions/5.31.11/bin''
hint=recommended
useposix=true
d_sigaction=define
useithreads=undef
usemultiplicity=undef
use64bitint=define
use64bitall=define
uselongdouble=undef
usemymalloc=n
default_inc_excludes_dot=define
bincompat5005=undef
Compiler:
cc='cc'
ccflags ='-fwrapv -fno-strict-aliasing -pipe -fstack-protector-strong -I/usr/local/include -D_LARGEFILE_SOURCE -D_FILE_OFFSET_BITS=64 -D_FORTIFY_SOURCE=2'
optimize='-O2'
cppflags='-fwrapv -fno-strict-aliasing -pipe -fstack-protector-strong -I/usr/local/include'
ccversion=''
gccversion='8.3.0'
gccosandvers=''
intsize=4
longsize=8
ptrsize=8
doublesize=8
byteorder=12345678
doublekind=3
d_longlong=define
longlongsize=8
d_longdbl=define
longdblsize=16
longdblkind=3
ivtype='long'
ivsize=8
nvtype='double'
nvsize=8
Off_t='off_t'
lseeksize=8
alignbytes=8
prototype=define
Linker and Libraries:
ld='cc'
ldflags =' -fstack-protector-strong -L/usr/local/lib'
libpth=/usr/local/lib /usr/lib/gcc/x86_64-linux-gnu/8/include-fixed /usr/include/x86_64-linux-gnu /usr/lib /lib/x86_64-linux-gnu /lib/../lib /usr/lib/x86_64-linux-gnu /usr/lib/../lib /lib /lib64 /usr/lib64
libs=-lpthread -lnsl -ldl -lm -lcrypt -lutil -lc
perllibs=-lpthread -lnsl -ldl -lm -lcrypt -lutil -lc
libc=libc-2.28.so
so=so
useshrplib=false
libperl=libperl.a
gnulibc_version='2.28'
Dynamic Linking:
dlsrc=dl_dlopen.xs
dlext=so
d_dlsymun=undef
ccdlflags='-Wl,-E'
cccdlflags='-fPIC'
lddlflags='-shared -O2 -L/usr/local/lib -fstack-protector-strong'
Characteristics of this binary (from libperl):
Compile-time options:
HAS_TIMES
PERLIO_LAYERS
PERL_COPY_ON_WRITE
PERL_DONT_CREATE_GVSV
PERL_MALLOC_WRAP
PERL_OP_PARENT
PERL_PRESERVE_IVUV
PERL_USE_DEVEL
USE_64_BIT_ALL
USE_64_BIT_INT
USE_LARGE_FILES
USE_LOCALE
USE_LOCALE_COLLATE
USE_LOCALE_CTYPE
USE_LOCALE_NUMERIC
USE_LOCALE_TIME
USE_PERLIO
USE_PERL_ATOF
Built under linux
Compiled at Apr 28 2020 15:10:13
%ENV:
PERL_CPANM_OPT="--skip-installed --prompt"
@INC:
/opt/plenv/versions/5.31.11/lib/perl5/site_perl/5.31.11/x86_64-linux
/opt/plenv/versions/5.31.11/lib/perl5/site_perl/5.31.11
/opt/plenv/versions/5.31.11/lib/perl5/5.31.11/x86_64-linux
/opt/plenv/versions/5.31.11/lib/perl5/5.31.11