Back
From: metabase:user:314402c4-2aae-11df-837a-5e0a49663a4f
Subject: PASS Catalyst-Model-DBIC-Schema-0.65 v5.22.3 RC2 GNU/Linux
Date: 2016-07-28T21:56:01Z
This distribution has been tested as part of the CPAN Testers
project, supporting the Perl programming language. See
http://wiki.cpantesters.org/ for more information or email
questions to cpan-testers-discuss@perl.org
--
Dear Gareth Kirwan,
This is a computer-generated report for Catalyst-Model-DBIC-Schema-0.65
on perl 5.22.3, created by CPAN-Reporter-1.2018.
Thank you for uploading your work to CPAN. Congratulations!
All tests were successful.
Sections of this report:
* Tester comments
* Program output
* Prerequisites
* Environment and other context
------------------------------
TESTER COMMENTS
------------------------------
Additional comments from tester:
none provided
------------------------------
PROGRAM OUTPUT
------------------------------
Output from '/usr/bin/make test':
PERL_DL_NONLAZY=1 "/bbbike/perl-5.22.3-RC2/bin/perl" "-MExtUtils::Command::MM" "-MTest::Harness" "-e" "undef *Test::Harness::Switches; test_harness(0, 'inc', 'blib/lib', 'blib/arch')" t/01use.t t/02pod.t t/05testapp.t t/06c3_issues.t t/07connect_info.t t/08helper.t t/09schema_options.t t/10literal_sql_through_accessor.t
t/01use.t ........................... ok
t/02pod.t ........................... skipped: set TEST_POD to enable this test
t/05testapp.t ....................... skipped: Enable this optional test with $ENV{C_M_DBIC_SCHEMA_TESTAPP}
t/06c3_issues.t ..................... ok
t/07connect_info.t .................. ok
t/08helper.t ........................ ok
t/09schema_options.t ................ ok
t/10literal_sql_through_accessor.t .. ok
All tests successful.
Files=8, Tests=70, 4 wallclock secs ( 0.04 usr 0.03 sys + 2.82 cusr 0.38 csys = 3.27 CPU)
Result: PASS
------------------------------
PREREQUISITES
------------------------------
Prerequisite modules loaded:
requires:
Module Need Have
--------------------------------------- -------- --------
Carp::Clan 0 6.06
Catalyst::Component::InstancePerContext 0 0.001001
Catalyst::Devel 1.0 1.39
Catalyst::Runtime 5.80005 5.90112
CatalystX::Component::Traits 0.14 0.19
DBD::SQLite 0 1.50
DBIx::Class 0.08114 0.082840
DBIx::Class::Schema::Loader 0.04005 0.07045
Hash::Merge 0 0.200
List::MoreUtils 0 0.416
Module::Runtime 0.012 0.014
Moose 1.12 2.1804
MooseX::MarkAsMethods 0.13 0.15
MooseX::NonMoose 0.16 0.26
MooseX::Types 0 0.46
MooseX::Types::LoadableClass 0.009 0.014
namespace::autoclean 0.09 0.28
namespace::clean 0 0.27
perl 5.008001 5.022003
Storable 0 2.53_02
Test::Exception 0 0.43
Test::More 0.94 1.302049
Test::Requires 0 0.10
Tie::IxHash 0 1.23
Try::Tiny 0 0.24
build_requires:
Module Need Have
--------------------------------------- -------- --------
DBD::SQLite 0 1.50
ExtUtils::MakeMaker 6.59 7.18
Storable 0 2.53_02
Test::Exception 0 0.43
Test::More 0.94 1.302049
Test::Requires 0 0.10
configure_requires:
Module Need Have
--------------------------------------- -------- --------
ExtUtils::MakeMaker 6.59 7.18
------------------------------
ENVIRONMENT AND OTHER CONTEXT
------------------------------
Environment variables:
LANG = C
LC_ALL = de_DE.UTF-8
PATH = /usr/local/bin:/usr/bin:/bin:/usr/local/sbin:/usr/sbin:/sbin:/home/cpansand/bin/linux-gnu:/home/cpansand/bin/sh:/home/cpansand/bin:/usr/games:/home/cpansand/devel:/home/eserte/src/srezic-misc/scripts
PERL5LIB =
PERL5OPT =
PERL5_CPANPLUS_IS_RUNNING = 23449
PERL5_CPAN_IS_RUNNING = 23449
PERL5_CPAN_IS_RUNNING_IN_RECURSION = 23224,23449
PERLDOC = -MPod::Perldoc::ToTextOverstrike
PERL_BATCH = yes
PERL_CANARY_STABILITY_NOPROMPT = 1
PERL_CPAN_REPORTER_CONFIG = /run/user/1023/cpansmoker/2016072815/cpanreporter_000_config.ini
PERL_EXTUTILS_AUTOINSTALL = --defaultdeps
PERL_PARALLEL_SMOKER = yes
SHELL = /bin/zsh
TERM = screen
TMPDIR = /run/user/1023/cpansmoker/2016072815
Perl special variables (and OS-specific diagnostics, for MSWin32):
$^X = /bbbike/perl-5.22.3-RC2/bin/perl
$UID/$EUID = 1023 / 1023
$GID = 1023 1023
$EGID = 1023 1023
Perl module toolchain versions installed:
Module Have
------------------- ----------
CPAN 2.11_01
CPAN::Meta 2.150001
Cwd 3.56_02
ExtUtils::CBuilder 0.280221
ExtUtils::Command 7.18
ExtUtils::Install 2.04
ExtUtils::MakeMaker 7.18
ExtUtils::Manifest 1.70
ExtUtils::ParseXS 3.28
File::Spec 3.56_02
JSON 2.90
JSON::PP 2.27300_01
Module::Build 0.4218
Module::Signature 0.80
Parse::CPAN::Meta 1.4414
Test::Harness 3.35_01
Test::More 1.302049
YAML 1.18
YAML::Syck 1.29
version 0.9909
--
Summary of my perl5 (revision 5 version 22 subversion 3) configuration:
Platform:
osname=linux, osvers=3.16.0-4-amd64, archname=x86_64-linux
uname='linux eserte 3.16.0-4-amd64 #1 smp debian 3.16.7-ckt25-2 (2016-04-08) x86_64 gnulinux '
config_args='-ds -e -Dprefix=/opt/perl-5.22.3-RC2 -Dcf_email=srezic@cpan.org'
hint=recommended, useposix=true, d_sigaction=define
useithreads=undef, usemultiplicity=undef
use64bitint=define, use64bitall=define, uselongdouble=undef
usemymalloc=n, bincompat5005=undef
Compiler:
cc='cc', ccflags ='-fwrapv -fno-strict-aliasing -pipe -fstack-protector-strong -I/usr/local/include -D_LARGEFILE_SOURCE -D_FILE_OFFSET_BITS=64 -D_FORTIFY_SOURCE=2',
optimize='-O2',
cppflags='-fwrapv -fno-strict-aliasing -pipe -fstack-protector-strong -I/usr/local/include'
ccversion='', gccversion='4.9.2', gccosandvers=''
intsize=4, longsize=8, ptrsize=8, doublesize=8, byteorder=12345678, doublekind=3
d_longlong=define, longlongsize=8, d_longdbl=define, longdblsize=16, longdblkind=3
ivtype='long', ivsize=8, nvtype='double', nvsize=8, Off_t='off_t', lseeksize=8
alignbytes=8, prototype=define
Linker and Libraries:
ld='cc', ldflags =' -fstack-protector-strong -L/usr/local/lib'
libpth=/usr/local/lib /usr/lib/gcc/x86_64-linux-gnu/4.9/include-fixed /usr/include/x86_64-linux-gnu /usr/lib /lib/x86_64-linux-gnu /lib/../lib /usr/lib/x86_64-linux-gnu /usr/lib/../lib /lib
libs=-lpthread -lnsl -lgdbm -ldb -ldl -lm -lcrypt -lutil -lc -lgdbm_compat
perllibs=-lpthread -lnsl -ldl -lm -lcrypt -lutil -lc
libc=libc-2.19.so, so=so, useshrplib=false, libperl=libperl.a
gnulibc_version='2.19'
Dynamic Linking:
dlsrc=dl_dlopen.xs, dlext=so, d_dlsymun=undef, ccdlflags='-Wl,-E'
cccdlflags='-fPIC', lddlflags='-shared -O2 -L/usr/local/lib -fstack-protector-strong'
Characteristics of this binary (from libperl):
Compile-time options: HAS_TIMES PERLIO_LAYERS PERL_DONT_CREATE_GVSV
PERL_HASH_FUNC_ONE_AT_A_TIME_HARD PERL_MALLOC_WRAP
PERL_NEW_COPY_ON_WRITE PERL_PRESERVE_IVUV
USE_64_BIT_ALL USE_64_BIT_INT USE_LARGE_FILES
USE_LOCALE USE_LOCALE_COLLATE USE_LOCALE_CTYPE
USE_LOCALE_NUMERIC USE_LOCALE_TIME USE_PERLIO
USE_PERL_ATOF
Locally applied patches:
RC2
Built under linux
Compiled at Jul 25 2016 18:26:00
%ENV:
PERL5LIB=""
PERL5OPT=""
PERL5_CPANPLUS_IS_RUNNING="23449"
PERL5_CPAN_IS_RUNNING="23449"
PERL5_CPAN_IS_RUNNING_IN_RECURSION="23224,23449"
PERLDOC="-MPod::Perldoc::ToTextOverstrike"
PERL_BATCH="yes"
PERL_CANARY_STABILITY_NOPROMPT="1"
PERL_CPAN_REPORTER_CONFIG="/run/user/1023/cpansmoker/2016072815/cpanreporter_000_config.ini"
PERL_EXTUTILS_AUTOINSTALL="--defaultdeps"
PERL_PARALLEL_SMOKER="yes"
@INC:
/opt/perl-5.22.3-RC2/lib/site_perl/5.22.3/x86_64-linux
/opt/perl-5.22.3-RC2/lib/site_perl/5.22.3
/opt/perl-5.22.3-RC2/lib/5.22.3/x86_64-linux
/opt/perl-5.22.3-RC2/lib/5.22.3
.