WebService-Client v1.0001 Perl 5 v5.39.7 x86_64-linux-ld

Status
Pass
From
Andreas J. König (ANDK)
Dist
WebService-Client v1.0001
Platform
Perl 5 v5.39.7 x86_64-linux-ld
Date
2024-02-10 15:57:20
ID
129f62b0-c82d-11ee-a1b1-2fcc02f7fda2
This distribution has been tested as part of the CPAN Testers
project, supporting the Perl programming language.  See
http://wiki.cpantesters.org/ for more information or email
questions to cpan-testers-discuss@perl.org


--
Dear Naveed Massjouni,

This is a computer-generated report for WebService-Client-1.0001
on perl 5.39.7, created by CPAN-Reporter-1.2019.

Thank you for uploading your work to CPAN.  Congratulations!
All tests were successful.

Sections of this report:

    * Tester comments
    * Program output
    * Prerequisites
    * Environment and other context

------------------------------
TESTER COMMENTS
------------------------------

Additional comments from tester:

this report is from an automated smoke testing program
and was not reviewed by a human for accuracy

------------------------------
PROGRAM OUTPUT
------------------------------

Output from '/usr/bin/make test':

PERL_DL_NONLAZY=1 "/tmp/basesmoker-reloperl-GFa2/bin/perl" "-MExtUtils::Command::MM" "-MTest::Harness" "-e" "undef *Test::Harness::Switches; test_harness(0, 'blib/lib', 'blib/arch')" t/*.t
t/00-compile.t ................. ok
# 
# Versions for all modules listed in MYMETA.json (including optional ones):
# 
# === Configure Requires ===
# 
#     Module              Want Have
#     ------------------- ---- ----
#     ExtUtils::MakeMaker  any 7.70
# 
# === Build Requires ===
# 
#     Module              Want Have
#     ------------------- ---- ----
#     ExtUtils::MakeMaker  any 7.70
# 
# === Test Requires ===
# 
#     Module               Want     Have
#     -------------------- ---- --------
#     ExtUtils::MakeMaker   any     7.70
#     File::Spec            any     3.90
#     IO::Handle            any     1.55
#     IPC::Open3            any     1.22
#     Test::LWP::UserAgent  any    0.036
#     Test::More            any 1.302198
#     strict                any     1.13
#     warnings              any     1.67
# 
# === Test Recommends ===
# 
#     Module         Want     Have
#     ---------- -------- --------
#     CPAN::Meta 2.120900 2.150010
# 
# === Runtime Requires ===
# 
#     Module                         Want     Have
#     -------------------------- -------- --------
#     Carp                            any     1.54
#     HTTP::Message                  6.06     6.45
#     HTTP::Request                   any     6.45
#     HTTP::Request::Common           any     6.45
#     HTTP::Response::Stringable   0.0002   0.0002
#     JSON::MaybeXS                   any 1.004005
#     LWP::UserAgent                  any     6.73
#     Moo                        1.005000 2.005005
#     Moo::Role                       any 2.005005
# 
t/00-report-prereqs.t .......... ok
t/00-test-get.t ................ ok
t/author-eof.t ................. skipped: these tests are for testing by the author
t/author-eol.t ................. skipped: these tests are for testing by the author
t/author-no-breakpoints.t ...... skipped: these tests are for testing by the author
t/author-no-tabs.t ............. skipped: these tests are for testing by the author
t/author-pod-syntax.t .......... skipped: these tests are for testing by the author
t/author-portability.t ......... skipped: these tests are for testing by the author
t/release-distmeta.t ........... skipped: these tests are for release candidate testing
t/release-kwalitee.t ........... skipped: these tests are for release candidate testing
t/release-pause-permissions.t .. skipped: these tests are for release candidate testing
t/release-unused-vars.t ........ skipped: these tests are for release candidate testing
All tests successful.
Files=13, Tests=4,  0 wallclock secs ( 0.03 usr  0.01 sys +  0.48 cusr  0.09 csys =  0.61 CPU)
Result: PASS

------------------------------
PREREQUISITES
------------------------------

Prerequisite modules loaded:

requires:

    Module                     Need     Have    
    -------------------------- -------- --------
    Carp                       0        1.54    
    HTTP::Message              6.06     6.45    
    HTTP::Request              0        6.45    
    HTTP::Request::Common      0        6.45    
    HTTP::Response::Stringable 0.0002   0.0002  
    JSON::MaybeXS              0        1.004005
    LWP::UserAgent             0        6.73    
    Moo                        1.005000 2.005005
    Moo::Role                  0        2.005005
    perl                       5.006    5.039007

build_requires:

    Module                     Need     Have    
    -------------------------- -------- --------
    ExtUtils::MakeMaker        0        7.70    
    File::Spec                 0        3.90    
    IO::Handle                 0        1.55    
    IPC::Open3                 0        1.22    
    strict                     0        1.13    
    Test::LWP::UserAgent       0        0.036   
    Test::More                 0        1.302198
    warnings                   0        1.67    

configure_requires:

    Module                     Need     Have    
    -------------------------- -------- --------
    ExtUtils::MakeMaker        0        7.70    
    perl                       5.006    5.039007


------------------------------
ENVIRONMENT AND OTHER CONTEXT
------------------------------

Environment variables:

    AUTOMATED_TESTING = 1
    LANG = en_US.UTF-8
    PATH = /home/sand/bin:/usr/local/bin:/usr/local/sbin:/usr/sbin:/usr/bin:/sbin:/bin:/usr/games:/usr/local/games:/snap/bin:/usr/local/perl/bin:/usr/X11/bin
    PERL = /tmp/basesmoker-reloperl-GFa2/bin/perl
    PERL5LIB = /tmp/loop_over_bdir-2083-iTyLi7/downsexta-0/blib/arch:/tmp/loop_over_bdir-2083-iTyLi7/downsexta-0/blib/lib:/tmp/loop_over_bdir-2083-iTyLi7/DBIx-Migration-Directories-0.12-0/blib/arch:/tmp/loop_over_bdir-2083-iTyLi7/DBIx-Migration-Directories-0.12-0/blib/lib
    PERL5OPT = 
    PERL5_CPANPLUS_IS_RUNNING = 2095
    PERL5_CPAN_IS_RUNNING = 2095
    PERL_CANARY_STABILITY_NOPROMPT = 1
    PERL_MM_USE_DEFAULT = 1
    PERL_USE_UNSAFE_INC = 1
    SHELL = /usr/bin/zsh
    TERM = screen

Perl special variables (and OS-specific diagnostics, for MSWin32):

    $^X = /tmp/basesmoker-reloperl-GFa2/bin/perl
    $UID/$EUID = 1005 / 1005
    $GID = 1005 1005
    $EGID = 1005 1005

Perl module toolchain versions installed:

    Module              Have    
    ------------------- --------
    CPAN                2.36    
    CPAN::Meta          2.150010
    Cwd                 3.90    
    ExtUtils::CBuilder  0.280240
    ExtUtils::Command   7.70    
    ExtUtils::Install   2.22    
    ExtUtils::MakeMaker 7.70    
    ExtUtils::Manifest  1.75    
    ExtUtils::ParseXS   3.51    
    File::Spec          3.90    
    JSON                4.10    
    JSON::PP            4.16    
    Module::Build       0.4234  
    Module::Signature   0.88    
    Parse::CPAN::Meta   2.150010
    Test2               1.302198
    Test::Harness       3.48    
    Test::More          1.302198
    YAML                1.31    
    YAML::Syck          1.34    
    version             0.9930  


--

Summary of my perl5 (revision 5 version 39 subversion 7) configuration:
  Commit id: 96559478fdc3f2fe9c51cad02ebbae0c950b7b68
  Platform:
    osname=linux
    osvers=5.4.0-169-generic
    archname=x86_64-linux-ld
    uname='linux k93focal 5.4.0-169-generic #187-ubuntu smp thu nov 23 14:52:28 utc 2023 x86_64 x86_64 x86_64 gnulinux '
    config_args='-Dprefix=/home/sand/src/perl/repoperls/installed-perls/host/k93focal/v5.39.7/d3e4 -Dmyhostname=k93focal -Dinstallusrbinperl=n -Uversiononly -Dusedevel -des -Ui_db -Dlibswanted=cl pthread socket inet nsl gdbm dbm malloc dl ld sun m crypt sec util c cposix posix ucb BSD gdbm_compat -Uuseithreads -Duselongdouble -DEBUGGING=both'
    hint=recommended
    useposix=true
    d_sigaction=define
    useithreads=undef
    usemultiplicity=undef
    use64bitint=define
    use64bitall=define
    uselongdouble=define
    usemymalloc=n
    default_inc_excludes_dot=define
  Compiler:
    cc='cc'
    ccflags ='-fwrapv -DDEBUGGING -fno-strict-aliasing -pipe -fstack-protector-strong -I/usr/local/include -D_LARGEFILE_SOURCE -D_FILE_OFFSET_BITS=64'
    optimize='-O2 -g'
    cppflags='-fwrapv -DDEBUGGING -fno-strict-aliasing -pipe -fstack-protector-strong -I/usr/local/include'
    ccversion=''
    gccversion='9.4.0'
    gccosandvers=''
    intsize=4
    longsize=8
    ptrsize=8
    doublesize=8
    byteorder=12345678
    doublekind=3
    d_longlong=define
    longlongsize=8
    d_longdbl=define
    longdblsize=16
    longdblkind=3
    ivtype='long'
    ivsize=8
    nvtype='long double'
    nvsize=16
    Off_t='off_t'
    lseeksize=8
    alignbytes=16
    prototype=define
  Linker and Libraries:
    ld='cc'
    ldflags =' -fstack-protector-strong -L/usr/local/lib'
    libpth=/usr/local/lib /usr/lib/x86_64-linux-gnu /usr/lib /usr/lib64
    libs=-lpthread -lnsl -ldl -lm -lcrypt -lutil -lc
    perllibs=-lpthread -lnsl -ldl -lm -lcrypt -lutil -lc
    libc=libc-2.31.so
    so=so
    useshrplib=false
    libperl=libperl.a
    gnulibc_version='2.31'
  Dynamic Linking:
    dlsrc=dl_dlopen.xs
    dlext=so
    d_dlsymun=undef
    ccdlflags='-Wl,-E'
    cccdlflags='-fPIC'
    lddlflags='-shared -O2 -g -L/usr/local/lib -fstack-protector-strong'


Characteristics of this binary (from libperl): 
  Compile-time options:
    DEBUGGING
    HAS_LONG_DOUBLE
    HAS_STRTOLD
    HAS_TIMES
    PERLIO_LAYERS
    PERL_COPY_ON_WRITE
    PERL_DONT_CREATE_GVSV
    PERL_HASH_FUNC_SIPHASH13
    PERL_HASH_USE_SBOX32
    PERL_MALLOC_WRAP
    PERL_OP_PARENT
    PERL_PRESERVE_IVUV
    PERL_USE_DEVEL
    PERL_USE_SAFE_PUTENV
    USE_64_BIT_ALL
    USE_64_BIT_INT
    USE_LARGE_FILES
    USE_LOCALE
    USE_LOCALE_COLLATE
    USE_LOCALE_CTYPE
    USE_LOCALE_NUMERIC
    USE_LOCALE_TIME
    USE_LONG_DOUBLE
    USE_PERLIO
    USE_PERL_ATOF
  Built under linux
  Compiled at Jan 20 2024 14:42:41
  %ENV:
    PERL="/tmp/basesmoker-reloperl-GFa2/bin/perl"
    PERL5LIB="/tmp/loop_over_bdir-2083-iTyLi7/downsexta-0/blib/arch:/tmp/loop_over_bdir-2083-iTyLi7/downsexta-0/blib/lib:/tmp/loop_over_bdir-2083-iTyLi7/DBIx-Migration-Directories-0.12-0/blib/arch:/tmp/loop_over_bdir-2083-iTyLi7/DBIx-Migration-Directories-0.12-0/blib/lib"
    PERL5OPT=""
    PERL5_CPANPLUS_IS_RUNNING="2095"
    PERL5_CPAN_IS_RUNNING="2095"
    PERL_CANARY_STABILITY_NOPROMPT="1"
    PERL_MM_USE_DEFAULT="1"
    PERL_USE_UNSAFE_INC="1"
  @INC:
    /tmp/loop_over_bdir-2083-iTyLi7/downsexta-0/blib/arch
    /tmp/loop_over_bdir-2083-iTyLi7/downsexta-0/blib/lib
    /tmp/loop_over_bdir-2083-iTyLi7/DBIx-Migration-Directories-0.12-0/blib/arch
    /tmp/loop_over_bdir-2083-iTyLi7/DBIx-Migration-Directories-0.12-0/blib/lib
    /home/sand/src/perl/repoperls/installed-perls/host/k93focal/v5.39.7/d3e4/lib/site_perl/5.39.7/x86_64-linux-ld
    /home/sand/src/perl/repoperls/installed-perls/host/k93focal/v5.39.7/d3e4/lib/site_perl/5.39.7
    /home/sand/src/perl/repoperls/installed-perls/host/k93focal/v5.39.7/d3e4/lib/5.39.7/x86_64-linux-ld
    /home/sand/src/perl/repoperls/installed-perls/host/k93focal/v5.39.7/d3e4/lib/5.39.7
    .