DBD-SQLite v1.72 Perl 5 v5.36.0 x86_64-linux-thread-multi

Status
Pass
From
Daniel Șuteu
Dist
DBD-SQLite v1.72
Platform
Perl 5 v5.36.0 x86_64-linux-thread-multi
Date
2022-11-05 11:57:50
ID
12b51df0-5d01-11ed-89e1-29a8c021b9a4
This distribution has been tested as part of the CPAN Testers
project, supporting the Perl programming language.  See
https://wiki.cpantesters.org/ for more information or email
questions to cpan-testers-discuss@perl.org


--
Dear ISHIGAKI,

This is a computer-generated report for DBD-SQLite-1.72
on perl 5.36.0, created by App::cpanminus::reporter 0.17 (1.7046).

Thank you for uploading your work to CPAN.  Congratulations!
All tests were successful.

Sections of this report:

    * Tester comments
    * Program output
    * Prerequisites
    * Environment and other context

------------------------------
TESTER COMMENTS
------------------------------

Additional comments from tester:

none provided

------------------------------
PROGRAM OUTPUT
------------------------------

Output from '':

Building and testing DBD-SQLite-1.72
[proxychains] DLL init: proxychains-ng 4.16
[proxychains] DLL init: proxychains-ng 4.16
[proxychains] DLL init: proxychains-ng 4.16
[proxychains] DLL init: proxychains-ng 4.16
[proxychains] DLL init: proxychains-ng 4.16
[proxychains] DLL init: proxychains-ng 4.16
[proxychains] DLL init: proxychains-ng 4.16
[proxychains] DLL init: proxychains-ng 4.16
[proxychains] DLL init: proxychains-ng 4.16
[proxychains] DLL init: proxychains-ng 4.16
[proxychains] DLL init: proxychains-ng 4.16
[proxychains] DLL init: proxychains-ng 4.16
[proxychains] DLL init: proxychains-ng 4.16
[proxychains] DLL init: proxychains-ng 4.16
[proxychains] DLL init: proxychains-ng 4.16
[proxychains] DLL init: proxychains-ng 4.16
[proxychains] DLL init: proxychains-ng 4.16
[proxychains] DLL init: proxychains-ng 4.16
[proxychains] DLL init: proxychains-ng 4.16
[proxychains] DLL init: proxychains-ng 4.16
[proxychains] DLL init: proxychains-ng 4.16
[proxychains] DLL init: proxychains-ng 4.16
[proxychains] DLL init: proxychains-ng 4.16
[proxychains] DLL init: proxychains-ng 4.16
[proxychains] DLL init: proxychains-ng 4.16
[proxychains] DLL init: proxychains-ng 4.16
[proxychains] DLL init: proxychains-ng 4.16
[proxychains] DLL init: proxychains-ng 4.16
[proxychains] DLL init: proxychains-ng 4.16
[proxychains] DLL init: proxychains-ng 4.16
[proxychains] DLL init: proxychains-ng 4.16
[proxychains] DLL init: proxychains-ng 4.16
[proxychains] DLL init: proxychains-ng 4.16
[proxychains] DLL init: proxychains-ng 4.16
[proxychains] DLL init: proxychains-ng 4.16
[proxychains] DLL init: proxychains-ng 4.16
[proxychains] DLL init: proxychains-ng 4.16
Running Mkbootstrap for SQLite ()
[proxychains] DLL init: proxychains-ng 4.16
[proxychains] DLL init: proxychains-ng 4.16
[proxychains] DLL init: proxychains-ng 4.16
[proxychains] DLL init: proxychains-ng 4.16
chmod 644 "SQLite.bs"
[proxychains] DLL init: proxychains-ng 4.16
[proxychains] DLL init: proxychains-ng 4.16
"/usr/bin/perl" -p -e "s/~DRIVER~/SQLite/g" /usr/lib/perl5/5.36/site_perl/auto/DBI/Driver.xst > SQLite.xsi
[proxychains] DLL init: proxychains-ng 4.16
[proxychains] DLL init: proxychains-ng 4.16
cc -c  -I. -I/usr/lib/perl5/5.36/site_perl/auto/DBI -D_REENTRANT -D_GNU_SOURCE -fwrapv -fno-strict-aliasing -pipe -fstack-protector-strong -I/usr/local/include -D_LARGEFILE_SOURCE -D_FILE_OFFSET_BITS=64 -Wl,-Bsymbolic -march=native -O3 -pipe -fno-plt -fstack-clash-protection -fcf-protection   -DVERSION=\"1.72\" -DXS_VERSION=\"1.72\" -fPIC "-I/usr/lib/perl5/5.36/core_perl/CORE"  -DSQLITE_ENABLE_FTS4 -DSQLITE_ENABLE_FTS3_PARENTHESIS -DSQLITE_ENABLE_RTREE -DSQLITE_ENABLE_COLUMN_METADATA -DSQLITE_ENABLE_JSON1 -DSQLITE_ENABLE_FTS5 -DSQLITE_ENABLE_MATH_FUNCTIONS -DNDEBUG=1 -DHAVE_USLEEP=1 dbdimp.c
[proxychains] DLL init: proxychains-ng 4.16
cp lib/DBD/SQLite/Fulltext_search.pod blib/lib/DBD/SQLite/Fulltext_search.pod
cp lib/DBD/SQLite/VirtualTable.pm blib/lib/DBD/SQLite/VirtualTable.pm
cp lib/DBD/SQLite/Cookbook.pod blib/lib/DBD/SQLite/Cookbook.pod
cp lib/DBD/SQLite/Constants.pm blib/lib/DBD/SQLite/Constants.pm
cp lib/DBD/SQLite/VirtualTable/FileContent.pm blib/lib/DBD/SQLite/VirtualTable/FileContent.pm
cp lib/DBD/SQLite/VirtualTable/PerlData.pm blib/lib/DBD/SQLite/VirtualTable/PerlData.pm
cp lib/DBD/SQLite.pm blib/lib/DBD/SQLite.pm
cp lib/DBD/SQLite/GetInfo.pm blib/lib/DBD/SQLite/GetInfo.pm
[proxychains] DLL init: proxychains-ng 4.16
[proxychains] DLL init: proxychains-ng 4.16
cc -c  -I. -I/usr/lib/perl5/5.36/site_perl/auto/DBI -D_REENTRANT -D_GNU_SOURCE -fwrapv -fno-strict-aliasing -pipe -fstack-protector-strong -I/usr/local/include -D_LARGEFILE_SOURCE -D_FILE_OFFSET_BITS=64 -Wl,-Bsymbolic -march=native -O3 -pipe -fno-plt -fstack-clash-protection -fcf-protection   -DVERSION=\"1.72\" -DXS_VERSION=\"1.72\" -fPIC "-I/usr/lib/perl5/5.36/core_perl/CORE"  -DSQLITE_ENABLE_FTS4 -DSQLITE_ENABLE_FTS3_PARENTHESIS -DSQLITE_ENABLE_RTREE -DSQLITE_ENABLE_COLUMN_METADATA -DSQLITE_ENABLE_JSON1 -DSQLITE_ENABLE_FTS5 -DSQLITE_ENABLE_MATH_FUNCTIONS -DNDEBUG=1 -DHAVE_USLEEP=1 sqlite3.c
[proxychains] DLL init: proxychains-ng 4.16
[proxychains] DLL init: proxychains-ng 4.16
[proxychains] DLL init: proxychains-ng 4.16
[proxychains] DLL init: proxychains-ng 4.16
[proxychains] DLL init: proxychains-ng 4.16
[proxychains] DLL init: proxychains-ng 4.16
[proxychains] DLL init: proxychains-ng 4.16
"/usr/bin/perl" -MExtUtils::Command::MM -e 'cp_nonempty' -- SQLite.bs blib/arch/auto/DBD/SQLite/SQLite.bs 644
[proxychains] DLL init: proxychains-ng 4.16
[proxychains] DLL init: proxychains-ng 4.16
"/usr/bin/perl" "/usr/share/perl5/site_perl/ExtUtils/xsubpp"  -typemap '/usr/share/perl5/core_perl/ExtUtils/typemap' -typemap '/home/swampyx/.cpanm/work/1667648014.31713/DBD-SQLite-1.72/typemap'  SQLite.xs > SQLite.xsc
[proxychains] DLL init: proxychains-ng 4.16
[proxychains] DLL init: proxychains-ng 4.16
[proxychains] DLL init: proxychains-ng 4.16
[proxychains] DLL init: proxychains-ng 4.16
mv SQLite.xsc SQLite.c
[proxychains] DLL init: proxychains-ng 4.16
[proxychains] DLL init: proxychains-ng 4.16
cc -c  -I. -I/usr/lib/perl5/5.36/site_perl/auto/DBI -D_REENTRANT -D_GNU_SOURCE -fwrapv -fno-strict-aliasing -pipe -fstack-protector-strong -I/usr/local/include -D_LARGEFILE_SOURCE -D_FILE_OFFSET_BITS=64 -Wl,-Bsymbolic -march=native -O3 -pipe -fno-plt -fstack-clash-protection -fcf-protection   -DVERSION=\"1.72\" -DXS_VERSION=\"1.72\" -fPIC "-I/usr/lib/perl5/5.36/core_perl/CORE"  -DSQLITE_ENABLE_FTS4 -DSQLITE_ENABLE_FTS3_PARENTHESIS -DSQLITE_ENABLE_RTREE -DSQLITE_ENABLE_COLUMN_METADATA -DSQLITE_ENABLE_JSON1 -DSQLITE_ENABLE_FTS5 -DSQLITE_ENABLE_MATH_FUNCTIONS -DNDEBUG=1 -DHAVE_USLEEP=1 SQLite.c
[proxychains] DLL init: proxychains-ng 4.16
[proxychains] DLL init: proxychains-ng 4.16
[proxychains] DLL init: proxychains-ng 4.16
[proxychains] DLL init: proxychains-ng 4.16
[proxychains] DLL init: proxychains-ng 4.16
[proxychains] DLL init: proxychains-ng 4.16
[proxychains] DLL init: proxychains-ng 4.16
[proxychains] DLL init: proxychains-ng 4.16
[proxychains] DLL init: proxychains-ng 4.16
[proxychains] DLL init: proxychains-ng 4.16
[proxychains] DLL init: proxychains-ng 4.16
[proxychains] DLL init: proxychains-ng 4.16
[proxychains] DLL init: proxychains-ng 4.16
[proxychains] DLL init: proxychains-ng 4.16
[proxychains] DLL init: proxychains-ng 4.16
[proxychains] DLL init: proxychains-ng 4.16
[proxychains] DLL init: proxychains-ng 4.16
[proxychains] DLL init: proxychains-ng 4.16
[proxychains] DLL init: proxychains-ng 4.16
rm -f blib/arch/auto/DBD/SQLite/SQLite.so
[proxychains] DLL init: proxychains-ng 4.16
cc  -shared -Wl,-O1,--sort-common,--as-needed,-z,relro,-z,now -flto -L/usr/local/lib -fstack-protector-strong -Wl,-Bsymbolic  SQLite.o dbdimp.o sqlite3.o  -o blib/arch/auto/DBD/SQLite/SQLite.so  \
      \
  
[proxychains] DLL init: proxychains-ng 4.16
[proxychains] DLL init: proxychains-ng 4.16
[proxychains] DLL init: proxychains-ng 4.16
[proxychains] DLL init: proxychains-ng 4.16
chmod 755 blib/arch/auto/DBD/SQLite/SQLite.so
[proxychains] DLL init: proxychains-ng 4.16
[proxychains] DLL init: proxychains-ng 4.16
[proxychains] DLL init: proxychains-ng 4.16
[proxychains] DLL init: proxychains-ng 4.16
[proxychains] DLL init: proxychains-ng 4.16
[proxychains] DLL init: proxychains-ng 4.16
[proxychains] DLL init: proxychains-ng 4.16
Manifying 7 pod documents
[proxychains] DLL init: proxychains-ng 4.16
[proxychains] DLL init: proxychains-ng 4.16
[proxychains] DLL init: proxychains-ng 4.16
[proxychains] DLL init: proxychains-ng 4.16
[proxychains] DLL init: proxychains-ng 4.16
"/usr/bin/perl" -MExtUtils::Command::MM -e 'cp_nonempty' -- SQLite.bs blib/arch/auto/DBD/SQLite/SQLite.bs 644
[proxychains] DLL init: proxychains-ng 4.16
[proxychains] DLL init: proxychains-ng 4.16
[proxychains] DLL init: proxychains-ng 4.16
[proxychains] DLL init: proxychains-ng 4.16
[proxychains] DLL init: proxychains-ng 4.16
[proxychains] DLL init: proxychains-ng 4.16
[proxychains] DLL init: proxychains-ng 4.16
[proxychains] DLL init: proxychains-ng 4.16
[proxychains] DLL init: proxychains-ng 4.16
[proxychains] DLL init: proxychains-ng 4.16
[proxychains] DLL init: proxychains-ng 4.16
[proxychains] DLL init: proxychains-ng 4.16
[proxychains] DLL init: proxychains-ng 4.16
[proxychains] DLL init: proxychains-ng 4.16
[proxychains] DLL init: proxychains-ng 4.16
[proxychains] DLL init: proxychains-ng 4.16
[proxychains] DLL init: proxychains-ng 4.16
[proxychains] DLL init: proxychains-ng 4.16
[proxychains] DLL init: proxychains-ng 4.16
PERL_DL_NONLAZY=1 "/usr/bin/perl" "-MExtUtils::Command::MM" "-MTest::Harness" "-e" "undef *Test::Harness::Switches; test_harness(0, 'blib/lib', 'blib/arch')" t/*.t t/*/*.t
[proxychains] DLL init: proxychains-ng 4.16
[proxychains] DLL init: proxychains-ng 4.16
[proxychains] DLL init: proxychains-ng 4.16
[proxychains] DLL init: proxychains-ng 4.16
[proxychains] DLL init: proxychains-ng 4.16
# $DBI::VERSION=1.643
# Compile Options:
#   ATOMIC_INTRINSICS=1
#   COMPILER=gcc-12.2.0
#   DEFAULT_AUTOVACUUM
#   DEFAULT_CACHE_SIZE=-2000
#   DEFAULT_FILE_FORMAT=4
#   DEFAULT_JOURNAL_SIZE_LIMIT=-1
#   DEFAULT_MMAP_SIZE=0
#   DEFAULT_PAGE_SIZE=4096
#   DEFAULT_PCACHE_INITSZ=20
#   DEFAULT_RECURSIVE_TRIGGERS
#   DEFAULT_SECTOR_SIZE=4096
#   DEFAULT_SYNCHRONOUS=2
#   DEFAULT_WAL_AUTOCHECKPOINT=1000
#   DEFAULT_WAL_SYNCHRONOUS=2
#   DEFAULT_WORKER_THREADS=0
#   ENABLE_COLUMN_METADATA
#   ENABLE_FTS3
#   ENABLE_FTS3_PARENTHESIS
#   ENABLE_FTS4
#   ENABLE_FTS5
#   ENABLE_MATH_FUNCTIONS
#   ENABLE_RTREE
#   MALLOC_SOFT_LIMIT=1024
#   MAX_ATTACHED=10
#   MAX_COLUMN=2000
#   MAX_COMPOUND_SELECT=500
#   MAX_DEFAULT_PAGE_SIZE=8192
#   MAX_EXPR_DEPTH=1000
#   MAX_FUNCTION_ARG=127
#   MAX_LENGTH=1000000000
#   MAX_LIKE_PATTERN_LENGTH=50000
#   MAX_MMAP_SIZE=0x7fff0000
#   MAX_PAGE_COUNT=1073741823
#   MAX_PAGE_SIZE=65536
#   MAX_SQL_LENGTH=1000000000
#   MAX_TRIGGER_DEPTH=1000
#   MAX_VARIABLE_NUMBER=32766
#   MAX_VDBE_OP=250000000
#   MAX_WORKER_THREADS=8
#   MUTEX_PTHREADS
#   SYSTEM_MALLOC
#   TEMP_STORE=1
#   THREADSAFE=1
t/01_compile.t ........................................ ok
[proxychains] DLL init: proxychains-ng 4.16
# sqlite_version=3.39.4
t/02_logon.t .......................................... ok
[proxychains] DLL init: proxychains-ng 4.16
t/03_create_table.t ................................... ok
[proxychains] DLL init: proxychains-ng 4.16
t/04_insert.t ......................................... ok
[proxychains] DLL init: proxychains-ng 4.16
t/05_select.t ......................................... ok
[proxychains] DLL init: proxychains-ng 4.16
t/06_tran.t ........................................... ok
[proxychains] DLL init: proxychains-ng 4.16
t/07_error.t .......................................... ok
[proxychains] DLL init: proxychains-ng 4.16
t/08_busy.t ........................................... ok
[proxychains] DLL init: proxychains-ng 4.16
t/09_create_function.t ................................ ok
[proxychains] DLL init: proxychains-ng 4.16
t/10_create_aggregate.t ............................... ok
[proxychains] DLL init: proxychains-ng 4.16
t/11_get_info.t ....................................... ok
[proxychains] DLL init: proxychains-ng 4.16
t/12_unicode.t ........................................ ok
[proxychains] DLL init: proxychains-ng 4.16
t/13_create_collation.t ............................... ok
[proxychains] DLL init: proxychains-ng 4.16
t/14_progress_handler.t ............................... ok
[proxychains] DLL init: proxychains-ng 4.16
t/15_ak_dbd.t ......................................... ok
[proxychains] DLL init: proxychains-ng 4.16
t/16_column_info.t .................................... ok
[proxychains] DLL init: proxychains-ng 4.16
t/17_createdrop.t ..................................... ok
[proxychains] DLL init: proxychains-ng 4.16
t/18_insertfetch.t .................................... ok
[proxychains] DLL init: proxychains-ng 4.16
t/19_bindparam.t ...................................... ok
[proxychains] DLL init: proxychains-ng 4.16
t/20_blobs.t .......................................... ok
[proxychains] DLL init: proxychains-ng 4.16
t/21_blobtext.t ....................................... ok
[proxychains] DLL init: proxychains-ng 4.16
t/22_listfields.t ..................................... ok
[proxychains] DLL init: proxychains-ng 4.16
t/23_nulls.t .......................................... ok
[proxychains] DLL init: proxychains-ng 4.16
t/24_numrows.t ........................................ ok
[proxychains] DLL init: proxychains-ng 4.16
t/25_chopblanks.t ..................................... ok
[proxychains] DLL init: proxychains-ng 4.16
t/26_commit.t ......................................... ok
[proxychains] DLL init: proxychains-ng 4.16
t/27_metadata.t ....................................... ok
[proxychains] DLL init: proxychains-ng 4.16
t/28_schemachange.t ................................... ok
[proxychains] DLL init: proxychains-ng 4.16
t/30_auto_rollback.t .................................. ok
[proxychains] DLL init: proxychains-ng 4.16
t/31_bind_weird_number_param.t ........................ ok
[proxychains] DLL init: proxychains-ng 4.16
t/32_inactive_error.t ................................. ok
[proxychains] DLL init: proxychains-ng 4.16
t/33_non_latin_path.t ................................. ok
[proxychains] DLL init: proxychains-ng 4.16
t/34_online_backup.t .................................. ok
[proxychains] DLL init: proxychains-ng 4.16
t/35_table_info.t ..................................... ok
[proxychains] DLL init: proxychains-ng 4.16
t/36_hooks.t .......................................... ok
[proxychains] DLL init: proxychains-ng 4.16
t/37_regexp.t ......................................... ok
[proxychains] DLL init: proxychains-ng 4.16
t/38_empty_statement.t ................................ ok
[proxychains] DLL init: proxychains-ng 4.16
t/39_foreign_keys.t ................................... ok
[proxychains] DLL init: proxychains-ng 4.16
t/40_multiple_statements.t ............................ ok
[proxychains] DLL init: proxychains-ng 4.16
t/41_placeholders.t ................................... ok
[proxychains] DLL init: proxychains-ng 4.16
t/42_primary_key_info.t ............................... ok
[proxychains] DLL init: proxychains-ng 4.16
t/43_fts3.t ........................................... ok
[proxychains] DLL init: proxychains-ng 4.16
t/44_rtree.t .......................................... ok
[proxychains] DLL init: proxychains-ng 4.16
t/45_savepoints.t ..................................... ok
[proxychains] DLL init: proxychains-ng 4.16
t/46_mod_perl.t ....................................... skipped: requires APR::Table
[proxychains] DLL init: proxychains-ng 4.16
t/47_execute.t ........................................ ok
[proxychains] DLL init: proxychains-ng 4.16
t/48_bind_param_is_sticky.t ........................... ok
[proxychains] DLL init: proxychains-ng 4.16
t/49_trace_and_profile.t .............................. ok
[proxychains] DLL init: proxychains-ng 4.16
t/50_foreign_key_info.t ............................... ok
[proxychains] DLL init: proxychains-ng 4.16
t/51_table_column_metadata.t .......................... ok
[proxychains] DLL init: proxychains-ng 4.16
t/52_db_filename.t .................................... ok
[proxychains] DLL init: proxychains-ng 4.16
t/53_status.t ......................................... ok
[proxychains] DLL init: proxychains-ng 4.16
t/54_literal_txn.t .................................... ok
[proxychains] DLL init: proxychains-ng 4.16
t/55_statistics_info.t ................................ ok
[proxychains] DLL init: proxychains-ng 4.16
t/56_open_flags.t ..................................... ok
[proxychains] DLL init: proxychains-ng 4.16
t/57_uri_filename.t ................................... ok
[proxychains] DLL init: proxychains-ng 4.16
t/58_see_if_its_a_number_and_explicit_binding.t ....... ok
[proxychains] DLL init: proxychains-ng 4.16
t/59_extended_result_codes.t .......................... skipped: this test is for Win32 only
[proxychains] DLL init: proxychains-ng 4.16
t/60_readonly.t ....................................... ok
[proxychains] DLL init: proxychains-ng 4.16
t/61_strlike.t ........................................ ok
[proxychains] DLL init: proxychains-ng 4.16
t/62_regexp_multibyte_char_class.t .................... ok
[proxychains] DLL init: proxychains-ng 4.16
t/63_param_values.t ................................... ok
[proxychains] DLL init: proxychains-ng 4.16
t/64_limit.t .......................................... ok
[proxychains] DLL init: proxychains-ng 4.16
t/65_db_config.t ...................................... ok
[proxychains] DLL init: proxychains-ng 4.16
t/66_get_autocommit.t ................................. ok
[proxychains] DLL init: proxychains-ng 4.16
t/cookbook_variance.t ................................. ok
[proxychains] DLL init: proxychains-ng 4.16
t/rt_106151_outermost_savepoint.t ..................... ok
[proxychains] DLL init: proxychains-ng 4.16
t/rt_106950_extra_warnings_with_savepoints.t .......... ok
[proxychains] DLL init: proxychains-ng 4.16
t/rt_115465_column_info_with_spaces.t ................. ok
[proxychains] DLL init: proxychains-ng 4.16
t/rt_124227_index_regression.t ........................ ok
[proxychains] DLL init: proxychains-ng 4.16
t/rt_15186_prepcached.t ............................... ok
[proxychains] DLL init: proxychains-ng 4.16
t/rt_21406_auto_finish.t .............................. ok
[proxychains] DLL init: proxychains-ng 4.16
t/rt_25371_asymmetric_unicode.t ....................... ok
[proxychains] DLL init: proxychains-ng 4.16
t/rt_25460_numeric_aggregate.t ........................ ok
[proxychains] DLL init: proxychains-ng 4.16
t/rt_25924_user_defined_func_unicode.t ................ ok
[proxychains] DLL init: proxychains-ng 4.16
t/rt_26775_distinct.t ................................. ok
[proxychains] DLL init: proxychains-ng 4.16
t/rt_27553_prepared_cache_and_analyze.t ............... ok
[proxychains] DLL init: proxychains-ng 4.16
t/rt_29058_group_by.t ................................. ok
[proxychains] DLL init: proxychains-ng 4.16
t/rt_29629_sqlite_where_length.t ...................... ok
[proxychains] DLL init: proxychains-ng 4.16
t/rt_31324_full_names.t ............................... ok
[proxychains] DLL init: proxychains-ng 4.16
t/rt_32889_prepare_cached_reexecute.t ................. ok
[proxychains] DLL init: proxychains-ng 4.16
t/rt_36836_duplicate_key.t ............................ ok
[proxychains] DLL init: proxychains-ng 4.16
t/rt_36838_unique_and_bus_error.t ..................... ok
[proxychains] DLL init: proxychains-ng 4.16
t/rt_40594_nullable.t ................................. ok
[proxychains] DLL init: proxychains-ng 4.16
t/rt_48393_debug_panic_with_commit.t .................. skipped: set $ENV{TEST_DBD_SQLITE_WITH_DEBUGGER} to enable this test
[proxychains] DLL init: proxychains-ng 4.16
t/rt_50503_fts3.t ..................................... ok
[proxychains] DLL init: proxychains-ng 4.16
t/rt_52573_manual_exclusive_lock.t .................... ok
[proxychains] DLL init: proxychains-ng 4.16
t/rt_53235_icu_compatibility.t ........................ skipped: requires SQLite ICU plugin to be enabled
[proxychains] DLL init: proxychains-ng 4.16
t/rt_62370_diconnected_handles_operation.t ............ ok
[proxychains] DLL init: proxychains-ng 4.16
t/rt_64177_ping_wipes_out_the_errstr.t ................ ok
[proxychains] DLL init: proxychains-ng 4.16
t/rt_67581_bind_params_mismatch.t ..................... ok
[proxychains] DLL init: proxychains-ng 4.16
t/rt_71311_bind_col_and_unicode.t ..................... ok
[proxychains] DLL init: proxychains-ng 4.16
t/rt_73159_fts_tokenizer_segfault.t ................... ok
[proxychains] DLL init: proxychains-ng 4.16
t/rt_73787_exponential_buffer_overflow.t .............. ok
[proxychains] DLL init: proxychains-ng 4.16
t/rt_76395_int_overflow.t ............................. ok
[proxychains] DLL init: proxychains-ng 4.16
t/rt_77724_primary_key_with_a_whitespace.t ............ ok
[proxychains] DLL init: proxychains-ng 4.16
t/rt_78833_utf8_flag_for_column_names.t ............... ok
[proxychains] DLL init: proxychains-ng 4.16
t/rt_81536_multi_column_primary_key_info.t ............ ok
[proxychains] DLL init: proxychains-ng 4.16
t/rt_88228_sqlite_3_8_0_crash.t ....................... ok
[proxychains] DLL init: proxychains-ng 4.16
t/rt_96050_db_filename_for_a_closed_database.t ........ ok
[proxychains] DLL init: proxychains-ng 4.16
t/rt_96877_unicode_statements.t ....................... ok
[proxychains] DLL init: proxychains-ng 4.16
t/rt_96878_fts_contentless_table.t .................... ok
[proxychains] DLL init: proxychains-ng 4.16
t/rt_97598_crash_on_disconnect_with_virtual_tables.t .. ok
[proxychains] DLL init: proxychains-ng 4.16
t/virtual_table/00_base.t ............................. ok
[proxychains] DLL init: proxychains-ng 4.16
t/virtual_table/01_destroy.t .......................... ok
[proxychains] DLL init: proxychains-ng 4.16
t/virtual_table/02_find_function.t .................... ok
[proxychains] DLL init: proxychains-ng 4.16
t/virtual_table/10_filecontent.t ...................... ok
[proxychains] DLL init: proxychains-ng 4.16
t/virtual_table/11_filecontent_fulltext.t ............. ok
[proxychains] DLL init: proxychains-ng 4.16
t/virtual_table/20_perldata.t ......................... ok
[proxychains] DLL init: proxychains-ng 4.16
t/virtual_table/21_perldata_charinfo.t ................ ok
[proxychains] DLL init: proxychains-ng 4.16
t/virtual_table/rt_124941.t ........................... ok
[proxychains] DLL init: proxychains-ng 4.16
t/virtual_table/rt_99748.t ............................ ok
[proxychains] DLL init: proxychains-ng 4.16
t/virtual_table/unknown_op.t .......................... ok
All tests successful.
Files=113, Tests=3863, 23 wallclock secs ( 0.61 usr  0.19 sys + 11.37 cusr  2.09 csys = 14.26 CPU)
Result: PASS

------------------------------
PREREQUISITES
------------------------------

Prerequisite modules loaded:

    No requirements found

------------------------------
ENVIRONMENT AND OTHER CONTEXT
------------------------------

Environment variables:

    CCFLAGS = -march=native -O3 -pipe -fno-plt -fexceptions -Wp,-D_FORTIFY_SOURCE=2 -Wformat -Werror=format-security -fstack-clash-protection -fcf-protection
    LANG = en_US.UTF-8
    LANGUAGE = 
    LC_ADDRESS = 
    LC_COLLATE = 
    LC_CTYPE = 
    LC_IDENTIFICATION = 
    LC_MEASUREMENT = 
    LC_MESSAGES = 
    LC_MONETARY = 
    LC_NAME = 
    LC_NUMERIC = 
    LC_PAPER = 
    LC_TELEPHONE = 
    LC_TIME = 
    LDFLAGS = -Wl,-O1,--sort-common,--as-needed,-z,relro,-z,now
    PATH = /usr/lib/ccache/bin:/usr/local/sbin:/usr/local/bin:/usr/bin:/opt/android-sdk/platform-tools:/usr/lib/jvm/default/bin:/usr/bin/site_perl:/usr/bin/vendor_perl:/usr/bin/core_perl:/usr/share/perl6/vendor/bin:/home/swampyx/.raku/bin:/opt/android-ndk/toolchains/llvm/prebuilt/linux-x86_64/bin
    PERL_MM_OPT = OPTIMIZE="-march=native -O3 -pipe -fno-plt -fstack-clash-protection -fcf-protection"
    SHELL = /usr/bin/zsh
    TEMP = /tmp
    TERM = xterm

Perl special variables (and OS-specific diagnostics, for MSWin32):

    EGID = 100 50 91 92 93 95 98 100 108
    EUID = 1000
    EXECUTABLE_NAME = /usr/bin/perl
    GID = 100 50 91 92 93 95 98 100 108
    UID = 1000

Perl module toolchain versions installed:

    Module              Have    
    ------------------- --------
    CPAN                2.34    
    CPAN::Meta          2.150010
    Cwd                 3.84    
    ExtUtils::CBuilder  0.280236
    ExtUtils::Command   7.64    
    ExtUtils::Install   2.20    
    ExtUtils::MakeMaker 7.64    
    ExtUtils::Manifest  1.73    
    ExtUtils::ParseXS   3.44    
    File::Spec          3.84    
    JSON                4.10    
    JSON::PP            4.12    
    Module::Build       0.4231  
    Module::Signature   0.88    
    Parse::CPAN::Meta   2.150010
    Test::Harness       3.44    
    Test::More          1.302191
    YAML                1.30    
    YAML::Syck          n/a     
    version             0.9929  


--

Summary of my perl5 (revision 5 version 36 subversion 0) configuration:
   
  Platform:
    osname=linux
    osvers=5.12.15-arch1-1
    archname=x86_64-linux-thread-multi
    uname='archlinux'
    config_args='-des -Dusethreads -Duseshrplib -Doptimize=-march=x86-64 -mtune=generic -O2 -pipe -fno-plt -fexceptions         -Wp,-D_FORTIFY_SOURCE=2 -Wformat -Werror=format-security         -fstack-clash-protection -fcf-protection -flto -Dprefix=/usr -Dvendorprefix=/usr -Dprivlib=/usr/share/perl5/core_perl -Darchlib=/usr/lib/perl5/5.36/core_perl -Dsitelib=/usr/share/perl5/site_perl -Dsitearch=/usr/lib/perl5/5.36/site_perl -Dvendorlib=/usr/share/perl5/vendor_perl -Dvendorarch=/usr/lib/perl5/5.36/vendor_perl -Dscriptdir=/usr/bin/core_perl -Dsitescript=/usr/bin/site_perl -Dvendorscript=/usr/bin/vendor_perl -Dinc_version_list=none -Dman1ext=1perl -Dman3ext=3perl -Dcccdlflags='-fPIC' -Dlddlflags=-shared -Wl,-O1,--sort-common,--as-needed,-z,relro,-z,now -flto -Dldflags=-Wl,-O1,--sort-common,--as-needed,-z,relro,-z,now -flto'
    hint=recommended
    useposix=true
    d_sigaction=define
    useithreads=define
    usemultiplicity=define
    use64bitint=define
    use64bitall=define
    uselongdouble=undef
    usemymalloc=n
    default_inc_excludes_dot=define
  Compiler:
    cc='cc'
    ccflags ='-D_REENTRANT -D_GNU_SOURCE -fwrapv -fno-strict-aliasing -pipe -fstack-protector-strong -I/usr/local/include -D_LARGEFILE_SOURCE -D_FILE_OFFSET_BITS=64'
    optimize='-march=x86-64 -mtune=generic -O2 -pipe -fno-plt -fexceptions -Wp,-D_FORTIFY_SOURCE=2 -Wformat -Werror=format-security -fstack-clash-protection -fcf-protection -flto'
    cppflags='-D_REENTRANT -D_GNU_SOURCE -fwrapv -fno-strict-aliasing -pipe -fstack-protector-strong -I/usr/local/include'
    ccversion=''
    gccversion='12.1.0'
    gccosandvers=''
    intsize=4
    longsize=8
    ptrsize=8
    doublesize=8
    byteorder=12345678
    doublekind=3
    d_longlong=define
    longlongsize=8
    d_longdbl=define
    longdblsize=16
    longdblkind=3
    ivtype='long'
    ivsize=8
    nvtype='double'
    nvsize=8
    Off_t='off_t'
    lseeksize=8
    alignbytes=8
    prototype=define
  Linker and Libraries:
    ld='cc'
    ldflags ='-Wl,-O1,--sort-common,--as-needed,-z,relro,-z,now -flto -fstack-protector-strong -L/usr/local/lib'
    libpth=/usr/local/lib /usr/lib
    libs=-lpthread -lgdbm -ldb -ldl -lm -lcrypt -lutil -lc -lgdbm_compat
    perllibs=-lpthread -ldl -lm -lcrypt -lutil -lc
    libc=/lib/../lib/libc.so.6
    so=so
    useshrplib=true
    libperl=libperl.so
    gnulibc_version='2.35'
  Dynamic Linking:
    dlsrc=dl_dlopen.xs
    dlext=so
    d_dlsymun=undef
    ccdlflags='-Wl,-E -Wl,-rpath,/usr/lib/perl5/5.36/core_perl/CORE'
    cccdlflags='-fPIC'
    lddlflags='-shared -Wl,-O1,--sort-common,--as-needed,-z,relro,-z,now -flto -L/usr/local/lib -fstack-protector-strong'


Characteristics of this binary (from libperl): 
  Compile-time options:
    HAS_TIMES
    MULTIPLICITY
    PERLIO_LAYERS
    PERL_COPY_ON_WRITE
    PERL_DONT_CREATE_GVSV
    PERL_MALLOC_WRAP
    PERL_OP_PARENT
    PERL_PRESERVE_IVUV
    USE_64_BIT_ALL
    USE_64_BIT_INT
    USE_ITHREADS
    USE_LARGE_FILES
    USE_LOCALE
    USE_LOCALE_COLLATE
    USE_LOCALE_CTYPE
    USE_LOCALE_NUMERIC
    USE_LOCALE_TIME
    USE_PERLIO
    USE_PERL_ATOF
    USE_REENTRANT_API
    USE_THREAD_SAFE_LOCALE
  Built under linux
  Compiled at May 29 2022 08:49:34
  %ENV:
    PERL_MM_OPT="OPTIMIZE="-march=native -O3 -pipe -fno-plt -fstack-clash-protection -fcf-protection""
  @INC:
    /usr/lib/perl5/5.36/site_perl
    /usr/share/perl5/site_perl
    /usr/lib/perl5/5.36/vendor_perl
    /usr/share/perl5/vendor_perl
    /usr/lib/perl5/5.36/core_perl
    /usr/share/perl5/core_perl